{"text_format":"1","workbook":"xlsx","n_sheets":6,"sheets":["Instructions","Data Entry","New Members","C5# Lookup","Reference Data","Average Book"],"not_rendered":{"charts":0,"images":0,"macros":1,"external_links":1,"defined_names":3,"comments":0,"pivot_tables":0},"unopened":[],"bounds":{"document_bytes":16777216,"sheet_cells":100000,"rows_first":2000,"rows_last":500,"rows_between":2000,"halvings":0,"cell_chars":16384,"cell_head_chars":4096},"cells_cut":0,"cells_raw":0,"read":"whole","date_system":"1900"}

{"sheet":"Instructions","index":0,"n_rows":23,"n_cols":4,"rows_kept":23,"cut":false,"hidden":false,"merged":[[16,3,16,14],[18,3,18,14],[20,3,20,14],[22,1,24,15],[14,3,14,14],[1,2,2,14],[4,3,4,14],[5,2,5,14],[6,3,6,14],[7,2,7,14],[13,2,13,14],[15,2,15,14],[8,3,8,14],[9,2,9,14],[10,3,10,14],[11,2,11,14],[12,3,12,14]]}
[]
[null,null,"Sanctioned Tournament Template Instructions"]
[]
[]
[null,null,"Step 1 ","Verify the C5# for all the bowlers you are entering. If you do not know it, you can go to the C5# Look up tab, \nenter bowlers name and you will see the correct number."]
[]
[null,null,"Step 2","Select the tournament you are entering the information for from the drop down menu."]
[]
[null,null,"Step 3","Under column I enter the C5# for the bowler. The name will auto populate. \nIf any changes to the name need to be made, please enter them in the comment box in column X."]
[]
[null,null,"Step 4","Under Column T enter the total pinfall."]
[]
[null,null,"Step 5","Under Column U enter the total number of games bowled. "]
[]
[null,null,"Step 6","When entering your C5# if no bowler match appears, please go to the New Members Tab\n and enter the respective information above on this tab. "]
[]
[null,null,"NOTE:","When entering mutliple Shifts of data for a C5#, add the pinfall and games together and only enter the C5# one time."]
[]
[null,null,"Step 7","Once all information has been completed, do a save as with torunament name in the title\neg. 2026 Sunset Shoot-out."]
[]
[null,null,"Step 8","Please send your saved tournament spreadsheet to pinfall@o5pba.ca."]
[]
[null,"Please note, you will need to use Microsoft Excel 365 or higher for all functions to work correctly!"]

{"sheet":"Data Entry","index":1,"n_rows":205,"n_cols":25,"rows_kept":205,"cut":false,"hidden":false,"merged":[[3,11,3,17],[0,18,3,22]]}
[null,null,null,null,null,"Pick a tournament",null,null,null,null,null,null,null,null,null,null,null,null,"When entering a c5# and no match occurs, use the 'NEW MEMBER' tab to enter the details for the bowler."]
[null,null,null,"SANCTIONED EVENT",null,null,null,null,"|",null,null,null,null,null,null,null,null,null,null,null,null,null,null,null,"Membership data as of"]
[null,null,null,null,null,null,null,null,"|",null,null,null,null,null,null,null,null,null,null,null,null,null,null,null," August 31, 2025"]
[null,null,null,null,null,null,null,null,"V",null,null,"MEMBERSHIP CATEGORY"]
["NO.","TYPE","DC ASSOCIATION","ZONE","LEAGUE CODE","TOURNAMENT NAME","LAST NAME","FIRST NAME","C5\nREG. #","BOARD OF DIRECTORS \"D\"","LIFE","TOURN.\n\"T\"","REG.\n\"R\"","SR.\n\"S\"","SOO/\nBLIND\n\"S\"","YBC\nUNDER\n18\n\"S\"","YBC\nGRAD","DUP.\n\"X\"","M","F","PINFALL","GAMES","SEASON","NEW MEMBER","COMMENTS/Changes required"]
[1,"SANCTIONED TOURNAMENTS",{"$f":"IFERROR(INDEX('Reference Data'!$S$2:$S$13,MATCH($C$2,'Reference Data'!$R$2:$R$13,TRUE)),\"\")","v":""},{"$f":"IFERROR(INDEX('Reference Data'!$Q$2:$Q$13,MATCH($D$2,'Reference Data'!$P$2:$P$13,TRUE)),\"Pick a Zone\")","v":"SANCTIONED EVENT"},{"$f":"IFERROR(LEFT($D$2,2)&\"-\"&INDEX('Reference Data'!$V$2:$V$11,MATCH($F$2,'Reference Data'!$U$2:$U$11,TRUE)),\"Pick a Tournament\")","v":"Pick a Tournament"},{"$f":"IFERROR(INDEX('Reference Data'!$W$2:$W$11,MATCH($F$2,'Reference Data'!$U$2:$U$11,TRUE)),\"Pick a Tournament\")","v":"Pick a Tournament"},{"$f":"IFERROR(VLOOKUP($I6,'Reference Data'!$B$2:$H$66000,3,FALSE),\"Enter C5#\")","v":"Enter C5#"},{"$f":"IFERROR(VLOOKUP($I6,'Reference Data'!$B$2:$H$66000,2,FALSE),\"Enter C5#\")","v":"Enter C5#"},null,null,null,null,null,null,null,null,null,null,{"$f":"IFERROR(IF(VLOOKUP($I6,'Reference Data'!$B$2:$H$66000,4,TRUE)=\"M\",\"M\",\"\"),\"\")","v":""},{"$f":"IFERROR(IF(VLOOKUP($I6,'Reference Data'!$B$2:$H$66000,4,TRUE)=\"F\",\"F\",\"\"),\"\")","v":""},null,null,"2025-26"]
[2,"SANCTIONED TOURNAMENTS",{"$f":"IFERROR(INDEX('Reference Data'!$S$2:$S$13,MATCH($C$2,'Reference Data'!$R$2:$R$13,TRUE)),\"\")","v":""},{"$f":"IFERROR(INDEX('Reference Data'!$Q$2:$Q$13,MATCH($D$2,'Reference Data'!$P$2:$P$13,TRUE)),\"Pick a Zone\")","v":"SANCTIONED EVENT"},{"$f":"IFERROR(LEFT($D$2,2)&\"-\"&INDEX('Reference Data'!$V$2:$V$11,MATCH($F$2,'Reference Data'!$U$2:$U$11,TRUE)),\"Pick a Tournament\")","v":"Pick a Tournament"},{"$f":"IFERROR(INDEX('Reference Data'!$W$2:$W$11,MATCH($F$2,'Reference Data'!$U$2:$U$11,TRUE)),\"Pick a Tournament\")","v":"Pick a Tournament"},{"$f":"IFERROR(VLOOKUP($I7,'Reference Data'!$B$2:$H$66000,3,FALSE),\"Enter C5#\")","v":"Enter C5#"},{"$f":"IFERROR(VLOOKUP($I7,'Reference Data'!$B$2:$H$66000,2,FALSE),\"Enter C5#\")","v":"Enter C5#"},null,null,null,null,null,null,null,null,null,null,null,{"$f":"IFERROR(IF(VLOOKUP($I7,'Reference Data'!$B$2:$H$66000,4,TRUE)=\"F\",\"F\",\"\"),\"\")","v":""},null,null,"2025-26"]
[3,"SANCTIONED TOURNAMENTS",{"$f":"IFERROR(INDEX('Reference Data'!$S$2:$S$13,MATCH($C$2,'Reference Data'!$R$2:$R$13,TRUE)),\"\")","v":""},{"$f":"IFERROR(INDEX('Reference Data'!$Q$2:$Q$13,MATCH($D$2,'Reference Data'!$P$2:$P$13,TRUE)),\"Pick a Zone\")","v":"SANCTIONED EVENT"},{"$f":"IFERROR(LEFT($D$2,2)&\"-\"&INDEX('Reference Data'!$V$2:$V$11,MATCH($F$2,'Reference Data'!$U$2:$U$11,TRUE)),\"Pick a Tournament\")","v":"Pick a Tournament"},{"$f":"IFERROR(INDEX('Reference Data'!$W$2:$W$11,MATCH($F$2,'Reference Data'!$U$2:$U$11,TRUE)),\"Pick a Tournament\")","v":"Pick a Tournament"},{"$f":"IFERROR(VLOOKUP($I8,'Reference Data'!$B$2:$H$66000,3,FALSE),\"Enter C5#\")","v":"Enter C5#"},{"$f":"IFERROR(VLOOKUP($I8,'Reference Data'!$B$2:$H$66000,2,FALSE),\"Enter C5#\")","v":"Enter C5#"},null,null,null,null,null,null,null,null,null,null,{"$f":"IFERROR(IF(VLOOKUP($I8,'Reference Data'!$B$2:$H$66000,4,TRUE)=\"M\",\"M\",\"\"),\"\")","v":""},{"$f":"IFERROR(IF(VLOOKUP($I8,'Reference Data'!$B$2:$H$66000,4,TRUE)=\"F\",\"F\",\"\"),\"\")","v":""},null,null,"2025-26"]
[4,"SANCTIONED TOURNAMENTS",{"$f":"IFERROR(INDEX('Reference Data'!$S$2:$S$13,MATCH($C$2,'Reference Data'!$R$2:$R$13,TRUE)),\"\")","v":""},{"$f":"IFERROR(INDEX('Reference Data'!$Q$2:$Q$13,MATCH($D$2,'Reference Data'!$P$2:$P$13,TRUE)),\"Pick a Zone\")","v":"SANCTIONED EVENT"},{"$f":"IFERROR(LEFT($D$2,2)&\"-\"&INDEX('Reference Data'!$V$2:$V$11,MATCH($F$2,'Reference Data'!$U$2:$U$11,TRUE)),\"Pick a Tournament\")","v":"Pick a Tournament"},{"$f":"IFERROR(INDEX('Reference Data'!$W$2:$W$11,MATCH($F$2,'Reference Data'!$U$2:$U$11,TRUE)),\"Pick a Tournament\")","v":"Pick a Tournament"},{"$f":"IFERROR(VLOOKUP($I9,'Reference Data'!$B$2:$H$66000,3,FALSE),\"Enter C5#\")","v":"Enter C5#"},{"$f":"IFERROR(VLOOKUP($I9,'Reference Data'!$B$2:$H$66000,2,FALSE),\"Enter C5#\")","v":"Enter C5#"},null,null,null,null,null,null,null,null,null,null,{"$f":"IFERROR(IF(VLOOKUP($I9,'Reference Data'!$B$2:$H$66000,4,TRUE)=\"M\",\"M\",\"\"),\"\")","v":""},{"$f":"IFERROR(IF(VLOOKUP($I9,'Reference Data'!$B$2:$H$66000,4,TRUE)=\"F\",\"F\",\"\"),\"\")","v":""},null,null,"2025-26"]
[5,"SANCTIONED TOURNAMENTS",{"$f":"IFERROR(INDEX('Reference Data'!$S$2:$S$13,MATCH($C$2,'Reference Data'!$R$2:$R$13,TRUE)),\"\")","v":""},{"$f":"IFERROR(INDEX('Reference Data'!$Q$2:$Q$13,MATCH($D$2,'Reference Data'!$P$2:$P$13,TRUE)),\"Pick a Zone\")","v":"SANCTIONED EVENT"},{"$f":"IFERROR(LEFT($D$2,2)&\"-\"&INDEX('Reference Data'!$V$2:$V$11,MATCH($F$2,'Reference Data'!$U$2:$U$11,TRUE)),\"Pick a Tournament\")","v":"Pick a Tournament"},{"$f":"IFERROR(INDEX('Reference Data'!$W$2:$W$11,MATCH($F$2,'Reference Data'!$U$2:$U$11,TRUE)),\"Pick a Tournament\")","v":"Pick a Tournament"},{"$f":"IFERROR(VLOOKUP($I10,'Reference Data'!$B$2:$H$66000,3,FALSE),\"Enter C5#\")","v":"Enter C5#"},{"$f":"IFERROR(VLOOKUP($I10,'Reference Data'!$B$2:$H$66000,2,FALSE),\"Enter C5#\")","v":"Enter C5#"},null,null,null,null,null,null,null,null,null,null,{"$f":"IFERROR(IF(VLOOKUP($I10,'Reference Data'!$B$2:$H$66000,4,TRUE)=\"M\",\"M\",\"\"),\"\")","v":""},{"$f":"IFERROR(IF(VLOOKUP($I10,'Reference Data'!$B$2:$H$66000,4,TRUE)=\"F\",\"F\",\"\"),\"\")","v":""},null,null,"2025-26"]
[6,"SANCTIONED TOURNAMENTS",{"$f":"IFERROR(INDEX('Reference Data'!$S$2:$S$13,MATCH($C$2,'Reference Data'!$R$2:$R$13,TRUE)),\"\")","v":""},{"$f":"IFERROR(INDEX('Reference Data'!$Q$2:$Q$13,MATCH($D$2,'Reference Data'!$P$2:$P$13,TRUE)),\"Pick a Zone\")","v":"SANCTIONED EVENT"},{"$f":"IFERROR(LEFT($D$2,2)&\"-\"&INDEX('Reference Data'!$V$2:$V$11,MATCH($F$2,'Reference Data'!$U$2:$U$11,TRUE)),\"Pick a Tournament\")","v":"Pick a Tournament"},{"$f":"IFERROR(INDEX('Reference Data'!$W$2:$W$11,MATCH($F$2,'Reference Data'!$U$2:$U$11,TRUE)),\"Pick a Tournament\")","v":"Pick a Tournament"},{"$f":"IFERROR(VLOOKUP($I11,'Reference Data'!$B$2:$H$66000,3,FALSE),\"Enter C5#\")","v":"Enter C5#"},{"$f":"IFERROR(VLOOKUP($I11,'Reference Data'!$B$2:$H$66000,2,FALSE),\"Enter C5#\")","v":"Enter C5#"},null,null,null,null,null,null,null,null,null,null,{"$f":"IFERROR(IF(VLOOKUP($I11,'Reference Data'!$B$2:$H$66000,4,TRUE)=\"M\",\"M\",\"\"),\"\")","v":""},{"$f":"IFERROR(IF(VLOOKUP($I11,'Reference Data'!$B$2:$H$66000,4,TRUE)=\"F\",\"F\",\"\"),\"\")","v":""},null,null,"2025-26"]
[7,"SANCTIONED TOURNAMENTS",{"$f":"IFERROR(INDEX('Reference Data'!$S$2:$S$13,MATCH($C$2,'Reference Data'!$R$2:$R$13,TRUE)),\"\")","v":""},{"$f":"IFERROR(INDEX('Reference Data'!$Q$2:$Q$13,MATCH($D$2,'Reference Data'!$P$2:$P$13,TRUE)),\"Pick a Zone\")","v":"SANCTIONED EVENT"},{"$f":"IFERROR(LEFT($D$2,2)&\"-\"&INDEX('Reference Data'!$V$2:$V$11,MATCH($F$2,'Reference Data'!$U$2:$U$11,TRUE)),\"Pick a Tournament\")","v":"Pick a Tournament"},{"$f":"IFERROR(INDEX('Reference Data'!$W$2:$W$11,MATCH($F$2,'Reference Data'!$U$2:$U$11,TRUE)),\"Pick a Tournament\")","v":"Pick a Tournament"},{"$f":"IFERROR(VLOOKUP($I12,'Reference Data'!$B$2:$H$66000,3,FALSE),\"Enter C5#\")","v":"Enter C5#"},{"$f":"IFERROR(VLOOKUP($I12,'Reference Data'!$B$2:$H$66000,2,FALSE),\"Enter C5#\")","v":"Enter C5#"},null,null,null,null,null,null,null,null,null,null,{"$f":"IFERROR(IF(VLOOKUP($I12,'Reference Data'!$B$2:$H$66000,4,TRUE)=\"M\",\"M\",\"\"),\"\")","v":""},{"$f":"IFERROR(IF(VLOOKUP($I12,'Reference Data'!$B$2:$H$66000,4,TRUE)=\"F\",\"F\",\"\"),\"\")","v":""},null,null,"2025-26"]
[8,"SANCTIONED TOURNAMENTS",{"$f":"IFERROR(INDEX('Reference Data'!$S$2:$S$13,MATCH($C$2,'Reference Data'!$R$2:$R$13,TRUE)),\"\")","v":""},{"$f":"IFERROR(INDEX('Reference Data'!$Q$2:$Q$13,MATCH($D$2,'Reference Data'!$P$2:$P$13,TRUE)),\"Pick a Zone\")","v":"SANCTIONED EVENT"},{"$f":"IFERROR(LEFT($D$2,2)&\"-\"&INDEX('Reference Data'!$V$2:$V$11,MATCH($F$2,'Reference Data'!$U$2:$U$11,TRUE)),\"Pick a Tournament\")","v":"Pick a Tournament"},{"$f":"IFERROR(INDEX('Reference Data'!$W$2:$W$11,MATCH($F$2,'Reference Data'!$U$2:$U$11,TRUE)),\"Pick a Tournament\")","v":"Pick a Tournament"},{"$f":"IFERROR(VLOOKUP($I13,'Reference Data'!$B$2:$H$66000,3,FALSE),\"Enter C5#\")","v":"Enter C5#"},{"$f":"IFERROR(VLOOKUP($I13,'Reference Data'!$B$2:$H$66000,2,FALSE),\"Enter C5#\")","v":"Enter C5#"},null,null,null,null,null,null,null,null,null,null,{"$f":"IFERROR(IF(VLOOKUP($I13,'Reference Data'!$B$2:$H$66000,4,TRUE)=\"M\",\"M\",\"\"),\"\")","v":""},{"$f":"IFERROR(IF(VLOOKUP($I13,'Reference Data'!$B$2:$H$66000,4,TRUE)=\"F\",\"F\",\"\"),\"\")","v":""},null,null,"2025-26"]
[9,"SANCTIONED TOURNAMENTS",{"$f":"IFERROR(INDEX('Reference Data'!$S$2:$S$13,MATCH($C$2,'Reference Data'!$R$2:$R$13,TRUE)),\"\")","v":""},{"$f":"IFERROR(INDEX('Reference Data'!$Q$2:$Q$13,MATCH($D$2,'Reference Data'!$P$2:$P$13,TRUE)),\"Pick a Zone\")","v":"SANCTIONED EVENT"},{"$f":"IFERROR(LEFT($D$2,2)&\"-\"&INDEX('Reference Data'!$V$2:$V$11,MATCH($F$2,'Reference Data'!$U$2:$U$11,TRUE)),\"Pick a Tournament\")","v":"Pick a Tournament"},{"$f":"IFERROR(INDEX('Reference Data'!$W$2:$W$11,MATCH($F$2,'Reference Data'!$U$2:$U$11,TRUE)),\"Pick a Tournament\")","v":"Pick a Tournament"},{"$f":"IFERROR(VLOOKUP($I14,'Reference Data'!$B$2:$H$66000,3,FALSE),\"Enter C5#\")","v":"Enter C5#"},{"$f":"IFERROR(VLOOKUP($I14,'Reference Data'!$B$2:$H$66000,2,FALSE),\"Enter C5#\")","v":"Enter C5#"},null,null,null,null,null,null,null,null,null,null,{"$f":"IFERROR(IF(VLOOKUP($I14,'Reference Data'!$B$2:$H$66000,4,TRUE)=\"M\",\"M\",\"\"),\"\")","v":""},{"$f":"IFERROR(IF(VLOOKUP($I14,'Reference Data'!$B$2:$H$66000,4,TRUE)=\"F\",\"F\",\"\"),\"\")","v":""},null,null,"2025-26"]
[10,"SANCTIONED TOURNAMENTS",{"$f":"IFERROR(INDEX('Reference Data'!$S$2:$S$13,MATCH($C$2,'Reference Data'!$R$2:$R$13,TRUE)),\"\")","v":""},{"$f":"IFERROR(INDEX('Reference Data'!$Q$2:$Q$13,MATCH($D$2,'Reference Data'!$P$2:$P$13,TRUE)),\"Pick a Zone\")","v":"SANCTIONED EVENT"},{"$f":"IFERROR(LEFT($D$2,2)&\"-\"&INDEX('Reference Data'!$V$2:$V$11,MATCH($F$2,'Reference Data'!$U$2:$U$11,TRUE)),\"Pick a Tournament\")","v":"Pick a Tournament"},{"$f":"IFERROR(INDEX('Reference Data'!$W$2:$W$11,MATCH($F$2,'Reference Data'!$U$2:$U$11,TRUE)),\"Pick a Tournament\")","v":"Pick a Tournament"},{"$f":"IFERROR(VLOOKUP($I15,'Reference Data'!$B$2:$H$66000,3,FALSE),\"Enter C5#\")","v":"Enter C5#"},{"$f":"IFERROR(VLOOKUP($I15,'Reference Data'!$B$2:$H$66000,2,FALSE),\"Enter C5#\")","v":"Enter C5#"},null,null,null,null,null,null,null,null,null,null,{"$f":"IFERROR(IF(VLOOKUP($I15,'Reference Data'!$B$2:$H$66000,4,TRUE)=\"M\",\"M\",\"\"),\"\")","v":""},{"$f":"IFERROR(IF(VLOOKUP($I15,'Reference Data'!$B$2:$H$66000,4,TRUE)=\"F\",\"F\",\"\"),\"\")","v":""},null,null,"2025-26"]
[11,"SANCTIONED TOURNAMENTS",{"$f":"IFERROR(INDEX('Reference Data'!$S$2:$S$13,MATCH($C$2,'Reference Data'!$R$2:$R$13,TRUE)),\"\")","v":""},{"$f":"IFERROR(INDEX('Reference Data'!$Q$2:$Q$13,MATCH($D$2,'Reference Data'!$P$2:$P$13,TRUE)),\"Pick a Zone\")","v":"SANCTIONED EVENT"},{"$f":"IFERROR(LEFT($D$2,2)&\"-\"&INDEX('Reference Data'!$V$2:$V$11,MATCH($F$2,'Reference Data'!$U$2:$U$11,TRUE)),\"Pick a Tournament\")","v":"Pick a Tournament"},{"$f":"IFERROR(INDEX('Reference Data'!$W$2:$W$11,MATCH($F$2,'Reference Data'!$U$2:$U$11,TRUE)),\"Pick a Tournament\")","v":"Pick a Tournament"},{"$f":"IFERROR(VLOOKUP($I16,'Reference Data'!$B$2:$H$66000,3,FALSE),\"Enter C5#\")","v":"Enter C5#"},{"$f":"IFERROR(VLOOKUP($I16,'Reference Data'!$B$2:$H$66000,2,FALSE),\"Enter C5#\")","v":"Enter C5#"},null,null,null,null,null,null,null,null,null,null,{"$f":"IFERROR(IF(VLOOKUP($I16,'Reference Data'!$B$2:$H$66000,4,TRUE)=\"M\",\"M\",\"\"),\"\")","v":""},{"$f":"IFERROR(IF(VLOOKUP($I16,'Reference Data'!$B$2:$H$66000,4,TRUE)=\"F\",\"F\",\"\"),\"\")","v":""},null,null,"2025-26"]
[12,"SANCTIONED TOURNAMENTS",{"$f":"IFERROR(INDEX('Reference Data'!$S$2:$S$13,MATCH($C$2,'Reference Data'!$R$2:$R$13,TRUE)),\"\")","v":""},{"$f":"IFERROR(INDEX('Reference Data'!$Q$2:$Q$13,MATCH($D$2,'Reference Data'!$P$2:$P$13,TRUE)),\"Pick a Zone\")","v":"SANCTIONED EVENT"},{"$f":"IFERROR(LEFT($D$2,2)&\"-\"&INDEX('Reference Data'!$V$2:$V$11,MATCH($F$2,'Reference Data'!$U$2:$U$11,TRUE)),\"Pick a Tournament\")","v":"Pick a Tournament"},{"$f":"IFERROR(INDEX('Reference Data'!$W$2:$W$11,MATCH($F$2,'Reference Data'!$U$2:$U$11,TRUE)),\"Pick a Tournament\")","v":"Pick a Tournament"},{"$f":"IFERROR(VLOOKUP($I17,'Reference Data'!$B$2:$H$66000,3,FALSE),\"Enter C5#\")","v":"Enter C5#"},{"$f":"IFERROR(VLOOKUP($I17,'Reference Data'!$B$2:$H$66000,2,FALSE),\"Enter C5#\")","v":"Enter C5#"},null,null,null,null,null,null,null,null,null,null,{"$f":"IFERROR(IF(VLOOKUP($I17,'Reference Data'!$B$2:$H$66000,4,TRUE)=\"M\",\"M\",\"\"),\"\")","v":""},{"$f":"IFERROR(IF(VLOOKUP($I17,'Reference Data'!$B$2:$H$66000,4,TRUE)=\"F\",\"F\",\"\"),\"\")","v":""},null,null,"2025-26"]
[13,"SANCTIONED TOURNAMENTS",{"$f":"IFERROR(INDEX('Reference Data'!$S$2:$S$13,MATCH($C$2,'Reference Data'!$R$2:$R$13,TRUE)),\"\")","v":""},{"$f":"IFERROR(INDEX('Reference Data'!$Q$2:$Q$13,MATCH($D$2,'Reference Data'!$P$2:$P$13,TRUE)),\"Pick a Zone\")","v":"SANCTIONED EVENT"},{"$f":"IFERROR(LEFT($D$2,2)&\"-\"&INDEX('Reference Data'!$V$2:$V$11,MATCH($F$2,'Reference Data'!$U$2:$U$11,TRUE)),\"Pick a Tournament\")","v":"Pick a Tournament"},{"$f":"IFERROR(INDEX('Reference Data'!$W$2:$W$11,MATCH($F$2,'Reference Data'!$U$2:$U$11,TRUE)),\"Pick a Tournament\")","v":"Pick a Tournament"},{"$f":"IFERROR(VLOOKUP($I18,'Reference Data'!$B$2:$H$66000,3,FALSE),\"Enter C5#\")","v":"Enter C5#"},{"$f":"IFERROR(VLOOKUP($I18,'Reference Data'!$B$2:$H$66000,2,FALSE),\"Enter C5#\")","v":"Enter C5#"},null,null,null,null,null,null,null,null,null,null,{"$f":"IFERROR(IF(VLOOKUP($I18,'Reference Data'!$B$2:$H$66000,4,TRUE)=\"M\",\"M\",\"\"),\"\")","v":""},{"$f":"IFERROR(IF(VLOOKUP($I18,'Reference Data'!$B$2:$H$66000,4,TRUE)=\"F\",\"F\",\"\"),\"\")","v":""},null,null,"2025-26"]
[14,"SANCTIONED TOURNAMENTS",{"$f":"IFERROR(INDEX('Reference Data'!$S$2:$S$13,MATCH($C$2,'Reference Data'!$R$2:$R$13,TRUE)),\"\")","v":""},{"$f":"IFERROR(INDEX('Reference Data'!$Q$2:$Q$13,MATCH($D$2,'Reference Data'!$P$2:$P$13,TRUE)),\"Pick a Zone\")","v":"SANCTIONED EVENT"},{"$f":"IFERROR(LEFT($D$2,2)&\"-\"&INDEX('Reference Data'!$V$2:$V$11,MATCH($F$2,'Reference Data'!$U$2:$U$11,TRUE)),\"Pick a Tournament\")","v":"Pick a Tournament"},{"$f":"IFERROR(INDEX('Reference Data'!$W$2:$W$11,MATCH($F$2,'Reference Data'!$U$2:$U$11,TRUE)),\"Pick a Tournament\")","v":"Pick a Tournament"},{"$f":"IFERROR(VLOOKUP($I19,'Reference Data'!$B$2:$H$66000,3,FALSE),\"Enter C5#\")","v":"Enter C5#"},{"$f":"IFERROR(VLOOKUP($I19,'Reference Data'!$B$2:$H$66000,2,FALSE),\"Enter C5#\")","v":"Enter C5#"},null,null,null,null,null,null,null,null,null,null,{"$f":"IFERROR(IF(VLOOKUP($I19,'Reference Data'!$B$2:$H$66000,4,TRUE)=\"M\",\"M\",\"\"),\"\")","v":""},{"$f":"IFERROR(IF(VLOOKUP($I19,'Reference Data'!$B$2:$H$66000,4,TRUE)=\"F\",\"F\",\"\"),\"\")","v":""},null,null,"2025-26"]
[15,"SANCTIONED TOURNAMENTS",{"$f":"IFERROR(INDEX('Reference Data'!$S$2:$S$13,MATCH($C$2,'Reference Data'!$R$2:$R$13,TRUE)),\"\")","v":""},{"$f":"IFERROR(INDEX('Reference Data'!$Q$2:$Q$13,MATCH($D$2,'Reference Data'!$P$2:$P$13,TRUE)),\"Pick a Zone\")","v":"SANCTIONED EVENT"},{"$f":"IFERROR(LEFT($D$2,2)&\"-\"&INDEX('Reference Data'!$V$2:$V$11,MATCH($F$2,'Reference Data'!$U$2:$U$11,TRUE)),\"Pick a Tournament\")","v":"Pick a Tournament"},{"$f":"IFERROR(INDEX('Reference Data'!$W$2:$W$11,MATCH($F$2,'Reference Data'!$U$2:$U$11,TRUE)),\"Pick a Tournament\")","v":"Pick a Tournament"},{"$f":"IFERROR(VLOOKUP($I20,'Reference Data'!$B$2:$H$66000,3,FALSE),\"Enter C5#\")","v":"Enter C5#"},{"$f":"IFERROR(VLOOKUP($I20,'Reference Data'!$B$2:$H$66000,2,FALSE),\"Enter C5#\")","v":"Enter C5#"},null,null,null,null,null,null,null,null,null,null,{"$f":"IFERROR(IF(VLOOKUP($I20,'Reference Data'!$B$2:$H$66000,4,TRUE)=\"M\",\"M\",\"\"),\"\")","v":""},{"$f":"IFERROR(IF(VLOOKUP($I20,'Reference Data'!$B$2:$H$66000,4,TRUE)=\"F\",\"F\",\"\"),\"\")","v":""},null,null,"2025-26"]
[16,"SANCTIONED TOURNAMENTS",{"$f":"IFERROR(INDEX('Reference Data'!$S$2:$S$13,MATCH($C$2,'Reference Data'!$R$2:$R$13,TRUE)),\"\")","v":""},{"$f":"IFERROR(INDEX('Reference Data'!$Q$2:$Q$13,MATCH($D$2,'Reference Data'!$P$2:$P$13,TRUE)),\"Pick a Zone\")","v":"SANCTIONED EVENT"},{"$f":"IFERROR(LEFT($D$2,2)&\"-\"&INDEX('Reference Data'!$V$2:$V$11,MATCH($F$2,'Reference Data'!$U$2:$U$11,TRUE)),\"Pick a Tournament\")","v":"Pick a Tournament"},{"$f":"IFERROR(INDEX('Reference Data'!$W$2:$W$11,MATCH($F$2,'Reference Data'!$U$2:$U$11,TRUE)),\"Pick a Tournament\")","v":"Pick a Tournament"},{"$f":"IFERROR(VLOOKUP($I21,'Reference Data'!$B$2:$H$66000,3,FALSE),\"Enter C5#\")","v":"Enter C5#"},{"$f":"IFERROR(VLOOKUP($I21,'Reference Data'!$B$2:$H$66000,2,FALSE),\"Enter C5#\")","v":"Enter C5#"},null,null,null,null,null,null,null,null,null,null,{"$f":"IFERROR(IF(VLOOKUP($I21,'Reference Data'!$B$2:$H$66000,4,TRUE)=\"M\",\"M\",\"\"),\"\")","v":""},{"$f":"IFERROR(IF(VLOOKUP($I21,'Reference Data'!$B$2:$H$66000,4,TRUE)=\"F\",\"F\",\"\"),\"\")","v":""},null,null,"2025-26"]
[17,"SANCTIONED TOURNAMENTS",{"$f":"IFERROR(INDEX('Reference Data'!$S$2:$S$13,MATCH($C$2,'Reference Data'!$R$2:$R$13,TRUE)),\"\")","v":""},{"$f":"IFERROR(INDEX('Reference Data'!$Q$2:$Q$13,MATCH($D$2,'Reference Data'!$P$2:$P$13,TRUE)),\"Pick a Zone\")","v":"SANCTIONED EVENT"},{"$f":"IFERROR(LEFT($D$2,2)&\"-\"&INDEX('Reference Data'!$V$2:$V$11,MATCH($F$2,'Reference Data'!$U$2:$U$11,TRUE)),\"Pick a Tournament\")","v":"Pick a Tournament"},{"$f":"IFERROR(INDEX('Reference Data'!$W$2:$W$11,MATCH($F$2,'Reference Data'!$U$2:$U$11,TRUE)),\"Pick a Tournament\")","v":"Pick a Tournament"},{"$f":"IFERROR(VLOOKUP($I22,'Reference Data'!$B$2:$H$66000,3,FALSE),\"Enter C5#\")","v":"Enter C5#"},{"$f":"IFERROR(VLOOKUP($I22,'Reference Data'!$B$2:$H$66000,2,FALSE),\"Enter C5#\")","v":"Enter C5#"},null,null,null,null,null,null,null,null,null,null,{"$f":"IFERROR(IF(VLOOKUP($I22,'Reference Data'!$B$2:$H$66000,4,TRUE)=\"M\",\"M\",\"\"),\"\")","v":""},{"$f":"IFERROR(IF(VLOOKUP($I22,'Reference Data'!$B$2:$H$66000,4,TRUE)=\"F\",\"F\",\"\"),\"\")","v":""},null,null,"2025-26"]
[18,"SANCTIONED TOURNAMENTS",{"$f":"IFERROR(INDEX('Reference Data'!$S$2:$S$13,MATCH($C$2,'Reference Data'!$R$2:$R$13,TRUE)),\"\")","v":""},{"$f":"IFERROR(INDEX('Reference Data'!$Q$2:$Q$13,MATCH($D$2,'Reference Data'!$P$2:$P$13,TRUE)),\"Pick a Zone\")","v":"SANCTIONED EVENT"},{"$f":"IFERROR(LEFT($D$2,2)&\"-\"&INDEX('Reference Data'!$V$2:$V$11,MATCH($F$2,'Reference Data'!$U$2:$U$11,TRUE)),\"Pick a Tournament\")","v":"Pick a Tournament"},{"$f":"IFERROR(INDEX('Reference Data'!$W$2:$W$11,MATCH($F$2,'Reference Data'!$U$2:$U$11,TRUE)),\"Pick a Tournament\")","v":"Pick a Tournament"},{"$f":"IFERROR(VLOOKUP($I23,'Reference Data'!$B$2:$H$66000,3,FALSE),\"Enter C5#\")","v":"Enter C5#"},{"$f":"IFERROR(VLOOKUP($I23,'Reference Data'!$B$2:$H$66000,2,FALSE),\"Enter C5#\")","v":"Enter C5#"},null,null,null,null,null,null,null,null,null,null,{"$f":"IFERROR(IF(VLOOKUP($I23,'Reference Data'!$B$2:$H$66000,4,TRUE)=\"M\",\"M\",\"\"),\"\")","v":""},{"$f":"IFERROR(IF(VLOOKUP($I23,'Reference Data'!$B$2:$H$66000,4,TRUE)=\"F\",\"F\",\"\"),\"\")","v":""},null,null,"2025-26"]
[19,"SANCTIONED TOURNAMENTS",{"$f":"IFERROR(INDEX('Reference Data'!$S$2:$S$13,MATCH($C$2,'Reference Data'!$R$2:$R$13,TRUE)),\"\")","v":""},{"$f":"IFERROR(INDEX('Reference Data'!$Q$2:$Q$13,MATCH($D$2,'Reference Data'!$P$2:$P$13,TRUE)),\"Pick a Zone\")","v":"SANCTIONED EVENT"},{"$f":"IFERROR(LEFT($D$2,2)&\"-\"&INDEX('Reference Data'!$V$2:$V$11,MATCH($F$2,'Reference Data'!$U$2:$U$11,TRUE)),\"Pick a Tournament\")","v":"Pick a Tournament"},{"$f":"IFERROR(INDEX('Reference Data'!$W$2:$W$11,MATCH($F$2,'Reference Data'!$U$2:$U$11,TRUE)),\"Pick a Tournament\")","v":"Pick a Tournament"},{"$f":"IFERROR(VLOOKUP($I24,'Reference Data'!$B$2:$H$66000,3,FALSE),\"Enter C5#\")","v":"Enter C5#"},{"$f":"IFERROR(VLOOKUP($I24,'Reference Data'!$B$2:$H$66000,2,FALSE),\"Enter C5#\")","v":"Enter C5#"},null,null,null,null,null,null,null,null,null,null,{"$f":"IFERROR(IF(VLOOKUP($I24,'Reference Data'!$B$2:$H$66000,4,TRUE)=\"M\",\"M\",\"\"),\"\")","v":""},{"$f":"IFERROR(IF(VLOOKUP($I24,'Reference Data'!$B$2:$H$66000,4,TRUE)=\"F\",\"F\",\"\"),\"\")","v":""},null,null,"2025-26"]
[20,"SANCTIONED TOURNAMENTS",{"$f":"IFERROR(INDEX('Reference Data'!$S$2:$S$13,MATCH($C$2,'Reference Data'!$R$2:$R$13,TRUE)),\"\")","v":""},{"$f":"IFERROR(INDEX('Reference Data'!$Q$2:$Q$13,MATCH($D$2,'Reference Data'!$P$2:$P$13,TRUE)),\"Pick a Zone\")","v":"SANCTIONED EVENT"},{"$f":"IFERROR(LEFT($D$2,2)&\"-\"&INDEX('Reference Data'!$V$2:$V$11,MATCH($F$2,'Reference Data'!$U$2:$U$11,TRUE)),\"Pick a Tournament\")","v":"Pick a Tournament"},{"$f":"IFERROR(INDEX('Reference Data'!$W$2:$W$11,MATCH($F$2,'Reference Data'!$U$2:$U$11,TRUE)),\"Pick a Tournament\")","v":"Pick a Tournament"},{"$f":"IFERROR(VLOOKUP($I25,'Reference Data'!$B$2:$H$66000,3,FALSE),\"Enter C5#\")","v":"Enter C5#"},{"$f":"IFERROR(VLOOKUP($I25,'Reference Data'!$B$2:$H$66000,2,FALSE),\"Enter C5#\")","v":"Enter C5#"},null,null,null,null,null,null,null,null,null,null,{"$f":"IFERROR(IF(VLOOKUP($I25,'Reference Data'!$B$2:$H$66000,4,TRUE)=\"M\",\"M\",\"\"),\"\")","v":""},{"$f":"IFERROR(IF(VLOOKUP($I25,'Reference Data'!$B$2:$H$66000,4,TRUE)=\"F\",\"F\",\"\"),\"\")","v":""},null,null,"2025-26"]
[21,"SANCTIONED TOURNAMENTS",{"$f":"IFERROR(INDEX('Reference Data'!$S$2:$S$13,MATCH($C$2,'Reference Data'!$R$2:$R$13,TRUE)),\"\")","v":""},{"$f":"IFERROR(INDEX('Reference Data'!$Q$2:$Q$13,MATCH($D$2,'Reference Data'!$P$2:$P$13,TRUE)),\"Pick a Zone\")","v":"SANCTIONED EVENT"},{"$f":"IFERROR(LEFT($D$2,2)&\"-\"&INDEX('Reference Data'!$V$2:$V$11,MATCH($F$2,'Reference Data'!$U$2:$U$11,TRUE)),\"Pick a Tournament\")","v":"Pick a Tournament"},{"$f":"IFERROR(INDEX('Reference Data'!$W$2:$W$11,MATCH($F$2,'Reference Data'!$U$2:$U$11,TRUE)),\"Pick a Tournament\")","v":"Pick a Tournament"},{"$f":"IFERROR(VLOOKUP($I26,'Reference Data'!$B$2:$H$66000,3,FALSE),\"Enter C5#\")","v":"Enter C5#"},{"$f":"IFERROR(VLOOKUP($I26,'Reference Data'!$B$2:$H$66000,2,FALSE),\"Enter C5#\")","v":"Enter C5#"},null,null,null,null,null,null,null,null,null,null,{"$f":"IFERROR(IF(VLOOKUP($I26,'Reference Data'!$B$2:$H$66000,4,TRUE)=\"M\",\"M\",\"\"),\"\")","v":""},{"$f":"IFERROR(IF(VLOOKUP($I26,'Reference Data'!$B$2:$H$66000,4,TRUE)=\"F\",\"F\",\"\"),\"\")","v":""},null,null,"2025-26"]
[22,"SANCTIONED TOURNAMENTS",{"$f":"IFERROR(INDEX('Reference Data'!$S$2:$S$13,MATCH($C$2,'Reference Data'!$R$2:$R$13,TRUE)),\"\")","v":""},{"$f":"IFERROR(INDEX('Reference Data'!$Q$2:$Q$13,MATCH($D$2,'Reference Data'!$P$2:$P$13,TRUE)),\"Pick a Zone\")","v":"SANCTIONED EVENT"},{"$f":"IFERROR(LEFT($D$2,2)&\"-\"&INDEX('Reference Data'!$V$2:$V$11,MATCH($F$2,'Reference Data'!$U$2:$U$11,TRUE)),\"Pick a Tournament\")","v":"Pick a Tournament"},{"$f":"IFERROR(INDEX('Reference Data'!$W$2:$W$11,MATCH($F$2,'Reference Data'!$U$2:$U$11,TRUE)),\"Pick a Tournament\")","v":"Pick a Tournament"},{"$f":"IFERROR(VLOOKUP($I27,'Reference Data'!$B$2:$H$66000,3,FALSE),\"Enter C5#\")","v":"Enter C5#"},{"$f":"IFERROR(VLOOKUP($I27,'Reference Data'!$B$2:$H$66000,2,FALSE),\"Enter C5#\")","v":"Enter C5#"},null,null,null,null,null,null,null,null,null,null,{"$f":"IFERROR(IF(VLOOKUP($I27,'Reference Data'!$B$2:$H$66000,4,TRUE)=\"M\",\"M\",\"\"),\"\")","v":""},{"$f":"IFERROR(IF(VLOOKUP($I27,'Reference Data'!$B$2:$H$66000,4,TRUE)=\"F\",\"F\",\"\"),\"\")","v":""},null,null,"2025-26"]
[23,"SANCTIONED TOURNAMENTS",{"$f":"IFERROR(INDEX('Reference Data'!$S$2:$S$13,MATCH($C$2,'Reference Data'!$R$2:$R$13,TRUE)),\"\")","v":""},{"$f":"IFERROR(INDEX('Reference Data'!$Q$2:$Q$13,MATCH($D$2,'Reference Data'!$P$2:$P$13,TRUE)),\"Pick a Zone\")","v":"SANCTIONED EVENT"},{"$f":"IFERROR(LEFT($D$2,2)&\"-\"&INDEX('Reference Data'!$V$2:$V$11,MATCH($F$2,'Reference Data'!$U$2:$U$11,TRUE)),\"Pick a Tournament\")","v":"Pick a Tournament"},{"$f":"IFERROR(INDEX('Reference Data'!$W$2:$W$11,MATCH($F$2,'Reference Data'!$U$2:$U$11,TRUE)),\"Pick a Tournament\")","v":"Pick a Tournament"},{"$f":"IFERROR(VLOOKUP($I28,'Reference Data'!$B$2:$H$66000,3,FALSE),\"Enter C5#\")","v":"Enter C5#"},{"$f":"IFERROR(VLOOKUP($I28,'Reference Data'!$B$2:$H$66000,2,FALSE),\"Enter C5#\")","v":"Enter C5#"},null,null,null,null,null,null,null,null,null,null,{"$f":"IFERROR(IF(VLOOKUP($I28,'Reference Data'!$B$2:$H$66000,4,TRUE)=\"M\",\"M\",\"\"),\"\")","v":""},{"$f":"IFERROR(IF(VLOOKUP($I28,'Reference Data'!$B$2:$H$66000,4,TRUE)=\"F\",\"F\",\"\"),\"\")","v":""},null,null,"2025-26"]
[24,"SANCTIONED TOURNAMENTS",{"$f":"IFERROR(INDEX('Reference Data'!$S$2:$S$13,MATCH($C$2,'Reference Data'!$R$2:$R$13,TRUE)),\"\")","v":""},{"$f":"IFERROR(INDEX('Reference Data'!$Q$2:$Q$13,MATCH($D$2,'Reference Data'!$P$2:$P$13,TRUE)),\"Pick a Zone\")","v":"SANCTIONED EVENT"},{"$f":"IFERROR(LEFT($D$2,2)&\"-\"&INDEX('Reference Data'!$V$2:$V$11,MATCH($F$2,'Reference Data'!$U$2:$U$11,TRUE)),\"Pick a Tournament\")","v":"Pick a Tournament"},{"$f":"IFERROR(INDEX('Reference Data'!$W$2:$W$11,MATCH($F$2,'Reference Data'!$U$2:$U$11,TRUE)),\"Pick a Tournament\")","v":"Pick a Tournament"},{"$f":"IFERROR(VLOOKUP($I29,'Reference Data'!$B$2:$H$66000,3,FALSE),\"Enter C5#\")","v":"Enter C5#"},{"$f":"IFERROR(VLOOKUP($I29,'Reference Data'!$B$2:$H$66000,2,FALSE),\"Enter C5#\")","v":"Enter C5#"},null,null,null,null,null,null,null,null,null,null,{"$f":"IFERROR(IF(VLOOKUP($I29,'Reference Data'!$B$2:$H$66000,4,TRUE)=\"M\",\"M\",\"\"),\"\")","v":""},{"$f":"IFERROR(IF(VLOOKUP($I29,'Reference Data'!$B$2:$H$66000,4,TRUE)=\"F\",\"F\",\"\"),\"\")","v":""},null,null,"2025-26"]
[25,"SANCTIONED TOURNAMENTS",{"$f":"IFERROR(INDEX('Reference Data'!$S$2:$S$13,MATCH($C$2,'Reference Data'!$R$2:$R$13,TRUE)),\"\")","v":""},{"$f":"IFERROR(INDEX('Reference Data'!$Q$2:$Q$13,MATCH($D$2,'Reference Data'!$P$2:$P$13,TRUE)),\"Pick a Zone\")","v":"SANCTIONED EVENT"},{"$f":"IFERROR(LEFT($D$2,2)&\"-\"&INDEX('Reference Data'!$V$2:$V$11,MATCH($F$2,'Reference Data'!$U$2:$U$11,TRUE)),\"Pick a Tournament\")","v":"Pick a Tournament"},{"$f":"IFERROR(INDEX('Reference Data'!$W$2:$W$11,MATCH($F$2,'Reference Data'!$U$2:$U$11,TRUE)),\"Pick a Tournament\")","v":"Pick a Tournament"},{"$f":"IFERROR(VLOOKUP($I30,'Reference Data'!$B$2:$H$66000,3,FALSE),\"Enter C5#\")","v":"Enter C5#"},{"$f":"IFERROR(VLOOKUP($I30,'Reference Data'!$B$2:$H$66000,2,FALSE),\"Enter C5#\")","v":"Enter C5#"},null,null,null,null,null,null,null,null,null,null,{"$f":"IFERROR(IF(VLOOKUP($I30,'Reference Data'!$B$2:$H$66000,4,TRUE)=\"M\",\"M\",\"\"),\"\")","v":""},{"$f":"IFERROR(IF(VLOOKUP($I30,'Reference Data'!$B$2:$H$66000,4,TRUE)=\"F\",\"F\",\"\"),\"\")","v":""},null,null,"2025-26"]
[26,"SANCTIONED TOURNAMENTS",{"$f":"IFERROR(INDEX('Reference Data'!$S$2:$S$13,MATCH($C$2,'Reference Data'!$R$2:$R$13,TRUE)),\"\")","v":""},{"$f":"IFERROR(INDEX('Reference Data'!$Q$2:$Q$13,MATCH($D$2,'Reference Data'!$P$2:$P$13,TRUE)),\"Pick a Zone\")","v":"SANCTIONED EVENT"},{"$f":"IFERROR(LEFT($D$2,2)&\"-\"&INDEX('Reference Data'!$V$2:$V$11,MATCH($F$2,'Reference Data'!$U$2:$U$11,TRUE)),\"Pick a Tournament\")","v":"Pick a Tournament"},{"$f":"IFERROR(INDEX('Reference Data'!$W$2:$W$11,MATCH($F$2,'Reference Data'!$U$2:$U$11,TRUE)),\"Pick a Tournament\")","v":"Pick a Tournament"},{"$f":"IFERROR(VLOOKUP($I31,'Reference Data'!$B$2:$H$66000,3,FALSE),\"Enter C5#\")","v":"Enter C5#"},{"$f":"IFERROR(VLOOKUP($I31,'Reference Data'!$B$2:$H$66000,2,FALSE),\"Enter C5#\")","v":"Enter C5#"},null,null,null,null,null,null,null,null,null,null,{"$f":"IFERROR(IF(VLOOKUP($I31,'Reference Data'!$B$2:$H$66000,4,TRUE)=\"M\",\"M\",\"\"),\"\")","v":""},{"$f":"IFERROR(IF(VLOOKUP($I31,'Reference Data'!$B$2:$H$66000,4,TRUE)=\"F\",\"F\",\"\"),\"\")","v":""},null,null,"2025-26"]
[27,"SANCTIONED TOURNAMENTS",{"$f":"IFERROR(INDEX('Reference Data'!$S$2:$S$13,MATCH($C$2,'Reference Data'!$R$2:$R$13,TRUE)),\"\")","v":""},{"$f":"IFERROR(INDEX('Reference Data'!$Q$2:$Q$13,MATCH($D$2,'Reference Data'!$P$2:$P$13,TRUE)),\"Pick a Zone\")","v":"SANCTIONED EVENT"},{"$f":"IFERROR(LEFT($D$2,2)&\"-\"&INDEX('Reference Data'!$V$2:$V$11,MATCH($F$2,'Reference Data'!$U$2:$U$11,TRUE)),\"Pick a Tournament\")","v":"Pick a Tournament"},{"$f":"IFERROR(INDEX('Reference Data'!$W$2:$W$11,MATCH($F$2,'Reference Data'!$U$2:$U$11,TRUE)),\"Pick a Tournament\")","v":"Pick a Tournament"},{"$f":"IFERROR(VLOOKUP($I32,'Reference Data'!$B$2:$H$66000,3,FALSE),\"Enter C5#\")","v":"Enter C5#"},{"$f":"IFERROR(VLOOKUP($I32,'Reference Data'!$B$2:$H$66000,2,FALSE),\"Enter C5#\")","v":"Enter C5#"},null,null,null,null,null,null,null,null,null,null,{"$f":"IFERROR(IF(VLOOKUP($I32,'Reference Data'!$B$2:$H$66000,4,TRUE)=\"M\",\"M\",\"\"),\"\")","v":""},{"$f":"IFERROR(IF(VLOOKUP($I32,'Reference Data'!$B$2:$H$66000,4,TRUE)=\"F\",\"F\",\"\"),\"\")","v":""},null,null,"2025-26"]
[28,"SANCTIONED TOURNAMENTS",{"$f":"IFERROR(INDEX('Reference Data'!$S$2:$S$13,MATCH($C$2,'Reference Data'!$R$2:$R$13,TRUE)),\"\")","v":""},{"$f":"IFERROR(INDEX('Reference Data'!$Q$2:$Q$13,MATCH($D$2,'Reference Data'!$P$2:$P$13,TRUE)),\"Pick a Zone\")","v":"SANCTIONED EVENT"},{"$f":"IFERROR(LEFT($D$2,2)&\"-\"&INDEX('Reference Data'!$V$2:$V$11,MATCH($F$2,'Reference Data'!$U$2:$U$11,TRUE)),\"Pick a Tournament\")","v":"Pick a Tournament"},{"$f":"IFERROR(INDEX('Reference Data'!$W$2:$W$11,MATCH($F$2,'Reference Data'!$U$2:$U$11,TRUE)),\"Pick a Tournament\")","v":"Pick a Tournament"},{"$f":"IFERROR(VLOOKUP($I33,'Reference Data'!$B$2:$H$66000,3,FALSE),\"Enter C5#\")","v":"Enter C5#"},{"$f":"IFERROR(VLOOKUP($I33,'Reference Data'!$B$2:$H$66000,2,FALSE),\"Enter C5#\")","v":"Enter C5#"},null,null,null,null,null,null,null,null,null,null,{"$f":"IFERROR(IF(VLOOKUP($I33,'Reference Data'!$B$2:$H$66000,4,TRUE)=\"M\",\"M\",\"\"),\"\")","v":""},{"$f":"IFERROR(IF(VLOOKUP($I33,'Reference Data'!$B$2:$H$66000,4,TRUE)=\"F\",\"F\",\"\"),\"\")","v":""},null,null,"2025-26"]
[29,"SANCTIONED TOURNAMENTS",{"$f":"IFERROR(INDEX('Reference Data'!$S$2:$S$13,MATCH($C$2,'Reference Data'!$R$2:$R$13,TRUE)),\"\")","v":""},{"$f":"IFERROR(INDEX('Reference Data'!$Q$2:$Q$13,MATCH($D$2,'Reference Data'!$P$2:$P$13,TRUE)),\"Pick a Zone\")","v":"SANCTIONED EVENT"},{"$f":"IFERROR(LEFT($D$2,2)&\"-\"&INDEX('Reference Data'!$V$2:$V$11,MATCH($F$2,'Reference Data'!$U$2:$U$11,TRUE)),\"Pick a Tournament\")","v":"Pick a Tournament"},{"$f":"IFERROR(INDEX('Reference Data'!$W$2:$W$11,MATCH($F$2,'Reference Data'!$U$2:$U$11,TRUE)),\"Pick a Tournament\")","v":"Pick a Tournament"},{"$f":"IFERROR(VLOOKUP($I34,'Reference Data'!$B$2:$H$66000,3,FALSE),\"Enter C5#\")","v":"Enter C5#"},{"$f":"IFERROR(VLOOKUP($I34,'Reference Data'!$B$2:$H$66000,2,FALSE),\"Enter C5#\")","v":"Enter C5#"},null,null,null,null,null,null,null,null,null,null,{"$f":"IFERROR(IF(VLOOKUP($I34,'Reference Data'!$B$2:$H$66000,4,TRUE)=\"M\",\"M\",\"\"),\"\")","v":""},{"$f":"IFERROR(IF(VLOOKUP($I34,'Reference Data'!$B$2:$H$66000,4,TRUE)=\"F\",\"F\",\"\"),\"\")","v":""},null,null,"2025-26"]
[30,"SANCTIONED TOURNAMENTS",{"$f":"IFERROR(INDEX('Reference Data'!$S$2:$S$13,MATCH($C$2,'Reference Data'!$R$2:$R$13,TRUE)),\"\")","v":""},{"$f":"IFERROR(INDEX('Reference Data'!$Q$2:$Q$13,MATCH($D$2,'Reference Data'!$P$2:$P$13,TRUE)),\"Pick a Zone\")","v":"SANCTIONED EVENT"},{"$f":"IFERROR(LEFT($D$2,2)&\"-\"&INDEX('Reference Data'!$V$2:$V$11,MATCH($F$2,'Reference Data'!$U$2:$U$11,TRUE)),\"Pick a Tournament\")","v":"Pick a Tournament"},{"$f":"IFERROR(INDEX('Reference Data'!$W$2:$W$11,MATCH($F$2,'Reference Data'!$U$2:$U$11,TRUE)),\"Pick a Tournament\")","v":"Pick a Tournament"},{"$f":"IFERROR(VLOOKUP($I35,'Reference Data'!$B$2:$H$66000,3,FALSE),\"Enter C5#\")","v":"Enter C5#"},{"$f":"IFERROR(VLOOKUP($I35,'Reference Data'!$B$2:$H$66000,2,FALSE),\"Enter C5#\")","v":"Enter C5#"},null,null,null,null,null,null,null,null,null,null,{"$f":"IFERROR(IF(VLOOKUP($I35,'Reference Data'!$B$2:$H$66000,4,TRUE)=\"M\",\"M\",\"\"),\"\")","v":""},{"$f":"IFERROR(IF(VLOOKUP($I35,'Reference Data'!$B$2:$H$66000,4,TRUE)=\"F\",\"F\",\"\"),\"\")","v":""},null,null,"2025-26"]
[31,"SANCTIONED TOURNAMENTS",{"$f":"IFERROR(INDEX('Reference Data'!$S$2:$S$13,MATCH($C$2,'Reference Data'!$R$2:$R$13,TRUE)),\"\")","v":""},{"$f":"IFERROR(INDEX('Reference Data'!$Q$2:$Q$13,MATCH($D$2,'Reference Data'!$P$2:$P$13,TRUE)),\"Pick a Zone\")","v":"SANCTIONED EVENT"},{"$f":"IFERROR(LEFT($D$2,2)&\"-\"&INDEX('Reference Data'!$V$2:$V$11,MATCH($F$2,'Reference Data'!$U$2:$U$11,TRUE)),\"Pick a Tournament\")","v":"Pick a Tournament"},{"$f":"IFERROR(INDEX('Reference Data'!$W$2:$W$11,MATCH($F$2,'Reference Data'!$U$2:$U$11,TRUE)),\"Pick a Tournament\")","v":"Pick a Tournament"},{"$f":"IFERROR(VLOOKUP($I36,'Reference Data'!$B$2:$H$66000,3,FALSE),\"Enter C5#\")","v":"Enter C5#"},{"$f":"IFERROR(VLOOKUP($I36,'Reference Data'!$B$2:$H$66000,2,FALSE),\"Enter C5#\")","v":"Enter C5#"},null,null,null,null,null,null,null,null,null,null,{"$f":"IFERROR(IF(VLOOKUP($I36,'Reference Data'!$B$2:$H$66000,4,TRUE)=\"M\",\"M\",\"\"),\"\")","v":""},{"$f":"IFERROR(IF(VLOOKUP($I36,'Reference Data'!$B$2:$H$66000,4,TRUE)=\"F\",\"F\",\"\"),\"\")","v":""},null,null,"2025-26"]
[32,"SANCTIONED TOURNAMENTS",{"$f":"IFERROR(INDEX('Reference Data'!$S$2:$S$13,MATCH($C$2,'Reference Data'!$R$2:$R$13,TRUE)),\"\")","v":""},{"$f":"IFERROR(INDEX('Reference Data'!$Q$2:$Q$13,MATCH($D$2,'Reference Data'!$P$2:$P$13,TRUE)),\"Pick a Zone\")","v":"SANCTIONED EVENT"},{"$f":"IFERROR(LEFT($D$2,2)&\"-\"&INDEX('Reference Data'!$V$2:$V$11,MATCH($F$2,'Reference Data'!$U$2:$U$11,TRUE)),\"Pick a Tournament\")","v":"Pick a Tournament"},{"$f":"IFERROR(INDEX('Reference Data'!$W$2:$W$11,MATCH($F$2,'Reference Data'!$U$2:$U$11,TRUE)),\"Pick a Tournament\")","v":"Pick a Tournament"},{"$f":"IFERROR(VLOOKUP($I37,'Reference Data'!$B$2:$H$66000,3,FALSE),\"Enter C5#\")","v":"Enter C5#"},{"$f":"IFERROR(VLOOKUP($I37,'Reference Data'!$B$2:$H$66000,2,FALSE),\"Enter C5#\")","v":"Enter C5#"},null,null,null,null,null,null,null,null,null,null,{"$f":"IFERROR(IF(VLOOKUP($I37,'Reference Data'!$B$2:$H$66000,4,TRUE)=\"M\",\"M\",\"\"),\"\")","v":""},{"$f":"IFERROR(IF(VLOOKUP($I37,'Reference Data'!$B$2:$H$66000,4,TRUE)=\"F\",\"F\",\"\"),\"\")","v":""},null,null,"2025-26"]
[33,"SANCTIONED TOURNAMENTS",{"$f":"IFERROR(INDEX('Reference Data'!$S$2:$S$13,MATCH($C$2,'Reference Data'!$R$2:$R$13,TRUE)),\"\")","v":""},{"$f":"IFERROR(INDEX('Reference Data'!$Q$2:$Q$13,MATCH($D$2,'Reference Data'!$P$2:$P$13,TRUE)),\"Pick a Zone\")","v":"SANCTIONED EVENT"},{"$f":"IFERROR(LEFT($D$2,2)&\"-\"&INDEX('Reference Data'!$V$2:$V$11,MATCH($F$2,'Reference Data'!$U$2:$U$11,TRUE)),\"Pick a Tournament\")","v":"Pick a Tournament"},{"$f":"IFERROR(INDEX('Reference Data'!$W$2:$W$11,MATCH($F$2,'Reference Data'!$U$2:$U$11,TRUE)),\"Pick a Tournament\")","v":"Pick a Tournament"},{"$f":"IFERROR(VLOOKUP($I38,'Reference Data'!$B$2:$H$66000,3,FALSE),\"Enter C5#\")","v":"Enter C5#"},{"$f":"IFERROR(VLOOKUP($I38,'Reference Data'!$B$2:$H$66000,2,FALSE),\"Enter C5#\")","v":"Enter C5#"},null,null,null,null,null,null,null,null,null,null,{"$f":"IFERROR(IF(VLOOKUP($I38,'Reference Data'!$B$2:$H$66000,4,TRUE)=\"M\",\"M\",\"\"),\"\")","v":""},{"$f":"IFERROR(IF(VLOOKUP($I38,'Reference Data'!$B$2:$H$66000,4,TRUE)=\"F\",\"F\",\"\"),\"\")","v":""},null,null,"2025-26"]
[34,"SANCTIONED TOURNAMENTS",{"$f":"IFERROR(INDEX('Reference Data'!$S$2:$S$13,MATCH($C$2,'Reference Data'!$R$2:$R$13,TRUE)),\"\")","v":""},{"$f":"IFERROR(INDEX('Reference Data'!$Q$2:$Q$13,MATCH($D$2,'Reference Data'!$P$2:$P$13,TRUE)),\"Pick a Zone\")","v":"SANCTIONED EVENT"},{"$f":"IFERROR(LEFT($D$2,2)&\"-\"&INDEX('Reference Data'!$V$2:$V$11,MATCH($F$2,'Reference Data'!$U$2:$U$11,TRUE)),\"Pick a Tournament\")","v":"Pick a Tournament"},{"$f":"IFERROR(INDEX('Reference Data'!$W$2:$W$11,MATCH($F$2,'Reference Data'!$U$2:$U$11,TRUE)),\"Pick a Tournament\")","v":"Pick a Tournament"},{"$f":"IFERROR(VLOOKUP($I39,'Reference Data'!$B$2:$H$66000,3,FALSE),\"Enter C5#\")","v":"Enter C5#"},{"$f":"IFERROR(VLOOKUP($I39,'Reference Data'!$B$2:$H$66000,2,FALSE),\"Enter C5#\")","v":"Enter C5#"},null,null,null,null,null,null,null,null,null,null,{"$f":"IFERROR(IF(VLOOKUP($I39,'Reference Data'!$B$2:$H$66000,4,TRUE)=\"M\",\"M\",\"\"),\"\")","v":""},{"$f":"IFERROR(IF(VLOOKUP($I39,'Reference Data'!$B$2:$H$66000,4,TRUE)=\"F\",\"F\",\"\"),\"\")","v":""},null,null,"2025-26"]
[35,"SANCTIONED TOURNAMENTS",{"$f":"IFERROR(INDEX('Reference Data'!$S$2:$S$13,MATCH($C$2,'Reference Data'!$R$2:$R$13,TRUE)),\"\")","v":""},{"$f":"IFERROR(INDEX('Reference Data'!$Q$2:$Q$13,MATCH($D$2,'Reference Data'!$P$2:$P$13,TRUE)),\"Pick a Zone\")","v":"SANCTIONED EVENT"},{"$f":"IFERROR(LEFT($D$2,2)&\"-\"&INDEX('Reference Data'!$V$2:$V$11,MATCH($F$2,'Reference Data'!$U$2:$U$11,TRUE)),\"Pick a Tournament\")","v":"Pick a Tournament"},{"$f":"IFERROR(INDEX('Reference Data'!$W$2:$W$11,MATCH($F$2,'Reference Data'!$U$2:$U$11,TRUE)),\"Pick a Tournament\")","v":"Pick a Tournament"},{"$f":"IFERROR(VLOOKUP($I40,'Reference Data'!$B$2:$H$66000,3,FALSE),\"Enter C5#\")","v":"Enter C5#"},{"$f":"IFERROR(VLOOKUP($I40,'Reference Data'!$B$2:$H$66000,2,FALSE),\"Enter C5#\")","v":"Enter C5#"},null,null,null,null,null,null,null,null,null,null,{"$f":"IFERROR(IF(VLOOKUP($I40,'Reference Data'!$B$2:$H$66000,4,TRUE)=\"M\",\"M\",\"\"),\"\")","v":""},{"$f":"IFERROR(IF(VLOOKUP($I40,'Reference Data'!$B$2:$H$66000,4,TRUE)=\"F\",\"F\",\"\"),\"\")","v":""},null,null,"2025-26"]
[36,"SANCTIONED TOURNAMENTS",{"$f":"IFERROR(INDEX('Reference Data'!$S$2:$S$13,MATCH($C$2,'Reference Data'!$R$2:$R$13,TRUE)),\"\")","v":""},{"$f":"IFERROR(INDEX('Reference Data'!$Q$2:$Q$13,MATCH($D$2,'Reference Data'!$P$2:$P$13,TRUE)),\"Pick a Zone\")","v":"SANCTIONED EVENT"},{"$f":"IFERROR(LEFT($D$2,2)&\"-\"&INDEX('Reference Data'!$V$2:$V$11,MATCH($F$2,'Reference Data'!$U$2:$U$11,TRUE)),\"Pick a Tournament\")","v":"Pick a Tournament"},{"$f":"IFERROR(INDEX('Reference Data'!$W$2:$W$11,MATCH($F$2,'Reference Data'!$U$2:$U$11,TRUE)),\"Pick a Tournament\")","v":"Pick a Tournament"},{"$f":"IFERROR(VLOOKUP($I41,'Reference Data'!$B$2:$H$66000,3,FALSE),\"Enter C5#\")","v":"Enter C5#"},{"$f":"IFERROR(VLOOKUP($I41,'Reference Data'!$B$2:$H$66000,2,FALSE),\"Enter C5#\")","v":"Enter C5#"},null,null,null,null,null,null,null,null,null,null,{"$f":"IFERROR(IF(VLOOKUP($I41,'Reference Data'!$B$2:$H$66000,4,TRUE)=\"M\",\"M\",\"\"),\"\")","v":""},{"$f":"IFERROR(IF(VLOOKUP($I41,'Reference Data'!$B$2:$H$66000,4,TRUE)=\"F\",\"F\",\"\"),\"\")","v":""},null,null,"2025-26"]
[37,"SANCTIONED TOURNAMENTS",{"$f":"IFERROR(INDEX('Reference Data'!$S$2:$S$13,MATCH($C$2,'Reference Data'!$R$2:$R$13,TRUE)),\"\")","v":""},{"$f":"IFERROR(INDEX('Reference Data'!$Q$2:$Q$13,MATCH($D$2,'Reference Data'!$P$2:$P$13,TRUE)),\"Pick a Zone\")","v":"SANCTIONED EVENT"},{"$f":"IFERROR(LEFT($D$2,2)&\"-\"&INDEX('Reference Data'!$V$2:$V$11,MATCH($F$2,'Reference Data'!$U$2:$U$11,TRUE)),\"Pick a Tournament\")","v":"Pick a Tournament"},{"$f":"IFERROR(INDEX('Reference Data'!$W$2:$W$11,MATCH($F$2,'Reference Data'!$U$2:$U$11,TRUE)),\"Pick a Tournament\")","v":"Pick a Tournament"},{"$f":"IFERROR(VLOOKUP($I42,'Reference Data'!$B$2:$H$66000,3,FALSE),\"Enter C5#\")","v":"Enter C5#"},{"$f":"IFERROR(VLOOKUP($I42,'Reference Data'!$B$2:$H$66000,2,FALSE),\"Enter C5#\")","v":"Enter C5#"},null,null,null,null,null,null,null,null,null,null,{"$f":"IFERROR(IF(VLOOKUP($I42,'Reference Data'!$B$2:$H$66000,4,TRUE)=\"M\",\"M\",\"\"),\"\")","v":""},{"$f":"IFERROR(IF(VLOOKUP($I42,'Reference Data'!$B$2:$H$66000,4,TRUE)=\"F\",\"F\",\"\"),\"\")","v":""},null,null,"2025-26"]
[38,"SANCTIONED TOURNAMENTS",{"$f":"IFERROR(INDEX('Reference Data'!$S$2:$S$13,MATCH($C$2,'Reference Data'!$R$2:$R$13,TRUE)),\"\")","v":""},{"$f":"IFERROR(INDEX('Reference Data'!$Q$2:$Q$13,MATCH($D$2,'Reference Data'!$P$2:$P$13,TRUE)),\"Pick a Zone\")","v":"SANCTIONED EVENT"},{"$f":"IFERROR(LEFT($D$2,2)&\"-\"&INDEX('Reference Data'!$V$2:$V$11,MATCH($F$2,'Reference Data'!$U$2:$U$11,TRUE)),\"Pick a Tournament\")","v":"Pick a Tournament"},{"$f":"IFERROR(INDEX('Reference Data'!$W$2:$W$11,MATCH($F$2,'Reference Data'!$U$2:$U$11,TRUE)),\"Pick a Tournament\")","v":"Pick a Tournament"},{"$f":"IFERROR(VLOOKUP($I43,'Reference Data'!$B$2:$H$66000,3,FALSE),\"Enter C5#\")","v":"Enter C5#"},{"$f":"IFERROR(VLOOKUP($I43,'Reference Data'!$B$2:$H$66000,2,FALSE),\"Enter C5#\")","v":"Enter C5#"},null,null,null,null,null,null,null,null,null,null,{"$f":"IFERROR(IF(VLOOKUP($I43,'Reference Data'!$B$2:$H$66000,4,TRUE)=\"M\",\"M\",\"\"),\"\")","v":""},{"$f":"IFERROR(IF(VLOOKUP($I43,'Reference Data'!$B$2:$H$66000,4,TRUE)=\"F\",\"F\",\"\"),\"\")","v":""},null,null,"2025-26"]
[39,"SANCTIONED TOURNAMENTS",{"$f":"IFERROR(INDEX('Reference Data'!$S$2:$S$13,MATCH($C$2,'Reference Data'!$R$2:$R$13,TRUE)),\"\")","v":""},{"$f":"IFERROR(INDEX('Reference Data'!$Q$2:$Q$13,MATCH($D$2,'Reference Data'!$P$2:$P$13,TRUE)),\"Pick a Zone\")","v":"SANCTIONED EVENT"},{"$f":"IFERROR(LEFT($D$2,2)&\"-\"&INDEX('Reference Data'!$V$2:$V$11,MATCH($F$2,'Reference Data'!$U$2:$U$11,TRUE)),\"Pick a Tournament\")","v":"Pick a Tournament"},{"$f":"IFERROR(INDEX('Reference Data'!$W$2:$W$11,MATCH($F$2,'Reference Data'!$U$2:$U$11,TRUE)),\"Pick a Tournament\")","v":"Pick a Tournament"},{"$f":"IFERROR(VLOOKUP($I44,'Reference Data'!$B$2:$H$66000,3,FALSE),\"Enter C5#\")","v":"Enter C5#"},{"$f":"IFERROR(VLOOKUP($I44,'Reference Data'!$B$2:$H$66000,2,FALSE),\"Enter C5#\")","v":"Enter C5#"},null,null,null,null,null,null,null,null,null,null,{"$f":"IFERROR(IF(VLOOKUP($I44,'Reference Data'!$B$2:$H$66000,4,TRUE)=\"M\",\"M\",\"\"),\"\")","v":""},{"$f":"IFERROR(IF(VLOOKUP($I44,'Reference Data'!$B$2:$H$66000,4,TRUE)=\"F\",\"F\",\"\"),\"\")","v":""},null,null,"2025-26"]
[40,"SANCTIONED TOURNAMENTS",{"$f":"IFERROR(INDEX('Reference Data'!$S$2:$S$13,MATCH($C$2,'Reference Data'!$R$2:$R$13,TRUE)),\"\")","v":""},{"$f":"IFERROR(INDEX('Reference Data'!$Q$2:$Q$13,MATCH($D$2,'Reference Data'!$P$2:$P$13,TRUE)),\"Pick a Zone\")","v":"SANCTIONED EVENT"},{"$f":"IFERROR(LEFT($D$2,2)&\"-\"&INDEX('Reference Data'!$V$2:$V$11,MATCH($F$2,'Reference Data'!$U$2:$U$11,TRUE)),\"Pick a Tournament\")","v":"Pick a Tournament"},{"$f":"IFERROR(INDEX('Reference Data'!$W$2:$W$11,MATCH($F$2,'Reference Data'!$U$2:$U$11,TRUE)),\"Pick a Tournament\")","v":"Pick a Tournament"},{"$f":"IFERROR(VLOOKUP($I45,'Reference Data'!$B$2:$H$66000,3,FALSE),\"Enter C5#\")","v":"Enter C5#"},{"$f":"IFERROR(VLOOKUP($I45,'Reference Data'!$B$2:$H$66000,2,FALSE),\"Enter C5#\")","v":"Enter C5#"},null,null,null,null,null,null,null,null,null,null,{"$f":"IFERROR(IF(VLOOKUP($I45,'Reference Data'!$B$2:$H$66000,4,TRUE)=\"M\",\"M\",\"\"),\"\")","v":""},{"$f":"IFERROR(IF(VLOOKUP($I45,'Reference Data'!$B$2:$H$66000,4,TRUE)=\"F\",\"F\",\"\"),\"\")","v":""},null,null,"2025-26"]
[41,"SANCTIONED TOURNAMENTS",{"$f":"IFERROR(INDEX('Reference Data'!$S$2:$S$13,MATCH($C$2,'Reference Data'!$R$2:$R$13,TRUE)),\"\")","v":""},{"$f":"IFERROR(INDEX('Reference Data'!$Q$2:$Q$13,MATCH($D$2,'Reference Data'!$P$2:$P$13,TRUE)),\"Pick a Zone\")","v":"SANCTIONED EVENT"},{"$f":"IFERROR(LEFT($D$2,2)&\"-\"&INDEX('Reference Data'!$V$2:$V$11,MATCH($F$2,'Reference Data'!$U$2:$U$11,TRUE)),\"Pick a Tournament\")","v":"Pick a Tournament"},{"$f":"IFERROR(INDEX('Reference Data'!$W$2:$W$11,MATCH($F$2,'Reference Data'!$U$2:$U$11,TRUE)),\"Pick a Tournament\")","v":"Pick a Tournament"},{"$f":"IFERROR(VLOOKUP($I46,'Reference Data'!$B$2:$H$66000,3,FALSE),\"Enter C5#\")","v":"Enter C5#"},{"$f":"IFERROR(VLOOKUP($I46,'Reference Data'!$B$2:$H$66000,2,FALSE),\"Enter C5#\")","v":"Enter C5#"},null,null,null,null,null,null,null,null,null,null,{"$f":"IFERROR(IF(VLOOKUP($I46,'Reference Data'!$B$2:$H$66000,4,TRUE)=\"M\",\"M\",\"\"),\"\")","v":""},{"$f":"IFERROR(IF(VLOOKUP($I46,'Reference Data'!$B$2:$H$66000,4,TRUE)=\"F\",\"F\",\"\"),\"\")","v":""},null,null,"2025-26"]
[42,"SANCTIONED TOURNAMENTS",{"$f":"IFERROR(INDEX('Reference Data'!$S$2:$S$13,MATCH($C$2,'Reference Data'!$R$2:$R$13,TRUE)),\"\")","v":""},{"$f":"IFERROR(INDEX('Reference Data'!$Q$2:$Q$13,MATCH($D$2,'Reference Data'!$P$2:$P$13,TRUE)),\"Pick a Zone\")","v":"SANCTIONED EVENT"},{"$f":"IFERROR(LEFT($D$2,2)&\"-\"&INDEX('Reference Data'!$V$2:$V$11,MATCH($F$2,'Reference Data'!$U$2:$U$11,TRUE)),\"Pick a Tournament\")","v":"Pick a Tournament"},{"$f":"IFERROR(INDEX('Reference Data'!$W$2:$W$11,MATCH($F$2,'Reference Data'!$U$2:$U$11,TRUE)),\"Pick a Tournament\")","v":"Pick a Tournament"},{"$f":"IFERROR(VLOOKUP($I47,'Reference Data'!$B$2:$H$66000,3,FALSE),\"Enter C5#\")","v":"Enter C5#"},{"$f":"IFERROR(VLOOKUP($I47,'Reference Data'!$B$2:$H$66000,2,FALSE),\"Enter C5#\")","v":"Enter C5#"},null,null,null,null,null,null,null,null,null,null,{"$f":"IFERROR(IF(VLOOKUP($I47,'Reference Data'!$B$2:$H$66000,4,TRUE)=\"M\",\"M\",\"\"),\"\")","v":""},{"$f":"IFERROR(IF(VLOOKUP($I47,'Reference Data'!$B$2:$H$66000,4,TRUE)=\"F\",\"F\",\"\"),\"\")","v":""},null,null,"2025-26"]
[43,"SANCTIONED TOURNAMENTS",{"$f":"IFERROR(INDEX('Reference Data'!$S$2:$S$13,MATCH($C$2,'Reference Data'!$R$2:$R$13,TRUE)),\"\")","v":""},{"$f":"IFERROR(INDEX('Reference Data'!$Q$2:$Q$13,MATCH($D$2,'Reference Data'!$P$2:$P$13,TRUE)),\"Pick a Zone\")","v":"SANCTIONED EVENT"},{"$f":"IFERROR(LEFT($D$2,2)&\"-\"&INDEX('Reference Data'!$V$2:$V$11,MATCH($F$2,'Reference Data'!$U$2:$U$11,TRUE)),\"Pick a Tournament\")","v":"Pick a Tournament"},{"$f":"IFERROR(INDEX('Reference Data'!$W$2:$W$11,MATCH($F$2,'Reference Data'!$U$2:$U$11,TRUE)),\"Pick a Tournament\")","v":"Pick a Tournament"},{"$f":"IFERROR(VLOOKUP($I48,'Reference Data'!$B$2:$H$66000,3,FALSE),\"Enter C5#\")","v":"Enter C5#"},{"$f":"IFERROR(VLOOKUP($I48,'Reference Data'!$B$2:$H$66000,2,FALSE),\"Enter C5#\")","v":"Enter C5#"},null,null,null,null,null,null,null,null,null,null,{"$f":"IFERROR(IF(VLOOKUP($I48,'Reference Data'!$B$2:$H$66000,4,TRUE)=\"M\",\"M\",\"\"),\"\")","v":""},{"$f":"IFERROR(IF(VLOOKUP($I48,'Reference Data'!$B$2:$H$66000,4,TRUE)=\"F\",\"F\",\"\"),\"\")","v":""},null,null,"2025-26"]
[44,"SANCTIONED TOURNAMENTS",{"$f":"IFERROR(INDEX('Reference Data'!$S$2:$S$13,MATCH($C$2,'Reference Data'!$R$2:$R$13,TRUE)),\"\")","v":""},{"$f":"IFERROR(INDEX('Reference Data'!$Q$2:$Q$13,MATCH($D$2,'Reference Data'!$P$2:$P$13,TRUE)),\"Pick a Zone\")","v":"SANCTIONED EVENT"},{"$f":"IFERROR(LEFT($D$2,2)&\"-\"&INDEX('Reference Data'!$V$2:$V$11,MATCH($F$2,'Reference Data'!$U$2:$U$11,TRUE)),\"Pick a Tournament\")","v":"Pick a Tournament"},{"$f":"IFERROR(INDEX('Reference Data'!$W$2:$W$11,MATCH($F$2,'Reference Data'!$U$2:$U$11,TRUE)),\"Pick a Tournament\")","v":"Pick a Tournament"},{"$f":"IFERROR(VLOOKUP($I49,'Reference Data'!$B$2:$H$66000,3,FALSE),\"Enter C5#\")","v":"Enter C5#"},{"$f":"IFERROR(VLOOKUP($I49,'Reference Data'!$B$2:$H$66000,2,FALSE),\"Enter C5#\")","v":"Enter C5#"},null,null,null,null,null,null,null,null,null,null,{"$f":"IFERROR(IF(VLOOKUP($I49,'Reference Data'!$B$2:$H$66000,4,TRUE)=\"M\",\"M\",\"\"),\"\")","v":""},{"$f":"IFERROR(IF(VLOOKUP($I49,'Reference Data'!$B$2:$H$66000,4,TRUE)=\"F\",\"F\",\"\"),\"\")","v":""},null,null,"2025-26"]
[45,"SANCTIONED TOURNAMENTS",{"$f":"IFERROR(INDEX('Reference Data'!$S$2:$S$13,MATCH($C$2,'Reference Data'!$R$2:$R$13,TRUE)),\"\")","v":""},{"$f":"IFERROR(INDEX('Reference Data'!$Q$2:$Q$13,MATCH($D$2,'Reference Data'!$P$2:$P$13,TRUE)),\"Pick a Zone\")","v":"SANCTIONED EVENT"},{"$f":"IFERROR(LEFT($D$2,2)&\"-\"&INDEX('Reference Data'!$V$2:$V$11,MATCH($F$2,'Reference Data'!$U$2:$U$11,TRUE)),\"Pick a Tournament\")","v":"Pick a Tournament"},{"$f":"IFERROR(INDEX('Reference Data'!$W$2:$W$11,MATCH($F$2,'Reference Data'!$U$2:$U$11,TRUE)),\"Pick a Tournament\")","v":"Pick a Tournament"},{"$f":"IFERROR(VLOOKUP($I50,'Reference Data'!$B$2:$H$66000,3,FALSE),\"Enter C5#\")","v":"Enter C5#"},{"$f":"IFERROR(VLOOKUP($I50,'Reference Data'!$B$2:$H$66000,2,FALSE),\"Enter C5#\")","v":"Enter C5#"},null,null,null,null,null,null,null,null,null,null,{"$f":"IFERROR(IF(VLOOKUP($I50,'Reference Data'!$B$2:$H$66000,4,TRUE)=\"M\",\"M\",\"\"),\"\")","v":""},{"$f":"IFERROR(IF(VLOOKUP($I50,'Reference Data'!$B$2:$H$66000,4,TRUE)=\"F\",\"F\",\"\"),\"\")","v":""},null,null,"2025-26"]
[46,"SANCTIONED TOURNAMENTS",{"$f":"IFERROR(INDEX('Reference Data'!$S$2:$S$13,MATCH($C$2,'Reference Data'!$R$2:$R$13,TRUE)),\"\")","v":""},{"$f":"IFERROR(INDEX('Reference Data'!$Q$2:$Q$13,MATCH($D$2,'Reference Data'!$P$2:$P$13,TRUE)),\"Pick a Zone\")","v":"SANCTIONED EVENT"},{"$f":"IFERROR(LEFT($D$2,2)&\"-\"&INDEX('Reference Data'!$V$2:$V$11,MATCH($F$2,'Reference Data'!$U$2:$U$11,TRUE)),\"Pick a Tournament\")","v":"Pick a Tournament"},{"$f":"IFERROR(INDEX('Reference Data'!$W$2:$W$11,MATCH($F$2,'Reference Data'!$U$2:$U$11,TRUE)),\"Pick a Tournament\")","v":"Pick a Tournament"},{"$f":"IFERROR(VLOOKUP($I51,'Reference Data'!$B$2:$H$66000,3,FALSE),\"Enter C5#\")","v":"Enter C5#"},{"$f":"IFERROR(VLOOKUP($I51,'Reference Data'!$B$2:$H$66000,2,FALSE),\"Enter C5#\")","v":"Enter C5#"},null,null,null,null,null,null,null,null,null,null,{"$f":"IFERROR(IF(VLOOKUP($I51,'Reference Data'!$B$2:$H$66000,4,TRUE)=\"M\",\"M\",\"\"),\"\")","v":""},{"$f":"IFERROR(IF(VLOOKUP($I51,'Reference Data'!$B$2:$H$66000,4,TRUE)=\"F\",\"F\",\"\"),\"\")","v":""},null,null,"2025-26"]
[47,"SANCTIONED TOURNAMENTS",{"$f":"IFERROR(INDEX('Reference Data'!$S$2:$S$13,MATCH($C$2,'Reference Data'!$R$2:$R$13,TRUE)),\"\")","v":""},{"$f":"IFERROR(INDEX('Reference Data'!$Q$2:$Q$13,MATCH($D$2,'Reference Data'!$P$2:$P$13,TRUE)),\"Pick a Zone\")","v":"SANCTIONED EVENT"},{"$f":"IFERROR(LEFT($D$2,2)&\"-\"&INDEX('Reference Data'!$V$2:$V$11,MATCH($F$2,'Reference Data'!$U$2:$U$11,TRUE)),\"Pick a Tournament\")","v":"Pick a Tournament"},{"$f":"IFERROR(INDEX('Reference Data'!$W$2:$W$11,MATCH($F$2,'Reference Data'!$U$2:$U$11,TRUE)),\"Pick a Tournament\")","v":"Pick a Tournament"},{"$f":"IFERROR(VLOOKUP($I52,'Reference Data'!$B$2:$H$66000,3,FALSE),\"Enter C5#\")","v":"Enter C5#"},{"$f":"IFERROR(VLOOKUP($I52,'Reference Data'!$B$2:$H$66000,2,FALSE),\"Enter C5#\")","v":"Enter C5#"},null,null,null,null,null,null,null,null,null,null,{"$f":"IFERROR(IF(VLOOKUP($I52,'Reference Data'!$B$2:$H$66000,4,TRUE)=\"M\",\"M\",\"\"),\"\")","v":""},{"$f":"IFERROR(IF(VLOOKUP($I52,'Reference Data'!$B$2:$H$66000,4,TRUE)=\"F\",\"F\",\"\"),\"\")","v":""},null,null,"2025-26"]
[48,"SANCTIONED TOURNAMENTS",{"$f":"IFERROR(INDEX('Reference Data'!$S$2:$S$13,MATCH($C$2,'Reference Data'!$R$2:$R$13,TRUE)),\"\")","v":""},{"$f":"IFERROR(INDEX('Reference Data'!$Q$2:$Q$13,MATCH($D$2,'Reference Data'!$P$2:$P$13,TRUE)),\"Pick a Zone\")","v":"SANCTIONED EVENT"},{"$f":"IFERROR(LEFT($D$2,2)&\"-\"&INDEX('Reference Data'!$V$2:$V$11,MATCH($F$2,'Reference Data'!$U$2:$U$11,TRUE)),\"Pick a Tournament\")","v":"Pick a Tournament"},{"$f":"IFERROR(INDEX('Reference Data'!$W$2:$W$11,MATCH($F$2,'Reference Data'!$U$2:$U$11,TRUE)),\"Pick a Tournament\")","v":"Pick a Tournament"},{"$f":"IFERROR(VLOOKUP($I53,'Reference Data'!$B$2:$H$66000,3,FALSE),\"Enter C5#\")","v":"Enter C5#"},{"$f":"IFERROR(VLOOKUP($I53,'Reference Data'!$B$2:$H$66000,2,FALSE),\"Enter C5#\")","v":"Enter C5#"},null,null,null,null,null,null,null,null,null,null,{"$f":"IFERROR(IF(VLOOKUP($I53,'Reference Data'!$B$2:$H$66000,4,TRUE)=\"M\",\"M\",\"\"),\"\")","v":""},{"$f":"IFERROR(IF(VLOOKUP($I53,'Reference Data'!$B$2:$H$66000,4,TRUE)=\"F\",\"F\",\"\"),\"\")","v":""},null,null,"2025-26"]
[49,"SANCTIONED TOURNAMENTS",{"$f":"IFERROR(INDEX('Reference Data'!$S$2:$S$13,MATCH($C$2,'Reference Data'!$R$2:$R$13,TRUE)),\"\")","v":""},{"$f":"IFERROR(INDEX('Reference Data'!$Q$2:$Q$13,MATCH($D$2,'Reference Data'!$P$2:$P$13,TRUE)),\"Pick a Zone\")","v":"SANCTIONED EVENT"},{"$f":"IFERROR(LEFT($D$2,2)&\"-\"&INDEX('Reference Data'!$V$2:$V$11,MATCH($F$2,'Reference Data'!$U$2:$U$11,TRUE)),\"Pick a Tournament\")","v":"Pick a Tournament"},{"$f":"IFERROR(INDEX('Reference Data'!$W$2:$W$11,MATCH($F$2,'Reference Data'!$U$2:$U$11,TRUE)),\"Pick a Tournament\")","v":"Pick a Tournament"},{"$f":"IFERROR(VLOOKUP($I54,'Reference Data'!$B$2:$H$66000,3,FALSE),\"Enter C5#\")","v":"Enter C5#"},{"$f":"IFERROR(VLOOKUP($I54,'Reference Data'!$B$2:$H$66000,2,FALSE),\"Enter C5#\")","v":"Enter C5#"},null,null,null,null,null,null,null,null,null,null,{"$f":"IFERROR(IF(VLOOKUP($I54,'Reference Data'!$B$2:$H$66000,4,TRUE)=\"M\",\"M\",\"\"),\"\")","v":""},{"$f":"IFERROR(IF(VLOOKUP($I54,'Reference Data'!$B$2:$H$66000,4,TRUE)=\"F\",\"F\",\"\"),\"\")","v":""},null,null,"2025-26"]
[50,"SANCTIONED TOURNAMENTS",{"$f":"IFERROR(INDEX('Reference Data'!$S$2:$S$13,MATCH($C$2,'Reference Data'!$R$2:$R$13,TRUE)),\"\")","v":""},{"$f":"IFERROR(INDEX('Reference Data'!$Q$2:$Q$13,MATCH($D$2,'Reference Data'!$P$2:$P$13,TRUE)),\"Pick a Zone\")","v":"SANCTIONED EVENT"},{"$f":"IFERROR(LEFT($D$2,2)&\"-\"&INDEX('Reference Data'!$V$2:$V$11,MATCH($F$2,'Reference Data'!$U$2:$U$11,TRUE)),\"Pick a Tournament\")","v":"Pick a Tournament"},{"$f":"IFERROR(INDEX('Reference Data'!$W$2:$W$11,MATCH($F$2,'Reference Data'!$U$2:$U$11,TRUE)),\"Pick a Tournament\")","v":"Pick a Tournament"},{"$f":"IFERROR(VLOOKUP($I55,'Reference Data'!$B$2:$H$66000,3,FALSE),\"Enter C5#\")","v":"Enter C5#"},{"$f":"IFERROR(VLOOKUP($I55,'Reference Data'!$B$2:$H$66000,2,FALSE),\"Enter C5#\")","v":"Enter C5#"},null,null,null,null,null,null,null,null,null,null,{"$f":"IFERROR(IF(VLOOKUP($I55,'Reference Data'!$B$2:$H$66000,4,TRUE)=\"M\",\"M\",\"\"),\"\")","v":""},{"$f":"IFERROR(IF(VLOOKUP($I55,'Reference Data'!$B$2:$H$66000,4,TRUE)=\"F\",\"F\",\"\"),\"\")","v":""},null,null,"2025-26"]
[51,"SANCTIONED TOURNAMENTS",{"$f":"IFERROR(INDEX('Reference Data'!$S$2:$S$13,MATCH($C$2,'Reference Data'!$R$2:$R$13,TRUE)),\"\")","v":""},{"$f":"IFERROR(INDEX('Reference Data'!$Q$2:$Q$13,MATCH($D$2,'Reference Data'!$P$2:$P$13,TRUE)),\"Pick a Zone\")","v":"SANCTIONED EVENT"},{"$f":"IFERROR(LEFT($D$2,2)&\"-\"&INDEX('Reference Data'!$V$2:$V$11,MATCH($F$2,'Reference Data'!$U$2:$U$11,TRUE)),\"Pick a Tournament\")","v":"Pick a Tournament"},{"$f":"IFERROR(INDEX('Reference Data'!$W$2:$W$11,MATCH($F$2,'Reference Data'!$U$2:$U$11,TRUE)),\"Pick a Tournament\")","v":"Pick a Tournament"},{"$f":"IFERROR(VLOOKUP($I56,'Reference Data'!$B$2:$H$66000,3,FALSE),\"Enter C5#\")","v":"Enter C5#"},{"$f":"IFERROR(VLOOKUP($I56,'Reference Data'!$B$2:$H$66000,2,FALSE),\"Enter C5#\")","v":"Enter C5#"},null,null,null,null,null,null,null,null,null,null,{"$f":"IFERROR(IF(VLOOKUP($I56,'Reference Data'!$B$2:$H$66000,4,TRUE)=\"M\",\"M\",\"\"),\"\")","v":""},{"$f":"IFERROR(IF(VLOOKUP($I56,'Reference Data'!$B$2:$H$66000,4,TRUE)=\"F\",\"F\",\"\"),\"\")","v":""},null,null,"2025-26"]
[52,"SANCTIONED TOURNAMENTS",{"$f":"IFERROR(INDEX('Reference Data'!$S$2:$S$13,MATCH($C$2,'Reference Data'!$R$2:$R$13,TRUE)),\"\")","v":""},{"$f":"IFERROR(INDEX('Reference Data'!$Q$2:$Q$13,MATCH($D$2,'Reference Data'!$P$2:$P$13,TRUE)),\"Pick a Zone\")","v":"SANCTIONED EVENT"},{"$f":"IFERROR(LEFT($D$2,2)&\"-\"&INDEX('Reference Data'!$V$2:$V$11,MATCH($F$2,'Reference Data'!$U$2:$U$11,TRUE)),\"Pick a Tournament\")","v":"Pick a Tournament"},{"$f":"IFERROR(INDEX('Reference Data'!$W$2:$W$11,MATCH($F$2,'Reference Data'!$U$2:$U$11,TRUE)),\"Pick a Tournament\")","v":"Pick a Tournament"},{"$f":"IFERROR(VLOOKUP($I57,'Reference Data'!$B$2:$H$66000,3,FALSE),\"Enter C5#\")","v":"Enter C5#"},{"$f":"IFERROR(VLOOKUP($I57,'Reference Data'!$B$2:$H$66000,2,FALSE),\"Enter C5#\")","v":"Enter C5#"},null,null,null,null,null,null,null,null,null,null,{"$f":"IFERROR(IF(VLOOKUP($I57,'Reference Data'!$B$2:$H$66000,4,TRUE)=\"M\",\"M\",\"\"),\"\")","v":""},{"$f":"IFERROR(IF(VLOOKUP($I57,'Reference Data'!$B$2:$H$66000,4,TRUE)=\"F\",\"F\",\"\"),\"\")","v":""},null,null,"2025-26"]
[53,"SANCTIONED TOURNAMENTS",{"$f":"IFERROR(INDEX('Reference Data'!$S$2:$S$13,MATCH($C$2,'Reference Data'!$R$2:$R$13,TRUE)),\"\")","v":""},{"$f":"IFERROR(INDEX('Reference Data'!$Q$2:$Q$13,MATCH($D$2,'Reference Data'!$P$2:$P$13,TRUE)),\"Pick a Zone\")","v":"SANCTIONED EVENT"},{"$f":"IFERROR(LEFT($D$2,2)&\"-\"&INDEX('Reference Data'!$V$2:$V$11,MATCH($F$2,'Reference Data'!$U$2:$U$11,TRUE)),\"Pick a Tournament\")","v":"Pick a Tournament"},{"$f":"IFERROR(INDEX('Reference Data'!$W$2:$W$11,MATCH($F$2,'Reference Data'!$U$2:$U$11,TRUE)),\"Pick a Tournament\")","v":"Pick a Tournament"},{"$f":"IFERROR(VLOOKUP($I58,'Reference Data'!$B$2:$H$66000,3,FALSE),\"Enter C5#\")","v":"Enter C5#"},{"$f":"IFERROR(VLOOKUP($I58,'Reference Data'!$B$2:$H$66000,2,FALSE),\"Enter C5#\")","v":"Enter C5#"},null,null,null,null,null,null,null,null,null,null,{"$f":"IFERROR(IF(VLOOKUP($I58,'Reference Data'!$B$2:$H$66000,4,TRUE)=\"M\",\"M\",\"\"),\"\")","v":""},{"$f":"IFERROR(IF(VLOOKUP($I58,'Reference Data'!$B$2:$H$66000,4,TRUE)=\"F\",\"F\",\"\"),\"\")","v":""},null,null,"2025-26"]
[54,"SANCTIONED TOURNAMENTS",{"$f":"IFERROR(INDEX('Reference Data'!$S$2:$S$13,MATCH($C$2,'Reference Data'!$R$2:$R$13,TRUE)),\"\")","v":""},{"$f":"IFERROR(INDEX('Reference Data'!$Q$2:$Q$13,MATCH($D$2,'Reference Data'!$P$2:$P$13,TRUE)),\"Pick a Zone\")","v":"SANCTIONED EVENT"},{"$f":"IFERROR(LEFT($D$2,2)&\"-\"&INDEX('Reference Data'!$V$2:$V$11,MATCH($F$2,'Reference Data'!$U$2:$U$11,TRUE)),\"Pick a Tournament\")","v":"Pick a Tournament"},{"$f":"IFERROR(INDEX('Reference Data'!$W$2:$W$11,MATCH($F$2,'Reference Data'!$U$2:$U$11,TRUE)),\"Pick a Tournament\")","v":"Pick a Tournament"},{"$f":"IFERROR(VLOOKUP($I59,'Reference Data'!$B$2:$H$66000,3,FALSE),\"Enter C5#\")","v":"Enter C5#"},{"$f":"IFERROR(VLOOKUP($I59,'Reference Data'!$B$2:$H$66000,2,FALSE),\"Enter C5#\")","v":"Enter C5#"},null,null,null,null,null,null,null,null,null,null,{"$f":"IFERROR(IF(VLOOKUP($I59,'Reference Data'!$B$2:$H$66000,4,TRUE)=\"M\",\"M\",\"\"),\"\")","v":""},{"$f":"IFERROR(IF(VLOOKUP($I59,'Reference Data'!$B$2:$H$66000,4,TRUE)=\"F\",\"F\",\"\"),\"\")","v":""},null,null,"2025-26"]
[55,"SANCTIONED TOURNAMENTS",{"$f":"IFERROR(INDEX('Reference Data'!$S$2:$S$13,MATCH($C$2,'Reference Data'!$R$2:$R$13,TRUE)),\"\")","v":""},{"$f":"IFERROR(INDEX('Reference Data'!$Q$2:$Q$13,MATCH($D$2,'Reference Data'!$P$2:$P$13,TRUE)),\"Pick a Zone\")","v":"SANCTIONED EVENT"},{"$f":"IFERROR(LEFT($D$2,2)&\"-\"&INDEX('Reference Data'!$V$2:$V$11,MATCH($F$2,'Reference Data'!$U$2:$U$11,TRUE)),\"Pick a Tournament\")","v":"Pick a Tournament"},{"$f":"IFERROR(INDEX('Reference Data'!$W$2:$W$11,MATCH($F$2,'Reference Data'!$U$2:$U$11,TRUE)),\"Pick a Tournament\")","v":"Pick a Tournament"},{"$f":"IFERROR(VLOOKUP($I60,'Reference Data'!$B$2:$H$66000,3,FALSE),\"Enter C5#\")","v":"Enter C5#"},{"$f":"IFERROR(VLOOKUP($I60,'Reference Data'!$B$2:$H$66000,2,FALSE),\"Enter C5#\")","v":"Enter C5#"},null,null,null,null,null,null,null,null,null,null,{"$f":"IFERROR(IF(VLOOKUP($I60,'Reference Data'!$B$2:$H$66000,4,TRUE)=\"M\",\"M\",\"\"),\"\")","v":""},{"$f":"IFERROR(IF(VLOOKUP($I60,'Reference Data'!$B$2:$H$66000,4,TRUE)=\"F\",\"F\",\"\"),\"\")","v":""},null,null,"2025-26"]
[56,"SANCTIONED TOURNAMENTS",{"$f":"IFERROR(INDEX('Reference Data'!$S$2:$S$13,MATCH($C$2,'Reference Data'!$R$2:$R$13,TRUE)),\"\")","v":""},{"$f":"IFERROR(INDEX('Reference Data'!$Q$2:$Q$13,MATCH($D$2,'Reference Data'!$P$2:$P$13,TRUE)),\"Pick a Zone\")","v":"SANCTIONED EVENT"},{"$f":"IFERROR(LEFT($D$2,2)&\"-\"&INDEX('Reference Data'!$V$2:$V$11,MATCH($F$2,'Reference Data'!$U$2:$U$11,TRUE)),\"Pick a Tournament\")","v":"Pick a Tournament"},{"$f":"IFERROR(INDEX('Reference Data'!$W$2:$W$11,MATCH($F$2,'Reference Data'!$U$2:$U$11,TRUE)),\"Pick a Tournament\")","v":"Pick a Tournament"},{"$f":"IFERROR(VLOOKUP($I61,'Reference Data'!$B$2:$H$66000,3,FALSE),\"Enter C5#\")","v":"Enter C5#"},{"$f":"IFERROR(VLOOKUP($I61,'Reference Data'!$B$2:$H$66000,2,FALSE),\"Enter C5#\")","v":"Enter C5#"},null,null,null,null,null,null,null,null,null,null,{"$f":"IFERROR(IF(VLOOKUP($I61,'Reference Data'!$B$2:$H$66000,4,TRUE)=\"M\",\"M\",\"\"),\"\")","v":""},{"$f":"IFERROR(IF(VLOOKUP($I61,'Reference Data'!$B$2:$H$66000,4,TRUE)=\"F\",\"F\",\"\"),\"\")","v":""},null,null,"2025-26"]
[57,"SANCTIONED TOURNAMENTS",{"$f":"IFERROR(INDEX('Reference Data'!$S$2:$S$13,MATCH($C$2,'Reference Data'!$R$2:$R$13,TRUE)),\"\")","v":""},{"$f":"IFERROR(INDEX('Reference Data'!$Q$2:$Q$13,MATCH($D$2,'Reference Data'!$P$2:$P$13,TRUE)),\"Pick a Zone\")","v":"SANCTIONED EVENT"},{"$f":"IFERROR(LEFT($D$2,2)&\"-\"&INDEX('Reference Data'!$V$2:$V$11,MATCH($F$2,'Reference Data'!$U$2:$U$11,TRUE)),\"Pick a Tournament\")","v":"Pick a Tournament"},{"$f":"IFERROR(INDEX('Reference Data'!$W$2:$W$11,MATCH($F$2,'Reference Data'!$U$2:$U$11,TRUE)),\"Pick a Tournament\")","v":"Pick a Tournament"},{"$f":"IFERROR(VLOOKUP($I62,'Reference Data'!$B$2:$H$66000,3,FALSE),\"Enter C5#\")","v":"Enter C5#"},{"$f":"IFERROR(VLOOKUP($I62,'Reference Data'!$B$2:$H$66000,2,FALSE),\"Enter C5#\")","v":"Enter C5#"},null,null,null,null,null,null,null,null,null,null,{"$f":"IFERROR(IF(VLOOKUP($I62,'Reference Data'!$B$2:$H$66000,4,TRUE)=\"M\",\"M\",\"\"),\"\")","v":""},{"$f":"IFERROR(IF(VLOOKUP($I62,'Reference Data'!$B$2:$H$66000,4,TRUE)=\"F\",\"F\",\"\"),\"\")","v":""},null,null,"2025-26"]
[58,"SANCTIONED TOURNAMENTS",{"$f":"IFERROR(INDEX('Reference Data'!$S$2:$S$13,MATCH($C$2,'Reference Data'!$R$2:$R$13,TRUE)),\"\")","v":""},{"$f":"IFERROR(INDEX('Reference Data'!$Q$2:$Q$13,MATCH($D$2,'Reference Data'!$P$2:$P$13,TRUE)),\"Pick a Zone\")","v":"SANCTIONED EVENT"},{"$f":"IFERROR(LEFT($D$2,2)&\"-\"&INDEX('Reference Data'!$V$2:$V$11,MATCH($F$2,'Reference Data'!$U$2:$U$11,TRUE)),\"Pick a Tournament\")","v":"Pick a Tournament"},{"$f":"IFERROR(INDEX('Reference Data'!$W$2:$W$11,MATCH($F$2,'Reference Data'!$U$2:$U$11,TRUE)),\"Pick a Tournament\")","v":"Pick a Tournament"},{"$f":"IFERROR(VLOOKUP($I63,'Reference Data'!$B$2:$H$66000,3,FALSE),\"Enter C5#\")","v":"Enter C5#"},{"$f":"IFERROR(VLOOKUP($I63,'Reference Data'!$B$2:$H$66000,2,FALSE),\"Enter C5#\")","v":"Enter C5#"},null,null,null,null,null,null,null,null,null,null,{"$f":"IFERROR(IF(VLOOKUP($I63,'Reference Data'!$B$2:$H$66000,4,TRUE)=\"M\",\"M\",\"\"),\"\")","v":""},{"$f":"IFERROR(IF(VLOOKUP($I63,'Reference Data'!$B$2:$H$66000,4,TRUE)=\"F\",\"F\",\"\"),\"\")","v":""},null,null,"2025-26"]
[59,"SANCTIONED TOURNAMENTS",{"$f":"IFERROR(INDEX('Reference Data'!$S$2:$S$13,MATCH($C$2,'Reference Data'!$R$2:$R$13,TRUE)),\"\")","v":""},{"$f":"IFERROR(INDEX('Reference Data'!$Q$2:$Q$13,MATCH($D$2,'Reference Data'!$P$2:$P$13,TRUE)),\"Pick a Zone\")","v":"SANCTIONED EVENT"},{"$f":"IFERROR(LEFT($D$2,2)&\"-\"&INDEX('Reference Data'!$V$2:$V$11,MATCH($F$2,'Reference Data'!$U$2:$U$11,TRUE)),\"Pick a Tournament\")","v":"Pick a Tournament"},{"$f":"IFERROR(INDEX('Reference Data'!$W$2:$W$11,MATCH($F$2,'Reference Data'!$U$2:$U$11,TRUE)),\"Pick a Tournament\")","v":"Pick a Tournament"},{"$f":"IFERROR(VLOOKUP($I64,'Reference Data'!$B$2:$H$66000,3,FALSE),\"Enter C5#\")","v":"Enter C5#"},{"$f":"IFERROR(VLOOKUP($I64,'Reference Data'!$B$2:$H$66000,2,FALSE),\"Enter C5#\")","v":"Enter C5#"},null,null,null,null,null,null,null,null,null,null,{"$f":"IFERROR(IF(VLOOKUP($I64,'Reference Data'!$B$2:$H$66000,4,TRUE)=\"M\",\"M\",\"\"),\"\")","v":""},{"$f":"IFERROR(IF(VLOOKUP($I64,'Reference Data'!$B$2:$H$66000,4,TRUE)=\"F\",\"F\",\"\"),\"\")","v":""},null,null,"2025-26"]
[60,"SANCTIONED TOURNAMENTS",{"$f":"IFERROR(INDEX('Reference Data'!$S$2:$S$13,MATCH($C$2,'Reference Data'!$R$2:$R$13,TRUE)),\"\")","v":""},{"$f":"IFERROR(INDEX('Reference Data'!$Q$2:$Q$13,MATCH($D$2,'Reference Data'!$P$2:$P$13,TRUE)),\"Pick a Zone\")","v":"SANCTIONED EVENT"},{"$f":"IFERROR(LEFT($D$2,2)&\"-\"&INDEX('Reference Data'!$V$2:$V$11,MATCH($F$2,'Reference Data'!$U$2:$U$11,TRUE)),\"Pick a Tournament\")","v":"Pick a Tournament"},{"$f":"IFERROR(INDEX('Reference Data'!$W$2:$W$11,MATCH($F$2,'Reference Data'!$U$2:$U$11,TRUE)),\"Pick a Tournament\")","v":"Pick a Tournament"},{"$f":"IFERROR(VLOOKUP($I65,'Reference Data'!$B$2:$H$66000,3,FALSE),\"Enter C5#\")","v":"Enter C5#"},{"$f":"IFERROR(VLOOKUP($I65,'Reference Data'!$B$2:$H$66000,2,FALSE),\"Enter C5#\")","v":"Enter C5#"},null,null,null,null,null,null,null,null,null,null,{"$f":"IFERROR(IF(VLOOKUP($I65,'Reference Data'!$B$2:$H$66000,4,TRUE)=\"M\",\"M\",\"\"),\"\")","v":""},{"$f":"IFERROR(IF(VLOOKUP($I65,'Reference Data'!$B$2:$H$66000,4,TRUE)=\"F\",\"F\",\"\"),\"\")","v":""},null,null,"2025-26"]
[61,"SANCTIONED TOURNAMENTS",{"$f":"IFERROR(INDEX('Reference Data'!$S$2:$S$13,MATCH($C$2,'Reference Data'!$R$2:$R$13,TRUE)),\"\")","v":""},{"$f":"IFERROR(INDEX('Reference Data'!$Q$2:$Q$13,MATCH($D$2,'Reference Data'!$P$2:$P$13,TRUE)),\"Pick a Zone\")","v":"SANCTIONED EVENT"},{"$f":"IFERROR(LEFT($D$2,2)&\"-\"&INDEX('Reference Data'!$V$2:$V$11,MATCH($F$2,'Reference Data'!$U$2:$U$11,TRUE)),\"Pick a Tournament\")","v":"Pick a Tournament"},{"$f":"IFERROR(INDEX('Reference Data'!$W$2:$W$11,MATCH($F$2,'Reference Data'!$U$2:$U$11,TRUE)),\"Pick a Tournament\")","v":"Pick a Tournament"},{"$f":"IFERROR(VLOOKUP($I66,'Reference Data'!$B$2:$H$66000,3,FALSE),\"Enter C5#\")","v":"Enter C5#"},{"$f":"IFERROR(VLOOKUP($I66,'Reference Data'!$B$2:$H$66000,2,FALSE),\"Enter C5#\")","v":"Enter C5#"},null,null,null,null,null,null,null,null,null,null,{"$f":"IFERROR(IF(VLOOKUP($I66,'Reference Data'!$B$2:$H$66000,4,TRUE)=\"M\",\"M\",\"\"),\"\")","v":""},{"$f":"IFERROR(IF(VLOOKUP($I66,'Reference Data'!$B$2:$H$66000,4,TRUE)=\"F\",\"F\",\"\"),\"\")","v":""},null,null,"2025-26"]
[62,"SANCTIONED TOURNAMENTS",{"$f":"IFERROR(INDEX('Reference Data'!$S$2:$S$13,MATCH($C$2,'Reference Data'!$R$2:$R$13,TRUE)),\"\")","v":""},{"$f":"IFERROR(INDEX('Reference Data'!$Q$2:$Q$13,MATCH($D$2,'Reference Data'!$P$2:$P$13,TRUE)),\"Pick a Zone\")","v":"SANCTIONED EVENT"},{"$f":"IFERROR(LEFT($D$2,2)&\"-\"&INDEX('Reference Data'!$V$2:$V$11,MATCH($F$2,'Reference Data'!$U$2:$U$11,TRUE)),\"Pick a Tournament\")","v":"Pick a Tournament"},{"$f":"IFERROR(INDEX('Reference Data'!$W$2:$W$11,MATCH($F$2,'Reference Data'!$U$2:$U$11,TRUE)),\"Pick a Tournament\")","v":"Pick a Tournament"},{"$f":"IFERROR(VLOOKUP($I67,'Reference Data'!$B$2:$H$66000,3,FALSE),\"Enter C5#\")","v":"Enter C5#"},{"$f":"IFERROR(VLOOKUP($I67,'Reference Data'!$B$2:$H$66000,2,FALSE),\"Enter C5#\")","v":"Enter C5#"},null,null,null,null,null,null,null,null,null,null,{"$f":"IFERROR(IF(VLOOKUP($I67,'Reference Data'!$B$2:$H$66000,4,TRUE)=\"M\",\"M\",\"\"),\"\")","v":""},{"$f":"IFERROR(IF(VLOOKUP($I67,'Reference Data'!$B$2:$H$66000,4,TRUE)=\"F\",\"F\",\"\"),\"\")","v":""},null,null,"2025-26"]
[63,"SANCTIONED TOURNAMENTS",{"$f":"IFERROR(INDEX('Reference Data'!$S$2:$S$13,MATCH($C$2,'Reference Data'!$R$2:$R$13,TRUE)),\"\")","v":""},{"$f":"IFERROR(INDEX('Reference Data'!$Q$2:$Q$13,MATCH($D$2,'Reference Data'!$P$2:$P$13,TRUE)),\"Pick a Zone\")","v":"SANCTIONED EVENT"},{"$f":"IFERROR(LEFT($D$2,2)&\"-\"&INDEX('Reference Data'!$V$2:$V$11,MATCH($F$2,'Reference Data'!$U$2:$U$11,TRUE)),\"Pick a Tournament\")","v":"Pick a Tournament"},{"$f":"IFERROR(INDEX('Reference Data'!$W$2:$W$11,MATCH($F$2,'Reference Data'!$U$2:$U$11,TRUE)),\"Pick a Tournament\")","v":"Pick a Tournament"},{"$f":"IFERROR(VLOOKUP($I68,'Reference Data'!$B$2:$H$66000,3,FALSE),\"Enter C5#\")","v":"Enter C5#"},{"$f":"IFERROR(VLOOKUP($I68,'Reference Data'!$B$2:$H$66000,2,FALSE),\"Enter C5#\")","v":"Enter C5#"},null,null,null,null,null,null,null,null,null,null,{"$f":"IFERROR(IF(VLOOKUP($I68,'Reference Data'!$B$2:$H$66000,4,TRUE)=\"M\",\"M\",\"\"),\"\")","v":""},{"$f":"IFERROR(IF(VLOOKUP($I68,'Reference Data'!$B$2:$H$66000,4,TRUE)=\"F\",\"F\",\"\"),\"\")","v":""},null,null,"2025-26"]
[64,"SANCTIONED TOURNAMENTS",{"$f":"IFERROR(INDEX('Reference Data'!$S$2:$S$13,MATCH($C$2,'Reference Data'!$R$2:$R$13,TRUE)),\"\")","v":""},{"$f":"IFERROR(INDEX('Reference Data'!$Q$2:$Q$13,MATCH($D$2,'Reference Data'!$P$2:$P$13,TRUE)),\"Pick a Zone\")","v":"SANCTIONED EVENT"},{"$f":"IFERROR(LEFT($D$2,2)&\"-\"&INDEX('Reference Data'!$V$2:$V$11,MATCH($F$2,'Reference Data'!$U$2:$U$11,TRUE)),\"Pick a Tournament\")","v":"Pick a Tournament"},{"$f":"IFERROR(INDEX('Reference Data'!$W$2:$W$11,MATCH($F$2,'Reference Data'!$U$2:$U$11,TRUE)),\"Pick a Tournament\")","v":"Pick a Tournament"},{"$f":"IFERROR(VLOOKUP($I69,'Reference Data'!$B$2:$H$66000,3,FALSE),\"Enter C5#\")","v":"Enter C5#"},{"$f":"IFERROR(VLOOKUP($I69,'Reference Data'!$B$2:$H$66000,2,FALSE),\"Enter C5#\")","v":"Enter C5#"},null,null,null,null,null,null,null,null,null,null,{"$f":"IFERROR(IF(VLOOKUP($I69,'Reference Data'!$B$2:$H$66000,4,TRUE)=\"M\",\"M\",\"\"),\"\")","v":""},{"$f":"IFERROR(IF(VLOOKUP($I69,'Reference Data'!$B$2:$H$66000,4,TRUE)=\"F\",\"F\",\"\"),\"\")","v":""},null,null,"2025-26"]
[65,"SANCTIONED TOURNAMENTS",{"$f":"IFERROR(INDEX('Reference Data'!$S$2:$S$13,MATCH($C$2,'Reference Data'!$R$2:$R$13,TRUE)),\"\")","v":""},{"$f":"IFERROR(INDEX('Reference Data'!$Q$2:$Q$13,MATCH($D$2,'Reference Data'!$P$2:$P$13,TRUE)),\"Pick a Zone\")","v":"SANCTIONED EVENT"},{"$f":"IFERROR(LEFT($D$2,2)&\"-\"&INDEX('Reference Data'!$V$2:$V$11,MATCH($F$2,'Reference Data'!$U$2:$U$11,TRUE)),\"Pick a Tournament\")","v":"Pick a Tournament"},{"$f":"IFERROR(INDEX('Reference Data'!$W$2:$W$11,MATCH($F$2,'Reference Data'!$U$2:$U$11,TRUE)),\"Pick a Tournament\")","v":"Pick a Tournament"},{"$f":"IFERROR(VLOOKUP($I70,'Reference Data'!$B$2:$H$66000,3,FALSE),\"Enter C5#\")","v":"Enter C5#"},{"$f":"IFERROR(VLOOKUP($I70,'Reference Data'!$B$2:$H$66000,2,FALSE),\"Enter C5#\")","v":"Enter C5#"},null,null,null,null,null,null,null,null,null,null,{"$f":"IFERROR(IF(VLOOKUP($I70,'Reference Data'!$B$2:$H$66000,4,TRUE)=\"M\",\"M\",\"\"),\"\")","v":""},{"$f":"IFERROR(IF(VLOOKUP($I70,'Reference Data'!$B$2:$H$66000,4,TRUE)=\"F\",\"F\",\"\"),\"\")","v":""},null,null,"2025-26"]
[66,"SANCTIONED TOURNAMENTS",{"$f":"IFERROR(INDEX('Reference Data'!$S$2:$S$13,MATCH($C$2,'Reference Data'!$R$2:$R$13,TRUE)),\"\")","v":""},{"$f":"IFERROR(INDEX('Reference Data'!$Q$2:$Q$13,MATCH($D$2,'Reference Data'!$P$2:$P$13,TRUE)),\"Pick a Zone\")","v":"SANCTIONED EVENT"},{"$f":"IFERROR(LEFT($D$2,2)&\"-\"&INDEX('Reference Data'!$V$2:$V$11,MATCH($F$2,'Reference Data'!$U$2:$U$11,TRUE)),\"Pick a Tournament\")","v":"Pick a Tournament"},{"$f":"IFERROR(INDEX('Reference Data'!$W$2:$W$11,MATCH($F$2,'Reference Data'!$U$2:$U$11,TRUE)),\"Pick a Tournament\")","v":"Pick a Tournament"},{"$f":"IFERROR(VLOOKUP($I71,'Reference Data'!$B$2:$H$66000,3,FALSE),\"Enter C5#\")","v":"Enter C5#"},{"$f":"IFERROR(VLOOKUP($I71,'Reference Data'!$B$2:$H$66000,2,FALSE),\"Enter C5#\")","v":"Enter C5#"},null,null,null,null,null,null,null,null,null,null,{"$f":"IFERROR(IF(VLOOKUP($I71,'Reference Data'!$B$2:$H$66000,4,TRUE)=\"M\",\"M\",\"\"),\"\")","v":""},{"$f":"IFERROR(IF(VLOOKUP($I71,'Reference Data'!$B$2:$H$66000,4,TRUE)=\"F\",\"F\",\"\"),\"\")","v":""},null,null,"2025-26"]
[67,"SANCTIONED TOURNAMENTS",{"$f":"IFERROR(INDEX('Reference Data'!$S$2:$S$13,MATCH($C$2,'Reference Data'!$R$2:$R$13,TRUE)),\"\")","v":""},{"$f":"IFERROR(INDEX('Reference Data'!$Q$2:$Q$13,MATCH($D$2,'Reference Data'!$P$2:$P$13,TRUE)),\"Pick a Zone\")","v":"SANCTIONED EVENT"},{"$f":"IFERROR(LEFT($D$2,2)&\"-\"&INDEX('Reference Data'!$V$2:$V$11,MATCH($F$2,'Reference Data'!$U$2:$U$11,TRUE)),\"Pick a Tournament\")","v":"Pick a Tournament"},{"$f":"IFERROR(INDEX('Reference Data'!$W$2:$W$11,MATCH($F$2,'Reference Data'!$U$2:$U$11,TRUE)),\"Pick a Tournament\")","v":"Pick a Tournament"},{"$f":"IFERROR(VLOOKUP($I72,'Reference Data'!$B$2:$H$66000,3,FALSE),\"Enter C5#\")","v":"Enter C5#"},{"$f":"IFERROR(VLOOKUP($I72,'Reference Data'!$B$2:$H$66000,2,FALSE),\"Enter C5#\")","v":"Enter C5#"},null,null,null,null,null,null,null,null,null,null,{"$f":"IFERROR(IF(VLOOKUP($I72,'Reference Data'!$B$2:$H$66000,4,TRUE)=\"M\",\"M\",\"\"),\"\")","v":""},{"$f":"IFERROR(IF(VLOOKUP($I72,'Reference Data'!$B$2:$H$66000,4,TRUE)=\"F\",\"F\",\"\"),\"\")","v":""},null,null,"2025-26"]
[68,"SANCTIONED TOURNAMENTS",{"$f":"IFERROR(INDEX('Reference Data'!$S$2:$S$13,MATCH($C$2,'Reference Data'!$R$2:$R$13,TRUE)),\"\")","v":""},{"$f":"IFERROR(INDEX('Reference Data'!$Q$2:$Q$13,MATCH($D$2,'Reference Data'!$P$2:$P$13,TRUE)),\"Pick a Zone\")","v":"SANCTIONED EVENT"},{"$f":"IFERROR(LEFT($D$2,2)&\"-\"&INDEX('Reference Data'!$V$2:$V$11,MATCH($F$2,'Reference Data'!$U$2:$U$11,TRUE)),\"Pick a Tournament\")","v":"Pick a Tournament"},{"$f":"IFERROR(INDEX('Reference Data'!$W$2:$W$11,MATCH($F$2,'Reference Data'!$U$2:$U$11,TRUE)),\"Pick a Tournament\")","v":"Pick a Tournament"},{"$f":"IFERROR(VLOOKUP($I73,'Reference Data'!$B$2:$H$66000,3,FALSE),\"Enter C5#\")","v":"Enter C5#"},{"$f":"IFERROR(VLOOKUP($I73,'Reference Data'!$B$2:$H$66000,2,FALSE),\"Enter C5#\")","v":"Enter C5#"},null,null,null,null,null,null,null,null,null,null,{"$f":"IFERROR(IF(VLOOKUP($I73,'Reference Data'!$B$2:$H$66000,4,TRUE)=\"M\",\"M\",\"\"),\"\")","v":""},{"$f":"IFERROR(IF(VLOOKUP($I73,'Reference Data'!$B$2:$H$66000,4,TRUE)=\"F\",\"F\",\"\"),\"\")","v":""},null,null,"2025-26"]
[69,"SANCTIONED TOURNAMENTS",{"$f":"IFERROR(INDEX('Reference Data'!$S$2:$S$13,MATCH($C$2,'Reference Data'!$R$2:$R$13,TRUE)),\"\")","v":""},{"$f":"IFERROR(INDEX('Reference Data'!$Q$2:$Q$13,MATCH($D$2,'Reference Data'!$P$2:$P$13,TRUE)),\"Pick a Zone\")","v":"SANCTIONED EVENT"},{"$f":"IFERROR(LEFT($D$2,2)&\"-\"&INDEX('Reference Data'!$V$2:$V$11,MATCH($F$2,'Reference Data'!$U$2:$U$11,TRUE)),\"Pick a Tournament\")","v":"Pick a Tournament"},{"$f":"IFERROR(INDEX('Reference Data'!$W$2:$W$11,MATCH($F$2,'Reference Data'!$U$2:$U$11,TRUE)),\"Pick a Tournament\")","v":"Pick a Tournament"},{"$f":"IFERROR(VLOOKUP($I74,'Reference Data'!$B$2:$H$66000,3,FALSE),\"Enter C5#\")","v":"Enter C5#"},{"$f":"IFERROR(VLOOKUP($I74,'Reference Data'!$B$2:$H$66000,2,FALSE),\"Enter C5#\")","v":"Enter C5#"},null,null,null,null,null,null,null,null,null,null,{"$f":"IFERROR(IF(VLOOKUP($I74,'Reference Data'!$B$2:$H$66000,4,TRUE)=\"M\",\"M\",\"\"),\"\")","v":""},{"$f":"IFERROR(IF(VLOOKUP($I74,'Reference Data'!$B$2:$H$66000,4,TRUE)=\"F\",\"F\",\"\"),\"\")","v":""},null,null,"2025-26"]
[70,"SANCTIONED TOURNAMENTS",{"$f":"IFERROR(INDEX('Reference Data'!$S$2:$S$13,MATCH($C$2,'Reference Data'!$R$2:$R$13,TRUE)),\"\")","v":""},{"$f":"IFERROR(INDEX('Reference Data'!$Q$2:$Q$13,MATCH($D$2,'Reference Data'!$P$2:$P$13,TRUE)),\"Pick a Zone\")","v":"SANCTIONED EVENT"},{"$f":"IFERROR(LEFT($D$2,2)&\"-\"&INDEX('Reference Data'!$V$2:$V$11,MATCH($F$2,'Reference Data'!$U$2:$U$11,TRUE)),\"Pick a Tournament\")","v":"Pick a Tournament"},{"$f":"IFERROR(INDEX('Reference Data'!$W$2:$W$11,MATCH($F$2,'Reference Data'!$U$2:$U$11,TRUE)),\"Pick a Tournament\")","v":"Pick a Tournament"},{"$f":"IFERROR(VLOOKUP($I75,'Reference Data'!$B$2:$H$66000,3,FALSE),\"Enter C5#\")","v":"Enter C5#"},{"$f":"IFERROR(VLOOKUP($I75,'Reference Data'!$B$2:$H$66000,2,FALSE),\"Enter C5#\")","v":"Enter C5#"},null,null,null,null,null,null,null,null,null,null,{"$f":"IFERROR(IF(VLOOKUP($I75,'Reference Data'!$B$2:$H$66000,4,TRUE)=\"M\",\"M\",\"\"),\"\")","v":""},{"$f":"IFERROR(IF(VLOOKUP($I75,'Reference Data'!$B$2:$H$66000,4,TRUE)=\"F\",\"F\",\"\"),\"\")","v":""},null,null,"2025-26"]
[71,"SANCTIONED TOURNAMENTS",{"$f":"IFERROR(INDEX('Reference Data'!$S$2:$S$13,MATCH($C$2,'Reference Data'!$R$2:$R$13,TRUE)),\"\")","v":""},{"$f":"IFERROR(INDEX('Reference Data'!$Q$2:$Q$13,MATCH($D$2,'Reference Data'!$P$2:$P$13,TRUE)),\"Pick a Zone\")","v":"SANCTIONED EVENT"},{"$f":"IFERROR(LEFT($D$2,2)&\"-\"&INDEX('Reference Data'!$V$2:$V$11,MATCH($F$2,'Reference Data'!$U$2:$U$11,TRUE)),\"Pick a Tournament\")","v":"Pick a Tournament"},{"$f":"IFERROR(INDEX('Reference Data'!$W$2:$W$11,MATCH($F$2,'Reference Data'!$U$2:$U$11,TRUE)),\"Pick a Tournament\")","v":"Pick a Tournament"},{"$f":"IFERROR(VLOOKUP($I76,'Reference Data'!$B$2:$H$66000,3,FALSE),\"Enter C5#\")","v":"Enter C5#"},{"$f":"IFERROR(VLOOKUP($I76,'Reference Data'!$B$2:$H$66000,2,FALSE),\"Enter C5#\")","v":"Enter C5#"},null,null,null,null,null,null,null,null,null,null,{"$f":"IFERROR(IF(VLOOKUP($I76,'Reference Data'!$B$2:$H$66000,4,TRUE)=\"M\",\"M\",\"\"),\"\")","v":""},{"$f":"IFERROR(IF(VLOOKUP($I76,'Reference Data'!$B$2:$H$66000,4,TRUE)=\"F\",\"F\",\"\"),\"\")","v":""},null,null,"2025-26"]
[72,"SANCTIONED TOURNAMENTS",{"$f":"IFERROR(INDEX('Reference Data'!$S$2:$S$13,MATCH($C$2,'Reference Data'!$R$2:$R$13,TRUE)),\"\")","v":""},{"$f":"IFERROR(INDEX('Reference Data'!$Q$2:$Q$13,MATCH($D$2,'Reference Data'!$P$2:$P$13,TRUE)),\"Pick a Zone\")","v":"SANCTIONED EVENT"},{"$f":"IFERROR(LEFT($D$2,2)&\"-\"&INDEX('Reference Data'!$V$2:$V$11,MATCH($F$2,'Reference Data'!$U$2:$U$11,TRUE)),\"Pick a Tournament\")","v":"Pick a Tournament"},{"$f":"IFERROR(INDEX('Reference Data'!$W$2:$W$11,MATCH($F$2,'Reference Data'!$U$2:$U$11,TRUE)),\"Pick a Tournament\")","v":"Pick a Tournament"},{"$f":"IFERROR(VLOOKUP($I77,'Reference Data'!$B$2:$H$66000,3,FALSE),\"Enter C5#\")","v":"Enter C5#"},{"$f":"IFERROR(VLOOKUP($I77,'Reference Data'!$B$2:$H$66000,2,FALSE),\"Enter C5#\")","v":"Enter C5#"},null,null,null,null,null,null,null,null,null,null,{"$f":"IFERROR(IF(VLOOKUP($I77,'Reference Data'!$B$2:$H$66000,4,TRUE)=\"M\",\"M\",\"\"),\"\")","v":""},{"$f":"IFERROR(IF(VLOOKUP($I77,'Reference Data'!$B$2:$H$66000,4,TRUE)=\"F\",\"F\",\"\"),\"\")","v":""},null,null,"2025-26"]
[73,"SANCTIONED TOURNAMENTS",{"$f":"IFERROR(INDEX('Reference Data'!$S$2:$S$13,MATCH($C$2,'Reference Data'!$R$2:$R$13,TRUE)),\"\")","v":""},{"$f":"IFERROR(INDEX('Reference Data'!$Q$2:$Q$13,MATCH($D$2,'Reference Data'!$P$2:$P$13,TRUE)),\"Pick a Zone\")","v":"SANCTIONED EVENT"},{"$f":"IFERROR(LEFT($D$2,2)&\"-\"&INDEX('Reference Data'!$V$2:$V$11,MATCH($F$2,'Reference Data'!$U$2:$U$11,TRUE)),\"Pick a Tournament\")","v":"Pick a Tournament"},{"$f":"IFERROR(INDEX('Reference Data'!$W$2:$W$11,MATCH($F$2,'Reference Data'!$U$2:$U$11,TRUE)),\"Pick a Tournament\")","v":"Pick a Tournament"},{"$f":"IFERROR(VLOOKUP($I78,'Reference Data'!$B$2:$H$66000,3,FALSE),\"Enter C5#\")","v":"Enter C5#"},{"$f":"IFERROR(VLOOKUP($I78,'Reference Data'!$B$2:$H$66000,2,FALSE),\"Enter C5#\")","v":"Enter C5#"},null,null,null,null,null,null,null,null,null,null,{"$f":"IFERROR(IF(VLOOKUP($I78,'Reference Data'!$B$2:$H$66000,4,TRUE)=\"M\",\"M\",\"\"),\"\")","v":""},{"$f":"IFERROR(IF(VLOOKUP($I78,'Reference Data'!$B$2:$H$66000,4,TRUE)=\"F\",\"F\",\"\"),\"\")","v":""},null,null,"2025-26"]
[74,"SANCTIONED TOURNAMENTS",{"$f":"IFERROR(INDEX('Reference Data'!$S$2:$S$13,MATCH($C$2,'Reference Data'!$R$2:$R$13,TRUE)),\"\")","v":""},{"$f":"IFERROR(INDEX('Reference Data'!$Q$2:$Q$13,MATCH($D$2,'Reference Data'!$P$2:$P$13,TRUE)),\"Pick a Zone\")","v":"SANCTIONED EVENT"},{"$f":"IFERROR(LEFT($D$2,2)&\"-\"&INDEX('Reference Data'!$V$2:$V$11,MATCH($F$2,'Reference Data'!$U$2:$U$11,TRUE)),\"Pick a Tournament\")","v":"Pick a Tournament"},{"$f":"IFERROR(INDEX('Reference Data'!$W$2:$W$11,MATCH($F$2,'Reference Data'!$U$2:$U$11,TRUE)),\"Pick a Tournament\")","v":"Pick a Tournament"},{"$f":"IFERROR(VLOOKUP($I79,'Reference Data'!$B$2:$H$66000,3,FALSE),\"Enter C5#\")","v":"Enter C5#"},{"$f":"IFERROR(VLOOKUP($I79,'Reference Data'!$B$2:$H$66000,2,FALSE),\"Enter C5#\")","v":"Enter C5#"},null,null,null,null,null,null,null,null,null,null,{"$f":"IFERROR(IF(VLOOKUP($I79,'Reference Data'!$B$2:$H$66000,4,TRUE)=\"M\",\"M\",\"\"),\"\")","v":""},{"$f":"IFERROR(IF(VLOOKUP($I79,'Reference Data'!$B$2:$H$66000,4,TRUE)=\"F\",\"F\",\"\"),\"\")","v":""},null,null,"2025-26"]
[75,"SANCTIONED TOURNAMENTS",{"$f":"IFERROR(INDEX('Reference Data'!$S$2:$S$13,MATCH($C$2,'Reference Data'!$R$2:$R$13,TRUE)),\"\")","v":""},{"$f":"IFERROR(INDEX('Reference Data'!$Q$2:$Q$13,MATCH($D$2,'Reference Data'!$P$2:$P$13,TRUE)),\"Pick a Zone\")","v":"SANCTIONED EVENT"},{"$f":"IFERROR(LEFT($D$2,2)&\"-\"&INDEX('Reference Data'!$V$2:$V$11,MATCH($F$2,'Reference Data'!$U$2:$U$11,TRUE)),\"Pick a Tournament\")","v":"Pick a Tournament"},{"$f":"IFERROR(INDEX('Reference Data'!$W$2:$W$11,MATCH($F$2,'Reference Data'!$U$2:$U$11,TRUE)),\"Pick a Tournament\")","v":"Pick a Tournament"},{"$f":"IFERROR(VLOOKUP($I80,'Reference Data'!$B$2:$H$66000,3,FALSE),\"Enter C5#\")","v":"Enter C5#"},{"$f":"IFERROR(VLOOKUP($I80,'Reference Data'!$B$2:$H$66000,2,FALSE),\"Enter C5#\")","v":"Enter C5#"},null,null,null,null,null,null,null,null,null,null,{"$f":"IFERROR(IF(VLOOKUP($I80,'Reference Data'!$B$2:$H$66000,4,TRUE)=\"M\",\"M\",\"\"),\"\")","v":""},{"$f":"IFERROR(IF(VLOOKUP($I80,'Reference Data'!$B$2:$H$66000,4,TRUE)=\"F\",\"F\",\"\"),\"\")","v":""},null,null,"2025-26"]
[76,"SANCTIONED TOURNAMENTS",{"$f":"IFERROR(INDEX('Reference Data'!$S$2:$S$13,MATCH($C$2,'Reference Data'!$R$2:$R$13,TRUE)),\"\")","v":""},{"$f":"IFERROR(INDEX('Reference Data'!$Q$2:$Q$13,MATCH($D$2,'Reference Data'!$P$2:$P$13,TRUE)),\"Pick a Zone\")","v":"SANCTIONED EVENT"},{"$f":"IFERROR(LEFT($D$2,2)&\"-\"&INDEX('Reference Data'!$V$2:$V$11,MATCH($F$2,'Reference Data'!$U$2:$U$11,TRUE)),\"Pick a Tournament\")","v":"Pick a Tournament"},{"$f":"IFERROR(INDEX('Reference Data'!$W$2:$W$11,MATCH($F$2,'Reference Data'!$U$2:$U$11,TRUE)),\"Pick a Tournament\")","v":"Pick a Tournament"},{"$f":"IFERROR(VLOOKUP($I81,'Reference Data'!$B$2:$H$66000,3,FALSE),\"Enter C5#\")","v":"Enter C5#"},{"$f":"IFERROR(VLOOKUP($I81,'Reference Data'!$B$2:$H$66000,2,FALSE),\"Enter C5#\")","v":"Enter C5#"},null,null,null,null,null,null,null,null,null,null,{"$f":"IFERROR(IF(VLOOKUP($I81,'Reference Data'!$B$2:$H$66000,4,TRUE)=\"M\",\"M\",\"\"),\"\")","v":""},{"$f":"IFERROR(IF(VLOOKUP($I81,'Reference Data'!$B$2:$H$66000,4,TRUE)=\"F\",\"F\",\"\"),\"\")","v":""},null,null,"2025-26"]
[77,"SANCTIONED TOURNAMENTS",{"$f":"IFERROR(INDEX('Reference Data'!$S$2:$S$13,MATCH($C$2,'Reference Data'!$R$2:$R$13,TRUE)),\"\")","v":""},{"$f":"IFERROR(INDEX('Reference Data'!$Q$2:$Q$13,MATCH($D$2,'Reference Data'!$P$2:$P$13,TRUE)),\"Pick a Zone\")","v":"SANCTIONED EVENT"},{"$f":"IFERROR(LEFT($D$2,2)&\"-\"&INDEX('Reference Data'!$V$2:$V$11,MATCH($F$2,'Reference Data'!$U$2:$U$11,TRUE)),\"Pick a Tournament\")","v":"Pick a Tournament"},{"$f":"IFERROR(INDEX('Reference Data'!$W$2:$W$11,MATCH($F$2,'Reference Data'!$U$2:$U$11,TRUE)),\"Pick a Tournament\")","v":"Pick a Tournament"},{"$f":"IFERROR(VLOOKUP($I82,'Reference Data'!$B$2:$H$66000,3,FALSE),\"Enter C5#\")","v":"Enter C5#"},{"$f":"IFERROR(VLOOKUP($I82,'Reference Data'!$B$2:$H$66000,2,FALSE),\"Enter C5#\")","v":"Enter C5#"},null,null,null,null,null,null,null,null,null,null,{"$f":"IFERROR(IF(VLOOKUP($I82,'Reference Data'!$B$2:$H$66000,4,TRUE)=\"M\",\"M\",\"\"),\"\")","v":""},{"$f":"IFERROR(IF(VLOOKUP($I82,'Reference Data'!$B$2:$H$66000,4,TRUE)=\"F\",\"F\",\"\"),\"\")","v":""},null,null,"2025-26"]
[78,"SANCTIONED TOURNAMENTS",{"$f":"IFERROR(INDEX('Reference Data'!$S$2:$S$13,MATCH($C$2,'Reference Data'!$R$2:$R$13,TRUE)),\"\")","v":""},{"$f":"IFERROR(INDEX('Reference Data'!$Q$2:$Q$13,MATCH($D$2,'Reference Data'!$P$2:$P$13,TRUE)),\"Pick a Zone\")","v":"SANCTIONED EVENT"},{"$f":"IFERROR(LEFT($D$2,2)&\"-\"&INDEX('Reference Data'!$V$2:$V$11,MATCH($F$2,'Reference Data'!$U$2:$U$11,TRUE)),\"Pick a Tournament\")","v":"Pick a Tournament"},{"$f":"IFERROR(INDEX('Reference Data'!$W$2:$W$11,MATCH($F$2,'Reference Data'!$U$2:$U$11,TRUE)),\"Pick a Tournament\")","v":"Pick a Tournament"},{"$f":"IFERROR(VLOOKUP($I83,'Reference Data'!$B$2:$H$66000,3,FALSE),\"Enter C5#\")","v":"Enter C5#"},{"$f":"IFERROR(VLOOKUP($I83,'Reference Data'!$B$2:$H$66000,2,FALSE),\"Enter C5#\")","v":"Enter C5#"},null,null,null,null,null,null,null,null,null,null,{"$f":"IFERROR(IF(VLOOKUP($I83,'Reference Data'!$B$2:$H$66000,4,TRUE)=\"M\",\"M\",\"\"),\"\")","v":""},{"$f":"IFERROR(IF(VLOOKUP($I83,'Reference Data'!$B$2:$H$66000,4,TRUE)=\"F\",\"F\",\"\"),\"\")","v":""},null,null,"2025-26"]
[79,"SANCTIONED TOURNAMENTS",{"$f":"IFERROR(INDEX('Reference Data'!$S$2:$S$13,MATCH($C$2,'Reference Data'!$R$2:$R$13,TRUE)),\"\")","v":""},{"$f":"IFERROR(INDEX('Reference Data'!$Q$2:$Q$13,MATCH($D$2,'Reference Data'!$P$2:$P$13,TRUE)),\"Pick a Zone\")","v":"SANCTIONED EVENT"},{"$f":"IFERROR(LEFT($D$2,2)&\"-\"&INDEX('Reference Data'!$V$2:$V$11,MATCH($F$2,'Reference Data'!$U$2:$U$11,TRUE)),\"Pick a Tournament\")","v":"Pick a Tournament"},{"$f":"IFERROR(INDEX('Reference Data'!$W$2:$W$11,MATCH($F$2,'Reference Data'!$U$2:$U$11,TRUE)),\"Pick a Tournament\")","v":"Pick a Tournament"},{"$f":"IFERROR(VLOOKUP($I84,'Reference Data'!$B$2:$H$66000,3,FALSE),\"Enter C5#\")","v":"Enter C5#"},{"$f":"IFERROR(VLOOKUP($I84,'Reference Data'!$B$2:$H$66000,2,FALSE),\"Enter C5#\")","v":"Enter C5#"},null,null,null,null,null,null,null,null,null,null,{"$f":"IFERROR(IF(VLOOKUP($I84,'Reference Data'!$B$2:$H$66000,4,TRUE)=\"M\",\"M\",\"\"),\"\")","v":""},{"$f":"IFERROR(IF(VLOOKUP($I84,'Reference Data'!$B$2:$H$66000,4,TRUE)=\"F\",\"F\",\"\"),\"\")","v":""},null,null,"2025-26"]
[80,"SANCTIONED TOURNAMENTS",{"$f":"IFERROR(INDEX('Reference Data'!$S$2:$S$13,MATCH($C$2,'Reference Data'!$R$2:$R$13,TRUE)),\"\")","v":""},{"$f":"IFERROR(INDEX('Reference Data'!$Q$2:$Q$13,MATCH($D$2,'Reference Data'!$P$2:$P$13,TRUE)),\"Pick a Zone\")","v":"SANCTIONED EVENT"},{"$f":"IFERROR(LEFT($D$2,2)&\"-\"&INDEX('Reference Data'!$V$2:$V$11,MATCH($F$2,'Reference Data'!$U$2:$U$11,TRUE)),\"Pick a Tournament\")","v":"Pick a Tournament"},{"$f":"IFERROR(INDEX('Reference Data'!$W$2:$W$11,MATCH($F$2,'Reference Data'!$U$2:$U$11,TRUE)),\"Pick a Tournament\")","v":"Pick a Tournament"},{"$f":"IFERROR(VLOOKUP($I85,'Reference Data'!$B$2:$H$66000,3,FALSE),\"Enter C5#\")","v":"Enter C5#"},{"$f":"IFERROR(VLOOKUP($I85,'Reference Data'!$B$2:$H$66000,2,FALSE),\"Enter C5#\")","v":"Enter C5#"},null,null,null,null,null,null,null,null,null,null,{"$f":"IFERROR(IF(VLOOKUP($I85,'Reference Data'!$B$2:$H$66000,4,TRUE)=\"M\",\"M\",\"\"),\"\")","v":""},{"$f":"IFERROR(IF(VLOOKUP($I85,'Reference Data'!$B$2:$H$66000,4,TRUE)=\"F\",\"F\",\"\"),\"\")","v":""},null,null,"2025-26"]
[81,"SANCTIONED TOURNAMENTS",{"$f":"IFERROR(INDEX('Reference Data'!$S$2:$S$13,MATCH($C$2,'Reference Data'!$R$2:$R$13,TRUE)),\"\")","v":""},{"$f":"IFERROR(INDEX('Reference Data'!$Q$2:$Q$13,MATCH($D$2,'Reference Data'!$P$2:$P$13,TRUE)),\"Pick a Zone\")","v":"SANCTIONED EVENT"},{"$f":"IFERROR(LEFT($D$2,2)&\"-\"&INDEX('Reference Data'!$V$2:$V$11,MATCH($F$2,'Reference Data'!$U$2:$U$11,TRUE)),\"Pick a Tournament\")","v":"Pick a Tournament"},{"$f":"IFERROR(INDEX('Reference Data'!$W$2:$W$11,MATCH($F$2,'Reference Data'!$U$2:$U$11,TRUE)),\"Pick a Tournament\")","v":"Pick a Tournament"},{"$f":"IFERROR(VLOOKUP($I86,'Reference Data'!$B$2:$H$66000,3,FALSE),\"Enter C5#\")","v":"Enter C5#"},{"$f":"IFERROR(VLOOKUP($I86,'Reference Data'!$B$2:$H$66000,2,FALSE),\"Enter C5#\")","v":"Enter C5#"},null,null,null,null,null,null,null,null,null,null,{"$f":"IFERROR(IF(VLOOKUP($I86,'Reference Data'!$B$2:$H$66000,4,TRUE)=\"M\",\"M\",\"\"),\"\")","v":""},{"$f":"IFERROR(IF(VLOOKUP($I86,'Reference Data'!$B$2:$H$66000,4,TRUE)=\"F\",\"F\",\"\"),\"\")","v":""},null,null,"2025-26"]
[82,"SANCTIONED TOURNAMENTS",{"$f":"IFERROR(INDEX('Reference Data'!$S$2:$S$13,MATCH($C$2,'Reference Data'!$R$2:$R$13,TRUE)),\"\")","v":""},{"$f":"IFERROR(INDEX('Reference Data'!$Q$2:$Q$13,MATCH($D$2,'Reference Data'!$P$2:$P$13,TRUE)),\"Pick a Zone\")","v":"SANCTIONED EVENT"},{"$f":"IFERROR(LEFT($D$2,2)&\"-\"&INDEX('Reference Data'!$V$2:$V$11,MATCH($F$2,'Reference Data'!$U$2:$U$11,TRUE)),\"Pick a Tournament\")","v":"Pick a Tournament"},{"$f":"IFERROR(INDEX('Reference Data'!$W$2:$W$11,MATCH($F$2,'Reference Data'!$U$2:$U$11,TRUE)),\"Pick a Tournament\")","v":"Pick a Tournament"},{"$f":"IFERROR(VLOOKUP($I87,'Reference Data'!$B$2:$H$66000,3,FALSE),\"Enter C5#\")","v":"Enter C5#"},{"$f":"IFERROR(VLOOKUP($I87,'Reference Data'!$B$2:$H$66000,2,FALSE),\"Enter C5#\")","v":"Enter C5#"},null,null,null,null,null,null,null,null,null,null,{"$f":"IFERROR(IF(VLOOKUP($I87,'Reference Data'!$B$2:$H$66000,4,TRUE)=\"M\",\"M\",\"\"),\"\")","v":""},{"$f":"IFERROR(IF(VLOOKUP($I87,'Reference Data'!$B$2:$H$66000,4,TRUE)=\"F\",\"F\",\"\"),\"\")","v":""},null,null,"2025-26"]
[83,"SANCTIONED TOURNAMENTS",{"$f":"IFERROR(INDEX('Reference Data'!$S$2:$S$13,MATCH($C$2,'Reference Data'!$R$2:$R$13,TRUE)),\"\")","v":""},{"$f":"IFERROR(INDEX('Reference Data'!$Q$2:$Q$13,MATCH($D$2,'Reference Data'!$P$2:$P$13,TRUE)),\"Pick a Zone\")","v":"SANCTIONED EVENT"},{"$f":"IFERROR(LEFT($D$2,2)&\"-\"&INDEX('Reference Data'!$V$2:$V$11,MATCH($F$2,'Reference Data'!$U$2:$U$11,TRUE)),\"Pick a Tournament\")","v":"Pick a Tournament"},{"$f":"IFERROR(INDEX('Reference Data'!$W$2:$W$11,MATCH($F$2,'Reference Data'!$U$2:$U$11,TRUE)),\"Pick a Tournament\")","v":"Pick a Tournament"},{"$f":"IFERROR(VLOOKUP($I88,'Reference Data'!$B$2:$H$66000,3,FALSE),\"Enter C5#\")","v":"Enter C5#"},{"$f":"IFERROR(VLOOKUP($I88,'Reference Data'!$B$2:$H$66000,2,FALSE),\"Enter C5#\")","v":"Enter C5#"},null,null,null,null,null,null,null,null,null,null,{"$f":"IFERROR(IF(VLOOKUP($I88,'Reference Data'!$B$2:$H$66000,4,TRUE)=\"M\",\"M\",\"\"),\"\")","v":""},{"$f":"IFERROR(IF(VLOOKUP($I88,'Reference Data'!$B$2:$H$66000,4,TRUE)=\"F\",\"F\",\"\"),\"\")","v":""},null,null,"2025-26"]
[84,"SANCTIONED TOURNAMENTS",{"$f":"IFERROR(INDEX('Reference Data'!$S$2:$S$13,MATCH($C$2,'Reference Data'!$R$2:$R$13,TRUE)),\"\")","v":""},{"$f":"IFERROR(INDEX('Reference Data'!$Q$2:$Q$13,MATCH($D$2,'Reference Data'!$P$2:$P$13,TRUE)),\"Pick a Zone\")","v":"SANCTIONED EVENT"},{"$f":"IFERROR(LEFT($D$2,2)&\"-\"&INDEX('Reference Data'!$V$2:$V$11,MATCH($F$2,'Reference Data'!$U$2:$U$11,TRUE)),\"Pick a Tournament\")","v":"Pick a Tournament"},{"$f":"IFERROR(INDEX('Reference Data'!$W$2:$W$11,MATCH($F$2,'Reference Data'!$U$2:$U$11,TRUE)),\"Pick a Tournament\")","v":"Pick a Tournament"},{"$f":"IFERROR(VLOOKUP($I89,'Reference Data'!$B$2:$H$66000,3,FALSE),\"Enter C5#\")","v":"Enter C5#"},{"$f":"IFERROR(VLOOKUP($I89,'Reference Data'!$B$2:$H$66000,2,FALSE),\"Enter C5#\")","v":"Enter C5#"},null,null,null,null,null,null,null,null,null,null,{"$f":"IFERROR(IF(VLOOKUP($I89,'Reference Data'!$B$2:$H$66000,4,TRUE)=\"M\",\"M\",\"\"),\"\")","v":""},{"$f":"IFERROR(IF(VLOOKUP($I89,'Reference Data'!$B$2:$H$66000,4,TRUE)=\"F\",\"F\",\"\"),\"\")","v":""},null,null,"2025-26"]
[85,"SANCTIONED TOURNAMENTS",{"$f":"IFERROR(INDEX('Reference Data'!$S$2:$S$13,MATCH($C$2,'Reference Data'!$R$2:$R$13,TRUE)),\"\")","v":""},{"$f":"IFERROR(INDEX('Reference Data'!$Q$2:$Q$13,MATCH($D$2,'Reference Data'!$P$2:$P$13,TRUE)),\"Pick a Zone\")","v":"SANCTIONED EVENT"},{"$f":"IFERROR(LEFT($D$2,2)&\"-\"&INDEX('Reference Data'!$V$2:$V$11,MATCH($F$2,'Reference Data'!$U$2:$U$11,TRUE)),\"Pick a Tournament\")","v":"Pick a Tournament"},{"$f":"IFERROR(INDEX('Reference Data'!$W$2:$W$11,MATCH($F$2,'Reference Data'!$U$2:$U$11,TRUE)),\"Pick a Tournament\")","v":"Pick a Tournament"},{"$f":"IFERROR(VLOOKUP($I90,'Reference Data'!$B$2:$H$66000,3,FALSE),\"Enter C5#\")","v":"Enter C5#"},{"$f":"IFERROR(VLOOKUP($I90,'Reference Data'!$B$2:$H$66000,2,FALSE),\"Enter C5#\")","v":"Enter C5#"},null,null,null,null,null,null,null,null,null,null,{"$f":"IFERROR(IF(VLOOKUP($I90,'Reference Data'!$B$2:$H$66000,4,TRUE)=\"M\",\"M\",\"\"),\"\")","v":""},{"$f":"IFERROR(IF(VLOOKUP($I90,'Reference Data'!$B$2:$H$66000,4,TRUE)=\"F\",\"F\",\"\"),\"\")","v":""},null,null,"2025-26"]
[86,"SANCTIONED TOURNAMENTS",{"$f":"IFERROR(INDEX('Reference Data'!$S$2:$S$13,MATCH($C$2,'Reference Data'!$R$2:$R$13,TRUE)),\"\")","v":""},{"$f":"IFERROR(INDEX('Reference Data'!$Q$2:$Q$13,MATCH($D$2,'Reference Data'!$P$2:$P$13,TRUE)),\"Pick a Zone\")","v":"SANCTIONED EVENT"},{"$f":"IFERROR(LEFT($D$2,2)&\"-\"&INDEX('Reference Data'!$V$2:$V$11,MATCH($F$2,'Reference Data'!$U$2:$U$11,TRUE)),\"Pick a Tournament\")","v":"Pick a Tournament"},{"$f":"IFERROR(INDEX('Reference Data'!$W$2:$W$11,MATCH($F$2,'Reference Data'!$U$2:$U$11,TRUE)),\"Pick a Tournament\")","v":"Pick a Tournament"},{"$f":"IFERROR(VLOOKUP($I91,'Reference Data'!$B$2:$H$66000,3,FALSE),\"Enter C5#\")","v":"Enter C5#"},{"$f":"IFERROR(VLOOKUP($I91,'Reference Data'!$B$2:$H$66000,2,FALSE),\"Enter C5#\")","v":"Enter C5#"},null,null,null,null,null,null,null,null,null,null,{"$f":"IFERROR(IF(VLOOKUP($I91,'Reference Data'!$B$2:$H$66000,4,TRUE)=\"M\",\"M\",\"\"),\"\")","v":""},{"$f":"IFERROR(IF(VLOOKUP($I91,'Reference Data'!$B$2:$H$66000,4,TRUE)=\"F\",\"F\",\"\"),\"\")","v":""},null,null,"2025-26"]
[87,"SANCTIONED TOURNAMENTS",{"$f":"IFERROR(INDEX('Reference Data'!$S$2:$S$13,MATCH($C$2,'Reference Data'!$R$2:$R$13,TRUE)),\"\")","v":""},{"$f":"IFERROR(INDEX('Reference Data'!$Q$2:$Q$13,MATCH($D$2,'Reference Data'!$P$2:$P$13,TRUE)),\"Pick a Zone\")","v":"SANCTIONED EVENT"},{"$f":"IFERROR(LEFT($D$2,2)&\"-\"&INDEX('Reference Data'!$V$2:$V$11,MATCH($F$2,'Reference Data'!$U$2:$U$11,TRUE)),\"Pick a Tournament\")","v":"Pick a Tournament"},{"$f":"IFERROR(INDEX('Reference Data'!$W$2:$W$11,MATCH($F$2,'Reference Data'!$U$2:$U$11,TRUE)),\"Pick a Tournament\")","v":"Pick a Tournament"},{"$f":"IFERROR(VLOOKUP($I92,'Reference Data'!$B$2:$H$66000,3,FALSE),\"Enter C5#\")","v":"Enter C5#"},{"$f":"IFERROR(VLOOKUP($I92,'Reference Data'!$B$2:$H$66000,2,FALSE),\"Enter C5#\")","v":"Enter C5#"},null,null,null,null,null,null,null,null,null,null,{"$f":"IFERROR(IF(VLOOKUP($I92,'Reference Data'!$B$2:$H$66000,4,TRUE)=\"M\",\"M\",\"\"),\"\")","v":""},{"$f":"IFERROR(IF(VLOOKUP($I92,'Reference Data'!$B$2:$H$66000,4,TRUE)=\"F\",\"F\",\"\"),\"\")","v":""},null,null,"2025-26"]
[88,"SANCTIONED TOURNAMENTS",{"$f":"IFERROR(INDEX('Reference Data'!$S$2:$S$13,MATCH($C$2,'Reference Data'!$R$2:$R$13,TRUE)),\"\")","v":""},{"$f":"IFERROR(INDEX('Reference Data'!$Q$2:$Q$13,MATCH($D$2,'Reference Data'!$P$2:$P$13,TRUE)),\"Pick a Zone\")","v":"SANCTIONED EVENT"},{"$f":"IFERROR(LEFT($D$2,2)&\"-\"&INDEX('Reference Data'!$V$2:$V$11,MATCH($F$2,'Reference Data'!$U$2:$U$11,TRUE)),\"Pick a Tournament\")","v":"Pick a Tournament"},{"$f":"IFERROR(INDEX('Reference Data'!$W$2:$W$11,MATCH($F$2,'Reference Data'!$U$2:$U$11,TRUE)),\"Pick a Tournament\")","v":"Pick a Tournament"},{"$f":"IFERROR(VLOOKUP($I93,'Reference Data'!$B$2:$H$66000,3,FALSE),\"Enter C5#\")","v":"Enter C5#"},{"$f":"IFERROR(VLOOKUP($I93,'Reference Data'!$B$2:$H$66000,2,FALSE),\"Enter C5#\")","v":"Enter C5#"},null,null,null,null,null,null,null,null,null,null,{"$f":"IFERROR(IF(VLOOKUP($I93,'Reference Data'!$B$2:$H$66000,4,TRUE)=\"M\",\"M\",\"\"),\"\")","v":""},{"$f":"IFERROR(IF(VLOOKUP($I93,'Reference Data'!$B$2:$H$66000,4,TRUE)=\"F\",\"F\",\"\"),\"\")","v":""},null,null,"2025-26"]
[89,"SANCTIONED TOURNAMENTS",{"$f":"IFERROR(INDEX('Reference Data'!$S$2:$S$13,MATCH($C$2,'Reference Data'!$R$2:$R$13,TRUE)),\"\")","v":""},{"$f":"IFERROR(INDEX('Reference Data'!$Q$2:$Q$13,MATCH($D$2,'Reference Data'!$P$2:$P$13,TRUE)),\"Pick a Zone\")","v":"SANCTIONED EVENT"},{"$f":"IFERROR(LEFT($D$2,2)&\"-\"&INDEX('Reference Data'!$V$2:$V$11,MATCH($F$2,'Reference Data'!$U$2:$U$11,TRUE)),\"Pick a Tournament\")","v":"Pick a Tournament"},{"$f":"IFERROR(INDEX('Reference Data'!$W$2:$W$11,MATCH($F$2,'Reference Data'!$U$2:$U$11,TRUE)),\"Pick a Tournament\")","v":"Pick a Tournament"},{"$f":"IFERROR(VLOOKUP($I94,'Reference Data'!$B$2:$H$66000,3,FALSE),\"Enter C5#\")","v":"Enter C5#"},{"$f":"IFERROR(VLOOKUP($I94,'Reference Data'!$B$2:$H$66000,2,FALSE),\"Enter C5#\")","v":"Enter C5#"},null,null,null,null,null,null,null,null,null,null,{"$f":"IFERROR(IF(VLOOKUP($I94,'Reference Data'!$B$2:$H$66000,4,TRUE)=\"M\",\"M\",\"\"),\"\")","v":""},{"$f":"IFERROR(IF(VLOOKUP($I94,'Reference Data'!$B$2:$H$66000,4,TRUE)=\"F\",\"F\",\"\"),\"\")","v":""},null,null,"2025-26"]
[90,"SANCTIONED TOURNAMENTS",{"$f":"IFERROR(INDEX('Reference Data'!$S$2:$S$13,MATCH($C$2,'Reference Data'!$R$2:$R$13,TRUE)),\"\")","v":""},{"$f":"IFERROR(INDEX('Reference Data'!$Q$2:$Q$13,MATCH($D$2,'Reference Data'!$P$2:$P$13,TRUE)),\"Pick a Zone\")","v":"SANCTIONED EVENT"},{"$f":"IFERROR(LEFT($D$2,2)&\"-\"&INDEX('Reference Data'!$V$2:$V$11,MATCH($F$2,'Reference Data'!$U$2:$U$11,TRUE)),\"Pick a Tournament\")","v":"Pick a Tournament"},{"$f":"IFERROR(INDEX('Reference Data'!$W$2:$W$11,MATCH($F$2,'Reference Data'!$U$2:$U$11,TRUE)),\"Pick a Tournament\")","v":"Pick a Tournament"},{"$f":"IFERROR(VLOOKUP($I95,'Reference Data'!$B$2:$H$66000,3,FALSE),\"Enter C5#\")","v":"Enter C5#"},{"$f":"IFERROR(VLOOKUP($I95,'Reference Data'!$B$2:$H$66000,2,FALSE),\"Enter C5#\")","v":"Enter C5#"},null,null,null,null,null,null,null,null,null,null,{"$f":"IFERROR(IF(VLOOKUP($I95,'Reference Data'!$B$2:$H$66000,4,TRUE)=\"M\",\"M\",\"\"),\"\")","v":""},{"$f":"IFERROR(IF(VLOOKUP($I95,'Reference Data'!$B$2:$H$66000,4,TRUE)=\"F\",\"F\",\"\"),\"\")","v":""},null,null,"2025-26"]
[91,"SANCTIONED TOURNAMENTS",{"$f":"IFERROR(INDEX('Reference Data'!$S$2:$S$13,MATCH($C$2,'Reference Data'!$R$2:$R$13,TRUE)),\"\")","v":""},{"$f":"IFERROR(INDEX('Reference Data'!$Q$2:$Q$13,MATCH($D$2,'Reference Data'!$P$2:$P$13,TRUE)),\"Pick a Zone\")","v":"SANCTIONED EVENT"},{"$f":"IFERROR(LEFT($D$2,2)&\"-\"&INDEX('Reference Data'!$V$2:$V$11,MATCH($F$2,'Reference Data'!$U$2:$U$11,TRUE)),\"Pick a Tournament\")","v":"Pick a Tournament"},{"$f":"IFERROR(INDEX('Reference Data'!$W$2:$W$11,MATCH($F$2,'Reference Data'!$U$2:$U$11,TRUE)),\"Pick a Tournament\")","v":"Pick a Tournament"},{"$f":"IFERROR(VLOOKUP($I96,'Reference Data'!$B$2:$H$66000,3,FALSE),\"Enter C5#\")","v":"Enter C5#"},{"$f":"IFERROR(VLOOKUP($I96,'Reference Data'!$B$2:$H$66000,2,FALSE),\"Enter C5#\")","v":"Enter C5#"},null,null,null,null,null,null,null,null,null,null,{"$f":"IFERROR(IF(VLOOKUP($I96,'Reference Data'!$B$2:$H$66000,4,TRUE)=\"M\",\"M\",\"\"),\"\")","v":""},{"$f":"IFERROR(IF(VLOOKUP($I96,'Reference Data'!$B$2:$H$66000,4,TRUE)=\"F\",\"F\",\"\"),\"\")","v":""},null,null,"2025-26"]
[92,"SANCTIONED TOURNAMENTS",{"$f":"IFERROR(INDEX('Reference Data'!$S$2:$S$13,MATCH($C$2,'Reference Data'!$R$2:$R$13,TRUE)),\"\")","v":""},{"$f":"IFERROR(INDEX('Reference Data'!$Q$2:$Q$13,MATCH($D$2,'Reference Data'!$P$2:$P$13,TRUE)),\"Pick a Zone\")","v":"SANCTIONED EVENT"},{"$f":"IFERROR(LEFT($D$2,2)&\"-\"&INDEX('Reference Data'!$V$2:$V$11,MATCH($F$2,'Reference Data'!$U$2:$U$11,TRUE)),\"Pick a Tournament\")","v":"Pick a Tournament"},{"$f":"IFERROR(INDEX('Reference Data'!$W$2:$W$11,MATCH($F$2,'Reference Data'!$U$2:$U$11,TRUE)),\"Pick a Tournament\")","v":"Pick a Tournament"},{"$f":"IFERROR(VLOOKUP($I97,'Reference Data'!$B$2:$H$66000,3,FALSE),\"Enter C5#\")","v":"Enter C5#"},{"$f":"IFERROR(VLOOKUP($I97,'Reference Data'!$B$2:$H$66000,2,FALSE),\"Enter C5#\")","v":"Enter C5#"},null,null,null,null,null,null,null,null,null,null,{"$f":"IFERROR(IF(VLOOKUP($I97,'Reference Data'!$B$2:$H$66000,4,TRUE)=\"M\",\"M\",\"\"),\"\")","v":""},{"$f":"IFERROR(IF(VLOOKUP($I97,'Reference Data'!$B$2:$H$66000,4,TRUE)=\"F\",\"F\",\"\"),\"\")","v":""},null,null,"2025-26"]
[93,"SANCTIONED TOURNAMENTS",{"$f":"IFERROR(INDEX('Reference Data'!$S$2:$S$13,MATCH($C$2,'Reference Data'!$R$2:$R$13,TRUE)),\"\")","v":""},{"$f":"IFERROR(INDEX('Reference Data'!$Q$2:$Q$13,MATCH($D$2,'Reference Data'!$P$2:$P$13,TRUE)),\"Pick a Zone\")","v":"SANCTIONED EVENT"},{"$f":"IFERROR(LEFT($D$2,2)&\"-\"&INDEX('Reference Data'!$V$2:$V$11,MATCH($F$2,'Reference Data'!$U$2:$U$11,TRUE)),\"Pick a Tournament\")","v":"Pick a Tournament"},{"$f":"IFERROR(INDEX('Reference Data'!$W$2:$W$11,MATCH($F$2,'Reference Data'!$U$2:$U$11,TRUE)),\"Pick a Tournament\")","v":"Pick a Tournament"},{"$f":"IFERROR(VLOOKUP($I98,'Reference Data'!$B$2:$H$66000,3,FALSE),\"Enter C5#\")","v":"Enter C5#"},{"$f":"IFERROR(VLOOKUP($I98,'Reference Data'!$B$2:$H$66000,2,FALSE),\"Enter C5#\")","v":"Enter C5#"},null,null,null,null,null,null,null,null,null,null,{"$f":"IFERROR(IF(VLOOKUP($I98,'Reference Data'!$B$2:$H$66000,4,TRUE)=\"M\",\"M\",\"\"),\"\")","v":""},{"$f":"IFERROR(IF(VLOOKUP($I98,'Reference Data'!$B$2:$H$66000,4,TRUE)=\"F\",\"F\",\"\"),\"\")","v":""},null,null,"2025-26"]
[94,"SANCTIONED TOURNAMENTS",{"$f":"IFERROR(INDEX('Reference Data'!$S$2:$S$13,MATCH($C$2,'Reference Data'!$R$2:$R$13,TRUE)),\"\")","v":""},{"$f":"IFERROR(INDEX('Reference Data'!$Q$2:$Q$13,MATCH($D$2,'Reference Data'!$P$2:$P$13,TRUE)),\"Pick a Zone\")","v":"SANCTIONED EVENT"},{"$f":"IFERROR(LEFT($D$2,2)&\"-\"&INDEX('Reference Data'!$V$2:$V$11,MATCH($F$2,'Reference Data'!$U$2:$U$11,TRUE)),\"Pick a Tournament\")","v":"Pick a Tournament"},{"$f":"IFERROR(INDEX('Reference Data'!$W$2:$W$11,MATCH($F$2,'Reference Data'!$U$2:$U$11,TRUE)),\"Pick a Tournament\")","v":"Pick a Tournament"},{"$f":"IFERROR(VLOOKUP($I99,'Reference Data'!$B$2:$H$66000,3,FALSE),\"Enter C5#\")","v":"Enter C5#"},{"$f":"IFERROR(VLOOKUP($I99,'Reference Data'!$B$2:$H$66000,2,FALSE),\"Enter C5#\")","v":"Enter C5#"},null,null,null,null,null,null,null,null,null,null,{"$f":"IFERROR(IF(VLOOKUP($I99,'Reference Data'!$B$2:$H$66000,4,TRUE)=\"M\",\"M\",\"\"),\"\")","v":""},{"$f":"IFERROR(IF(VLOOKUP($I99,'Reference Data'!$B$2:$H$66000,4,TRUE)=\"F\",\"F\",\"\"),\"\")","v":""},null,null,"2025-26"]
[95,"SANCTIONED TOURNAMENTS",{"$f":"IFERROR(INDEX('Reference Data'!$S$2:$S$13,MATCH($C$2,'Reference Data'!$R$2:$R$13,TRUE)),\"\")","v":""},{"$f":"IFERROR(INDEX('Reference Data'!$Q$2:$Q$13,MATCH($D$2,'Reference Data'!$P$2:$P$13,TRUE)),\"Pick a Zone\")","v":"SANCTIONED EVENT"},{"$f":"IFERROR(LEFT($D$2,2)&\"-\"&INDEX('Reference Data'!$V$2:$V$11,MATCH($F$2,'Reference Data'!$U$2:$U$11,TRUE)),\"Pick a Tournament\")","v":"Pick a Tournament"},{"$f":"IFERROR(INDEX('Reference Data'!$W$2:$W$11,MATCH($F$2,'Reference Data'!$U$2:$U$11,TRUE)),\"Pick a Tournament\")","v":"Pick a Tournament"},{"$f":"IFERROR(VLOOKUP($I100,'Reference Data'!$B$2:$H$66000,3,FALSE),\"Enter C5#\")","v":"Enter C5#"},{"$f":"IFERROR(VLOOKUP($I100,'Reference Data'!$B$2:$H$66000,2,FALSE),\"Enter C5#\")","v":"Enter C5#"},null,null,null,null,null,null,null,null,null,null,{"$f":"IFERROR(IF(VLOOKUP($I100,'Reference Data'!$B$2:$H$66000,4,TRUE)=\"M\",\"M\",\"\"),\"\")","v":""},{"$f":"IFERROR(IF(VLOOKUP($I100,'Reference Data'!$B$2:$H$66000,4,TRUE)=\"F\",\"F\",\"\"),\"\")","v":""},null,null,"2025-26"]
[96,"SANCTIONED TOURNAMENTS",{"$f":"IFERROR(INDEX('Reference Data'!$S$2:$S$13,MATCH($C$2,'Reference Data'!$R$2:$R$13,TRUE)),\"\")","v":""},{"$f":"IFERROR(INDEX('Reference Data'!$Q$2:$Q$13,MATCH($D$2,'Reference Data'!$P$2:$P$13,TRUE)),\"Pick a Zone\")","v":"SANCTIONED EVENT"},{"$f":"IFERROR(LEFT($D$2,2)&\"-\"&INDEX('Reference Data'!$V$2:$V$11,MATCH($F$2,'Reference Data'!$U$2:$U$11,TRUE)),\"Pick a Tournament\")","v":"Pick a Tournament"},{"$f":"IFERROR(INDEX('Reference Data'!$W$2:$W$11,MATCH($F$2,'Reference Data'!$U$2:$U$11,TRUE)),\"Pick a Tournament\")","v":"Pick a Tournament"},{"$f":"IFERROR(VLOOKUP($I101,'Reference Data'!$B$2:$H$66000,3,FALSE),\"Enter C5#\")","v":"Enter C5#"},{"$f":"IFERROR(VLOOKUP($I101,'Reference Data'!$B$2:$H$66000,2,FALSE),\"Enter C5#\")","v":"Enter C5#"},null,null,null,null,null,null,null,null,null,null,{"$f":"IFERROR(IF(VLOOKUP($I101,'Reference Data'!$B$2:$H$66000,4,TRUE)=\"M\",\"M\",\"\"),\"\")","v":""},{"$f":"IFERROR(IF(VLOOKUP($I101,'Reference Data'!$B$2:$H$66000,4,TRUE)=\"F\",\"F\",\"\"),\"\")","v":""},null,null,"2025-26"]
[97,"SANCTIONED TOURNAMENTS",{"$f":"IFERROR(INDEX('Reference Data'!$S$2:$S$13,MATCH($C$2,'Reference Data'!$R$2:$R$13,TRUE)),\"\")","v":""},{"$f":"IFERROR(INDEX('Reference Data'!$Q$2:$Q$13,MATCH($D$2,'Reference Data'!$P$2:$P$13,TRUE)),\"Pick a Zone\")","v":"SANCTIONED EVENT"},{"$f":"IFERROR(LEFT($D$2,2)&\"-\"&INDEX('Reference Data'!$V$2:$V$11,MATCH($F$2,'Reference Data'!$U$2:$U$11,TRUE)),\"Pick a Tournament\")","v":"Pick a Tournament"},{"$f":"IFERROR(INDEX('Reference Data'!$W$2:$W$11,MATCH($F$2,'Reference Data'!$U$2:$U$11,TRUE)),\"Pick a Tournament\")","v":"Pick a Tournament"},{"$f":"IFERROR(VLOOKUP($I102,'Reference Data'!$B$2:$H$66000,3,FALSE),\"Enter C5#\")","v":"Enter C5#"},{"$f":"IFERROR(VLOOKUP($I102,'Reference Data'!$B$2:$H$66000,2,FALSE),\"Enter C5#\")","v":"Enter C5#"},null,null,null,null,null,null,null,null,null,null,{"$f":"IFERROR(IF(VLOOKUP($I102,'Reference Data'!$B$2:$H$66000,4,TRUE)=\"M\",\"M\",\"\"),\"\")","v":""},{"$f":"IFERROR(IF(VLOOKUP($I102,'Reference Data'!$B$2:$H$66000,4,TRUE)=\"F\",\"F\",\"\"),\"\")","v":""},null,null,"2025-26"]
[98,"SANCTIONED TOURNAMENTS",{"$f":"IFERROR(INDEX('Reference Data'!$S$2:$S$13,MATCH($C$2,'Reference Data'!$R$2:$R$13,TRUE)),\"\")","v":""},{"$f":"IFERROR(INDEX('Reference Data'!$Q$2:$Q$13,MATCH($D$2,'Reference Data'!$P$2:$P$13,TRUE)),\"Pick a Zone\")","v":"SANCTIONED EVENT"},{"$f":"IFERROR(LEFT($D$2,2)&\"-\"&INDEX('Reference Data'!$V$2:$V$11,MATCH($F$2,'Reference Data'!$U$2:$U$11,TRUE)),\"Pick a Tournament\")","v":"Pick a Tournament"},{"$f":"IFERROR(INDEX('Reference Data'!$W$2:$W$11,MATCH($F$2,'Reference Data'!$U$2:$U$11,TRUE)),\"Pick a Tournament\")","v":"Pick a Tournament"},{"$f":"IFERROR(VLOOKUP($I103,'Reference Data'!$B$2:$H$66000,3,FALSE),\"Enter C5#\")","v":"Enter C5#"},{"$f":"IFERROR(VLOOKUP($I103,'Reference Data'!$B$2:$H$66000,2,FALSE),\"Enter C5#\")","v":"Enter C5#"},null,null,null,null,null,null,null,null,null,null,{"$f":"IFERROR(IF(VLOOKUP($I103,'Reference Data'!$B$2:$H$66000,4,TRUE)=\"M\",\"M\",\"\"),\"\")","v":""},{"$f":"IFERROR(IF(VLOOKUP($I103,'Reference Data'!$B$2:$H$66000,4,TRUE)=\"F\",\"F\",\"\"),\"\")","v":""},null,null,"2025-26"]
[99,"SANCTIONED TOURNAMENTS",{"$f":"IFERROR(INDEX('Reference Data'!$S$2:$S$13,MATCH($C$2,'Reference Data'!$R$2:$R$13,TRUE)),\"\")","v":""},{"$f":"IFERROR(INDEX('Reference Data'!$Q$2:$Q$13,MATCH($D$2,'Reference Data'!$P$2:$P$13,TRUE)),\"Pick a Zone\")","v":"SANCTIONED EVENT"},{"$f":"IFERROR(LEFT($D$2,2)&\"-\"&INDEX('Reference Data'!$V$2:$V$11,MATCH($F$2,'Reference Data'!$U$2:$U$11,TRUE)),\"Pick a Tournament\")","v":"Pick a Tournament"},{"$f":"IFERROR(INDEX('Reference Data'!$W$2:$W$11,MATCH($F$2,'Reference Data'!$U$2:$U$11,TRUE)),\"Pick a Tournament\")","v":"Pick a Tournament"},{"$f":"IFERROR(VLOOKUP($I104,'Reference Data'!$B$2:$H$66000,3,FALSE),\"Enter C5#\")","v":"Enter C5#"},{"$f":"IFERROR(VLOOKUP($I104,'Reference Data'!$B$2:$H$66000,2,FALSE),\"Enter C5#\")","v":"Enter C5#"},null,null,null,null,null,null,null,null,null,null,{"$f":"IFERROR(IF(VLOOKUP($I104,'Reference Data'!$B$2:$H$66000,4,TRUE)=\"M\",\"M\",\"\"),\"\")","v":""},{"$f":"IFERROR(IF(VLOOKUP($I104,'Reference Data'!$B$2:$H$66000,4,TRUE)=\"F\",\"F\",\"\"),\"\")","v":""},null,null,"2025-26"]
[100,"SANCTIONED TOURNAMENTS",{"$f":"IFERROR(INDEX('Reference Data'!$S$2:$S$13,MATCH($C$2,'Reference Data'!$R$2:$R$13,TRUE)),\"\")","v":""},{"$f":"IFERROR(INDEX('Reference Data'!$Q$2:$Q$13,MATCH($D$2,'Reference Data'!$P$2:$P$13,TRUE)),\"Pick a Zone\")","v":"SANCTIONED EVENT"},{"$f":"IFERROR(LEFT($D$2,2)&\"-\"&INDEX('Reference Data'!$V$2:$V$11,MATCH($F$2,'Reference Data'!$U$2:$U$11,TRUE)),\"Pick a Tournament\")","v":"Pick a Tournament"},{"$f":"IFERROR(INDEX('Reference Data'!$W$2:$W$11,MATCH($F$2,'Reference Data'!$U$2:$U$11,TRUE)),\"Pick a Tournament\")","v":"Pick a Tournament"},{"$f":"IFERROR(VLOOKUP($I105,'Reference Data'!$B$2:$H$66000,3,FALSE),\"Enter C5#\")","v":"Enter C5#"},{"$f":"IFERROR(VLOOKUP($I105,'Reference Data'!$B$2:$H$66000,2,FALSE),\"Enter C5#\")","v":"Enter C5#"},null,null,null,null,null,null,null,null,null,null,{"$f":"IFERROR(IF(VLOOKUP($I105,'Reference Data'!$B$2:$H$66000,4,TRUE)=\"M\",\"M\",\"\"),\"\")","v":""},{"$f":"IFERROR(IF(VLOOKUP($I105,'Reference Data'!$B$2:$H$66000,4,TRUE)=\"F\",\"F\",\"\"),\"\")","v":""},null,null,"2025-26"]
[101,"SANCTIONED TOURNAMENTS",{"$f":"IFERROR(INDEX('Reference Data'!$S$2:$S$13,MATCH($C$2,'Reference Data'!$R$2:$R$13,TRUE)),\"\")","v":""},{"$f":"IFERROR(INDEX('Reference Data'!$Q$2:$Q$13,MATCH($D$2,'Reference Data'!$P$2:$P$13,TRUE)),\"Pick a Zone\")","v":"SANCTIONED EVENT"},{"$f":"IFERROR(LEFT($D$2,2)&\"-\"&INDEX('Reference Data'!$V$2:$V$11,MATCH($F$2,'Reference Data'!$U$2:$U$11,TRUE)),\"Pick a Tournament\")","v":"Pick a Tournament"},{"$f":"IFERROR(INDEX('Reference Data'!$W$2:$W$11,MATCH($F$2,'Reference Data'!$U$2:$U$11,TRUE)),\"Pick a Tournament\")","v":"Pick a Tournament"},{"$f":"IFERROR(VLOOKUP($I106,'Reference Data'!$B$2:$H$66000,3,FALSE),\"Enter C5#\")","v":"Enter C5#"},{"$f":"IFERROR(VLOOKUP($I106,'Reference Data'!$B$2:$H$66000,2,FALSE),\"Enter C5#\")","v":"Enter C5#"},null,null,null,null,null,null,null,null,null,null,{"$f":"IFERROR(IF(VLOOKUP($I106,'Reference Data'!$B$2:$H$66000,4,TRUE)=\"M\",\"M\",\"\"),\"\")","v":""},{"$f":"IFERROR(IF(VLOOKUP($I106,'Reference Data'!$B$2:$H$66000,4,TRUE)=\"F\",\"F\",\"\"),\"\")","v":""},null,null,"2025-26"]
[102,"SANCTIONED TOURNAMENTS",{"$f":"IFERROR(INDEX('Reference Data'!$S$2:$S$13,MATCH($C$2,'Reference Data'!$R$2:$R$13,TRUE)),\"\")","v":""},{"$f":"IFERROR(INDEX('Reference Data'!$Q$2:$Q$13,MATCH($D$2,'Reference Data'!$P$2:$P$13,TRUE)),\"Pick a Zone\")","v":"SANCTIONED EVENT"},{"$f":"IFERROR(LEFT($D$2,2)&\"-\"&INDEX('Reference Data'!$V$2:$V$11,MATCH($F$2,'Reference Data'!$U$2:$U$11,TRUE)),\"Pick a Tournament\")","v":"Pick a Tournament"},{"$f":"IFERROR(INDEX('Reference Data'!$W$2:$W$11,MATCH($F$2,'Reference Data'!$U$2:$U$11,TRUE)),\"Pick a Tournament\")","v":"Pick a Tournament"},{"$f":"IFERROR(VLOOKUP($I107,'Reference Data'!$B$2:$H$66000,3,FALSE),\"Enter C5#\")","v":"Enter C5#"},{"$f":"IFERROR(VLOOKUP($I107,'Reference Data'!$B$2:$H$66000,2,FALSE),\"Enter C5#\")","v":"Enter C5#"},null,null,null,null,null,null,null,null,null,null,{"$f":"IFERROR(IF(VLOOKUP($I107,'Reference Data'!$B$2:$H$66000,4,TRUE)=\"M\",\"M\",\"\"),\"\")","v":""},{"$f":"IFERROR(IF(VLOOKUP($I107,'Reference Data'!$B$2:$H$66000,4,TRUE)=\"F\",\"F\",\"\"),\"\")","v":""},null,null,"2025-26"]
[103,"SANCTIONED TOURNAMENTS",{"$f":"IFERROR(INDEX('Reference Data'!$S$2:$S$13,MATCH($C$2,'Reference Data'!$R$2:$R$13,TRUE)),\"\")","v":""},{"$f":"IFERROR(INDEX('Reference Data'!$Q$2:$Q$13,MATCH($D$2,'Reference Data'!$P$2:$P$13,TRUE)),\"Pick a Zone\")","v":"SANCTIONED EVENT"},{"$f":"IFERROR(LEFT($D$2,2)&\"-\"&INDEX('Reference Data'!$V$2:$V$11,MATCH($F$2,'Reference Data'!$U$2:$U$11,TRUE)),\"Pick a Tournament\")","v":"Pick a Tournament"},{"$f":"IFERROR(INDEX('Reference Data'!$W$2:$W$11,MATCH($F$2,'Reference Data'!$U$2:$U$11,TRUE)),\"Pick a Tournament\")","v":"Pick a Tournament"},{"$f":"IFERROR(VLOOKUP($I108,'Reference Data'!$B$2:$H$66000,3,FALSE),\"Enter C5#\")","v":"Enter C5#"},{"$f":"IFERROR(VLOOKUP($I108,'Reference Data'!$B$2:$H$66000,2,FALSE),\"Enter C5#\")","v":"Enter C5#"},null,null,null,null,null,null,null,null,null,null,{"$f":"IFERROR(IF(VLOOKUP($I108,'Reference Data'!$B$2:$H$66000,4,TRUE)=\"M\",\"M\",\"\"),\"\")","v":""},{"$f":"IFERROR(IF(VLOOKUP($I108,'Reference Data'!$B$2:$H$66000,4,TRUE)=\"F\",\"F\",\"\"),\"\")","v":""},null,null,"2025-26"]
[104,"SANCTIONED TOURNAMENTS",{"$f":"IFERROR(INDEX('Reference Data'!$S$2:$S$13,MATCH($C$2,'Reference Data'!$R$2:$R$13,TRUE)),\"\")","v":""},{"$f":"IFERROR(INDEX('Reference Data'!$Q$2:$Q$13,MATCH($D$2,'Reference Data'!$P$2:$P$13,TRUE)),\"Pick a Zone\")","v":"SANCTIONED EVENT"},{"$f":"IFERROR(LEFT($D$2,2)&\"-\"&INDEX('Reference Data'!$V$2:$V$11,MATCH($F$2,'Reference Data'!$U$2:$U$11,TRUE)),\"Pick a Tournament\")","v":"Pick a Tournament"},{"$f":"IFERROR(INDEX('Reference Data'!$W$2:$W$11,MATCH($F$2,'Reference Data'!$U$2:$U$11,TRUE)),\"Pick a Tournament\")","v":"Pick a Tournament"},{"$f":"IFERROR(VLOOKUP($I109,'Reference Data'!$B$2:$H$66000,3,FALSE),\"Enter C5#\")","v":"Enter C5#"},{"$f":"IFERROR(VLOOKUP($I109,'Reference Data'!$B$2:$H$66000,2,FALSE),\"Enter C5#\")","v":"Enter C5#"},null,null,null,null,null,null,null,null,null,null,{"$f":"IFERROR(IF(VLOOKUP($I109,'Reference Data'!$B$2:$H$66000,4,TRUE)=\"M\",\"M\",\"\"),\"\")","v":""},{"$f":"IFERROR(IF(VLOOKUP($I109,'Reference Data'!$B$2:$H$66000,4,TRUE)=\"F\",\"F\",\"\"),\"\")","v":""},null,null,"2025-26"]
[105,"SANCTIONED TOURNAMENTS",{"$f":"IFERROR(INDEX('Reference Data'!$S$2:$S$13,MATCH($C$2,'Reference Data'!$R$2:$R$13,TRUE)),\"\")","v":""},{"$f":"IFERROR(INDEX('Reference Data'!$Q$2:$Q$13,MATCH($D$2,'Reference Data'!$P$2:$P$13,TRUE)),\"Pick a Zone\")","v":"SANCTIONED EVENT"},{"$f":"IFERROR(LEFT($D$2,2)&\"-\"&INDEX('Reference Data'!$V$2:$V$11,MATCH($F$2,'Reference Data'!$U$2:$U$11,TRUE)),\"Pick a Tournament\")","v":"Pick a Tournament"},{"$f":"IFERROR(INDEX('Reference Data'!$W$2:$W$11,MATCH($F$2,'Reference Data'!$U$2:$U$11,TRUE)),\"Pick a Tournament\")","v":"Pick a Tournament"},{"$f":"IFERROR(VLOOKUP($I110,'Reference Data'!$B$2:$H$66000,3,FALSE),\"Enter C5#\")","v":"Enter C5#"},{"$f":"IFERROR(VLOOKUP($I110,'Reference Data'!$B$2:$H$66000,2,FALSE),\"Enter C5#\")","v":"Enter C5#"},null,null,null,null,null,null,null,null,null,null,{"$f":"IFERROR(IF(VLOOKUP($I110,'Reference Data'!$B$2:$H$66000,4,TRUE)=\"M\",\"M\",\"\"),\"\")","v":""},{"$f":"IFERROR(IF(VLOOKUP($I110,'Reference Data'!$B$2:$H$66000,4,TRUE)=\"F\",\"F\",\"\"),\"\")","v":""},null,null,"2025-26"]
[106,"SANCTIONED TOURNAMENTS",{"$f":"IFERROR(INDEX('Reference Data'!$S$2:$S$13,MATCH($C$2,'Reference Data'!$R$2:$R$13,TRUE)),\"\")","v":""},{"$f":"IFERROR(INDEX('Reference Data'!$Q$2:$Q$13,MATCH($D$2,'Reference Data'!$P$2:$P$13,TRUE)),\"Pick a Zone\")","v":"SANCTIONED EVENT"},{"$f":"IFERROR(LEFT($D$2,2)&\"-\"&INDEX('Reference Data'!$V$2:$V$11,MATCH($F$2,'Reference Data'!$U$2:$U$11,TRUE)),\"Pick a Tournament\")","v":"Pick a Tournament"},{"$f":"IFERROR(INDEX('Reference Data'!$W$2:$W$11,MATCH($F$2,'Reference Data'!$U$2:$U$11,TRUE)),\"Pick a Tournament\")","v":"Pick a Tournament"},{"$f":"IFERROR(VLOOKUP($I111,'Reference Data'!$B$2:$H$66000,3,FALSE),\"Enter C5#\")","v":"Enter C5#"},{"$f":"IFERROR(VLOOKUP($I111,'Reference Data'!$B$2:$H$66000,2,FALSE),\"Enter C5#\")","v":"Enter C5#"},null,null,null,null,null,null,null,null,null,null,{"$f":"IFERROR(IF(VLOOKUP($I111,'Reference Data'!$B$2:$H$66000,4,TRUE)=\"M\",\"M\",\"\"),\"\")","v":""},{"$f":"IFERROR(IF(VLOOKUP($I111,'Reference Data'!$B$2:$H$66000,4,TRUE)=\"F\",\"F\",\"\"),\"\")","v":""},null,null,"2025-26"]
[107,"SANCTIONED TOURNAMENTS",{"$f":"IFERROR(INDEX('Reference Data'!$S$2:$S$13,MATCH($C$2,'Reference Data'!$R$2:$R$13,TRUE)),\"\")","v":""},{"$f":"IFERROR(INDEX('Reference Data'!$Q$2:$Q$13,MATCH($D$2,'Reference Data'!$P$2:$P$13,TRUE)),\"Pick a Zone\")","v":"SANCTIONED EVENT"},{"$f":"IFERROR(LEFT($D$2,2)&\"-\"&INDEX('Reference Data'!$V$2:$V$11,MATCH($F$2,'Reference Data'!$U$2:$U$11,TRUE)),\"Pick a Tournament\")","v":"Pick a Tournament"},{"$f":"IFERROR(INDEX('Reference Data'!$W$2:$W$11,MATCH($F$2,'Reference Data'!$U$2:$U$11,TRUE)),\"Pick a Tournament\")","v":"Pick a Tournament"},{"$f":"IFERROR(VLOOKUP($I112,'Reference Data'!$B$2:$H$66000,3,FALSE),\"Enter C5#\")","v":"Enter C5#"},{"$f":"IFERROR(VLOOKUP($I112,'Reference Data'!$B$2:$H$66000,2,FALSE),\"Enter C5#\")","v":"Enter C5#"},null,null,null,null,null,null,null,null,null,null,{"$f":"IFERROR(IF(VLOOKUP($I112,'Reference Data'!$B$2:$H$66000,4,TRUE)=\"M\",\"M\",\"\"),\"\")","v":""},{"$f":"IFERROR(IF(VLOOKUP($I112,'Reference Data'!$B$2:$H$66000,4,TRUE)=\"F\",\"F\",\"\"),\"\")","v":""},null,null,"2025-26"]
[108,"SANCTIONED TOURNAMENTS",{"$f":"IFERROR(INDEX('Reference Data'!$S$2:$S$13,MATCH($C$2,'Reference Data'!$R$2:$R$13,TRUE)),\"\")","v":""},{"$f":"IFERROR(INDEX('Reference Data'!$Q$2:$Q$13,MATCH($D$2,'Reference Data'!$P$2:$P$13,TRUE)),\"Pick a Zone\")","v":"SANCTIONED EVENT"},{"$f":"IFERROR(LEFT($D$2,2)&\"-\"&INDEX('Reference Data'!$V$2:$V$11,MATCH($F$2,'Reference Data'!$U$2:$U$11,TRUE)),\"Pick a Tournament\")","v":"Pick a Tournament"},{"$f":"IFERROR(INDEX('Reference Data'!$W$2:$W$11,MATCH($F$2,'Reference Data'!$U$2:$U$11,TRUE)),\"Pick a Tournament\")","v":"Pick a Tournament"},{"$f":"IFERROR(VLOOKUP($I113,'Reference Data'!$B$2:$H$66000,3,FALSE),\"Enter C5#\")","v":"Enter C5#"},{"$f":"IFERROR(VLOOKUP($I113,'Reference Data'!$B$2:$H$66000,2,FALSE),\"Enter C5#\")","v":"Enter C5#"},null,null,null,null,null,null,null,null,null,null,{"$f":"IFERROR(IF(VLOOKUP($I113,'Reference Data'!$B$2:$H$66000,4,TRUE)=\"M\",\"M\",\"\"),\"\")","v":""},{"$f":"IFERROR(IF(VLOOKUP($I113,'Reference Data'!$B$2:$H$66000,4,TRUE)=\"F\",\"F\",\"\"),\"\")","v":""},null,null,"2025-26"]
[109,"SANCTIONED TOURNAMENTS",{"$f":"IFERROR(INDEX('Reference Data'!$S$2:$S$13,MATCH($C$2,'Reference Data'!$R$2:$R$13,TRUE)),\"\")","v":""},{"$f":"IFERROR(INDEX('Reference Data'!$Q$2:$Q$13,MATCH($D$2,'Reference Data'!$P$2:$P$13,TRUE)),\"Pick a Zone\")","v":"SANCTIONED EVENT"},{"$f":"IFERROR(LEFT($D$2,2)&\"-\"&INDEX('Reference Data'!$V$2:$V$11,MATCH($F$2,'Reference Data'!$U$2:$U$11,TRUE)),\"Pick a Tournament\")","v":"Pick a Tournament"},{"$f":"IFERROR(INDEX('Reference Data'!$W$2:$W$11,MATCH($F$2,'Reference Data'!$U$2:$U$11,TRUE)),\"Pick a Tournament\")","v":"Pick a Tournament"},{"$f":"IFERROR(VLOOKUP($I114,'Reference Data'!$B$2:$H$66000,3,FALSE),\"Enter C5#\")","v":"Enter C5#"},{"$f":"IFERROR(VLOOKUP($I114,'Reference Data'!$B$2:$H$66000,2,FALSE),\"Enter C5#\")","v":"Enter C5#"},null,null,null,null,null,null,null,null,null,null,{"$f":"IFERROR(IF(VLOOKUP($I114,'Reference Data'!$B$2:$H$66000,4,TRUE)=\"M\",\"M\",\"\"),\"\")","v":""},{"$f":"IFERROR(IF(VLOOKUP($I114,'Reference Data'!$B$2:$H$66000,4,TRUE)=\"F\",\"F\",\"\"),\"\")","v":""},null,null,"2025-26"]
[110,"SANCTIONED TOURNAMENTS",{"$f":"IFERROR(INDEX('Reference Data'!$S$2:$S$13,MATCH($C$2,'Reference Data'!$R$2:$R$13,TRUE)),\"\")","v":""},{"$f":"IFERROR(INDEX('Reference Data'!$Q$2:$Q$13,MATCH($D$2,'Reference Data'!$P$2:$P$13,TRUE)),\"Pick a Zone\")","v":"SANCTIONED EVENT"},{"$f":"IFERROR(LEFT($D$2,2)&\"-\"&INDEX('Reference Data'!$V$2:$V$11,MATCH($F$2,'Reference Data'!$U$2:$U$11,TRUE)),\"Pick a Tournament\")","v":"Pick a Tournament"},{"$f":"IFERROR(INDEX('Reference Data'!$W$2:$W$11,MATCH($F$2,'Reference Data'!$U$2:$U$11,TRUE)),\"Pick a Tournament\")","v":"Pick a Tournament"},{"$f":"IFERROR(VLOOKUP($I115,'Reference Data'!$B$2:$H$66000,3,FALSE),\"Enter C5#\")","v":"Enter C5#"},{"$f":"IFERROR(VLOOKUP($I115,'Reference Data'!$B$2:$H$66000,2,FALSE),\"Enter C5#\")","v":"Enter C5#"},null,null,null,null,null,null,null,null,null,null,{"$f":"IFERROR(IF(VLOOKUP($I115,'Reference Data'!$B$2:$H$66000,4,TRUE)=\"M\",\"M\",\"\"),\"\")","v":""},{"$f":"IFERROR(IF(VLOOKUP($I115,'Reference Data'!$B$2:$H$66000,4,TRUE)=\"F\",\"F\",\"\"),\"\")","v":""},null,null,"2025-26"]
[111,"SANCTIONED TOURNAMENTS",{"$f":"IFERROR(INDEX('Reference Data'!$S$2:$S$13,MATCH($C$2,'Reference Data'!$R$2:$R$13,TRUE)),\"\")","v":""},{"$f":"IFERROR(INDEX('Reference Data'!$Q$2:$Q$13,MATCH($D$2,'Reference Data'!$P$2:$P$13,TRUE)),\"Pick a Zone\")","v":"SANCTIONED EVENT"},{"$f":"IFERROR(LEFT($D$2,2)&\"-\"&INDEX('Reference Data'!$V$2:$V$11,MATCH($F$2,'Reference Data'!$U$2:$U$11,TRUE)),\"Pick a Tournament\")","v":"Pick a Tournament"},{"$f":"IFERROR(INDEX('Reference Data'!$W$2:$W$11,MATCH($F$2,'Reference Data'!$U$2:$U$11,TRUE)),\"Pick a Tournament\")","v":"Pick a Tournament"},{"$f":"IFERROR(VLOOKUP($I116,'Reference Data'!$B$2:$H$66000,3,FALSE),\"Enter C5#\")","v":"Enter C5#"},{"$f":"IFERROR(VLOOKUP($I116,'Reference Data'!$B$2:$H$66000,2,FALSE),\"Enter C5#\")","v":"Enter C5#"},null,null,null,null,null,null,null,null,null,null,{"$f":"IFERROR(IF(VLOOKUP($I116,'Reference Data'!$B$2:$H$66000,4,TRUE)=\"M\",\"M\",\"\"),\"\")","v":""},{"$f":"IFERROR(IF(VLOOKUP($I116,'Reference Data'!$B$2:$H$66000,4,TRUE)=\"F\",\"F\",\"\"),\"\")","v":""},null,null,"2025-26"]
[112,"SANCTIONED TOURNAMENTS",{"$f":"IFERROR(INDEX('Reference Data'!$S$2:$S$13,MATCH($C$2,'Reference Data'!$R$2:$R$13,TRUE)),\"\")","v":""},{"$f":"IFERROR(INDEX('Reference Data'!$Q$2:$Q$13,MATCH($D$2,'Reference Data'!$P$2:$P$13,TRUE)),\"Pick a Zone\")","v":"SANCTIONED EVENT"},{"$f":"IFERROR(LEFT($D$2,2)&\"-\"&INDEX('Reference Data'!$V$2:$V$11,MATCH($F$2,'Reference Data'!$U$2:$U$11,TRUE)),\"Pick a Tournament\")","v":"Pick a Tournament"},{"$f":"IFERROR(INDEX('Reference Data'!$W$2:$W$11,MATCH($F$2,'Reference Data'!$U$2:$U$11,TRUE)),\"Pick a Tournament\")","v":"Pick a Tournament"},{"$f":"IFERROR(VLOOKUP($I117,'Reference Data'!$B$2:$H$66000,3,FALSE),\"Enter C5#\")","v":"Enter C5#"},{"$f":"IFERROR(VLOOKUP($I117,'Reference Data'!$B$2:$H$66000,2,FALSE),\"Enter C5#\")","v":"Enter C5#"},null,null,null,null,null,null,null,null,null,null,{"$f":"IFERROR(IF(VLOOKUP($I117,'Reference Data'!$B$2:$H$66000,4,TRUE)=\"M\",\"M\",\"\"),\"\")","v":""},{"$f":"IFERROR(IF(VLOOKUP($I117,'Reference Data'!$B$2:$H$66000,4,TRUE)=\"F\",\"F\",\"\"),\"\")","v":""},null,null,"2025-26"]
[113,"SANCTIONED TOURNAMENTS",{"$f":"IFERROR(INDEX('Reference Data'!$S$2:$S$13,MATCH($C$2,'Reference Data'!$R$2:$R$13,TRUE)),\"\")","v":""},{"$f":"IFERROR(INDEX('Reference Data'!$Q$2:$Q$13,MATCH($D$2,'Reference Data'!$P$2:$P$13,TRUE)),\"Pick a Zone\")","v":"SANCTIONED EVENT"},{"$f":"IFERROR(LEFT($D$2,2)&\"-\"&INDEX('Reference Data'!$V$2:$V$11,MATCH($F$2,'Reference Data'!$U$2:$U$11,TRUE)),\"Pick a Tournament\")","v":"Pick a Tournament"},{"$f":"IFERROR(INDEX('Reference Data'!$W$2:$W$11,MATCH($F$2,'Reference Data'!$U$2:$U$11,TRUE)),\"Pick a Tournament\")","v":"Pick a Tournament"},{"$f":"IFERROR(VLOOKUP($I118,'Reference Data'!$B$2:$H$66000,3,FALSE),\"Enter C5#\")","v":"Enter C5#"},{"$f":"IFERROR(VLOOKUP($I118,'Reference Data'!$B$2:$H$66000,2,FALSE),\"Enter C5#\")","v":"Enter C5#"},null,null,null,null,null,null,null,null,null,null,{"$f":"IFERROR(IF(VLOOKUP($I118,'Reference Data'!$B$2:$H$66000,4,TRUE)=\"M\",\"M\",\"\"),\"\")","v":""},{"$f":"IFERROR(IF(VLOOKUP($I118,'Reference Data'!$B$2:$H$66000,4,TRUE)=\"F\",\"F\",\"\"),\"\")","v":""},null,null,"2025-26"]
[114,"SANCTIONED TOURNAMENTS",{"$f":"IFERROR(INDEX('Reference Data'!$S$2:$S$13,MATCH($C$2,'Reference Data'!$R$2:$R$13,TRUE)),\"\")","v":""},{"$f":"IFERROR(INDEX('Reference Data'!$Q$2:$Q$13,MATCH($D$2,'Reference Data'!$P$2:$P$13,TRUE)),\"Pick a Zone\")","v":"SANCTIONED EVENT"},{"$f":"IFERROR(LEFT($D$2,2)&\"-\"&INDEX('Reference Data'!$V$2:$V$11,MATCH($F$2,'Reference Data'!$U$2:$U$11,TRUE)),\"Pick a Tournament\")","v":"Pick a Tournament"},{"$f":"IFERROR(INDEX('Reference Data'!$W$2:$W$11,MATCH($F$2,'Reference Data'!$U$2:$U$11,TRUE)),\"Pick a Tournament\")","v":"Pick a Tournament"},{"$f":"IFERROR(VLOOKUP($I119,'Reference Data'!$B$2:$H$66000,3,FALSE),\"Enter C5#\")","v":"Enter C5#"},{"$f":"IFERROR(VLOOKUP($I119,'Reference Data'!$B$2:$H$66000,2,FALSE),\"Enter C5#\")","v":"Enter C5#"},null,null,null,null,null,null,null,null,null,null,{"$f":"IFERROR(IF(VLOOKUP($I119,'Reference Data'!$B$2:$H$66000,4,TRUE)=\"M\",\"M\",\"\"),\"\")","v":""},{"$f":"IFERROR(IF(VLOOKUP($I119,'Reference Data'!$B$2:$H$66000,4,TRUE)=\"F\",\"F\",\"\"),\"\")","v":""},null,null,"2025-26"]
[115,"SANCTIONED TOURNAMENTS",{"$f":"IFERROR(INDEX('Reference Data'!$S$2:$S$13,MATCH($C$2,'Reference Data'!$R$2:$R$13,TRUE)),\"\")","v":""},{"$f":"IFERROR(INDEX('Reference Data'!$Q$2:$Q$13,MATCH($D$2,'Reference Data'!$P$2:$P$13,TRUE)),\"Pick a Zone\")","v":"SANCTIONED EVENT"},{"$f":"IFERROR(LEFT($D$2,2)&\"-\"&INDEX('Reference Data'!$V$2:$V$11,MATCH($F$2,'Reference Data'!$U$2:$U$11,TRUE)),\"Pick a Tournament\")","v":"Pick a Tournament"},{"$f":"IFERROR(INDEX('Reference Data'!$W$2:$W$11,MATCH($F$2,'Reference Data'!$U$2:$U$11,TRUE)),\"Pick a Tournament\")","v":"Pick a Tournament"},{"$f":"IFERROR(VLOOKUP($I120,'Reference Data'!$B$2:$H$66000,3,FALSE),\"Enter C5#\")","v":"Enter C5#"},{"$f":"IFERROR(VLOOKUP($I120,'Reference Data'!$B$2:$H$66000,2,FALSE),\"Enter C5#\")","v":"Enter C5#"},null,null,null,null,null,null,null,null,null,null,{"$f":"IFERROR(IF(VLOOKUP($I120,'Reference Data'!$B$2:$H$66000,4,TRUE)=\"M\",\"M\",\"\"),\"\")","v":""},{"$f":"IFERROR(IF(VLOOKUP($I120,'Reference Data'!$B$2:$H$66000,4,TRUE)=\"F\",\"F\",\"\"),\"\")","v":""},null,null,"2025-26"]
[116,"SANCTIONED TOURNAMENTS",{"$f":"IFERROR(INDEX('Reference Data'!$S$2:$S$13,MATCH($C$2,'Reference Data'!$R$2:$R$13,TRUE)),\"\")","v":""},{"$f":"IFERROR(INDEX('Reference Data'!$Q$2:$Q$13,MATCH($D$2,'Reference Data'!$P$2:$P$13,TRUE)),\"Pick a Zone\")","v":"SANCTIONED EVENT"},{"$f":"IFERROR(LEFT($D$2,2)&\"-\"&INDEX('Reference Data'!$V$2:$V$11,MATCH($F$2,'Reference Data'!$U$2:$U$11,TRUE)),\"Pick a Tournament\")","v":"Pick a Tournament"},{"$f":"IFERROR(INDEX('Reference Data'!$W$2:$W$11,MATCH($F$2,'Reference Data'!$U$2:$U$11,TRUE)),\"Pick a Tournament\")","v":"Pick a Tournament"},{"$f":"IFERROR(VLOOKUP($I121,'Reference Data'!$B$2:$H$66000,3,FALSE),\"Enter C5#\")","v":"Enter C5#"},{"$f":"IFERROR(VLOOKUP($I121,'Reference Data'!$B$2:$H$66000,2,FALSE),\"Enter C5#\")","v":"Enter C5#"},null,null,null,null,null,null,null,null,null,null,{"$f":"IFERROR(IF(VLOOKUP($I121,'Reference Data'!$B$2:$H$66000,4,TRUE)=\"M\",\"M\",\"\"),\"\")","v":""},{"$f":"IFERROR(IF(VLOOKUP($I121,'Reference Data'!$B$2:$H$66000,4,TRUE)=\"F\",\"F\",\"\"),\"\")","v":""},null,null,"2025-26"]
[117,"SANCTIONED TOURNAMENTS",{"$f":"IFERROR(INDEX('Reference Data'!$S$2:$S$13,MATCH($C$2,'Reference Data'!$R$2:$R$13,TRUE)),\"\")","v":""},{"$f":"IFERROR(INDEX('Reference Data'!$Q$2:$Q$13,MATCH($D$2,'Reference Data'!$P$2:$P$13,TRUE)),\"Pick a Zone\")","v":"SANCTIONED EVENT"},{"$f":"IFERROR(LEFT($D$2,2)&\"-\"&INDEX('Reference Data'!$V$2:$V$11,MATCH($F$2,'Reference Data'!$U$2:$U$11,TRUE)),\"Pick a Tournament\")","v":"Pick a Tournament"},{"$f":"IFERROR(INDEX('Reference Data'!$W$2:$W$11,MATCH($F$2,'Reference Data'!$U$2:$U$11,TRUE)),\"Pick a Tournament\")","v":"Pick a Tournament"},{"$f":"IFERROR(VLOOKUP($I122,'Reference Data'!$B$2:$H$66000,3,FALSE),\"Enter C5#\")","v":"Enter C5#"},{"$f":"IFERROR(VLOOKUP($I122,'Reference Data'!$B$2:$H$66000,2,FALSE),\"Enter C5#\")","v":"Enter C5#"},null,null,null,null,null,null,null,null,null,null,{"$f":"IFERROR(IF(VLOOKUP($I122,'Reference Data'!$B$2:$H$66000,4,TRUE)=\"M\",\"M\",\"\"),\"\")","v":""},{"$f":"IFERROR(IF(VLOOKUP($I122,'Reference Data'!$B$2:$H$66000,4,TRUE)=\"F\",\"F\",\"\"),\"\")","v":""},null,null,"2025-26"]
[118,"SANCTIONED TOURNAMENTS",{"$f":"IFERROR(INDEX('Reference Data'!$S$2:$S$13,MATCH($C$2,'Reference Data'!$R$2:$R$13,TRUE)),\"\")","v":""},{"$f":"IFERROR(INDEX('Reference Data'!$Q$2:$Q$13,MATCH($D$2,'Reference Data'!$P$2:$P$13,TRUE)),\"Pick a Zone\")","v":"SANCTIONED EVENT"},{"$f":"IFERROR(LEFT($D$2,2)&\"-\"&INDEX('Reference Data'!$V$2:$V$11,MATCH($F$2,'Reference Data'!$U$2:$U$11,TRUE)),\"Pick a Tournament\")","v":"Pick a Tournament"},{"$f":"IFERROR(INDEX('Reference Data'!$W$2:$W$11,MATCH($F$2,'Reference Data'!$U$2:$U$11,TRUE)),\"Pick a Tournament\")","v":"Pick a Tournament"},{"$f":"IFERROR(VLOOKUP($I123,'Reference Data'!$B$2:$H$66000,3,FALSE),\"Enter C5#\")","v":"Enter C5#"},{"$f":"IFERROR(VLOOKUP($I123,'Reference Data'!$B$2:$H$66000,2,FALSE),\"Enter C5#\")","v":"Enter C5#"},null,null,null,null,null,null,null,null,null,null,{"$f":"IFERROR(IF(VLOOKUP($I123,'Reference Data'!$B$2:$H$66000,4,TRUE)=\"M\",\"M\",\"\"),\"\")","v":""},{"$f":"IFERROR(IF(VLOOKUP($I123,'Reference Data'!$B$2:$H$66000,4,TRUE)=\"F\",\"F\",\"\"),\"\")","v":""},null,null,"2025-26"]
[119,"SANCTIONED TOURNAMENTS",{"$f":"IFERROR(INDEX('Reference Data'!$S$2:$S$13,MATCH($C$2,'Reference Data'!$R$2:$R$13,TRUE)),\"\")","v":""},{"$f":"IFERROR(INDEX('Reference Data'!$Q$2:$Q$13,MATCH($D$2,'Reference Data'!$P$2:$P$13,TRUE)),\"Pick a Zone\")","v":"SANCTIONED EVENT"},{"$f":"IFERROR(LEFT($D$2,2)&\"-\"&INDEX('Reference Data'!$V$2:$V$11,MATCH($F$2,'Reference Data'!$U$2:$U$11,TRUE)),\"Pick a Tournament\")","v":"Pick a Tournament"},{"$f":"IFERROR(INDEX('Reference Data'!$W$2:$W$11,MATCH($F$2,'Reference Data'!$U$2:$U$11,TRUE)),\"Pick a Tournament\")","v":"Pick a Tournament"},{"$f":"IFERROR(VLOOKUP($I124,'Reference Data'!$B$2:$H$66000,3,FALSE),\"Enter C5#\")","v":"Enter C5#"},{"$f":"IFERROR(VLOOKUP($I124,'Reference Data'!$B$2:$H$66000,2,FALSE),\"Enter C5#\")","v":"Enter C5#"},null,null,null,null,null,null,null,null,null,null,{"$f":"IFERROR(IF(VLOOKUP($I124,'Reference Data'!$B$2:$H$66000,4,TRUE)=\"M\",\"M\",\"\"),\"\")","v":""},{"$f":"IFERROR(IF(VLOOKUP($I124,'Reference Data'!$B$2:$H$66000,4,TRUE)=\"F\",\"F\",\"\"),\"\")","v":""},null,null,"2025-26"]
[120,"SANCTIONED TOURNAMENTS",{"$f":"IFERROR(INDEX('Reference Data'!$S$2:$S$13,MATCH($C$2,'Reference Data'!$R$2:$R$13,TRUE)),\"\")","v":""},{"$f":"IFERROR(INDEX('Reference Data'!$Q$2:$Q$13,MATCH($D$2,'Reference Data'!$P$2:$P$13,TRUE)),\"Pick a Zone\")","v":"SANCTIONED EVENT"},{"$f":"IFERROR(LEFT($D$2,2)&\"-\"&INDEX('Reference Data'!$V$2:$V$11,MATCH($F$2,'Reference Data'!$U$2:$U$11,TRUE)),\"Pick a Tournament\")","v":"Pick a Tournament"},{"$f":"IFERROR(INDEX('Reference Data'!$W$2:$W$11,MATCH($F$2,'Reference Data'!$U$2:$U$11,TRUE)),\"Pick a Tournament\")","v":"Pick a Tournament"},{"$f":"IFERROR(VLOOKUP($I125,'Reference Data'!$B$2:$H$66000,3,FALSE),\"Enter C5#\")","v":"Enter C5#"},{"$f":"IFERROR(VLOOKUP($I125,'Reference Data'!$B$2:$H$66000,2,FALSE),\"Enter C5#\")","v":"Enter C5#"},null,null,null,null,null,null,null,null,null,null,{"$f":"IFERROR(IF(VLOOKUP($I125,'Reference Data'!$B$2:$H$66000,4,TRUE)=\"M\",\"M\",\"\"),\"\")","v":""},{"$f":"IFERROR(IF(VLOOKUP($I125,'Reference Data'!$B$2:$H$66000,4,TRUE)=\"F\",\"F\",\"\"),\"\")","v":""},null,null,"2025-26"]
[121,"SANCTIONED TOURNAMENTS",{"$f":"IFERROR(INDEX('Reference Data'!$S$2:$S$13,MATCH($C$2,'Reference Data'!$R$2:$R$13,TRUE)),\"\")","v":""},{"$f":"IFERROR(INDEX('Reference Data'!$Q$2:$Q$13,MATCH($D$2,'Reference Data'!$P$2:$P$13,TRUE)),\"Pick a Zone\")","v":"SANCTIONED EVENT"},{"$f":"IFERROR(LEFT($D$2,2)&\"-\"&INDEX('Reference Data'!$V$2:$V$11,MATCH($F$2,'Reference Data'!$U$2:$U$11,TRUE)),\"Pick a Tournament\")","v":"Pick a Tournament"},{"$f":"IFERROR(INDEX('Reference Data'!$W$2:$W$11,MATCH($F$2,'Reference Data'!$U$2:$U$11,TRUE)),\"Pick a Tournament\")","v":"Pick a Tournament"},{"$f":"IFERROR(VLOOKUP($I126,'Reference Data'!$B$2:$H$66000,3,FALSE),\"Enter C5#\")","v":"Enter C5#"},{"$f":"IFERROR(VLOOKUP($I126,'Reference Data'!$B$2:$H$66000,2,FALSE),\"Enter C5#\")","v":"Enter C5#"},null,null,null,null,null,null,null,null,null,null,{"$f":"IFERROR(IF(VLOOKUP($I126,'Reference Data'!$B$2:$H$66000,4,TRUE)=\"M\",\"M\",\"\"),\"\")","v":""},{"$f":"IFERROR(IF(VLOOKUP($I126,'Reference Data'!$B$2:$H$66000,4,TRUE)=\"F\",\"F\",\"\"),\"\")","v":""},null,null,"2025-26"]
[122,"SANCTIONED TOURNAMENTS",{"$f":"IFERROR(INDEX('Reference Data'!$S$2:$S$13,MATCH($C$2,'Reference Data'!$R$2:$R$13,TRUE)),\"\")","v":""},{"$f":"IFERROR(INDEX('Reference Data'!$Q$2:$Q$13,MATCH($D$2,'Reference Data'!$P$2:$P$13,TRUE)),\"Pick a Zone\")","v":"SANCTIONED EVENT"},{"$f":"IFERROR(LEFT($D$2,2)&\"-\"&INDEX('Reference Data'!$V$2:$V$11,MATCH($F$2,'Reference Data'!$U$2:$U$11,TRUE)),\"Pick a Tournament\")","v":"Pick a Tournament"},{"$f":"IFERROR(INDEX('Reference Data'!$W$2:$W$11,MATCH($F$2,'Reference Data'!$U$2:$U$11,TRUE)),\"Pick a Tournament\")","v":"Pick a Tournament"},{"$f":"IFERROR(VLOOKUP($I127,'Reference Data'!$B$2:$H$66000,3,FALSE),\"Enter C5#\")","v":"Enter C5#"},{"$f":"IFERROR(VLOOKUP($I127,'Reference Data'!$B$2:$H$66000,2,FALSE),\"Enter C5#\")","v":"Enter C5#"},null,null,null,null,null,null,null,null,null,null,{"$f":"IFERROR(IF(VLOOKUP($I127,'Reference Data'!$B$2:$H$66000,4,TRUE)=\"M\",\"M\",\"\"),\"\")","v":""},{"$f":"IFERROR(IF(VLOOKUP($I127,'Reference Data'!$B$2:$H$66000,4,TRUE)=\"F\",\"F\",\"\"),\"\")","v":""},null,null,"2025-26"]
[123,"SANCTIONED TOURNAMENTS",{"$f":"IFERROR(INDEX('Reference Data'!$S$2:$S$13,MATCH($C$2,'Reference Data'!$R$2:$R$13,TRUE)),\"\")","v":""},{"$f":"IFERROR(INDEX('Reference Data'!$Q$2:$Q$13,MATCH($D$2,'Reference Data'!$P$2:$P$13,TRUE)),\"Pick a Zone\")","v":"SANCTIONED EVENT"},{"$f":"IFERROR(LEFT($D$2,2)&\"-\"&INDEX('Reference Data'!$V$2:$V$11,MATCH($F$2,'Reference Data'!$U$2:$U$11,TRUE)),\"Pick a Tournament\")","v":"Pick a Tournament"},{"$f":"IFERROR(INDEX('Reference Data'!$W$2:$W$11,MATCH($F$2,'Reference Data'!$U$2:$U$11,TRUE)),\"Pick a Tournament\")","v":"Pick a Tournament"},{"$f":"IFERROR(VLOOKUP($I128,'Reference Data'!$B$2:$H$66000,3,FALSE),\"Enter C5#\")","v":"Enter C5#"},{"$f":"IFERROR(VLOOKUP($I128,'Reference Data'!$B$2:$H$66000,2,FALSE),\"Enter C5#\")","v":"Enter C5#"},null,null,null,null,null,null,null,null,null,null,{"$f":"IFERROR(IF(VLOOKUP($I128,'Reference Data'!$B$2:$H$66000,4,TRUE)=\"M\",\"M\",\"\"),\"\")","v":""},{"$f":"IFERROR(IF(VLOOKUP($I128,'Reference Data'!$B$2:$H$66000,4,TRUE)=\"F\",\"F\",\"\"),\"\")","v":""},null,null,"2025-26"]
[124,"SANCTIONED TOURNAMENTS",{"$f":"IFERROR(INDEX('Reference Data'!$S$2:$S$13,MATCH($C$2,'Reference Data'!$R$2:$R$13,TRUE)),\"\")","v":""},{"$f":"IFERROR(INDEX('Reference Data'!$Q$2:$Q$13,MATCH($D$2,'Reference Data'!$P$2:$P$13,TRUE)),\"Pick a Zone\")","v":"SANCTIONED EVENT"},{"$f":"IFERROR(LEFT($D$2,2)&\"-\"&INDEX('Reference Data'!$V$2:$V$11,MATCH($F$2,'Reference Data'!$U$2:$U$11,TRUE)),\"Pick a Tournament\")","v":"Pick a Tournament"},{"$f":"IFERROR(INDEX('Reference Data'!$W$2:$W$11,MATCH($F$2,'Reference Data'!$U$2:$U$11,TRUE)),\"Pick a Tournament\")","v":"Pick a Tournament"},{"$f":"IFERROR(VLOOKUP($I129,'Reference Data'!$B$2:$H$66000,3,FALSE),\"Enter C5#\")","v":"Enter C5#"},{"$f":"IFERROR(VLOOKUP($I129,'Reference Data'!$B$2:$H$66000,2,FALSE),\"Enter C5#\")","v":"Enter C5#"},null,null,null,null,null,null,null,null,null,null,{"$f":"IFERROR(IF(VLOOKUP($I129,'Reference Data'!$B$2:$H$66000,4,TRUE)=\"M\",\"M\",\"\"),\"\")","v":""},{"$f":"IFERROR(IF(VLOOKUP($I129,'Reference Data'!$B$2:$H$66000,4,TRUE)=\"F\",\"F\",\"\"),\"\")","v":""},null,null,"2025-26"]
[125,"SANCTIONED TOURNAMENTS",{"$f":"IFERROR(INDEX('Reference Data'!$S$2:$S$13,MATCH($C$2,'Reference Data'!$R$2:$R$13,TRUE)),\"\")","v":""},{"$f":"IFERROR(INDEX('Reference Data'!$Q$2:$Q$13,MATCH($D$2,'Reference Data'!$P$2:$P$13,TRUE)),\"Pick a Zone\")","v":"SANCTIONED EVENT"},{"$f":"IFERROR(LEFT($D$2,2)&\"-\"&INDEX('Reference Data'!$V$2:$V$11,MATCH($F$2,'Reference Data'!$U$2:$U$11,TRUE)),\"Pick a Tournament\")","v":"Pick a Tournament"},{"$f":"IFERROR(INDEX('Reference Data'!$W$2:$W$11,MATCH($F$2,'Reference Data'!$U$2:$U$11,TRUE)),\"Pick a Tournament\")","v":"Pick a Tournament"},{"$f":"IFERROR(VLOOKUP($I130,'Reference Data'!$B$2:$H$66000,3,FALSE),\"Enter C5#\")","v":"Enter C5#"},{"$f":"IFERROR(VLOOKUP($I130,'Reference Data'!$B$2:$H$66000,2,FALSE),\"Enter C5#\")","v":"Enter C5#"},null,null,null,null,null,null,null,null,null,null,{"$f":"IFERROR(IF(VLOOKUP($I130,'Reference Data'!$B$2:$H$66000,4,TRUE)=\"M\",\"M\",\"\"),\"\")","v":""},{"$f":"IFERROR(IF(VLOOKUP($I130,'Reference Data'!$B$2:$H$66000,4,TRUE)=\"F\",\"F\",\"\"),\"\")","v":""},null,null,"2025-26"]
[126,"SANCTIONED TOURNAMENTS",{"$f":"IFERROR(INDEX('Reference Data'!$S$2:$S$13,MATCH($C$2,'Reference Data'!$R$2:$R$13,TRUE)),\"\")","v":""},{"$f":"IFERROR(INDEX('Reference Data'!$Q$2:$Q$13,MATCH($D$2,'Reference Data'!$P$2:$P$13,TRUE)),\"Pick a Zone\")","v":"SANCTIONED EVENT"},{"$f":"IFERROR(LEFT($D$2,2)&\"-\"&INDEX('Reference Data'!$V$2:$V$11,MATCH($F$2,'Reference Data'!$U$2:$U$11,TRUE)),\"Pick a Tournament\")","v":"Pick a Tournament"},{"$f":"IFERROR(INDEX('Reference Data'!$W$2:$W$11,MATCH($F$2,'Reference Data'!$U$2:$U$11,TRUE)),\"Pick a Tournament\")","v":"Pick a Tournament"},{"$f":"IFERROR(VLOOKUP($I131,'Reference Data'!$B$2:$H$66000,3,FALSE),\"Enter C5#\")","v":"Enter C5#"},{"$f":"IFERROR(VLOOKUP($I131,'Reference Data'!$B$2:$H$66000,2,FALSE),\"Enter C5#\")","v":"Enter C5#"},null,null,null,null,null,null,null,null,null,null,{"$f":"IFERROR(IF(VLOOKUP($I131,'Reference Data'!$B$2:$H$66000,4,TRUE)=\"M\",\"M\",\"\"),\"\")","v":""},{"$f":"IFERROR(IF(VLOOKUP($I131,'Reference Data'!$B$2:$H$66000,4,TRUE)=\"F\",\"F\",\"\"),\"\")","v":""},null,null,"2025-26"]
[127,"SANCTIONED TOURNAMENTS",{"$f":"IFERROR(INDEX('Reference Data'!$S$2:$S$13,MATCH($C$2,'Reference Data'!$R$2:$R$13,TRUE)),\"\")","v":""},{"$f":"IFERROR(INDEX('Reference Data'!$Q$2:$Q$13,MATCH($D$2,'Reference Data'!$P$2:$P$13,TRUE)),\"Pick a Zone\")","v":"SANCTIONED EVENT"},{"$f":"IFERROR(LEFT($D$2,2)&\"-\"&INDEX('Reference Data'!$V$2:$V$11,MATCH($F$2,'Reference Data'!$U$2:$U$11,TRUE)),\"Pick a Tournament\")","v":"Pick a Tournament"},{"$f":"IFERROR(INDEX('Reference Data'!$W$2:$W$11,MATCH($F$2,'Reference Data'!$U$2:$U$11,TRUE)),\"Pick a Tournament\")","v":"Pick a Tournament"},{"$f":"IFERROR(VLOOKUP($I132,'Reference Data'!$B$2:$H$66000,3,FALSE),\"Enter C5#\")","v":"Enter C5#"},{"$f":"IFERROR(VLOOKUP($I132,'Reference Data'!$B$2:$H$66000,2,FALSE),\"Enter C5#\")","v":"Enter C5#"},null,null,null,null,null,null,null,null,null,null,{"$f":"IFERROR(IF(VLOOKUP($I132,'Reference Data'!$B$2:$H$66000,4,TRUE)=\"M\",\"M\",\"\"),\"\")","v":""},{"$f":"IFERROR(IF(VLOOKUP($I132,'Reference Data'!$B$2:$H$66000,4,TRUE)=\"F\",\"F\",\"\"),\"\")","v":""},null,null,"2025-26"]
[128,"SANCTIONED TOURNAMENTS",{"$f":"IFERROR(INDEX('Reference Data'!$S$2:$S$13,MATCH($C$2,'Reference Data'!$R$2:$R$13,TRUE)),\"\")","v":""},{"$f":"IFERROR(INDEX('Reference Data'!$Q$2:$Q$13,MATCH($D$2,'Reference Data'!$P$2:$P$13,TRUE)),\"Pick a Zone\")","v":"SANCTIONED EVENT"},{"$f":"IFERROR(LEFT($D$2,2)&\"-\"&INDEX('Reference Data'!$V$2:$V$11,MATCH($F$2,'Reference Data'!$U$2:$U$11,TRUE)),\"Pick a Tournament\")","v":"Pick a Tournament"},{"$f":"IFERROR(INDEX('Reference Data'!$W$2:$W$11,MATCH($F$2,'Reference Data'!$U$2:$U$11,TRUE)),\"Pick a Tournament\")","v":"Pick a Tournament"},{"$f":"IFERROR(VLOOKUP($I133,'Reference Data'!$B$2:$H$66000,3,FALSE),\"Enter C5#\")","v":"Enter C5#"},{"$f":"IFERROR(VLOOKUP($I133,'Reference Data'!$B$2:$H$66000,2,FALSE),\"Enter C5#\")","v":"Enter C5#"},null,null,null,null,null,null,null,null,null,null,{"$f":"IFERROR(IF(VLOOKUP($I133,'Reference Data'!$B$2:$H$66000,4,TRUE)=\"M\",\"M\",\"\"),\"\")","v":""},{"$f":"IFERROR(IF(VLOOKUP($I133,'Reference Data'!$B$2:$H$66000,4,TRUE)=\"F\",\"F\",\"\"),\"\")","v":""},null,null,"2025-26"]
[129,"SANCTIONED TOURNAMENTS",{"$f":"IFERROR(INDEX('Reference Data'!$S$2:$S$13,MATCH($C$2,'Reference Data'!$R$2:$R$13,TRUE)),\"\")","v":""},{"$f":"IFERROR(INDEX('Reference Data'!$Q$2:$Q$13,MATCH($D$2,'Reference Data'!$P$2:$P$13,TRUE)),\"Pick a Zone\")","v":"SANCTIONED EVENT"},{"$f":"IFERROR(LEFT($D$2,2)&\"-\"&INDEX('Reference Data'!$V$2:$V$11,MATCH($F$2,'Reference Data'!$U$2:$U$11,TRUE)),\"Pick a Tournament\")","v":"Pick a Tournament"},{"$f":"IFERROR(INDEX('Reference Data'!$W$2:$W$11,MATCH($F$2,'Reference Data'!$U$2:$U$11,TRUE)),\"Pick a Tournament\")","v":"Pick a Tournament"},{"$f":"IFERROR(VLOOKUP($I134,'Reference Data'!$B$2:$H$66000,3,FALSE),\"Enter C5#\")","v":"Enter C5#"},{"$f":"IFERROR(VLOOKUP($I134,'Reference Data'!$B$2:$H$66000,2,FALSE),\"Enter C5#\")","v":"Enter C5#"},null,null,null,null,null,null,null,null,null,null,{"$f":"IFERROR(IF(VLOOKUP($I134,'Reference Data'!$B$2:$H$66000,4,TRUE)=\"M\",\"M\",\"\"),\"\")","v":""},{"$f":"IFERROR(IF(VLOOKUP($I134,'Reference Data'!$B$2:$H$66000,4,TRUE)=\"F\",\"F\",\"\"),\"\")","v":""},null,null,"2025-26"]
[130,"SANCTIONED TOURNAMENTS",{"$f":"IFERROR(INDEX('Reference Data'!$S$2:$S$13,MATCH($C$2,'Reference Data'!$R$2:$R$13,TRUE)),\"\")","v":""},{"$f":"IFERROR(INDEX('Reference Data'!$Q$2:$Q$13,MATCH($D$2,'Reference Data'!$P$2:$P$13,TRUE)),\"Pick a Zone\")","v":"SANCTIONED EVENT"},{"$f":"IFERROR(LEFT($D$2,2)&\"-\"&INDEX('Reference Data'!$V$2:$V$11,MATCH($F$2,'Reference Data'!$U$2:$U$11,TRUE)),\"Pick a Tournament\")","v":"Pick a Tournament"},{"$f":"IFERROR(INDEX('Reference Data'!$W$2:$W$11,MATCH($F$2,'Reference Data'!$U$2:$U$11,TRUE)),\"Pick a Tournament\")","v":"Pick a Tournament"},{"$f":"IFERROR(VLOOKUP($I135,'Reference Data'!$B$2:$H$66000,3,FALSE),\"Enter C5#\")","v":"Enter C5#"},{"$f":"IFERROR(VLOOKUP($I135,'Reference Data'!$B$2:$H$66000,2,FALSE),\"Enter C5#\")","v":"Enter C5#"},null,null,null,null,null,null,null,null,null,null,{"$f":"IFERROR(IF(VLOOKUP($I135,'Reference Data'!$B$2:$H$66000,4,TRUE)=\"M\",\"M\",\"\"),\"\")","v":""},{"$f":"IFERROR(IF(VLOOKUP($I135,'Reference Data'!$B$2:$H$66000,4,TRUE)=\"F\",\"F\",\"\"),\"\")","v":""},null,null,"2025-26"]
[131,"SANCTIONED TOURNAMENTS",{"$f":"IFERROR(INDEX('Reference Data'!$S$2:$S$13,MATCH($C$2,'Reference Data'!$R$2:$R$13,TRUE)),\"\")","v":""},{"$f":"IFERROR(INDEX('Reference Data'!$Q$2:$Q$13,MATCH($D$2,'Reference Data'!$P$2:$P$13,TRUE)),\"Pick a Zone\")","v":"SANCTIONED EVENT"},{"$f":"IFERROR(LEFT($D$2,2)&\"-\"&INDEX('Reference Data'!$V$2:$V$11,MATCH($F$2,'Reference Data'!$U$2:$U$11,TRUE)),\"Pick a Tournament\")","v":"Pick a Tournament"},{"$f":"IFERROR(INDEX('Reference Data'!$W$2:$W$11,MATCH($F$2,'Reference Data'!$U$2:$U$11,TRUE)),\"Pick a Tournament\")","v":"Pick a Tournament"},{"$f":"IFERROR(VLOOKUP($I136,'Reference Data'!$B$2:$H$66000,3,FALSE),\"Enter C5#\")","v":"Enter C5#"},{"$f":"IFERROR(VLOOKUP($I136,'Reference Data'!$B$2:$H$66000,2,FALSE),\"Enter C5#\")","v":"Enter C5#"},null,null,null,null,null,null,null,null,null,null,{"$f":"IFERROR(IF(VLOOKUP($I136,'Reference Data'!$B$2:$H$66000,4,TRUE)=\"M\",\"M\",\"\"),\"\")","v":""},{"$f":"IFERROR(IF(VLOOKUP($I136,'Reference Data'!$B$2:$H$66000,4,TRUE)=\"F\",\"F\",\"\"),\"\")","v":""},null,null,"2025-26"]
[132,"SANCTIONED TOURNAMENTS",{"$f":"IFERROR(INDEX('Reference Data'!$S$2:$S$13,MATCH($C$2,'Reference Data'!$R$2:$R$13,TRUE)),\"\")","v":""},{"$f":"IFERROR(INDEX('Reference Data'!$Q$2:$Q$13,MATCH($D$2,'Reference Data'!$P$2:$P$13,TRUE)),\"Pick a Zone\")","v":"SANCTIONED EVENT"},{"$f":"IFERROR(LEFT($D$2,2)&\"-\"&INDEX('Reference Data'!$V$2:$V$11,MATCH($F$2,'Reference Data'!$U$2:$U$11,TRUE)),\"Pick a Tournament\")","v":"Pick a Tournament"},{"$f":"IFERROR(INDEX('Reference Data'!$W$2:$W$11,MATCH($F$2,'Reference Data'!$U$2:$U$11,TRUE)),\"Pick a Tournament\")","v":"Pick a Tournament"},{"$f":"IFERROR(VLOOKUP($I137,'Reference Data'!$B$2:$H$66000,3,FALSE),\"Enter C5#\")","v":"Enter C5#"},{"$f":"IFERROR(VLOOKUP($I137,'Reference Data'!$B$2:$H$66000,2,FALSE),\"Enter C5#\")","v":"Enter C5#"},null,null,null,null,null,null,null,null,null,null,{"$f":"IFERROR(IF(VLOOKUP($I137,'Reference Data'!$B$2:$H$66000,4,TRUE)=\"M\",\"M\",\"\"),\"\")","v":""},{"$f":"IFERROR(IF(VLOOKUP($I137,'Reference Data'!$B$2:$H$66000,4,TRUE)=\"F\",\"F\",\"\"),\"\")","v":""},null,null,"2025-26"]
[133,"SANCTIONED TOURNAMENTS",{"$f":"IFERROR(INDEX('Reference Data'!$S$2:$S$13,MATCH($C$2,'Reference Data'!$R$2:$R$13,TRUE)),\"\")","v":""},{"$f":"IFERROR(INDEX('Reference Data'!$Q$2:$Q$13,MATCH($D$2,'Reference Data'!$P$2:$P$13,TRUE)),\"Pick a Zone\")","v":"SANCTIONED EVENT"},{"$f":"IFERROR(LEFT($D$2,2)&\"-\"&INDEX('Reference Data'!$V$2:$V$11,MATCH($F$2,'Reference Data'!$U$2:$U$11,TRUE)),\"Pick a Tournament\")","v":"Pick a Tournament"},{"$f":"IFERROR(INDEX('Reference Data'!$W$2:$W$11,MATCH($F$2,'Reference Data'!$U$2:$U$11,TRUE)),\"Pick a Tournament\")","v":"Pick a Tournament"},{"$f":"IFERROR(VLOOKUP($I138,'Reference Data'!$B$2:$H$66000,3,FALSE),\"Enter C5#\")","v":"Enter C5#"},{"$f":"IFERROR(VLOOKUP($I138,'Reference Data'!$B$2:$H$66000,2,FALSE),\"Enter C5#\")","v":"Enter C5#"},null,null,null,null,null,null,null,null,null,null,{"$f":"IFERROR(IF(VLOOKUP($I138,'Reference Data'!$B$2:$H$66000,4,TRUE)=\"M\",\"M\",\"\"),\"\")","v":""},{"$f":"IFERROR(IF(VLOOKUP($I138,'Reference Data'!$B$2:$H$66000,4,TRUE)=\"F\",\"F\",\"\"),\"\")","v":""},null,null,"2025-26"]
[134,"SANCTIONED TOURNAMENTS",{"$f":"IFERROR(INDEX('Reference Data'!$S$2:$S$13,MATCH($C$2,'Reference Data'!$R$2:$R$13,TRUE)),\"\")","v":""},{"$f":"IFERROR(INDEX('Reference Data'!$Q$2:$Q$13,MATCH($D$2,'Reference Data'!$P$2:$P$13,TRUE)),\"Pick a Zone\")","v":"SANCTIONED EVENT"},{"$f":"IFERROR(LEFT($D$2,2)&\"-\"&INDEX('Reference Data'!$V$2:$V$11,MATCH($F$2,'Reference Data'!$U$2:$U$11,TRUE)),\"Pick a Tournament\")","v":"Pick a Tournament"},{"$f":"IFERROR(INDEX('Reference Data'!$W$2:$W$11,MATCH($F$2,'Reference Data'!$U$2:$U$11,TRUE)),\"Pick a Tournament\")","v":"Pick a Tournament"},{"$f":"IFERROR(VLOOKUP($I139,'Reference Data'!$B$2:$H$66000,3,FALSE),\"Enter C5#\")","v":"Enter C5#"},{"$f":"IFERROR(VLOOKUP($I139,'Reference Data'!$B$2:$H$66000,2,FALSE),\"Enter C5#\")","v":"Enter C5#"},null,null,null,null,null,null,null,null,null,null,{"$f":"IFERROR(IF(VLOOKUP($I139,'Reference Data'!$B$2:$H$66000,4,TRUE)=\"M\",\"M\",\"\"),\"\")","v":""},{"$f":"IFERROR(IF(VLOOKUP($I139,'Reference Data'!$B$2:$H$66000,4,TRUE)=\"F\",\"F\",\"\"),\"\")","v":""},null,null,"2025-26"]
[135,"SANCTIONED TOURNAMENTS",{"$f":"IFERROR(INDEX('Reference Data'!$S$2:$S$13,MATCH($C$2,'Reference Data'!$R$2:$R$13,TRUE)),\"\")","v":""},{"$f":"IFERROR(INDEX('Reference Data'!$Q$2:$Q$13,MATCH($D$2,'Reference Data'!$P$2:$P$13,TRUE)),\"Pick a Zone\")","v":"SANCTIONED EVENT"},{"$f":"IFERROR(LEFT($D$2,2)&\"-\"&INDEX('Reference Data'!$V$2:$V$11,MATCH($F$2,'Reference Data'!$U$2:$U$11,TRUE)),\"Pick a Tournament\")","v":"Pick a Tournament"},{"$f":"IFERROR(INDEX('Reference Data'!$W$2:$W$11,MATCH($F$2,'Reference Data'!$U$2:$U$11,TRUE)),\"Pick a Tournament\")","v":"Pick a Tournament"},{"$f":"IFERROR(VLOOKUP($I140,'Reference Data'!$B$2:$H$66000,3,FALSE),\"Enter C5#\")","v":"Enter C5#"},{"$f":"IFERROR(VLOOKUP($I140,'Reference Data'!$B$2:$H$66000,2,FALSE),\"Enter C5#\")","v":"Enter C5#"},null,null,null,null,null,null,null,null,null,null,{"$f":"IFERROR(IF(VLOOKUP($I140,'Reference Data'!$B$2:$H$66000,4,TRUE)=\"M\",\"M\",\"\"),\"\")","v":""},{"$f":"IFERROR(IF(VLOOKUP($I140,'Reference Data'!$B$2:$H$66000,4,TRUE)=\"F\",\"F\",\"\"),\"\")","v":""},null,null,"2025-26"]
[136,"SANCTIONED TOURNAMENTS",{"$f":"IFERROR(INDEX('Reference Data'!$S$2:$S$13,MATCH($C$2,'Reference Data'!$R$2:$R$13,TRUE)),\"\")","v":""},{"$f":"IFERROR(INDEX('Reference Data'!$Q$2:$Q$13,MATCH($D$2,'Reference Data'!$P$2:$P$13,TRUE)),\"Pick a Zone\")","v":"SANCTIONED EVENT"},{"$f":"IFERROR(LEFT($D$2,2)&\"-\"&INDEX('Reference Data'!$V$2:$V$11,MATCH($F$2,'Reference Data'!$U$2:$U$11,TRUE)),\"Pick a Tournament\")","v":"Pick a Tournament"},{"$f":"IFERROR(INDEX('Reference Data'!$W$2:$W$11,MATCH($F$2,'Reference Data'!$U$2:$U$11,TRUE)),\"Pick a Tournament\")","v":"Pick a Tournament"},{"$f":"IFERROR(VLOOKUP($I141,'Reference Data'!$B$2:$H$66000,3,FALSE),\"Enter C5#\")","v":"Enter C5#"},{"$f":"IFERROR(VLOOKUP($I141,'Reference Data'!$B$2:$H$66000,2,FALSE),\"Enter C5#\")","v":"Enter C5#"},null,null,null,null,null,null,null,null,null,null,{"$f":"IFERROR(IF(VLOOKUP($I141,'Reference Data'!$B$2:$H$66000,4,TRUE)=\"M\",\"M\",\"\"),\"\")","v":""},{"$f":"IFERROR(IF(VLOOKUP($I141,'Reference Data'!$B$2:$H$66000,4,TRUE)=\"F\",\"F\",\"\"),\"\")","v":""},null,null,"2025-26"]
[137,"SANCTIONED TOURNAMENTS",{"$f":"IFERROR(INDEX('Reference Data'!$S$2:$S$13,MATCH($C$2,'Reference Data'!$R$2:$R$13,TRUE)),\"\")","v":""},{"$f":"IFERROR(INDEX('Reference Data'!$Q$2:$Q$13,MATCH($D$2,'Reference Data'!$P$2:$P$13,TRUE)),\"Pick a Zone\")","v":"SANCTIONED EVENT"},{"$f":"IFERROR(LEFT($D$2,2)&\"-\"&INDEX('Reference Data'!$V$2:$V$11,MATCH($F$2,'Reference Data'!$U$2:$U$11,TRUE)),\"Pick a Tournament\")","v":"Pick a Tournament"},{"$f":"IFERROR(INDEX('Reference Data'!$W$2:$W$11,MATCH($F$2,'Reference Data'!$U$2:$U$11,TRUE)),\"Pick a Tournament\")","v":"Pick a Tournament"},{"$f":"IFERROR(VLOOKUP($I142,'Reference Data'!$B$2:$H$66000,3,FALSE),\"Enter C5#\")","v":"Enter C5#"},{"$f":"IFERROR(VLOOKUP($I142,'Reference Data'!$B$2:$H$66000,2,FALSE),\"Enter C5#\")","v":"Enter C5#"},null,null,null,null,null,null,null,null,null,null,{"$f":"IFERROR(IF(VLOOKUP($I142,'Reference Data'!$B$2:$H$66000,4,TRUE)=\"M\",\"M\",\"\"),\"\")","v":""},{"$f":"IFERROR(IF(VLOOKUP($I142,'Reference Data'!$B$2:$H$66000,4,TRUE)=\"F\",\"F\",\"\"),\"\")","v":""},null,null,"2025-26"]
[138,"SANCTIONED TOURNAMENTS",{"$f":"IFERROR(INDEX('Reference Data'!$S$2:$S$13,MATCH($C$2,'Reference Data'!$R$2:$R$13,TRUE)),\"\")","v":""},{"$f":"IFERROR(INDEX('Reference Data'!$Q$2:$Q$13,MATCH($D$2,'Reference Data'!$P$2:$P$13,TRUE)),\"Pick a Zone\")","v":"SANCTIONED EVENT"},{"$f":"IFERROR(LEFT($D$2,2)&\"-\"&INDEX('Reference Data'!$V$2:$V$11,MATCH($F$2,'Reference Data'!$U$2:$U$11,TRUE)),\"Pick a Tournament\")","v":"Pick a Tournament"},{"$f":"IFERROR(INDEX('Reference Data'!$W$2:$W$11,MATCH($F$2,'Reference Data'!$U$2:$U$11,TRUE)),\"Pick a Tournament\")","v":"Pick a Tournament"},{"$f":"IFERROR(VLOOKUP($I143,'Reference Data'!$B$2:$H$66000,3,FALSE),\"Enter C5#\")","v":"Enter C5#"},{"$f":"IFERROR(VLOOKUP($I143,'Reference Data'!$B$2:$H$66000,2,FALSE),\"Enter C5#\")","v":"Enter C5#"},null,null,null,null,null,null,null,null,null,null,{"$f":"IFERROR(IF(VLOOKUP($I143,'Reference Data'!$B$2:$H$66000,4,TRUE)=\"M\",\"M\",\"\"),\"\")","v":""},{"$f":"IFERROR(IF(VLOOKUP($I143,'Reference Data'!$B$2:$H$66000,4,TRUE)=\"F\",\"F\",\"\"),\"\")","v":""},null,null,"2025-26"]
[139,"SANCTIONED TOURNAMENTS",{"$f":"IFERROR(INDEX('Reference Data'!$S$2:$S$13,MATCH($C$2,'Reference Data'!$R$2:$R$13,TRUE)),\"\")","v":""},{"$f":"IFERROR(INDEX('Reference Data'!$Q$2:$Q$13,MATCH($D$2,'Reference Data'!$P$2:$P$13,TRUE)),\"Pick a Zone\")","v":"SANCTIONED EVENT"},{"$f":"IFERROR(LEFT($D$2,2)&\"-\"&INDEX('Reference Data'!$V$2:$V$11,MATCH($F$2,'Reference Data'!$U$2:$U$11,TRUE)),\"Pick a Tournament\")","v":"Pick a Tournament"},{"$f":"IFERROR(INDEX('Reference Data'!$W$2:$W$11,MATCH($F$2,'Reference Data'!$U$2:$U$11,TRUE)),\"Pick a Tournament\")","v":"Pick a Tournament"},{"$f":"IFERROR(VLOOKUP($I144,'Reference Data'!$B$2:$H$66000,3,FALSE),\"Enter C5#\")","v":"Enter C5#"},{"$f":"IFERROR(VLOOKUP($I144,'Reference Data'!$B$2:$H$66000,2,FALSE),\"Enter C5#\")","v":"Enter C5#"},null,null,null,null,null,null,null,null,null,null,{"$f":"IFERROR(IF(VLOOKUP($I144,'Reference Data'!$B$2:$H$66000,4,TRUE)=\"M\",\"M\",\"\"),\"\")","v":""},{"$f":"IFERROR(IF(VLOOKUP($I144,'Reference Data'!$B$2:$H$66000,4,TRUE)=\"F\",\"F\",\"\"),\"\")","v":""},null,null,"2025-26"]
[140,"SANCTIONED TOURNAMENTS",{"$f":"IFERROR(INDEX('Reference Data'!$S$2:$S$13,MATCH($C$2,'Reference Data'!$R$2:$R$13,TRUE)),\"\")","v":""},{"$f":"IFERROR(INDEX('Reference Data'!$Q$2:$Q$13,MATCH($D$2,'Reference Data'!$P$2:$P$13,TRUE)),\"Pick a Zone\")","v":"SANCTIONED EVENT"},{"$f":"IFERROR(LEFT($D$2,2)&\"-\"&INDEX('Reference Data'!$V$2:$V$11,MATCH($F$2,'Reference Data'!$U$2:$U$11,TRUE)),\"Pick a Tournament\")","v":"Pick a Tournament"},{"$f":"IFERROR(INDEX('Reference Data'!$W$2:$W$11,MATCH($F$2,'Reference Data'!$U$2:$U$11,TRUE)),\"Pick a Tournament\")","v":"Pick a Tournament"},{"$f":"IFERROR(VLOOKUP($I145,'Reference Data'!$B$2:$H$66000,3,FALSE),\"Enter C5#\")","v":"Enter C5#"},{"$f":"IFERROR(VLOOKUP($I145,'Reference Data'!$B$2:$H$66000,2,FALSE),\"Enter C5#\")","v":"Enter C5#"},null,null,null,null,null,null,null,null,null,null,{"$f":"IFERROR(IF(VLOOKUP($I145,'Reference Data'!$B$2:$H$66000,4,TRUE)=\"M\",\"M\",\"\"),\"\")","v":""},{"$f":"IFERROR(IF(VLOOKUP($I145,'Reference Data'!$B$2:$H$66000,4,TRUE)=\"F\",\"F\",\"\"),\"\")","v":""},null,null,"2025-26"]
[141,"SANCTIONED TOURNAMENTS",{"$f":"IFERROR(INDEX('Reference Data'!$S$2:$S$13,MATCH($C$2,'Reference Data'!$R$2:$R$13,TRUE)),\"\")","v":""},{"$f":"IFERROR(INDEX('Reference Data'!$Q$2:$Q$13,MATCH($D$2,'Reference Data'!$P$2:$P$13,TRUE)),\"Pick a Zone\")","v":"SANCTIONED EVENT"},{"$f":"IFERROR(LEFT($D$2,2)&\"-\"&INDEX('Reference Data'!$V$2:$V$11,MATCH($F$2,'Reference Data'!$U$2:$U$11,TRUE)),\"Pick a Tournament\")","v":"Pick a Tournament"},{"$f":"IFERROR(INDEX('Reference Data'!$W$2:$W$11,MATCH($F$2,'Reference Data'!$U$2:$U$11,TRUE)),\"Pick a Tournament\")","v":"Pick a Tournament"},{"$f":"IFERROR(VLOOKUP($I146,'Reference Data'!$B$2:$H$66000,3,FALSE),\"Enter C5#\")","v":"Enter C5#"},{"$f":"IFERROR(VLOOKUP($I146,'Reference Data'!$B$2:$H$66000,2,FALSE),\"Enter C5#\")","v":"Enter C5#"},null,null,null,null,null,null,null,null,null,null,{"$f":"IFERROR(IF(VLOOKUP($I146,'Reference Data'!$B$2:$H$66000,4,TRUE)=\"M\",\"M\",\"\"),\"\")","v":""},{"$f":"IFERROR(IF(VLOOKUP($I146,'Reference Data'!$B$2:$H$66000,4,TRUE)=\"F\",\"F\",\"\"),\"\")","v":""},null,null,"2025-26"]
[142,"SANCTIONED TOURNAMENTS",{"$f":"IFERROR(INDEX('Reference Data'!$S$2:$S$13,MATCH($C$2,'Reference Data'!$R$2:$R$13,TRUE)),\"\")","v":""},{"$f":"IFERROR(INDEX('Reference Data'!$Q$2:$Q$13,MATCH($D$2,'Reference Data'!$P$2:$P$13,TRUE)),\"Pick a Zone\")","v":"SANCTIONED EVENT"},{"$f":"IFERROR(LEFT($D$2,2)&\"-\"&INDEX('Reference Data'!$V$2:$V$11,MATCH($F$2,'Reference Data'!$U$2:$U$11,TRUE)),\"Pick a Tournament\")","v":"Pick a Tournament"},{"$f":"IFERROR(INDEX('Reference Data'!$W$2:$W$11,MATCH($F$2,'Reference Data'!$U$2:$U$11,TRUE)),\"Pick a Tournament\")","v":"Pick a Tournament"},{"$f":"IFERROR(VLOOKUP($I147,'Reference Data'!$B$2:$H$66000,3,FALSE),\"Enter C5#\")","v":"Enter C5#"},{"$f":"IFERROR(VLOOKUP($I147,'Reference Data'!$B$2:$H$66000,2,FALSE),\"Enter C5#\")","v":"Enter C5#"},null,null,null,null,null,null,null,null,null,null,{"$f":"IFERROR(IF(VLOOKUP($I147,'Reference Data'!$B$2:$H$66000,4,TRUE)=\"M\",\"M\",\"\"),\"\")","v":""},{"$f":"IFERROR(IF(VLOOKUP($I147,'Reference Data'!$B$2:$H$66000,4,TRUE)=\"F\",\"F\",\"\"),\"\")","v":""},null,null,"2025-26"]
[143,"SANCTIONED TOURNAMENTS",{"$f":"IFERROR(INDEX('Reference Data'!$S$2:$S$13,MATCH($C$2,'Reference Data'!$R$2:$R$13,TRUE)),\"\")","v":""},{"$f":"IFERROR(INDEX('Reference Data'!$Q$2:$Q$13,MATCH($D$2,'Reference Data'!$P$2:$P$13,TRUE)),\"Pick a Zone\")","v":"SANCTIONED EVENT"},{"$f":"IFERROR(LEFT($D$2,2)&\"-\"&INDEX('Reference Data'!$V$2:$V$11,MATCH($F$2,'Reference Data'!$U$2:$U$11,TRUE)),\"Pick a Tournament\")","v":"Pick a Tournament"},{"$f":"IFERROR(INDEX('Reference Data'!$W$2:$W$11,MATCH($F$2,'Reference Data'!$U$2:$U$11,TRUE)),\"Pick a Tournament\")","v":"Pick a Tournament"},{"$f":"IFERROR(VLOOKUP($I148,'Reference Data'!$B$2:$H$66000,3,FALSE),\"Enter C5#\")","v":"Enter C5#"},{"$f":"IFERROR(VLOOKUP($I148,'Reference Data'!$B$2:$H$66000,2,FALSE),\"Enter C5#\")","v":"Enter C5#"},null,null,null,null,null,null,null,null,null,null,{"$f":"IFERROR(IF(VLOOKUP($I148,'Reference Data'!$B$2:$H$66000,4,TRUE)=\"M\",\"M\",\"\"),\"\")","v":""},{"$f":"IFERROR(IF(VLOOKUP($I148,'Reference Data'!$B$2:$H$66000,4,TRUE)=\"F\",\"F\",\"\"),\"\")","v":""},null,null,"2025-26"]
[144,"SANCTIONED TOURNAMENTS",{"$f":"IFERROR(INDEX('Reference Data'!$S$2:$S$13,MATCH($C$2,'Reference Data'!$R$2:$R$13,TRUE)),\"\")","v":""},{"$f":"IFERROR(INDEX('Reference Data'!$Q$2:$Q$13,MATCH($D$2,'Reference Data'!$P$2:$P$13,TRUE)),\"Pick a Zone\")","v":"SANCTIONED EVENT"},{"$f":"IFERROR(LEFT($D$2,2)&\"-\"&INDEX('Reference Data'!$V$2:$V$11,MATCH($F$2,'Reference Data'!$U$2:$U$11,TRUE)),\"Pick a Tournament\")","v":"Pick a Tournament"},{"$f":"IFERROR(INDEX('Reference Data'!$W$2:$W$11,MATCH($F$2,'Reference Data'!$U$2:$U$11,TRUE)),\"Pick a Tournament\")","v":"Pick a Tournament"},{"$f":"IFERROR(VLOOKUP($I149,'Reference Data'!$B$2:$H$66000,3,FALSE),\"Enter C5#\")","v":"Enter C5#"},{"$f":"IFERROR(VLOOKUP($I149,'Reference Data'!$B$2:$H$66000,2,FALSE),\"Enter C5#\")","v":"Enter C5#"},null,null,null,null,null,null,null,null,null,null,{"$f":"IFERROR(IF(VLOOKUP($I149,'Reference Data'!$B$2:$H$66000,4,TRUE)=\"M\",\"M\",\"\"),\"\")","v":""},{"$f":"IFERROR(IF(VLOOKUP($I149,'Reference Data'!$B$2:$H$66000,4,TRUE)=\"F\",\"F\",\"\"),\"\")","v":""},null,null,"2025-26"]
[145,"SANCTIONED TOURNAMENTS",{"$f":"IFERROR(INDEX('Reference Data'!$S$2:$S$13,MATCH($C$2,'Reference Data'!$R$2:$R$13,TRUE)),\"\")","v":""},{"$f":"IFERROR(INDEX('Reference Data'!$Q$2:$Q$13,MATCH($D$2,'Reference Data'!$P$2:$P$13,TRUE)),\"Pick a Zone\")","v":"SANCTIONED EVENT"},{"$f":"IFERROR(LEFT($D$2,2)&\"-\"&INDEX('Reference Data'!$V$2:$V$11,MATCH($F$2,'Reference Data'!$U$2:$U$11,TRUE)),\"Pick a Tournament\")","v":"Pick a Tournament"},{"$f":"IFERROR(INDEX('Reference Data'!$W$2:$W$11,MATCH($F$2,'Reference Data'!$U$2:$U$11,TRUE)),\"Pick a Tournament\")","v":"Pick a Tournament"},{"$f":"IFERROR(VLOOKUP($I150,'Reference Data'!$B$2:$H$66000,3,FALSE),\"Enter C5#\")","v":"Enter C5#"},{"$f":"IFERROR(VLOOKUP($I150,'Reference Data'!$B$2:$H$66000,2,FALSE),\"Enter C5#\")","v":"Enter C5#"},null,null,null,null,null,null,null,null,null,null,{"$f":"IFERROR(IF(VLOOKUP($I150,'Reference Data'!$B$2:$H$66000,4,TRUE)=\"M\",\"M\",\"\"),\"\")","v":""},{"$f":"IFERROR(IF(VLOOKUP($I150,'Reference Data'!$B$2:$H$66000,4,TRUE)=\"F\",\"F\",\"\"),\"\")","v":""},null,null,"2025-26"]
[146,"SANCTIONED TOURNAMENTS",{"$f":"IFERROR(INDEX('Reference Data'!$S$2:$S$13,MATCH($C$2,'Reference Data'!$R$2:$R$13,TRUE)),\"\")","v":""},{"$f":"IFERROR(INDEX('Reference Data'!$Q$2:$Q$13,MATCH($D$2,'Reference Data'!$P$2:$P$13,TRUE)),\"Pick a Zone\")","v":"SANCTIONED EVENT"},{"$f":"IFERROR(LEFT($D$2,2)&\"-\"&INDEX('Reference Data'!$V$2:$V$11,MATCH($F$2,'Reference Data'!$U$2:$U$11,TRUE)),\"Pick a Tournament\")","v":"Pick a Tournament"},{"$f":"IFERROR(INDEX('Reference Data'!$W$2:$W$11,MATCH($F$2,'Reference Data'!$U$2:$U$11,TRUE)),\"Pick a Tournament\")","v":"Pick a Tournament"},{"$f":"IFERROR(VLOOKUP($I151,'Reference Data'!$B$2:$H$66000,3,FALSE),\"Enter C5#\")","v":"Enter C5#"},{"$f":"IFERROR(VLOOKUP($I151,'Reference Data'!$B$2:$H$66000,2,FALSE),\"Enter C5#\")","v":"Enter C5#"},null,null,null,null,null,null,null,null,null,null,{"$f":"IFERROR(IF(VLOOKUP($I151,'Reference Data'!$B$2:$H$66000,4,TRUE)=\"M\",\"M\",\"\"),\"\")","v":""},{"$f":"IFERROR(IF(VLOOKUP($I151,'Reference Data'!$B$2:$H$66000,4,TRUE)=\"F\",\"F\",\"\"),\"\")","v":""},null,null,"2025-26"]
[147,"SANCTIONED TOURNAMENTS",{"$f":"IFERROR(INDEX('Reference Data'!$S$2:$S$13,MATCH($C$2,'Reference Data'!$R$2:$R$13,TRUE)),\"\")","v":""},{"$f":"IFERROR(INDEX('Reference Data'!$Q$2:$Q$13,MATCH($D$2,'Reference Data'!$P$2:$P$13,TRUE)),\"Pick a Zone\")","v":"SANCTIONED EVENT"},{"$f":"IFERROR(LEFT($D$2,2)&\"-\"&INDEX('Reference Data'!$V$2:$V$11,MATCH($F$2,'Reference Data'!$U$2:$U$11,TRUE)),\"Pick a Tournament\")","v":"Pick a Tournament"},{"$f":"IFERROR(INDEX('Reference Data'!$W$2:$W$11,MATCH($F$2,'Reference Data'!$U$2:$U$11,TRUE)),\"Pick a Tournament\")","v":"Pick a Tournament"},{"$f":"IFERROR(VLOOKUP($I152,'Reference Data'!$B$2:$H$66000,3,FALSE),\"Enter C5#\")","v":"Enter C5#"},{"$f":"IFERROR(VLOOKUP($I152,'Reference Data'!$B$2:$H$66000,2,FALSE),\"Enter C5#\")","v":"Enter C5#"},null,null,null,null,null,null,null,null,null,null,{"$f":"IFERROR(IF(VLOOKUP($I152,'Reference Data'!$B$2:$H$66000,4,TRUE)=\"M\",\"M\",\"\"),\"\")","v":""},{"$f":"IFERROR(IF(VLOOKUP($I152,'Reference Data'!$B$2:$H$66000,4,TRUE)=\"F\",\"F\",\"\"),\"\")","v":""},null,null,"2025-26"]
[148,"SANCTIONED TOURNAMENTS",{"$f":"IFERROR(INDEX('Reference Data'!$S$2:$S$13,MATCH($C$2,'Reference Data'!$R$2:$R$13,TRUE)),\"\")","v":""},{"$f":"IFERROR(INDEX('Reference Data'!$Q$2:$Q$13,MATCH($D$2,'Reference Data'!$P$2:$P$13,TRUE)),\"Pick a Zone\")","v":"SANCTIONED EVENT"},{"$f":"IFERROR(LEFT($D$2,2)&\"-\"&INDEX('Reference Data'!$V$2:$V$11,MATCH($F$2,'Reference Data'!$U$2:$U$11,TRUE)),\"Pick a Tournament\")","v":"Pick a Tournament"},{"$f":"IFERROR(INDEX('Reference Data'!$W$2:$W$11,MATCH($F$2,'Reference Data'!$U$2:$U$11,TRUE)),\"Pick a Tournament\")","v":"Pick a Tournament"},{"$f":"IFERROR(VLOOKUP($I153,'Reference Data'!$B$2:$H$66000,3,FALSE),\"Enter C5#\")","v":"Enter C5#"},{"$f":"IFERROR(VLOOKUP($I153,'Reference Data'!$B$2:$H$66000,2,FALSE),\"Enter C5#\")","v":"Enter C5#"},null,null,null,null,null,null,null,null,null,null,{"$f":"IFERROR(IF(VLOOKUP($I153,'Reference Data'!$B$2:$H$66000,4,TRUE)=\"M\",\"M\",\"\"),\"\")","v":""},{"$f":"IFERROR(IF(VLOOKUP($I153,'Reference Data'!$B$2:$H$66000,4,TRUE)=\"F\",\"F\",\"\"),\"\")","v":""},null,null,"2025-26"]
[149,"SANCTIONED TOURNAMENTS",{"$f":"IFERROR(INDEX('Reference Data'!$S$2:$S$13,MATCH($C$2,'Reference Data'!$R$2:$R$13,TRUE)),\"\")","v":""},{"$f":"IFERROR(INDEX('Reference Data'!$Q$2:$Q$13,MATCH($D$2,'Reference Data'!$P$2:$P$13,TRUE)),\"Pick a Zone\")","v":"SANCTIONED EVENT"},{"$f":"IFERROR(LEFT($D$2,2)&\"-\"&INDEX('Reference Data'!$V$2:$V$11,MATCH($F$2,'Reference Data'!$U$2:$U$11,TRUE)),\"Pick a Tournament\")","v":"Pick a Tournament"},{"$f":"IFERROR(INDEX('Reference Data'!$W$2:$W$11,MATCH($F$2,'Reference Data'!$U$2:$U$11,TRUE)),\"Pick a Tournament\")","v":"Pick a Tournament"},{"$f":"IFERROR(VLOOKUP($I154,'Reference Data'!$B$2:$H$66000,3,FALSE),\"Enter C5#\")","v":"Enter C5#"},{"$f":"IFERROR(VLOOKUP($I154,'Reference Data'!$B$2:$H$66000,2,FALSE),\"Enter C5#\")","v":"Enter C5#"},null,null,null,null,null,null,null,null,null,null,{"$f":"IFERROR(IF(VLOOKUP($I154,'Reference Data'!$B$2:$H$66000,4,TRUE)=\"M\",\"M\",\"\"),\"\")","v":""},{"$f":"IFERROR(IF(VLOOKUP($I154,'Reference Data'!$B$2:$H$66000,4,TRUE)=\"F\",\"F\",\"\"),\"\")","v":""},null,null,"2025-26"]
[150,"SANCTIONED TOURNAMENTS",{"$f":"IFERROR(INDEX('Reference Data'!$S$2:$S$13,MATCH($C$2,'Reference Data'!$R$2:$R$13,TRUE)),\"\")","v":""},{"$f":"IFERROR(INDEX('Reference Data'!$Q$2:$Q$13,MATCH($D$2,'Reference Data'!$P$2:$P$13,TRUE)),\"Pick a Zone\")","v":"SANCTIONED EVENT"},{"$f":"IFERROR(LEFT($D$2,2)&\"-\"&INDEX('Reference Data'!$V$2:$V$11,MATCH($F$2,'Reference Data'!$U$2:$U$11,TRUE)),\"Pick a Tournament\")","v":"Pick a Tournament"},{"$f":"IFERROR(INDEX('Reference Data'!$W$2:$W$11,MATCH($F$2,'Reference Data'!$U$2:$U$11,TRUE)),\"Pick a Tournament\")","v":"Pick a Tournament"},{"$f":"IFERROR(VLOOKUP($I155,'Reference Data'!$B$2:$H$66000,3,FALSE),\"Enter C5#\")","v":"Enter C5#"},{"$f":"IFERROR(VLOOKUP($I155,'Reference Data'!$B$2:$H$66000,2,FALSE),\"Enter C5#\")","v":"Enter C5#"},null,null,null,null,null,null,null,null,null,null,{"$f":"IFERROR(IF(VLOOKUP($I155,'Reference Data'!$B$2:$H$66000,4,TRUE)=\"M\",\"M\",\"\"),\"\")","v":""},{"$f":"IFERROR(IF(VLOOKUP($I155,'Reference Data'!$B$2:$H$66000,4,TRUE)=\"F\",\"F\",\"\"),\"\")","v":""},null,null,"2025-26"]
[151,"SANCTIONED TOURNAMENTS",{"$f":"IFERROR(INDEX('Reference Data'!$S$2:$S$13,MATCH($C$2,'Reference Data'!$R$2:$R$13,TRUE)),\"\")","v":""},{"$f":"IFERROR(INDEX('Reference Data'!$Q$2:$Q$13,MATCH($D$2,'Reference Data'!$P$2:$P$13,TRUE)),\"Pick a Zone\")","v":"SANCTIONED EVENT"},{"$f":"IFERROR(LEFT($D$2,2)&\"-\"&INDEX('Reference Data'!$V$2:$V$11,MATCH($F$2,'Reference Data'!$U$2:$U$11,TRUE)),\"Pick a Tournament\")","v":"Pick a Tournament"},{"$f":"IFERROR(INDEX('Reference Data'!$W$2:$W$11,MATCH($F$2,'Reference Data'!$U$2:$U$11,TRUE)),\"Pick a Tournament\")","v":"Pick a Tournament"},{"$f":"IFERROR(VLOOKUP($I156,'Reference Data'!$B$2:$H$66000,3,FALSE),\"Enter C5#\")","v":"Enter C5#"},{"$f":"IFERROR(VLOOKUP($I156,'Reference Data'!$B$2:$H$66000,2,FALSE),\"Enter C5#\")","v":"Enter C5#"},null,null,null,null,null,null,null,null,null,null,{"$f":"IFERROR(IF(VLOOKUP($I156,'Reference Data'!$B$2:$H$66000,4,TRUE)=\"M\",\"M\",\"\"),\"\")","v":""},{"$f":"IFERROR(IF(VLOOKUP($I156,'Reference Data'!$B$2:$H$66000,4,TRUE)=\"F\",\"F\",\"\"),\"\")","v":""},null,null,"2025-26"]
[152,"SANCTIONED TOURNAMENTS",{"$f":"IFERROR(INDEX('Reference Data'!$S$2:$S$13,MATCH($C$2,'Reference Data'!$R$2:$R$13,TRUE)),\"\")","v":""},{"$f":"IFERROR(INDEX('Reference Data'!$Q$2:$Q$13,MATCH($D$2,'Reference Data'!$P$2:$P$13,TRUE)),\"Pick a Zone\")","v":"SANCTIONED EVENT"},{"$f":"IFERROR(LEFT($D$2,2)&\"-\"&INDEX('Reference Data'!$V$2:$V$11,MATCH($F$2,'Reference Data'!$U$2:$U$11,TRUE)),\"Pick a Tournament\")","v":"Pick a Tournament"},{"$f":"IFERROR(INDEX('Reference Data'!$W$2:$W$11,MATCH($F$2,'Reference Data'!$U$2:$U$11,TRUE)),\"Pick a Tournament\")","v":"Pick a Tournament"},{"$f":"IFERROR(VLOOKUP($I157,'Reference Data'!$B$2:$H$66000,3,FALSE),\"Enter C5#\")","v":"Enter C5#"},{"$f":"IFERROR(VLOOKUP($I157,'Reference Data'!$B$2:$H$66000,2,FALSE),\"Enter C5#\")","v":"Enter C5#"},null,null,null,null,null,null,null,null,null,null,{"$f":"IFERROR(IF(VLOOKUP($I157,'Reference Data'!$B$2:$H$66000,4,TRUE)=\"M\",\"M\",\"\"),\"\")","v":""},{"$f":"IFERROR(IF(VLOOKUP($I157,'Reference Data'!$B$2:$H$66000,4,TRUE)=\"F\",\"F\",\"\"),\"\")","v":""},null,null,"2025-26"]
[153,"SANCTIONED TOURNAMENTS",{"$f":"IFERROR(INDEX('Reference Data'!$S$2:$S$13,MATCH($C$2,'Reference Data'!$R$2:$R$13,TRUE)),\"\")","v":""},{"$f":"IFERROR(INDEX('Reference Data'!$Q$2:$Q$13,MATCH($D$2,'Reference Data'!$P$2:$P$13,TRUE)),\"Pick a Zone\")","v":"SANCTIONED EVENT"},{"$f":"IFERROR(LEFT($D$2,2)&\"-\"&INDEX('Reference Data'!$V$2:$V$11,MATCH($F$2,'Reference Data'!$U$2:$U$11,TRUE)),\"Pick a Tournament\")","v":"Pick a Tournament"},{"$f":"IFERROR(INDEX('Reference Data'!$W$2:$W$11,MATCH($F$2,'Reference Data'!$U$2:$U$11,TRUE)),\"Pick a Tournament\")","v":"Pick a Tournament"},{"$f":"IFERROR(VLOOKUP($I158,'Reference Data'!$B$2:$H$66000,3,FALSE),\"Enter C5#\")","v":"Enter C5#"},{"$f":"IFERROR(VLOOKUP($I158,'Reference Data'!$B$2:$H$66000,2,FALSE),\"Enter C5#\")","v":"Enter C5#"},null,null,null,null,null,null,null,null,null,null,{"$f":"IFERROR(IF(VLOOKUP($I158,'Reference Data'!$B$2:$H$66000,4,TRUE)=\"M\",\"M\",\"\"),\"\")","v":""},{"$f":"IFERROR(IF(VLOOKUP($I158,'Reference Data'!$B$2:$H$66000,4,TRUE)=\"F\",\"F\",\"\"),\"\")","v":""},null,null,"2025-26"]
[154,"SANCTIONED TOURNAMENTS",{"$f":"IFERROR(INDEX('Reference Data'!$S$2:$S$13,MATCH($C$2,'Reference Data'!$R$2:$R$13,TRUE)),\"\")","v":""},{"$f":"IFERROR(INDEX('Reference Data'!$Q$2:$Q$13,MATCH($D$2,'Reference Data'!$P$2:$P$13,TRUE)),\"Pick a Zone\")","v":"SANCTIONED EVENT"},{"$f":"IFERROR(LEFT($D$2,2)&\"-\"&INDEX('Reference Data'!$V$2:$V$11,MATCH($F$2,'Reference Data'!$U$2:$U$11,TRUE)),\"Pick a Tournament\")","v":"Pick a Tournament"},{"$f":"IFERROR(INDEX('Reference Data'!$W$2:$W$11,MATCH($F$2,'Reference Data'!$U$2:$U$11,TRUE)),\"Pick a Tournament\")","v":"Pick a Tournament"},{"$f":"IFERROR(VLOOKUP($I159,'Reference Data'!$B$2:$H$66000,3,FALSE),\"Enter C5#\")","v":"Enter C5#"},{"$f":"IFERROR(VLOOKUP($I159,'Reference Data'!$B$2:$H$66000,2,FALSE),\"Enter C5#\")","v":"Enter C5#"},null,null,null,null,null,null,null,null,null,null,{"$f":"IFERROR(IF(VLOOKUP($I159,'Reference Data'!$B$2:$H$66000,4,TRUE)=\"M\",\"M\",\"\"),\"\")","v":""},{"$f":"IFERROR(IF(VLOOKUP($I159,'Reference Data'!$B$2:$H$66000,4,TRUE)=\"F\",\"F\",\"\"),\"\")","v":""},null,null,"2025-26"]
[155,"SANCTIONED TOURNAMENTS",{"$f":"IFERROR(INDEX('Reference Data'!$S$2:$S$13,MATCH($C$2,'Reference Data'!$R$2:$R$13,TRUE)),\"\")","v":""},{"$f":"IFERROR(INDEX('Reference Data'!$Q$2:$Q$13,MATCH($D$2,'Reference Data'!$P$2:$P$13,TRUE)),\"Pick a Zone\")","v":"SANCTIONED EVENT"},{"$f":"IFERROR(LEFT($D$2,2)&\"-\"&INDEX('Reference Data'!$V$2:$V$11,MATCH($F$2,'Reference Data'!$U$2:$U$11,TRUE)),\"Pick a Tournament\")","v":"Pick a Tournament"},{"$f":"IFERROR(INDEX('Reference Data'!$W$2:$W$11,MATCH($F$2,'Reference Data'!$U$2:$U$11,TRUE)),\"Pick a Tournament\")","v":"Pick a Tournament"},{"$f":"IFERROR(VLOOKUP($I160,'Reference Data'!$B$2:$H$66000,3,FALSE),\"Enter C5#\")","v":"Enter C5#"},{"$f":"IFERROR(VLOOKUP($I160,'Reference Data'!$B$2:$H$66000,2,FALSE),\"Enter C5#\")","v":"Enter C5#"},null,null,null,null,null,null,null,null,null,null,{"$f":"IFERROR(IF(VLOOKUP($I160,'Reference Data'!$B$2:$H$66000,4,TRUE)=\"M\",\"M\",\"\"),\"\")","v":""},{"$f":"IFERROR(IF(VLOOKUP($I160,'Reference Data'!$B$2:$H$66000,4,TRUE)=\"F\",\"F\",\"\"),\"\")","v":""},null,null,"2025-26"]
[156,"SANCTIONED TOURNAMENTS",{"$f":"IFERROR(INDEX('Reference Data'!$S$2:$S$13,MATCH($C$2,'Reference Data'!$R$2:$R$13,TRUE)),\"\")","v":""},{"$f":"IFERROR(INDEX('Reference Data'!$Q$2:$Q$13,MATCH($D$2,'Reference Data'!$P$2:$P$13,TRUE)),\"Pick a Zone\")","v":"SANCTIONED EVENT"},{"$f":"IFERROR(LEFT($D$2,2)&\"-\"&INDEX('Reference Data'!$V$2:$V$11,MATCH($F$2,'Reference Data'!$U$2:$U$11,TRUE)),\"Pick a Tournament\")","v":"Pick a Tournament"},{"$f":"IFERROR(INDEX('Reference Data'!$W$2:$W$11,MATCH($F$2,'Reference Data'!$U$2:$U$11,TRUE)),\"Pick a Tournament\")","v":"Pick a Tournament"},{"$f":"IFERROR(VLOOKUP($I161,'Reference Data'!$B$2:$H$66000,3,FALSE),\"Enter C5#\")","v":"Enter C5#"},{"$f":"IFERROR(VLOOKUP($I161,'Reference Data'!$B$2:$H$66000,2,FALSE),\"Enter C5#\")","v":"Enter C5#"},null,null,null,null,null,null,null,null,null,null,{"$f":"IFERROR(IF(VLOOKUP($I161,'Reference Data'!$B$2:$H$66000,4,TRUE)=\"M\",\"M\",\"\"),\"\")","v":""},{"$f":"IFERROR(IF(VLOOKUP($I161,'Reference Data'!$B$2:$H$66000,4,TRUE)=\"F\",\"F\",\"\"),\"\")","v":""},null,null,"2025-26"]
[157,"SANCTIONED TOURNAMENTS",{"$f":"IFERROR(INDEX('Reference Data'!$S$2:$S$13,MATCH($C$2,'Reference Data'!$R$2:$R$13,TRUE)),\"\")","v":""},{"$f":"IFERROR(INDEX('Reference Data'!$Q$2:$Q$13,MATCH($D$2,'Reference Data'!$P$2:$P$13,TRUE)),\"Pick a Zone\")","v":"SANCTIONED EVENT"},{"$f":"IFERROR(LEFT($D$2,2)&\"-\"&INDEX('Reference Data'!$V$2:$V$11,MATCH($F$2,'Reference Data'!$U$2:$U$11,TRUE)),\"Pick a Tournament\")","v":"Pick a Tournament"},{"$f":"IFERROR(INDEX('Reference Data'!$W$2:$W$11,MATCH($F$2,'Reference Data'!$U$2:$U$11,TRUE)),\"Pick a Tournament\")","v":"Pick a Tournament"},{"$f":"IFERROR(VLOOKUP($I162,'Reference Data'!$B$2:$H$66000,3,FALSE),\"Enter C5#\")","v":"Enter C5#"},{"$f":"IFERROR(VLOOKUP($I162,'Reference Data'!$B$2:$H$66000,2,FALSE),\"Enter C5#\")","v":"Enter C5#"},null,null,null,null,null,null,null,null,null,null,{"$f":"IFERROR(IF(VLOOKUP($I162,'Reference Data'!$B$2:$H$66000,4,TRUE)=\"M\",\"M\",\"\"),\"\")","v":""},{"$f":"IFERROR(IF(VLOOKUP($I162,'Reference Data'!$B$2:$H$66000,4,TRUE)=\"F\",\"F\",\"\"),\"\")","v":""},null,null,"2025-26"]
[158,"SANCTIONED TOURNAMENTS",{"$f":"IFERROR(INDEX('Reference Data'!$S$2:$S$13,MATCH($C$2,'Reference Data'!$R$2:$R$13,TRUE)),\"\")","v":""},{"$f":"IFERROR(INDEX('Reference Data'!$Q$2:$Q$13,MATCH($D$2,'Reference Data'!$P$2:$P$13,TRUE)),\"Pick a Zone\")","v":"SANCTIONED EVENT"},{"$f":"IFERROR(LEFT($D$2,2)&\"-\"&INDEX('Reference Data'!$V$2:$V$11,MATCH($F$2,'Reference Data'!$U$2:$U$11,TRUE)),\"Pick a Tournament\")","v":"Pick a Tournament"},{"$f":"IFERROR(INDEX('Reference Data'!$W$2:$W$11,MATCH($F$2,'Reference Data'!$U$2:$U$11,TRUE)),\"Pick a Tournament\")","v":"Pick a Tournament"},{"$f":"IFERROR(VLOOKUP($I163,'Reference Data'!$B$2:$H$66000,3,FALSE),\"Enter C5#\")","v":"Enter C5#"},{"$f":"IFERROR(VLOOKUP($I163,'Reference Data'!$B$2:$H$66000,2,FALSE),\"Enter C5#\")","v":"Enter C5#"},null,null,null,null,null,null,null,null,null,null,{"$f":"IFERROR(IF(VLOOKUP($I163,'Reference Data'!$B$2:$H$66000,4,TRUE)=\"M\",\"M\",\"\"),\"\")","v":""},{"$f":"IFERROR(IF(VLOOKUP($I163,'Reference Data'!$B$2:$H$66000,4,TRUE)=\"F\",\"F\",\"\"),\"\")","v":""},null,null,"2025-26"]
[159,"SANCTIONED TOURNAMENTS",{"$f":"IFERROR(INDEX('Reference Data'!$S$2:$S$13,MATCH($C$2,'Reference Data'!$R$2:$R$13,TRUE)),\"\")","v":""},{"$f":"IFERROR(INDEX('Reference Data'!$Q$2:$Q$13,MATCH($D$2,'Reference Data'!$P$2:$P$13,TRUE)),\"Pick a Zone\")","v":"SANCTIONED EVENT"},{"$f":"IFERROR(LEFT($D$2,2)&\"-\"&INDEX('Reference Data'!$V$2:$V$11,MATCH($F$2,'Reference Data'!$U$2:$U$11,TRUE)),\"Pick a Tournament\")","v":"Pick a Tournament"},{"$f":"IFERROR(INDEX('Reference Data'!$W$2:$W$11,MATCH($F$2,'Reference Data'!$U$2:$U$11,TRUE)),\"Pick a Tournament\")","v":"Pick a Tournament"},{"$f":"IFERROR(VLOOKUP($I164,'Reference Data'!$B$2:$H$66000,3,FALSE),\"Enter C5#\")","v":"Enter C5#"},{"$f":"IFERROR(VLOOKUP($I164,'Reference Data'!$B$2:$H$66000,2,FALSE),\"Enter C5#\")","v":"Enter C5#"},null,null,null,null,null,null,null,null,null,null,{"$f":"IFERROR(IF(VLOOKUP($I164,'Reference Data'!$B$2:$H$66000,4,TRUE)=\"M\",\"M\",\"\"),\"\")","v":""},{"$f":"IFERROR(IF(VLOOKUP($I164,'Reference Data'!$B$2:$H$66000,4,TRUE)=\"F\",\"F\",\"\"),\"\")","v":""},null,null,"2025-26"]
[160,"SANCTIONED TOURNAMENTS",{"$f":"IFERROR(INDEX('Reference Data'!$S$2:$S$13,MATCH($C$2,'Reference Data'!$R$2:$R$13,TRUE)),\"\")","v":""},{"$f":"IFERROR(INDEX('Reference Data'!$Q$2:$Q$13,MATCH($D$2,'Reference Data'!$P$2:$P$13,TRUE)),\"Pick a Zone\")","v":"SANCTIONED EVENT"},{"$f":"IFERROR(LEFT($D$2,2)&\"-\"&INDEX('Reference Data'!$V$2:$V$11,MATCH($F$2,'Reference Data'!$U$2:$U$11,TRUE)),\"Pick a Tournament\")","v":"Pick a Tournament"},{"$f":"IFERROR(INDEX('Reference Data'!$W$2:$W$11,MATCH($F$2,'Reference Data'!$U$2:$U$11,TRUE)),\"Pick a Tournament\")","v":"Pick a Tournament"},{"$f":"IFERROR(VLOOKUP($I165,'Reference Data'!$B$2:$H$66000,3,FALSE),\"Enter C5#\")","v":"Enter C5#"},{"$f":"IFERROR(VLOOKUP($I165,'Reference Data'!$B$2:$H$66000,2,FALSE),\"Enter C5#\")","v":"Enter C5#"},null,null,null,null,null,null,null,null,null,null,{"$f":"IFERROR(IF(VLOOKUP($I165,'Reference Data'!$B$2:$H$66000,4,TRUE)=\"M\",\"M\",\"\"),\"\")","v":""},{"$f":"IFERROR(IF(VLOOKUP($I165,'Reference Data'!$B$2:$H$66000,4,TRUE)=\"F\",\"F\",\"\"),\"\")","v":""},null,null,"2025-26"]
[161,"SANCTIONED TOURNAMENTS",{"$f":"IFERROR(INDEX('Reference Data'!$S$2:$S$13,MATCH($C$2,'Reference Data'!$R$2:$R$13,TRUE)),\"\")","v":""},{"$f":"IFERROR(INDEX('Reference Data'!$Q$2:$Q$13,MATCH($D$2,'Reference Data'!$P$2:$P$13,TRUE)),\"Pick a Zone\")","v":"SANCTIONED EVENT"},{"$f":"IFERROR(LEFT($D$2,2)&\"-\"&INDEX('Reference Data'!$V$2:$V$11,MATCH($F$2,'Reference Data'!$U$2:$U$11,TRUE)),\"Pick a Tournament\")","v":"Pick a Tournament"},{"$f":"IFERROR(INDEX('Reference Data'!$W$2:$W$11,MATCH($F$2,'Reference Data'!$U$2:$U$11,TRUE)),\"Pick a Tournament\")","v":"Pick a Tournament"},{"$f":"IFERROR(VLOOKUP($I166,'Reference Data'!$B$2:$H$66000,3,FALSE),\"Enter C5#\")","v":"Enter C5#"},{"$f":"IFERROR(VLOOKUP($I166,'Reference Data'!$B$2:$H$66000,2,FALSE),\"Enter C5#\")","v":"Enter C5#"},null,null,null,null,null,null,null,null,null,null,{"$f":"IFERROR(IF(VLOOKUP($I166,'Reference Data'!$B$2:$H$66000,4,TRUE)=\"M\",\"M\",\"\"),\"\")","v":""},{"$f":"IFERROR(IF(VLOOKUP($I166,'Reference Data'!$B$2:$H$66000,4,TRUE)=\"F\",\"F\",\"\"),\"\")","v":""},null,null,"2025-26"]
[162,"SANCTIONED TOURNAMENTS",{"$f":"IFERROR(INDEX('Reference Data'!$S$2:$S$13,MATCH($C$2,'Reference Data'!$R$2:$R$13,TRUE)),\"\")","v":""},{"$f":"IFERROR(INDEX('Reference Data'!$Q$2:$Q$13,MATCH($D$2,'Reference Data'!$P$2:$P$13,TRUE)),\"Pick a Zone\")","v":"SANCTIONED EVENT"},{"$f":"IFERROR(LEFT($D$2,2)&\"-\"&INDEX('Reference Data'!$V$2:$V$11,MATCH($F$2,'Reference Data'!$U$2:$U$11,TRUE)),\"Pick a Tournament\")","v":"Pick a Tournament"},{"$f":"IFERROR(INDEX('Reference Data'!$W$2:$W$11,MATCH($F$2,'Reference Data'!$U$2:$U$11,TRUE)),\"Pick a Tournament\")","v":"Pick a Tournament"},{"$f":"IFERROR(VLOOKUP($I167,'Reference Data'!$B$2:$H$66000,3,FALSE),\"Enter C5#\")","v":"Enter C5#"},{"$f":"IFERROR(VLOOKUP($I167,'Reference Data'!$B$2:$H$66000,2,FALSE),\"Enter C5#\")","v":"Enter C5#"},null,null,null,null,null,null,null,null,null,null,{"$f":"IFERROR(IF(VLOOKUP($I167,'Reference Data'!$B$2:$H$66000,4,TRUE)=\"M\",\"M\",\"\"),\"\")","v":""},{"$f":"IFERROR(IF(VLOOKUP($I167,'Reference Data'!$B$2:$H$66000,4,TRUE)=\"F\",\"F\",\"\"),\"\")","v":""},null,null,"2025-26"]
[163,"SANCTIONED TOURNAMENTS",{"$f":"IFERROR(INDEX('Reference Data'!$S$2:$S$13,MATCH($C$2,'Reference Data'!$R$2:$R$13,TRUE)),\"\")","v":""},{"$f":"IFERROR(INDEX('Reference Data'!$Q$2:$Q$13,MATCH($D$2,'Reference Data'!$P$2:$P$13,TRUE)),\"Pick a Zone\")","v":"SANCTIONED EVENT"},{"$f":"IFERROR(LEFT($D$2,2)&\"-\"&INDEX('Reference Data'!$V$2:$V$11,MATCH($F$2,'Reference Data'!$U$2:$U$11,TRUE)),\"Pick a Tournament\")","v":"Pick a Tournament"},{"$f":"IFERROR(INDEX('Reference Data'!$W$2:$W$11,MATCH($F$2,'Reference Data'!$U$2:$U$11,TRUE)),\"Pick a Tournament\")","v":"Pick a Tournament"},{"$f":"IFERROR(VLOOKUP($I168,'Reference Data'!$B$2:$H$66000,3,FALSE),\"Enter C5#\")","v":"Enter C5#"},{"$f":"IFERROR(VLOOKUP($I168,'Reference Data'!$B$2:$H$66000,2,FALSE),\"Enter C5#\")","v":"Enter C5#"},null,null,null,null,null,null,null,null,null,null,{"$f":"IFERROR(IF(VLOOKUP($I168,'Reference Data'!$B$2:$H$66000,4,TRUE)=\"M\",\"M\",\"\"),\"\")","v":""},{"$f":"IFERROR(IF(VLOOKUP($I168,'Reference Data'!$B$2:$H$66000,4,TRUE)=\"F\",\"F\",\"\"),\"\")","v":""},null,null,"2025-26"]
[164,"SANCTIONED TOURNAMENTS",{"$f":"IFERROR(INDEX('Reference Data'!$S$2:$S$13,MATCH($C$2,'Reference Data'!$R$2:$R$13,TRUE)),\"\")","v":""},{"$f":"IFERROR(INDEX('Reference Data'!$Q$2:$Q$13,MATCH($D$2,'Reference Data'!$P$2:$P$13,TRUE)),\"Pick a Zone\")","v":"SANCTIONED EVENT"},{"$f":"IFERROR(LEFT($D$2,2)&\"-\"&INDEX('Reference Data'!$V$2:$V$11,MATCH($F$2,'Reference Data'!$U$2:$U$11,TRUE)),\"Pick a Tournament\")","v":"Pick a Tournament"},{"$f":"IFERROR(INDEX('Reference Data'!$W$2:$W$11,MATCH($F$2,'Reference Data'!$U$2:$U$11,TRUE)),\"Pick a Tournament\")","v":"Pick a Tournament"},{"$f":"IFERROR(VLOOKUP($I169,'Reference Data'!$B$2:$H$66000,3,FALSE),\"Enter C5#\")","v":"Enter C5#"},{"$f":"IFERROR(VLOOKUP($I169,'Reference Data'!$B$2:$H$66000,2,FALSE),\"Enter C5#\")","v":"Enter C5#"},null,null,null,null,null,null,null,null,null,null,{"$f":"IFERROR(IF(VLOOKUP($I169,'Reference Data'!$B$2:$H$66000,4,TRUE)=\"M\",\"M\",\"\"),\"\")","v":""},{"$f":"IFERROR(IF(VLOOKUP($I169,'Reference Data'!$B$2:$H$66000,4,TRUE)=\"F\",\"F\",\"\"),\"\")","v":""},null,null,"2025-26"]
[165,"SANCTIONED TOURNAMENTS",{"$f":"IFERROR(INDEX('Reference Data'!$S$2:$S$13,MATCH($C$2,'Reference Data'!$R$2:$R$13,TRUE)),\"\")","v":""},{"$f":"IFERROR(INDEX('Reference Data'!$Q$2:$Q$13,MATCH($D$2,'Reference Data'!$P$2:$P$13,TRUE)),\"Pick a Zone\")","v":"SANCTIONED EVENT"},{"$f":"IFERROR(LEFT($D$2,2)&\"-\"&INDEX('Reference Data'!$V$2:$V$11,MATCH($F$2,'Reference Data'!$U$2:$U$11,TRUE)),\"Pick a Tournament\")","v":"Pick a Tournament"},{"$f":"IFERROR(INDEX('Reference Data'!$W$2:$W$11,MATCH($F$2,'Reference Data'!$U$2:$U$11,TRUE)),\"Pick a Tournament\")","v":"Pick a Tournament"},{"$f":"IFERROR(VLOOKUP($I170,'Reference Data'!$B$2:$H$66000,3,FALSE),\"Enter C5#\")","v":"Enter C5#"},{"$f":"IFERROR(VLOOKUP($I170,'Reference Data'!$B$2:$H$66000,2,FALSE),\"Enter C5#\")","v":"Enter C5#"},null,null,null,null,null,null,null,null,null,null,{"$f":"IFERROR(IF(VLOOKUP($I170,'Reference Data'!$B$2:$H$66000,4,TRUE)=\"M\",\"M\",\"\"),\"\")","v":""},{"$f":"IFERROR(IF(VLOOKUP($I170,'Reference Data'!$B$2:$H$66000,4,TRUE)=\"F\",\"F\",\"\"),\"\")","v":""},null,null,"2025-26"]
[166,"SANCTIONED TOURNAMENTS",{"$f":"IFERROR(INDEX('Reference Data'!$S$2:$S$13,MATCH($C$2,'Reference Data'!$R$2:$R$13,TRUE)),\"\")","v":""},{"$f":"IFERROR(INDEX('Reference Data'!$Q$2:$Q$13,MATCH($D$2,'Reference Data'!$P$2:$P$13,TRUE)),\"Pick a Zone\")","v":"SANCTIONED EVENT"},{"$f":"IFERROR(LEFT($D$2,2)&\"-\"&INDEX('Reference Data'!$V$2:$V$11,MATCH($F$2,'Reference Data'!$U$2:$U$11,TRUE)),\"Pick a Tournament\")","v":"Pick a Tournament"},{"$f":"IFERROR(INDEX('Reference Data'!$W$2:$W$11,MATCH($F$2,'Reference Data'!$U$2:$U$11,TRUE)),\"Pick a Tournament\")","v":"Pick a Tournament"},{"$f":"IFERROR(VLOOKUP($I171,'Reference Data'!$B$2:$H$66000,3,FALSE),\"Enter C5#\")","v":"Enter C5#"},{"$f":"IFERROR(VLOOKUP($I171,'Reference Data'!$B$2:$H$66000,2,FALSE),\"Enter C5#\")","v":"Enter C5#"},null,null,null,null,null,null,null,null,null,null,{"$f":"IFERROR(IF(VLOOKUP($I171,'Reference Data'!$B$2:$H$66000,4,TRUE)=\"M\",\"M\",\"\"),\"\")","v":""},{"$f":"IFERROR(IF(VLOOKUP($I171,'Reference Data'!$B$2:$H$66000,4,TRUE)=\"F\",\"F\",\"\"),\"\")","v":""},null,null,"2025-26"]
[167,"SANCTIONED TOURNAMENTS",{"$f":"IFERROR(INDEX('Reference Data'!$S$2:$S$13,MATCH($C$2,'Reference Data'!$R$2:$R$13,TRUE)),\"\")","v":""},{"$f":"IFERROR(INDEX('Reference Data'!$Q$2:$Q$13,MATCH($D$2,'Reference Data'!$P$2:$P$13,TRUE)),\"Pick a Zone\")","v":"SANCTIONED EVENT"},{"$f":"IFERROR(LEFT($D$2,2)&\"-\"&INDEX('Reference Data'!$V$2:$V$11,MATCH($F$2,'Reference Data'!$U$2:$U$11,TRUE)),\"Pick a Tournament\")","v":"Pick a Tournament"},{"$f":"IFERROR(INDEX('Reference Data'!$W$2:$W$11,MATCH($F$2,'Reference Data'!$U$2:$U$11,TRUE)),\"Pick a Tournament\")","v":"Pick a Tournament"},{"$f":"IFERROR(VLOOKUP($I172,'Reference Data'!$B$2:$H$66000,3,FALSE),\"Enter C5#\")","v":"Enter C5#"},{"$f":"IFERROR(VLOOKUP($I172,'Reference Data'!$B$2:$H$66000,2,FALSE),\"Enter C5#\")","v":"Enter C5#"},null,null,null,null,null,null,null,null,null,null,{"$f":"IFERROR(IF(VLOOKUP($I172,'Reference Data'!$B$2:$H$66000,4,TRUE)=\"M\",\"M\",\"\"),\"\")","v":""},{"$f":"IFERROR(IF(VLOOKUP($I172,'Reference Data'!$B$2:$H$66000,4,TRUE)=\"F\",\"F\",\"\"),\"\")","v":""},null,null,"2025-26"]
[168,"SANCTIONED TOURNAMENTS",{"$f":"IFERROR(INDEX('Reference Data'!$S$2:$S$13,MATCH($C$2,'Reference Data'!$R$2:$R$13,TRUE)),\"\")","v":""},{"$f":"IFERROR(INDEX('Reference Data'!$Q$2:$Q$13,MATCH($D$2,'Reference Data'!$P$2:$P$13,TRUE)),\"Pick a Zone\")","v":"SANCTIONED EVENT"},{"$f":"IFERROR(LEFT($D$2,2)&\"-\"&INDEX('Reference Data'!$V$2:$V$11,MATCH($F$2,'Reference Data'!$U$2:$U$11,TRUE)),\"Pick a Tournament\")","v":"Pick a Tournament"},{"$f":"IFERROR(INDEX('Reference Data'!$W$2:$W$11,MATCH($F$2,'Reference Data'!$U$2:$U$11,TRUE)),\"Pick a Tournament\")","v":"Pick a Tournament"},{"$f":"IFERROR(VLOOKUP($I173,'Reference Data'!$B$2:$H$66000,3,FALSE),\"Enter C5#\")","v":"Enter C5#"},{"$f":"IFERROR(VLOOKUP($I173,'Reference Data'!$B$2:$H$66000,2,FALSE),\"Enter C5#\")","v":"Enter C5#"},null,null,null,null,null,null,null,null,null,null,{"$f":"IFERROR(IF(VLOOKUP($I173,'Reference Data'!$B$2:$H$66000,4,TRUE)=\"M\",\"M\",\"\"),\"\")","v":""},{"$f":"IFERROR(IF(VLOOKUP($I173,'Reference Data'!$B$2:$H$66000,4,TRUE)=\"F\",\"F\",\"\"),\"\")","v":""},null,null,"2025-26"]
[169,"SANCTIONED TOURNAMENTS",{"$f":"IFERROR(INDEX('Reference Data'!$S$2:$S$13,MATCH($C$2,'Reference Data'!$R$2:$R$13,TRUE)),\"\")","v":""},{"$f":"IFERROR(INDEX('Reference Data'!$Q$2:$Q$13,MATCH($D$2,'Reference Data'!$P$2:$P$13,TRUE)),\"Pick a Zone\")","v":"SANCTIONED EVENT"},{"$f":"IFERROR(LEFT($D$2,2)&\"-\"&INDEX('Reference Data'!$V$2:$V$11,MATCH($F$2,'Reference Data'!$U$2:$U$11,TRUE)),\"Pick a Tournament\")","v":"Pick a Tournament"},{"$f":"IFERROR(INDEX('Reference Data'!$W$2:$W$11,MATCH($F$2,'Reference Data'!$U$2:$U$11,TRUE)),\"Pick a Tournament\")","v":"Pick a Tournament"},{"$f":"IFERROR(VLOOKUP($I174,'Reference Data'!$B$2:$H$66000,3,FALSE),\"Enter C5#\")","v":"Enter C5#"},{"$f":"IFERROR(VLOOKUP($I174,'Reference Data'!$B$2:$H$66000,2,FALSE),\"Enter C5#\")","v":"Enter C5#"},null,null,null,null,null,null,null,null,null,null,{"$f":"IFERROR(IF(VLOOKUP($I174,'Reference Data'!$B$2:$H$66000,4,TRUE)=\"M\",\"M\",\"\"),\"\")","v":""},{"$f":"IFERROR(IF(VLOOKUP($I174,'Reference Data'!$B$2:$H$66000,4,TRUE)=\"F\",\"F\",\"\"),\"\")","v":""},null,null,"2025-26"]
[170,"SANCTIONED TOURNAMENTS",{"$f":"IFERROR(INDEX('Reference Data'!$S$2:$S$13,MATCH($C$2,'Reference Data'!$R$2:$R$13,TRUE)),\"\")","v":""},{"$f":"IFERROR(INDEX('Reference Data'!$Q$2:$Q$13,MATCH($D$2,'Reference Data'!$P$2:$P$13,TRUE)),\"Pick a Zone\")","v":"SANCTIONED EVENT"},{"$f":"IFERROR(LEFT($D$2,2)&\"-\"&INDEX('Reference Data'!$V$2:$V$11,MATCH($F$2,'Reference Data'!$U$2:$U$11,TRUE)),\"Pick a Tournament\")","v":"Pick a Tournament"},{"$f":"IFERROR(INDEX('Reference Data'!$W$2:$W$11,MATCH($F$2,'Reference Data'!$U$2:$U$11,TRUE)),\"Pick a Tournament\")","v":"Pick a Tournament"},{"$f":"IFERROR(VLOOKUP($I175,'Reference Data'!$B$2:$H$66000,3,FALSE),\"Enter C5#\")","v":"Enter C5#"},{"$f":"IFERROR(VLOOKUP($I175,'Reference Data'!$B$2:$H$66000,2,FALSE),\"Enter C5#\")","v":"Enter C5#"},null,null,null,null,null,null,null,null,null,null,{"$f":"IFERROR(IF(VLOOKUP($I175,'Reference Data'!$B$2:$H$66000,4,TRUE)=\"M\",\"M\",\"\"),\"\")","v":""},{"$f":"IFERROR(IF(VLOOKUP($I175,'Reference Data'!$B$2:$H$66000,4,TRUE)=\"F\",\"F\",\"\"),\"\")","v":""},null,null,"2025-26"]
[171,"SANCTIONED TOURNAMENTS",{"$f":"IFERROR(INDEX('Reference Data'!$S$2:$S$13,MATCH($C$2,'Reference Data'!$R$2:$R$13,TRUE)),\"\")","v":""},{"$f":"IFERROR(INDEX('Reference Data'!$Q$2:$Q$13,MATCH($D$2,'Reference Data'!$P$2:$P$13,TRUE)),\"Pick a Zone\")","v":"SANCTIONED EVENT"},{"$f":"IFERROR(LEFT($D$2,2)&\"-\"&INDEX('Reference Data'!$V$2:$V$11,MATCH($F$2,'Reference Data'!$U$2:$U$11,TRUE)),\"Pick a Tournament\")","v":"Pick a Tournament"},{"$f":"IFERROR(INDEX('Reference Data'!$W$2:$W$11,MATCH($F$2,'Reference Data'!$U$2:$U$11,TRUE)),\"Pick a Tournament\")","v":"Pick a Tournament"},{"$f":"IFERROR(VLOOKUP($I176,'Reference Data'!$B$2:$H$66000,3,FALSE),\"Enter C5#\")","v":"Enter C5#"},{"$f":"IFERROR(VLOOKUP($I176,'Reference Data'!$B$2:$H$66000,2,FALSE),\"Enter C5#\")","v":"Enter C5#"},null,null,null,null,null,null,null,null,null,null,{"$f":"IFERROR(IF(VLOOKUP($I176,'Reference Data'!$B$2:$H$66000,4,TRUE)=\"M\",\"M\",\"\"),\"\")","v":""},{"$f":"IFERROR(IF(VLOOKUP($I176,'Reference Data'!$B$2:$H$66000,4,TRUE)=\"F\",\"F\",\"\"),\"\")","v":""},null,null,"2025-26"]
[172,"SANCTIONED TOURNAMENTS",{"$f":"IFERROR(INDEX('Reference Data'!$S$2:$S$13,MATCH($C$2,'Reference Data'!$R$2:$R$13,TRUE)),\"\")","v":""},{"$f":"IFERROR(INDEX('Reference Data'!$Q$2:$Q$13,MATCH($D$2,'Reference Data'!$P$2:$P$13,TRUE)),\"Pick a Zone\")","v":"SANCTIONED EVENT"},{"$f":"IFERROR(LEFT($D$2,2)&\"-\"&INDEX('Reference Data'!$V$2:$V$11,MATCH($F$2,'Reference Data'!$U$2:$U$11,TRUE)),\"Pick a Tournament\")","v":"Pick a Tournament"},{"$f":"IFERROR(INDEX('Reference Data'!$W$2:$W$11,MATCH($F$2,'Reference Data'!$U$2:$U$11,TRUE)),\"Pick a Tournament\")","v":"Pick a Tournament"},{"$f":"IFERROR(VLOOKUP($I177,'Reference Data'!$B$2:$H$66000,3,FALSE),\"Enter C5#\")","v":"Enter C5#"},{"$f":"IFERROR(VLOOKUP($I177,'Reference Data'!$B$2:$H$66000,2,FALSE),\"Enter C5#\")","v":"Enter C5#"},null,null,null,null,null,null,null,null,null,null,{"$f":"IFERROR(IF(VLOOKUP($I177,'Reference Data'!$B$2:$H$66000,4,TRUE)=\"M\",\"M\",\"\"),\"\")","v":""},{"$f":"IFERROR(IF(VLOOKUP($I177,'Reference Data'!$B$2:$H$66000,4,TRUE)=\"F\",\"F\",\"\"),\"\")","v":""},null,null,"2025-26"]
[173,"SANCTIONED TOURNAMENTS",{"$f":"IFERROR(INDEX('Reference Data'!$S$2:$S$13,MATCH($C$2,'Reference Data'!$R$2:$R$13,TRUE)),\"\")","v":""},{"$f":"IFERROR(INDEX('Reference Data'!$Q$2:$Q$13,MATCH($D$2,'Reference Data'!$P$2:$P$13,TRUE)),\"Pick a Zone\")","v":"SANCTIONED EVENT"},{"$f":"IFERROR(LEFT($D$2,2)&\"-\"&INDEX('Reference Data'!$V$2:$V$11,MATCH($F$2,'Reference Data'!$U$2:$U$11,TRUE)),\"Pick a Tournament\")","v":"Pick a Tournament"},{"$f":"IFERROR(INDEX('Reference Data'!$W$2:$W$11,MATCH($F$2,'Reference Data'!$U$2:$U$11,TRUE)),\"Pick a Tournament\")","v":"Pick a Tournament"},{"$f":"IFERROR(VLOOKUP($I178,'Reference Data'!$B$2:$H$66000,3,FALSE),\"Enter C5#\")","v":"Enter C5#"},{"$f":"IFERROR(VLOOKUP($I178,'Reference Data'!$B$2:$H$66000,2,FALSE),\"Enter C5#\")","v":"Enter C5#"},null,null,null,null,null,null,null,null,null,null,{"$f":"IFERROR(IF(VLOOKUP($I178,'Reference Data'!$B$2:$H$66000,4,TRUE)=\"M\",\"M\",\"\"),\"\")","v":""},{"$f":"IFERROR(IF(VLOOKUP($I178,'Reference Data'!$B$2:$H$66000,4,TRUE)=\"F\",\"F\",\"\"),\"\")","v":""},null,null,"2025-26"]
[174,"SANCTIONED TOURNAMENTS",{"$f":"IFERROR(INDEX('Reference Data'!$S$2:$S$13,MATCH($C$2,'Reference Data'!$R$2:$R$13,TRUE)),\"\")","v":""},{"$f":"IFERROR(INDEX('Reference Data'!$Q$2:$Q$13,MATCH($D$2,'Reference Data'!$P$2:$P$13,TRUE)),\"Pick a Zone\")","v":"SANCTIONED EVENT"},{"$f":"IFERROR(LEFT($D$2,2)&\"-\"&INDEX('Reference Data'!$V$2:$V$11,MATCH($F$2,'Reference Data'!$U$2:$U$11,TRUE)),\"Pick a Tournament\")","v":"Pick a Tournament"},{"$f":"IFERROR(INDEX('Reference Data'!$W$2:$W$11,MATCH($F$2,'Reference Data'!$U$2:$U$11,TRUE)),\"Pick a Tournament\")","v":"Pick a Tournament"},{"$f":"IFERROR(VLOOKUP($I179,'Reference Data'!$B$2:$H$66000,3,FALSE),\"Enter C5#\")","v":"Enter C5#"},{"$f":"IFERROR(VLOOKUP($I179,'Reference Data'!$B$2:$H$66000,2,FALSE),\"Enter C5#\")","v":"Enter C5#"},null,null,null,null,null,null,null,null,null,null,{"$f":"IFERROR(IF(VLOOKUP($I179,'Reference Data'!$B$2:$H$66000,4,TRUE)=\"M\",\"M\",\"\"),\"\")","v":""},{"$f":"IFERROR(IF(VLOOKUP($I179,'Reference Data'!$B$2:$H$66000,4,TRUE)=\"F\",\"F\",\"\"),\"\")","v":""},null,null,"2025-26"]
[175,"SANCTIONED TOURNAMENTS",{"$f":"IFERROR(INDEX('Reference Data'!$S$2:$S$13,MATCH($C$2,'Reference Data'!$R$2:$R$13,TRUE)),\"\")","v":""},{"$f":"IFERROR(INDEX('Reference Data'!$Q$2:$Q$13,MATCH($D$2,'Reference Data'!$P$2:$P$13,TRUE)),\"Pick a Zone\")","v":"SANCTIONED EVENT"},{"$f":"IFERROR(LEFT($D$2,2)&\"-\"&INDEX('Reference Data'!$V$2:$V$11,MATCH($F$2,'Reference Data'!$U$2:$U$11,TRUE)),\"Pick a Tournament\")","v":"Pick a Tournament"},{"$f":"IFERROR(INDEX('Reference Data'!$W$2:$W$11,MATCH($F$2,'Reference Data'!$U$2:$U$11,TRUE)),\"Pick a Tournament\")","v":"Pick a Tournament"},{"$f":"IFERROR(VLOOKUP($I180,'Reference Data'!$B$2:$H$66000,3,FALSE),\"Enter C5#\")","v":"Enter C5#"},{"$f":"IFERROR(VLOOKUP($I180,'Reference Data'!$B$2:$H$66000,2,FALSE),\"Enter C5#\")","v":"Enter C5#"},null,null,null,null,null,null,null,null,null,null,{"$f":"IFERROR(IF(VLOOKUP($I180,'Reference Data'!$B$2:$H$66000,4,TRUE)=\"M\",\"M\",\"\"),\"\")","v":""},{"$f":"IFERROR(IF(VLOOKUP($I180,'Reference Data'!$B$2:$H$66000,4,TRUE)=\"F\",\"F\",\"\"),\"\")","v":""},null,null,"2025-26"]
[176,"SANCTIONED TOURNAMENTS",{"$f":"IFERROR(INDEX('Reference Data'!$S$2:$S$13,MATCH($C$2,'Reference Data'!$R$2:$R$13,TRUE)),\"\")","v":""},{"$f":"IFERROR(INDEX('Reference Data'!$Q$2:$Q$13,MATCH($D$2,'Reference Data'!$P$2:$P$13,TRUE)),\"Pick a Zone\")","v":"SANCTIONED EVENT"},{"$f":"IFERROR(LEFT($D$2,2)&\"-\"&INDEX('Reference Data'!$V$2:$V$11,MATCH($F$2,'Reference Data'!$U$2:$U$11,TRUE)),\"Pick a Tournament\")","v":"Pick a Tournament"},{"$f":"IFERROR(INDEX('Reference Data'!$W$2:$W$11,MATCH($F$2,'Reference Data'!$U$2:$U$11,TRUE)),\"Pick a Tournament\")","v":"Pick a Tournament"},{"$f":"IFERROR(VLOOKUP($I181,'Reference Data'!$B$2:$H$66000,3,FALSE),\"Enter C5#\")","v":"Enter C5#"},{"$f":"IFERROR(VLOOKUP($I181,'Reference Data'!$B$2:$H$66000,2,FALSE),\"Enter C5#\")","v":"Enter C5#"},null,null,null,null,null,null,null,null,null,null,{"$f":"IFERROR(IF(VLOOKUP($I181,'Reference Data'!$B$2:$H$66000,4,TRUE)=\"M\",\"M\",\"\"),\"\")","v":""},{"$f":"IFERROR(IF(VLOOKUP($I181,'Reference Data'!$B$2:$H$66000,4,TRUE)=\"F\",\"F\",\"\"),\"\")","v":""},null,null,"2025-26"]
[177,"SANCTIONED TOURNAMENTS",{"$f":"IFERROR(INDEX('Reference Data'!$S$2:$S$13,MATCH($C$2,'Reference Data'!$R$2:$R$13,TRUE)),\"\")","v":""},{"$f":"IFERROR(INDEX('Reference Data'!$Q$2:$Q$13,MATCH($D$2,'Reference Data'!$P$2:$P$13,TRUE)),\"Pick a Zone\")","v":"SANCTIONED EVENT"},{"$f":"IFERROR(LEFT($D$2,2)&\"-\"&INDEX('Reference Data'!$V$2:$V$11,MATCH($F$2,'Reference Data'!$U$2:$U$11,TRUE)),\"Pick a Tournament\")","v":"Pick a Tournament"},{"$f":"IFERROR(INDEX('Reference Data'!$W$2:$W$11,MATCH($F$2,'Reference Data'!$U$2:$U$11,TRUE)),\"Pick a Tournament\")","v":"Pick a Tournament"},{"$f":"IFERROR(VLOOKUP($I182,'Reference Data'!$B$2:$H$66000,3,FALSE),\"Enter C5#\")","v":"Enter C5#"},{"$f":"IFERROR(VLOOKUP($I182,'Reference Data'!$B$2:$H$66000,2,FALSE),\"Enter C5#\")","v":"Enter C5#"},null,null,null,null,null,null,null,null,null,null,{"$f":"IFERROR(IF(VLOOKUP($I182,'Reference Data'!$B$2:$H$66000,4,TRUE)=\"M\",\"M\",\"\"),\"\")","v":""},{"$f":"IFERROR(IF(VLOOKUP($I182,'Reference Data'!$B$2:$H$66000,4,TRUE)=\"F\",\"F\",\"\"),\"\")","v":""},null,null,"2025-26"]
[178,"SANCTIONED TOURNAMENTS",{"$f":"IFERROR(INDEX('Reference Data'!$S$2:$S$13,MATCH($C$2,'Reference Data'!$R$2:$R$13,TRUE)),\"\")","v":""},{"$f":"IFERROR(INDEX('Reference Data'!$Q$2:$Q$13,MATCH($D$2,'Reference Data'!$P$2:$P$13,TRUE)),\"Pick a Zone\")","v":"SANCTIONED EVENT"},{"$f":"IFERROR(LEFT($D$2,2)&\"-\"&INDEX('Reference Data'!$V$2:$V$11,MATCH($F$2,'Reference Data'!$U$2:$U$11,TRUE)),\"Pick a Tournament\")","v":"Pick a Tournament"},{"$f":"IFERROR(INDEX('Reference Data'!$W$2:$W$11,MATCH($F$2,'Reference Data'!$U$2:$U$11,TRUE)),\"Pick a Tournament\")","v":"Pick a Tournament"},{"$f":"IFERROR(VLOOKUP($I183,'Reference Data'!$B$2:$H$66000,3,FALSE),\"Enter C5#\")","v":"Enter C5#"},{"$f":"IFERROR(VLOOKUP($I183,'Reference Data'!$B$2:$H$66000,2,FALSE),\"Enter C5#\")","v":"Enter C5#"},null,null,null,null,null,null,null,null,null,null,{"$f":"IFERROR(IF(VLOOKUP($I183,'Reference Data'!$B$2:$H$66000,4,TRUE)=\"M\",\"M\",\"\"),\"\")","v":""},{"$f":"IFERROR(IF(VLOOKUP($I183,'Reference Data'!$B$2:$H$66000,4,TRUE)=\"F\",\"F\",\"\"),\"\")","v":""},null,null,"2025-26"]
[179,"SANCTIONED TOURNAMENTS",{"$f":"IFERROR(INDEX('Reference Data'!$S$2:$S$13,MATCH($C$2,'Reference Data'!$R$2:$R$13,TRUE)),\"\")","v":""},{"$f":"IFERROR(INDEX('Reference Data'!$Q$2:$Q$13,MATCH($D$2,'Reference Data'!$P$2:$P$13,TRUE)),\"Pick a Zone\")","v":"SANCTIONED EVENT"},{"$f":"IFERROR(LEFT($D$2,2)&\"-\"&INDEX('Reference Data'!$V$2:$V$11,MATCH($F$2,'Reference Data'!$U$2:$U$11,TRUE)),\"Pick a Tournament\")","v":"Pick a Tournament"},{"$f":"IFERROR(INDEX('Reference Data'!$W$2:$W$11,MATCH($F$2,'Reference Data'!$U$2:$U$11,TRUE)),\"Pick a Tournament\")","v":"Pick a Tournament"},{"$f":"IFERROR(VLOOKUP($I184,'Reference Data'!$B$2:$H$66000,3,FALSE),\"Enter C5#\")","v":"Enter C5#"},{"$f":"IFERROR(VLOOKUP($I184,'Reference Data'!$B$2:$H$66000,2,FALSE),\"Enter C5#\")","v":"Enter C5#"},null,null,null,null,null,null,null,null,null,null,{"$f":"IFERROR(IF(VLOOKUP($I184,'Reference Data'!$B$2:$H$66000,4,TRUE)=\"M\",\"M\",\"\"),\"\")","v":""},{"$f":"IFERROR(IF(VLOOKUP($I184,'Reference Data'!$B$2:$H$66000,4,TRUE)=\"F\",\"F\",\"\"),\"\")","v":""},null,null,"2025-26"]
[180,"SANCTIONED TOURNAMENTS",{"$f":"IFERROR(INDEX('Reference Data'!$S$2:$S$13,MATCH($C$2,'Reference Data'!$R$2:$R$13,TRUE)),\"\")","v":""},{"$f":"IFERROR(INDEX('Reference Data'!$Q$2:$Q$13,MATCH($D$2,'Reference Data'!$P$2:$P$13,TRUE)),\"Pick a Zone\")","v":"SANCTIONED EVENT"},{"$f":"IFERROR(LEFT($D$2,2)&\"-\"&INDEX('Reference Data'!$V$2:$V$11,MATCH($F$2,'Reference Data'!$U$2:$U$11,TRUE)),\"Pick a Tournament\")","v":"Pick a Tournament"},{"$f":"IFERROR(INDEX('Reference Data'!$W$2:$W$11,MATCH($F$2,'Reference Data'!$U$2:$U$11,TRUE)),\"Pick a Tournament\")","v":"Pick a Tournament"},{"$f":"IFERROR(VLOOKUP($I185,'Reference Data'!$B$2:$H$66000,3,FALSE),\"Enter C5#\")","v":"Enter C5#"},{"$f":"IFERROR(VLOOKUP($I185,'Reference Data'!$B$2:$H$66000,2,FALSE),\"Enter C5#\")","v":"Enter C5#"},null,null,null,null,null,null,null,null,null,null,{"$f":"IFERROR(IF(VLOOKUP($I185,'Reference Data'!$B$2:$H$66000,4,TRUE)=\"M\",\"M\",\"\"),\"\")","v":""},{"$f":"IFERROR(IF(VLOOKUP($I185,'Reference Data'!$B$2:$H$66000,4,TRUE)=\"F\",\"F\",\"\"),\"\")","v":""},null,null,"2025-26"]
[181,"SANCTIONED TOURNAMENTS",{"$f":"IFERROR(INDEX('Reference Data'!$S$2:$S$13,MATCH($C$2,'Reference Data'!$R$2:$R$13,TRUE)),\"\")","v":""},{"$f":"IFERROR(INDEX('Reference Data'!$Q$2:$Q$13,MATCH($D$2,'Reference Data'!$P$2:$P$13,TRUE)),\"Pick a Zone\")","v":"SANCTIONED EVENT"},{"$f":"IFERROR(LEFT($D$2,2)&\"-\"&INDEX('Reference Data'!$V$2:$V$11,MATCH($F$2,'Reference Data'!$U$2:$U$11,TRUE)),\"Pick a Tournament\")","v":"Pick a Tournament"},{"$f":"IFERROR(INDEX('Reference Data'!$W$2:$W$11,MATCH($F$2,'Reference Data'!$U$2:$U$11,TRUE)),\"Pick a Tournament\")","v":"Pick a Tournament"},{"$f":"IFERROR(VLOOKUP($I186,'Reference Data'!$B$2:$H$66000,3,FALSE),\"Enter C5#\")","v":"Enter C5#"},{"$f":"IFERROR(VLOOKUP($I186,'Reference Data'!$B$2:$H$66000,2,FALSE),\"Enter C5#\")","v":"Enter C5#"},null,null,null,null,null,null,null,null,null,null,{"$f":"IFERROR(IF(VLOOKUP($I186,'Reference Data'!$B$2:$H$66000,4,TRUE)=\"M\",\"M\",\"\"),\"\")","v":""},{"$f":"IFERROR(IF(VLOOKUP($I186,'Reference Data'!$B$2:$H$66000,4,TRUE)=\"F\",\"F\",\"\"),\"\")","v":""},null,null,"2025-26"]
[182,"SANCTIONED TOURNAMENTS",{"$f":"IFERROR(INDEX('Reference Data'!$S$2:$S$13,MATCH($C$2,'Reference Data'!$R$2:$R$13,TRUE)),\"\")","v":""},{"$f":"IFERROR(INDEX('Reference Data'!$Q$2:$Q$13,MATCH($D$2,'Reference Data'!$P$2:$P$13,TRUE)),\"Pick a Zone\")","v":"SANCTIONED EVENT"},{"$f":"IFERROR(LEFT($D$2,2)&\"-\"&INDEX('Reference Data'!$V$2:$V$11,MATCH($F$2,'Reference Data'!$U$2:$U$11,TRUE)),\"Pick a Tournament\")","v":"Pick a Tournament"},{"$f":"IFERROR(INDEX('Reference Data'!$W$2:$W$11,MATCH($F$2,'Reference Data'!$U$2:$U$11,TRUE)),\"Pick a Tournament\")","v":"Pick a Tournament"},{"$f":"IFERROR(VLOOKUP($I187,'Reference Data'!$B$2:$H$66000,3,FALSE),\"Enter C5#\")","v":"Enter C5#"},{"$f":"IFERROR(VLOOKUP($I187,'Reference Data'!$B$2:$H$66000,2,FALSE),\"Enter C5#\")","v":"Enter C5#"},null,null,null,null,null,null,null,null,null,null,{"$f":"IFERROR(IF(VLOOKUP($I187,'Reference Data'!$B$2:$H$66000,4,TRUE)=\"M\",\"M\",\"\"),\"\")","v":""},{"$f":"IFERROR(IF(VLOOKUP($I187,'Reference Data'!$B$2:$H$66000,4,TRUE)=\"F\",\"F\",\"\"),\"\")","v":""},null,null,"2025-26"]
[183,"SANCTIONED TOURNAMENTS",{"$f":"IFERROR(INDEX('Reference Data'!$S$2:$S$13,MATCH($C$2,'Reference Data'!$R$2:$R$13,TRUE)),\"\")","v":""},{"$f":"IFERROR(INDEX('Reference Data'!$Q$2:$Q$13,MATCH($D$2,'Reference Data'!$P$2:$P$13,TRUE)),\"Pick a Zone\")","v":"SANCTIONED EVENT"},{"$f":"IFERROR(LEFT($D$2,2)&\"-\"&INDEX('Reference Data'!$V$2:$V$11,MATCH($F$2,'Reference Data'!$U$2:$U$11,TRUE)),\"Pick a Tournament\")","v":"Pick a Tournament"},{"$f":"IFERROR(INDEX('Reference Data'!$W$2:$W$11,MATCH($F$2,'Reference Data'!$U$2:$U$11,TRUE)),\"Pick a Tournament\")","v":"Pick a Tournament"},{"$f":"IFERROR(VLOOKUP($I188,'Reference Data'!$B$2:$H$66000,3,FALSE),\"Enter C5#\")","v":"Enter C5#"},{"$f":"IFERROR(VLOOKUP($I188,'Reference Data'!$B$2:$H$66000,2,FALSE),\"Enter C5#\")","v":"Enter C5#"},null,null,null,null,null,null,null,null,null,null,{"$f":"IFERROR(IF(VLOOKUP($I188,'Reference Data'!$B$2:$H$66000,4,TRUE)=\"M\",\"M\",\"\"),\"\")","v":""},{"$f":"IFERROR(IF(VLOOKUP($I188,'Reference Data'!$B$2:$H$66000,4,TRUE)=\"F\",\"F\",\"\"),\"\")","v":""},null,null,"2025-26"]
[184,"SANCTIONED TOURNAMENTS",{"$f":"IFERROR(INDEX('Reference Data'!$S$2:$S$13,MATCH($C$2,'Reference Data'!$R$2:$R$13,TRUE)),\"\")","v":""},{"$f":"IFERROR(INDEX('Reference Data'!$Q$2:$Q$13,MATCH($D$2,'Reference Data'!$P$2:$P$13,TRUE)),\"Pick a Zone\")","v":"SANCTIONED EVENT"},{"$f":"IFERROR(LEFT($D$2,2)&\"-\"&INDEX('Reference Data'!$V$2:$V$11,MATCH($F$2,'Reference Data'!$U$2:$U$11,TRUE)),\"Pick a Tournament\")","v":"Pick a Tournament"},{"$f":"IFERROR(INDEX('Reference Data'!$W$2:$W$11,MATCH($F$2,'Reference Data'!$U$2:$U$11,TRUE)),\"Pick a Tournament\")","v":"Pick a Tournament"},{"$f":"IFERROR(VLOOKUP($I189,'Reference Data'!$B$2:$H$66000,3,FALSE),\"Enter C5#\")","v":"Enter C5#"},{"$f":"IFERROR(VLOOKUP($I189,'Reference Data'!$B$2:$H$66000,2,FALSE),\"Enter C5#\")","v":"Enter C5#"},null,null,null,null,null,null,null,null,null,null,{"$f":"IFERROR(IF(VLOOKUP($I189,'Reference Data'!$B$2:$H$66000,4,TRUE)=\"M\",\"M\",\"\"),\"\")","v":""},{"$f":"IFERROR(IF(VLOOKUP($I189,'Reference Data'!$B$2:$H$66000,4,TRUE)=\"F\",\"F\",\"\"),\"\")","v":""},null,null,"2025-26"]
[185,"SANCTIONED TOURNAMENTS",{"$f":"IFERROR(INDEX('Reference Data'!$S$2:$S$13,MATCH($C$2,'Reference Data'!$R$2:$R$13,TRUE)),\"\")","v":""},{"$f":"IFERROR(INDEX('Reference Data'!$Q$2:$Q$13,MATCH($D$2,'Reference Data'!$P$2:$P$13,TRUE)),\"Pick a Zone\")","v":"SANCTIONED EVENT"},{"$f":"IFERROR(LEFT($D$2,2)&\"-\"&INDEX('Reference Data'!$V$2:$V$11,MATCH($F$2,'Reference Data'!$U$2:$U$11,TRUE)),\"Pick a Tournament\")","v":"Pick a Tournament"},{"$f":"IFERROR(INDEX('Reference Data'!$W$2:$W$11,MATCH($F$2,'Reference Data'!$U$2:$U$11,TRUE)),\"Pick a Tournament\")","v":"Pick a Tournament"},{"$f":"IFERROR(VLOOKUP($I190,'Reference Data'!$B$2:$H$66000,3,FALSE),\"Enter C5#\")","v":"Enter C5#"},{"$f":"IFERROR(VLOOKUP($I190,'Reference Data'!$B$2:$H$66000,2,FALSE),\"Enter C5#\")","v":"Enter C5#"},null,null,null,null,null,null,null,null,null,null,{"$f":"IFERROR(IF(VLOOKUP($I190,'Reference Data'!$B$2:$H$66000,4,TRUE)=\"M\",\"M\",\"\"),\"\")","v":""},{"$f":"IFERROR(IF(VLOOKUP($I190,'Reference Data'!$B$2:$H$66000,4,TRUE)=\"F\",\"F\",\"\"),\"\")","v":""},null,null,"2025-26"]
[186,"SANCTIONED TOURNAMENTS",{"$f":"IFERROR(INDEX('Reference Data'!$S$2:$S$13,MATCH($C$2,'Reference Data'!$R$2:$R$13,TRUE)),\"\")","v":""},{"$f":"IFERROR(INDEX('Reference Data'!$Q$2:$Q$13,MATCH($D$2,'Reference Data'!$P$2:$P$13,TRUE)),\"Pick a Zone\")","v":"SANCTIONED EVENT"},{"$f":"IFERROR(LEFT($D$2,2)&\"-\"&INDEX('Reference Data'!$V$2:$V$11,MATCH($F$2,'Reference Data'!$U$2:$U$11,TRUE)),\"Pick a Tournament\")","v":"Pick a Tournament"},{"$f":"IFERROR(INDEX('Reference Data'!$W$2:$W$11,MATCH($F$2,'Reference Data'!$U$2:$U$11,TRUE)),\"Pick a Tournament\")","v":"Pick a Tournament"},{"$f":"IFERROR(VLOOKUP($I191,'Reference Data'!$B$2:$H$66000,3,FALSE),\"Enter C5#\")","v":"Enter C5#"},{"$f":"IFERROR(VLOOKUP($I191,'Reference Data'!$B$2:$H$66000,2,FALSE),\"Enter C5#\")","v":"Enter C5#"},null,null,null,null,null,null,null,null,null,null,{"$f":"IFERROR(IF(VLOOKUP($I191,'Reference Data'!$B$2:$H$66000,4,TRUE)=\"M\",\"M\",\"\"),\"\")","v":""},{"$f":"IFERROR(IF(VLOOKUP($I191,'Reference Data'!$B$2:$H$66000,4,TRUE)=\"F\",\"F\",\"\"),\"\")","v":""},null,null,"2025-26"]
[187,"SANCTIONED TOURNAMENTS",{"$f":"IFERROR(INDEX('Reference Data'!$S$2:$S$13,MATCH($C$2,'Reference Data'!$R$2:$R$13,TRUE)),\"\")","v":""},{"$f":"IFERROR(INDEX('Reference Data'!$Q$2:$Q$13,MATCH($D$2,'Reference Data'!$P$2:$P$13,TRUE)),\"Pick a Zone\")","v":"SANCTIONED EVENT"},{"$f":"IFERROR(LEFT($D$2,2)&\"-\"&INDEX('Reference Data'!$V$2:$V$11,MATCH($F$2,'Reference Data'!$U$2:$U$11,TRUE)),\"Pick a Tournament\")","v":"Pick a Tournament"},{"$f":"IFERROR(INDEX('Reference Data'!$W$2:$W$11,MATCH($F$2,'Reference Data'!$U$2:$U$11,TRUE)),\"Pick a Tournament\")","v":"Pick a Tournament"},{"$f":"IFERROR(VLOOKUP($I192,'Reference Data'!$B$2:$H$66000,3,FALSE),\"Enter C5#\")","v":"Enter C5#"},{"$f":"IFERROR(VLOOKUP($I192,'Reference Data'!$B$2:$H$66000,2,FALSE),\"Enter C5#\")","v":"Enter C5#"},null,null,null,null,null,null,null,null,null,null,{"$f":"IFERROR(IF(VLOOKUP($I192,'Reference Data'!$B$2:$H$66000,4,TRUE)=\"M\",\"M\",\"\"),\"\")","v":""},{"$f":"IFERROR(IF(VLOOKUP($I192,'Reference Data'!$B$2:$H$66000,4,TRUE)=\"F\",\"F\",\"\"),\"\")","v":""},null,null,"2025-26"]
[188,"SANCTIONED TOURNAMENTS",{"$f":"IFERROR(INDEX('Reference Data'!$S$2:$S$13,MATCH($C$2,'Reference Data'!$R$2:$R$13,TRUE)),\"\")","v":""},{"$f":"IFERROR(INDEX('Reference Data'!$Q$2:$Q$13,MATCH($D$2,'Reference Data'!$P$2:$P$13,TRUE)),\"Pick a Zone\")","v":"SANCTIONED EVENT"},{"$f":"IFERROR(LEFT($D$2,2)&\"-\"&INDEX('Reference Data'!$V$2:$V$11,MATCH($F$2,'Reference Data'!$U$2:$U$11,TRUE)),\"Pick a Tournament\")","v":"Pick a Tournament"},{"$f":"IFERROR(INDEX('Reference Data'!$W$2:$W$11,MATCH($F$2,'Reference Data'!$U$2:$U$11,TRUE)),\"Pick a Tournament\")","v":"Pick a Tournament"},{"$f":"IFERROR(VLOOKUP($I193,'Reference Data'!$B$2:$H$66000,3,FALSE),\"Enter C5#\")","v":"Enter C5#"},{"$f":"IFERROR(VLOOKUP($I193,'Reference Data'!$B$2:$H$66000,2,FALSE),\"Enter C5#\")","v":"Enter C5#"},null,null,null,null,null,null,null,null,null,null,{"$f":"IFERROR(IF(VLOOKUP($I193,'Reference Data'!$B$2:$H$66000,4,TRUE)=\"M\",\"M\",\"\"),\"\")","v":""},{"$f":"IFERROR(IF(VLOOKUP($I193,'Reference Data'!$B$2:$H$66000,4,TRUE)=\"F\",\"F\",\"\"),\"\")","v":""},null,null,"2025-26"]
[189,"SANCTIONED TOURNAMENTS",{"$f":"IFERROR(INDEX('Reference Data'!$S$2:$S$13,MATCH($C$2,'Reference Data'!$R$2:$R$13,TRUE)),\"\")","v":""},{"$f":"IFERROR(INDEX('Reference Data'!$Q$2:$Q$13,MATCH($D$2,'Reference Data'!$P$2:$P$13,TRUE)),\"Pick a Zone\")","v":"SANCTIONED EVENT"},{"$f":"IFERROR(LEFT($D$2,2)&\"-\"&INDEX('Reference Data'!$V$2:$V$11,MATCH($F$2,'Reference Data'!$U$2:$U$11,TRUE)),\"Pick a Tournament\")","v":"Pick a Tournament"},{"$f":"IFERROR(INDEX('Reference Data'!$W$2:$W$11,MATCH($F$2,'Reference Data'!$U$2:$U$11,TRUE)),\"Pick a Tournament\")","v":"Pick a Tournament"},{"$f":"IFERROR(VLOOKUP($I194,'Reference Data'!$B$2:$H$66000,3,FALSE),\"Enter C5#\")","v":"Enter C5#"},{"$f":"IFERROR(VLOOKUP($I194,'Reference Data'!$B$2:$H$66000,2,FALSE),\"Enter C5#\")","v":"Enter C5#"},null,null,null,null,null,null,null,null,null,null,{"$f":"IFERROR(IF(VLOOKUP($I194,'Reference Data'!$B$2:$H$66000,4,TRUE)=\"M\",\"M\",\"\"),\"\")","v":""},{"$f":"IFERROR(IF(VLOOKUP($I194,'Reference Data'!$B$2:$H$66000,4,TRUE)=\"F\",\"F\",\"\"),\"\")","v":""},null,null,"2025-26"]
[190,"SANCTIONED TOURNAMENTS",{"$f":"IFERROR(INDEX('Reference Data'!$S$2:$S$13,MATCH($C$2,'Reference Data'!$R$2:$R$13,TRUE)),\"\")","v":""},{"$f":"IFERROR(INDEX('Reference Data'!$Q$2:$Q$13,MATCH($D$2,'Reference Data'!$P$2:$P$13,TRUE)),\"Pick a Zone\")","v":"SANCTIONED EVENT"},{"$f":"IFERROR(LEFT($D$2,2)&\"-\"&INDEX('Reference Data'!$V$2:$V$11,MATCH($F$2,'Reference Data'!$U$2:$U$11,TRUE)),\"Pick a Tournament\")","v":"Pick a Tournament"},{"$f":"IFERROR(INDEX('Reference Data'!$W$2:$W$11,MATCH($F$2,'Reference Data'!$U$2:$U$11,TRUE)),\"Pick a Tournament\")","v":"Pick a Tournament"},{"$f":"IFERROR(VLOOKUP($I195,'Reference Data'!$B$2:$H$66000,3,FALSE),\"Enter C5#\")","v":"Enter C5#"},{"$f":"IFERROR(VLOOKUP($I195,'Reference Data'!$B$2:$H$66000,2,FALSE),\"Enter C5#\")","v":"Enter C5#"},null,null,null,null,null,null,null,null,null,null,{"$f":"IFERROR(IF(VLOOKUP($I195,'Reference Data'!$B$2:$H$66000,4,TRUE)=\"M\",\"M\",\"\"),\"\")","v":""},{"$f":"IFERROR(IF(VLOOKUP($I195,'Reference Data'!$B$2:$H$66000,4,TRUE)=\"F\",\"F\",\"\"),\"\")","v":""},null,null,"2025-26"]
[191,"SANCTIONED TOURNAMENTS",{"$f":"IFERROR(INDEX('Reference Data'!$S$2:$S$13,MATCH($C$2,'Reference Data'!$R$2:$R$13,TRUE)),\"\")","v":""},{"$f":"IFERROR(INDEX('Reference Data'!$Q$2:$Q$13,MATCH($D$2,'Reference Data'!$P$2:$P$13,TRUE)),\"Pick a Zone\")","v":"SANCTIONED EVENT"},{"$f":"IFERROR(LEFT($D$2,2)&\"-\"&INDEX('Reference Data'!$V$2:$V$11,MATCH($F$2,'Reference Data'!$U$2:$U$11,TRUE)),\"Pick a Tournament\")","v":"Pick a Tournament"},{"$f":"IFERROR(INDEX('Reference Data'!$W$2:$W$11,MATCH($F$2,'Reference Data'!$U$2:$U$11,TRUE)),\"Pick a Tournament\")","v":"Pick a Tournament"},{"$f":"IFERROR(VLOOKUP($I196,'Reference Data'!$B$2:$H$66000,3,FALSE),\"Enter C5#\")","v":"Enter C5#"},{"$f":"IFERROR(VLOOKUP($I196,'Reference Data'!$B$2:$H$66000,2,FALSE),\"Enter C5#\")","v":"Enter C5#"},null,null,null,null,null,null,null,null,null,null,{"$f":"IFERROR(IF(VLOOKUP($I196,'Reference Data'!$B$2:$H$66000,4,TRUE)=\"M\",\"M\",\"\"),\"\")","v":""},{"$f":"IFERROR(IF(VLOOKUP($I196,'Reference Data'!$B$2:$H$66000,4,TRUE)=\"F\",\"F\",\"\"),\"\")","v":""},null,null,"2025-26"]
[192,"SANCTIONED TOURNAMENTS",{"$f":"IFERROR(INDEX('Reference Data'!$S$2:$S$13,MATCH($C$2,'Reference Data'!$R$2:$R$13,TRUE)),\"\")","v":""},{"$f":"IFERROR(INDEX('Reference Data'!$Q$2:$Q$13,MATCH($D$2,'Reference Data'!$P$2:$P$13,TRUE)),\"Pick a Zone\")","v":"SANCTIONED EVENT"},{"$f":"IFERROR(LEFT($D$2,2)&\"-\"&INDEX('Reference Data'!$V$2:$V$11,MATCH($F$2,'Reference Data'!$U$2:$U$11,TRUE)),\"Pick a Tournament\")","v":"Pick a Tournament"},{"$f":"IFERROR(INDEX('Reference Data'!$W$2:$W$11,MATCH($F$2,'Reference Data'!$U$2:$U$11,TRUE)),\"Pick a Tournament\")","v":"Pick a Tournament"},{"$f":"IFERROR(VLOOKUP($I197,'Reference Data'!$B$2:$H$66000,3,FALSE),\"Enter C5#\")","v":"Enter C5#"},{"$f":"IFERROR(VLOOKUP($I197,'Reference Data'!$B$2:$H$66000,2,FALSE),\"Enter C5#\")","v":"Enter C5#"},null,null,null,null,null,null,null,null,null,null,{"$f":"IFERROR(IF(VLOOKUP($I197,'Reference Data'!$B$2:$H$66000,4,TRUE)=\"M\",\"M\",\"\"),\"\")","v":""},{"$f":"IFERROR(IF(VLOOKUP($I197,'Reference Data'!$B$2:$H$66000,4,TRUE)=\"F\",\"F\",\"\"),\"\")","v":""},null,null,"2025-26"]
[193,"SANCTIONED TOURNAMENTS",{"$f":"IFERROR(INDEX('Reference Data'!$S$2:$S$13,MATCH($C$2,'Reference Data'!$R$2:$R$13,TRUE)),\"\")","v":""},{"$f":"IFERROR(INDEX('Reference Data'!$Q$2:$Q$13,MATCH($D$2,'Reference Data'!$P$2:$P$13,TRUE)),\"Pick a Zone\")","v":"SANCTIONED EVENT"},{"$f":"IFERROR(LEFT($D$2,2)&\"-\"&INDEX('Reference Data'!$V$2:$V$11,MATCH($F$2,'Reference Data'!$U$2:$U$11,TRUE)),\"Pick a Tournament\")","v":"Pick a Tournament"},{"$f":"IFERROR(INDEX('Reference Data'!$W$2:$W$11,MATCH($F$2,'Reference Data'!$U$2:$U$11,TRUE)),\"Pick a Tournament\")","v":"Pick a Tournament"},{"$f":"IFERROR(VLOOKUP($I198,'Reference Data'!$B$2:$H$66000,3,FALSE),\"Enter C5#\")","v":"Enter C5#"},{"$f":"IFERROR(VLOOKUP($I198,'Reference Data'!$B$2:$H$66000,2,FALSE),\"Enter C5#\")","v":"Enter C5#"},null,null,null,null,null,null,null,null,null,null,{"$f":"IFERROR(IF(VLOOKUP($I198,'Reference Data'!$B$2:$H$66000,4,TRUE)=\"M\",\"M\",\"\"),\"\")","v":""},{"$f":"IFERROR(IF(VLOOKUP($I198,'Reference Data'!$B$2:$H$66000,4,TRUE)=\"F\",\"F\",\"\"),\"\")","v":""},null,null,"2025-26"]
[194,"SANCTIONED TOURNAMENTS",{"$f":"IFERROR(INDEX('Reference Data'!$S$2:$S$13,MATCH($C$2,'Reference Data'!$R$2:$R$13,TRUE)),\"\")","v":""},{"$f":"IFERROR(INDEX('Reference Data'!$Q$2:$Q$13,MATCH($D$2,'Reference Data'!$P$2:$P$13,TRUE)),\"Pick a Zone\")","v":"SANCTIONED EVENT"},{"$f":"IFERROR(LEFT($D$2,2)&\"-\"&INDEX('Reference Data'!$V$2:$V$11,MATCH($F$2,'Reference Data'!$U$2:$U$11,TRUE)),\"Pick a Tournament\")","v":"Pick a Tournament"},{"$f":"IFERROR(INDEX('Reference Data'!$W$2:$W$11,MATCH($F$2,'Reference Data'!$U$2:$U$11,TRUE)),\"Pick a Tournament\")","v":"Pick a Tournament"},{"$f":"IFERROR(VLOOKUP($I199,'Reference Data'!$B$2:$H$66000,3,FALSE),\"Enter C5#\")","v":"Enter C5#"},{"$f":"IFERROR(VLOOKUP($I199,'Reference Data'!$B$2:$H$66000,2,FALSE),\"Enter C5#\")","v":"Enter C5#"},null,null,null,null,null,null,null,null,null,null,{"$f":"IFERROR(IF(VLOOKUP($I199,'Reference Data'!$B$2:$H$66000,4,TRUE)=\"M\",\"M\",\"\"),\"\")","v":""},{"$f":"IFERROR(IF(VLOOKUP($I199,'Reference Data'!$B$2:$H$66000,4,TRUE)=\"F\",\"F\",\"\"),\"\")","v":""},null,null,"2025-26"]
[195,"SANCTIONED TOURNAMENTS",{"$f":"IFERROR(INDEX('Reference Data'!$S$2:$S$13,MATCH($C$2,'Reference Data'!$R$2:$R$13,TRUE)),\"\")","v":""},{"$f":"IFERROR(INDEX('Reference Data'!$Q$2:$Q$13,MATCH($D$2,'Reference Data'!$P$2:$P$13,TRUE)),\"Pick a Zone\")","v":"SANCTIONED EVENT"},{"$f":"IFERROR(LEFT($D$2,2)&\"-\"&INDEX('Reference Data'!$V$2:$V$11,MATCH($F$2,'Reference Data'!$U$2:$U$11,TRUE)),\"Pick a Tournament\")","v":"Pick a Tournament"},{"$f":"IFERROR(INDEX('Reference Data'!$W$2:$W$11,MATCH($F$2,'Reference Data'!$U$2:$U$11,TRUE)),\"Pick a Tournament\")","v":"Pick a Tournament"},{"$f":"IFERROR(VLOOKUP($I200,'Reference Data'!$B$2:$H$66000,3,FALSE),\"Enter C5#\")","v":"Enter C5#"},{"$f":"IFERROR(VLOOKUP($I200,'Reference Data'!$B$2:$H$66000,2,FALSE),\"Enter C5#\")","v":"Enter C5#"},null,null,null,null,null,null,null,null,null,null,{"$f":"IFERROR(IF(VLOOKUP($I200,'Reference Data'!$B$2:$H$66000,4,TRUE)=\"M\",\"M\",\"\"),\"\")","v":""},{"$f":"IFERROR(IF(VLOOKUP($I200,'Reference Data'!$B$2:$H$66000,4,TRUE)=\"F\",\"F\",\"\"),\"\")","v":""},null,null,"2025-26"]
[196,"SANCTIONED TOURNAMENTS",{"$f":"IFERROR(INDEX('Reference Data'!$S$2:$S$13,MATCH($C$2,'Reference Data'!$R$2:$R$13,TRUE)),\"\")","v":""},{"$f":"IFERROR(INDEX('Reference Data'!$Q$2:$Q$13,MATCH($D$2,'Reference Data'!$P$2:$P$13,TRUE)),\"Pick a Zone\")","v":"SANCTIONED EVENT"},{"$f":"IFERROR(LEFT($D$2,2)&\"-\"&INDEX('Reference Data'!$V$2:$V$11,MATCH($F$2,'Reference Data'!$U$2:$U$11,TRUE)),\"Pick a Tournament\")","v":"Pick a Tournament"},{"$f":"IFERROR(INDEX('Reference Data'!$W$2:$W$11,MATCH($F$2,'Reference Data'!$U$2:$U$11,TRUE)),\"Pick a Tournament\")","v":"Pick a Tournament"},{"$f":"IFERROR(VLOOKUP($I201,'Reference Data'!$B$2:$H$66000,3,FALSE),\"Enter C5#\")","v":"Enter C5#"},{"$f":"IFERROR(VLOOKUP($I201,'Reference Data'!$B$2:$H$66000,2,FALSE),\"Enter C5#\")","v":"Enter C5#"},null,null,null,null,null,null,null,null,null,null,{"$f":"IFERROR(IF(VLOOKUP($I201,'Reference Data'!$B$2:$H$66000,4,TRUE)=\"M\",\"M\",\"\"),\"\")","v":""},{"$f":"IFERROR(IF(VLOOKUP($I201,'Reference Data'!$B$2:$H$66000,4,TRUE)=\"F\",\"F\",\"\"),\"\")","v":""},null,null,"2025-26"]
[197,"SANCTIONED TOURNAMENTS",{"$f":"IFERROR(INDEX('Reference Data'!$S$2:$S$13,MATCH($C$2,'Reference Data'!$R$2:$R$13,TRUE)),\"\")","v":""},{"$f":"IFERROR(INDEX('Reference Data'!$Q$2:$Q$13,MATCH($D$2,'Reference Data'!$P$2:$P$13,TRUE)),\"Pick a Zone\")","v":"SANCTIONED EVENT"},{"$f":"IFERROR(LEFT($D$2,2)&\"-\"&INDEX('Reference Data'!$V$2:$V$11,MATCH($F$2,'Reference Data'!$U$2:$U$11,TRUE)),\"Pick a Tournament\")","v":"Pick a Tournament"},{"$f":"IFERROR(INDEX('Reference Data'!$W$2:$W$11,MATCH($F$2,'Reference Data'!$U$2:$U$11,TRUE)),\"Pick a Tournament\")","v":"Pick a Tournament"},{"$f":"IFERROR(VLOOKUP($I202,'Reference Data'!$B$2:$H$66000,3,FALSE),\"Enter C5#\")","v":"Enter C5#"},{"$f":"IFERROR(VLOOKUP($I202,'Reference Data'!$B$2:$H$66000,2,FALSE),\"Enter C5#\")","v":"Enter C5#"},null,null,null,null,null,null,null,null,null,null,{"$f":"IFERROR(IF(VLOOKUP($I202,'Reference Data'!$B$2:$H$66000,4,TRUE)=\"M\",\"M\",\"\"),\"\")","v":""},{"$f":"IFERROR(IF(VLOOKUP($I202,'Reference Data'!$B$2:$H$66000,4,TRUE)=\"F\",\"F\",\"\"),\"\")","v":""},null,null,"2025-26"]
[198,"SANCTIONED TOURNAMENTS",{"$f":"IFERROR(INDEX('Reference Data'!$S$2:$S$13,MATCH($C$2,'Reference Data'!$R$2:$R$13,TRUE)),\"\")","v":""},{"$f":"IFERROR(INDEX('Reference Data'!$Q$2:$Q$13,MATCH($D$2,'Reference Data'!$P$2:$P$13,TRUE)),\"Pick a Zone\")","v":"SANCTIONED EVENT"},{"$f":"IFERROR(LEFT($D$2,2)&\"-\"&INDEX('Reference Data'!$V$2:$V$11,MATCH($F$2,'Reference Data'!$U$2:$U$11,TRUE)),\"Pick a Tournament\")","v":"Pick a Tournament"},{"$f":"IFERROR(INDEX('Reference Data'!$W$2:$W$11,MATCH($F$2,'Reference Data'!$U$2:$U$11,TRUE)),\"Pick a Tournament\")","v":"Pick a Tournament"},{"$f":"IFERROR(VLOOKUP($I203,'Reference Data'!$B$2:$H$66000,3,FALSE),\"Enter C5#\")","v":"Enter C5#"},{"$f":"IFERROR(VLOOKUP($I203,'Reference Data'!$B$2:$H$66000,2,FALSE),\"Enter C5#\")","v":"Enter C5#"},null,null,null,null,null,null,null,null,null,null,{"$f":"IFERROR(IF(VLOOKUP($I203,'Reference Data'!$B$2:$H$66000,4,TRUE)=\"M\",\"M\",\"\"),\"\")","v":""},{"$f":"IFERROR(IF(VLOOKUP($I203,'Reference Data'!$B$2:$H$66000,4,TRUE)=\"F\",\"F\",\"\"),\"\")","v":""},null,null,"2025-26"]
[199,"SANCTIONED TOURNAMENTS",{"$f":"IFERROR(INDEX('Reference Data'!$S$2:$S$13,MATCH($C$2,'Reference Data'!$R$2:$R$13,TRUE)),\"\")","v":""},{"$f":"IFERROR(INDEX('Reference Data'!$Q$2:$Q$13,MATCH($D$2,'Reference Data'!$P$2:$P$13,TRUE)),\"Pick a Zone\")","v":"SANCTIONED EVENT"},{"$f":"IFERROR(LEFT($D$2,2)&\"-\"&INDEX('Reference Data'!$V$2:$V$11,MATCH($F$2,'Reference Data'!$U$2:$U$11,TRUE)),\"Pick a Tournament\")","v":"Pick a Tournament"},{"$f":"IFERROR(INDEX('Reference Data'!$W$2:$W$11,MATCH($F$2,'Reference Data'!$U$2:$U$11,TRUE)),\"Pick a Tournament\")","v":"Pick a Tournament"},{"$f":"IFERROR(VLOOKUP($I204,'Reference Data'!$B$2:$H$66000,3,FALSE),\"Enter C5#\")","v":"Enter C5#"},{"$f":"IFERROR(VLOOKUP($I204,'Reference Data'!$B$2:$H$66000,2,FALSE),\"Enter C5#\")","v":"Enter C5#"},null,null,null,null,null,null,null,null,null,null,{"$f":"IFERROR(IF(VLOOKUP($I204,'Reference Data'!$B$2:$H$66000,4,TRUE)=\"M\",\"M\",\"\"),\"\")","v":""},{"$f":"IFERROR(IF(VLOOKUP($I204,'Reference Data'!$B$2:$H$66000,4,TRUE)=\"F\",\"F\",\"\"),\"\")","v":""},null,null,"2025-26"]
[200,"SANCTIONED TOURNAMENTS",{"$f":"IFERROR(INDEX('Reference Data'!$S$2:$S$13,MATCH($C$2,'Reference Data'!$R$2:$R$13,TRUE)),\"\")","v":""},{"$f":"IFERROR(INDEX('Reference Data'!$Q$2:$Q$13,MATCH($D$2,'Reference Data'!$P$2:$P$13,TRUE)),\"Pick a Zone\")","v":"SANCTIONED EVENT"},{"$f":"IFERROR(LEFT($D$2,2)&\"-\"&INDEX('Reference Data'!$V$2:$V$11,MATCH($F$2,'Reference Data'!$U$2:$U$11,TRUE)),\"Pick a Tournament\")","v":"Pick a Tournament"},{"$f":"IFERROR(INDEX('Reference Data'!$W$2:$W$11,MATCH($F$2,'Reference Data'!$U$2:$U$11,TRUE)),\"Pick a Tournament\")","v":"Pick a Tournament"},{"$f":"IFERROR(VLOOKUP($I205,'Reference Data'!$B$2:$H$66000,3,FALSE),\"Enter C5#\")","v":"Enter C5#"},{"$f":"IFERROR(VLOOKUP($I205,'Reference Data'!$B$2:$H$66000,2,FALSE),\"Enter C5#\")","v":"Enter C5#"},null,null,null,null,null,null,null,null,null,null,{"$f":"IFERROR(IF(VLOOKUP($I205,'Reference Data'!$B$2:$H$66000,4,TRUE)=\"M\",\"M\",\"\"),\"\")","v":""},{"$f":"IFERROR(IF(VLOOKUP($I205,'Reference Data'!$B$2:$H$66000,4,TRUE)=\"F\",\"F\",\"\"),\"\")","v":""},null,null,"2025-26"]

{"sheet":"New Members","index":2,"n_rows":90,"n_cols":24,"rows_kept":90,"cut":false,"hidden":false,"merged":[[3,11,3,17],[3,18,3,19],[1,11,1,17],[1,18,1,19],[1,1,2,8]]}
[]
[null,"Please fill in the Yellow cells for bowlers not recognized on the first sheet (Usually a new bowler registered after August 31, 2025)"]
[]
[null,null,null,null,null,null,null,null,null,null,null,"MEMBERSHIP CATEGORY"]
["NO.","TYPE","DC ASSOCIATION","ZONE","LEAGUE CODE","LEAGUE NAME","LAST NAME","FIRST NAME","C5\nREG. #","BOARD OF DIRECTORS \"D\"","LIFE","TOURN.\n\"T\"","REG.\n\"R\"","SR.\n\"S\"","SOO/\nBLIND\n\"S\"","YBC\nUNDER\n18\n\"S\"","YBC\nGRAD","DUP.\n\"X\"","M","F","PINFALL","GAMES","SEASON","COMMENTS"]
[1,"SANCTIONED TOURNAMENTS",{"$f":"IFERROR(INDEX('Reference Data'!$S$2:$S$13,MATCH('Data Entry'!$C$2,'Reference Data'!$R$2:$R$13,TRUE)),\"\")","v":""},{"$f":"IFERROR(INDEX('Reference Data'!$Q$2:$Q$13,MATCH('Data Entry'!$D$2,'Reference Data'!$P$2:$P$13,TRUE)),\"\")","v":"SANCTIONED EVENT"},{"$f":"IFERROR(LEFT('Data Entry'!$D$2,2)&\"-\"&INDEX('Reference Data'!$V$2:$V$11,MATCH('Data Entry'!$F$2,'Reference Data'!$U$2:$U$11,TRUE)),\"\")","v":""},{"$f":"IFERROR(INDEX('Reference Data'!$W$2:$W$11,MATCH('Data Entry'!$F$2,'Reference Data'!$U$2:$U$11,TRUE)),\"\")","v":""},null,null,null,null,null,null,null,null,null,null,null,null,null,null,null,null,"2025-26"]
[2,"SANCTIONED TOURNAMENTS",{"$f":"IFERROR(INDEX('Reference Data'!$S$2:$S$13,MATCH('Data Entry'!$C$2,'Reference Data'!$R$2:$R$13,TRUE)),\"\")","v":""},{"$f":"IFERROR(INDEX('Reference Data'!$Q$2:$Q$13,MATCH('Data Entry'!$D$2,'Reference Data'!$P$2:$P$13,TRUE)),\"\")","v":"SANCTIONED EVENT"},{"$f":"IFERROR(LEFT('Data Entry'!$D$2,2)&\"-\"&INDEX('Reference Data'!$V$2:$V$11,MATCH('Data Entry'!$F$2,'Reference Data'!$U$2:$U$11,TRUE)),\"\")","v":""},{"$f":"IFERROR(INDEX('Reference Data'!$W$2:$W$11,MATCH('Data Entry'!$F$2,'Reference Data'!$U$2:$U$11,TRUE)),\"\")","v":""},null,null,null,null,null,null,null,null,null,null,null,null,null,null,null,null,"2025-26"]
[3,"SANCTIONED TOURNAMENTS",{"$f":"IFERROR(INDEX('Reference Data'!$S$2:$S$13,MATCH('Data Entry'!$C$2,'Reference Data'!$R$2:$R$13,TRUE)),\"\")","v":""},{"$f":"IFERROR(INDEX('Reference Data'!$Q$2:$Q$13,MATCH('Data Entry'!$D$2,'Reference Data'!$P$2:$P$13,TRUE)),\"\")","v":"SANCTIONED EVENT"},{"$f":"IFERROR(LEFT('Data Entry'!$D$2,2)&\"-\"&INDEX('Reference Data'!$V$2:$V$11,MATCH('Data Entry'!$F$2,'Reference Data'!$U$2:$U$11,TRUE)),\"\")","v":""},{"$f":"IFERROR(INDEX('Reference Data'!$W$2:$W$11,MATCH('Data Entry'!$F$2,'Reference Data'!$U$2:$U$11,TRUE)),\"\")","v":""},null,null,null,null,null,null,null,null,null,null,null,null,null,null,null,null,"2025-26"]
[4,"SANCTIONED TOURNAMENTS",{"$f":"IFERROR(INDEX('Reference Data'!$S$2:$S$13,MATCH('Data Entry'!$C$2,'Reference Data'!$R$2:$R$13,TRUE)),\"\")","v":""},{"$f":"IFERROR(INDEX('Reference Data'!$Q$2:$Q$13,MATCH('Data Entry'!$D$2,'Reference Data'!$P$2:$P$13,TRUE)),\"\")","v":"SANCTIONED EVENT"},{"$f":"IFERROR(LEFT('Data Entry'!$D$2,2)&\"-\"&INDEX('Reference Data'!$V$2:$V$11,MATCH('Data Entry'!$F$2,'Reference Data'!$U$2:$U$11,TRUE)),\"\")","v":""},{"$f":"IFERROR(INDEX('Reference Data'!$W$2:$W$11,MATCH('Data Entry'!$F$2,'Reference Data'!$U$2:$U$11,TRUE)),\"\")","v":""},null,null,null,null,null,null,null,null,null,null,null,null,null,null,null,null,"2025-26"]
[5,"SANCTIONED TOURNAMENTS",{"$f":"IFERROR(INDEX('Reference Data'!$S$2:$S$13,MATCH('Data Entry'!$C$2,'Reference Data'!$R$2:$R$13,TRUE)),\"\")","v":""},{"$f":"IFERROR(INDEX('Reference Data'!$Q$2:$Q$13,MATCH('Data Entry'!$D$2,'Reference Data'!$P$2:$P$13,TRUE)),\"\")","v":"SANCTIONED EVENT"},{"$f":"IFERROR(LEFT('Data Entry'!$D$2,2)&\"-\"&INDEX('Reference Data'!$V$2:$V$11,MATCH('Data Entry'!$F$2,'Reference Data'!$U$2:$U$11,TRUE)),\"\")","v":""},{"$f":"IFERROR(INDEX('Reference Data'!$W$2:$W$11,MATCH('Data Entry'!$F$2,'Reference Data'!$U$2:$U$11,TRUE)),\"\")","v":""},null,null,null,null,null,null,null,null,null,null,null,null,null,null,null,null,"2025-26"]
[6,"SANCTIONED TOURNAMENTS",{"$f":"IFERROR(INDEX('Reference Data'!$S$2:$S$13,MATCH('Data Entry'!$C$2,'Reference Data'!$R$2:$R$13,TRUE)),\"\")","v":""},{"$f":"IFERROR(INDEX('Reference Data'!$Q$2:$Q$13,MATCH('Data Entry'!$D$2,'Reference Data'!$P$2:$P$13,TRUE)),\"\")","v":"SANCTIONED EVENT"},{"$f":"IFERROR(LEFT('Data Entry'!$D$2,2)&\"-\"&INDEX('Reference Data'!$V$2:$V$11,MATCH('Data Entry'!$F$2,'Reference Data'!$U$2:$U$11,TRUE)),\"\")","v":""},{"$f":"IFERROR(INDEX('Reference Data'!$W$2:$W$11,MATCH('Data Entry'!$F$2,'Reference Data'!$U$2:$U$11,TRUE)),\"\")","v":""},null,null,null,null,null,null,null,null,null,null,null,null,null,null,null,null,"2025-26"]
[7,"SANCTIONED TOURNAMENTS",{"$f":"IFERROR(INDEX('Reference Data'!$S$2:$S$13,MATCH('Data Entry'!$C$2,'Reference Data'!$R$2:$R$13,TRUE)),\"\")","v":""},{"$f":"IFERROR(INDEX('Reference Data'!$Q$2:$Q$13,MATCH('Data Entry'!$D$2,'Reference Data'!$P$2:$P$13,TRUE)),\"\")","v":"SANCTIONED EVENT"},{"$f":"IFERROR(LEFT('Data Entry'!$D$2,2)&\"-\"&INDEX('Reference Data'!$V$2:$V$11,MATCH('Data Entry'!$F$2,'Reference Data'!$U$2:$U$11,TRUE)),\"\")","v":""},{"$f":"IFERROR(INDEX('Reference Data'!$W$2:$W$11,MATCH('Data Entry'!$F$2,'Reference Data'!$U$2:$U$11,TRUE)),\"\")","v":""},null,null,null,null,null,null,null,null,null,null,null,null,null,null,null,null,"2025-26"]
[8,"SANCTIONED TOURNAMENTS",{"$f":"IFERROR(INDEX('Reference Data'!$S$2:$S$13,MATCH('Data Entry'!$C$2,'Reference Data'!$R$2:$R$13,TRUE)),\"\")","v":""},{"$f":"IFERROR(INDEX('Reference Data'!$Q$2:$Q$13,MATCH('Data Entry'!$D$2,'Reference Data'!$P$2:$P$13,TRUE)),\"\")","v":"SANCTIONED EVENT"},{"$f":"IFERROR(LEFT('Data Entry'!$D$2,2)&\"-\"&INDEX('Reference Data'!$V$2:$V$11,MATCH('Data Entry'!$F$2,'Reference Data'!$U$2:$U$11,TRUE)),\"\")","v":""},{"$f":"IFERROR(INDEX('Reference Data'!$W$2:$W$11,MATCH('Data Entry'!$F$2,'Reference Data'!$U$2:$U$11,TRUE)),\"\")","v":""},null,null,null,null,null,null,null,null,null,null,null,null,null,null,null,null,"2025-26"]
[9,"SANCTIONED TOURNAMENTS",{"$f":"IFERROR(INDEX('Reference Data'!$S$2:$S$13,MATCH('Data Entry'!$C$2,'Reference Data'!$R$2:$R$13,TRUE)),\"\")","v":""},{"$f":"IFERROR(INDEX('Reference Data'!$Q$2:$Q$13,MATCH('Data Entry'!$D$2,'Reference Data'!$P$2:$P$13,TRUE)),\"\")","v":"SANCTIONED EVENT"},{"$f":"IFERROR(LEFT('Data Entry'!$D$2,2)&\"-\"&INDEX('Reference Data'!$V$2:$V$11,MATCH('Data Entry'!$F$2,'Reference Data'!$U$2:$U$11,TRUE)),\"\")","v":""},{"$f":"IFERROR(INDEX('Reference Data'!$W$2:$W$11,MATCH('Data Entry'!$F$2,'Reference Data'!$U$2:$U$11,TRUE)),\"\")","v":""},null,null,null,null,null,null,null,null,null,null,null,null,null,null,null,null,"2025-26"]
[10,"SANCTIONED TOURNAMENTS",{"$f":"IFERROR(INDEX('Reference Data'!$S$2:$S$13,MATCH('Data Entry'!$C$2,'Reference Data'!$R$2:$R$13,TRUE)),\"\")","v":""},{"$f":"IFERROR(INDEX('Reference Data'!$Q$2:$Q$13,MATCH('Data Entry'!$D$2,'Reference Data'!$P$2:$P$13,TRUE)),\"\")","v":"SANCTIONED EVENT"},{"$f":"IFERROR(LEFT('Data Entry'!$D$2,2)&\"-\"&INDEX('Reference Data'!$V$2:$V$11,MATCH('Data Entry'!$F$2,'Reference Data'!$U$2:$U$11,TRUE)),\"\")","v":""},{"$f":"IFERROR(INDEX('Reference Data'!$W$2:$W$11,MATCH('Data Entry'!$F$2,'Reference Data'!$U$2:$U$11,TRUE)),\"\")","v":""},null,null,null,null,null,null,null,null,null,null,null,null,null,null,null,null,"2025-26"]
[11,"SANCTIONED TOURNAMENTS",{"$f":"IFERROR(INDEX('Reference Data'!$S$2:$S$13,MATCH('Data Entry'!$C$2,'Reference Data'!$R$2:$R$13,TRUE)),\"\")","v":""},{"$f":"IFERROR(INDEX('Reference Data'!$Q$2:$Q$13,MATCH('Data Entry'!$D$2,'Reference Data'!$P$2:$P$13,TRUE)),\"\")","v":"SANCTIONED EVENT"},{"$f":"IFERROR(LEFT('Data Entry'!$D$2,2)&\"-\"&INDEX('Reference Data'!$V$2:$V$11,MATCH('Data Entry'!$F$2,'Reference Data'!$U$2:$U$11,TRUE)),\"\")","v":""},{"$f":"IFERROR(INDEX('Reference Data'!$W$2:$W$11,MATCH('Data Entry'!$F$2,'Reference Data'!$U$2:$U$11,TRUE)),\"\")","v":""},null,null,null,null,null,null,null,null,null,null,null,null,null,null,null,null,"2025-26"]
[12,"SANCTIONED TOURNAMENTS",{"$f":"IFERROR(INDEX('Reference Data'!$S$2:$S$13,MATCH('Data Entry'!$C$2,'Reference Data'!$R$2:$R$13,TRUE)),\"\")","v":""},{"$f":"IFERROR(INDEX('Reference Data'!$Q$2:$Q$13,MATCH('Data Entry'!$D$2,'Reference Data'!$P$2:$P$13,TRUE)),\"\")","v":"SANCTIONED EVENT"},{"$f":"IFERROR(LEFT('Data Entry'!$D$2,2)&\"-\"&INDEX('Reference Data'!$V$2:$V$11,MATCH('Data Entry'!$F$2,'Reference Data'!$U$2:$U$11,TRUE)),\"\")","v":""},{"$f":"IFERROR(INDEX('Reference Data'!$W$2:$W$11,MATCH('Data Entry'!$F$2,'Reference Data'!$U$2:$U$11,TRUE)),\"\")","v":""},null,null,null,null,null,null,null,null,null,null,null,null,null,null,null,null,"2025-26"]
[13,"SANCTIONED TOURNAMENTS",{"$f":"IFERROR(INDEX('Reference Data'!$S$2:$S$13,MATCH('Data Entry'!$C$2,'Reference Data'!$R$2:$R$13,TRUE)),\"\")","v":""},{"$f":"IFERROR(INDEX('Reference Data'!$Q$2:$Q$13,MATCH('Data Entry'!$D$2,'Reference Data'!$P$2:$P$13,TRUE)),\"\")","v":"SANCTIONED EVENT"},{"$f":"IFERROR(LEFT('Data Entry'!$D$2,2)&\"-\"&INDEX('Reference Data'!$V$2:$V$11,MATCH('Data Entry'!$F$2,'Reference Data'!$U$2:$U$11,TRUE)),\"\")","v":""},{"$f":"IFERROR(INDEX('Reference Data'!$W$2:$W$11,MATCH('Data Entry'!$F$2,'Reference Data'!$U$2:$U$11,TRUE)),\"\")","v":""},null,null,null,null,null,null,null,null,null,null,null,null,null,null,null,null,"2025-26"]
[14,"SANCTIONED TOURNAMENTS",{"$f":"IFERROR(INDEX('Reference Data'!$S$2:$S$13,MATCH('Data Entry'!$C$2,'Reference Data'!$R$2:$R$13,TRUE)),\"\")","v":""},{"$f":"IFERROR(INDEX('Reference Data'!$Q$2:$Q$13,MATCH('Data Entry'!$D$2,'Reference Data'!$P$2:$P$13,TRUE)),\"\")","v":"SANCTIONED EVENT"},{"$f":"IFERROR(LEFT('Data Entry'!$D$2,2)&\"-\"&INDEX('Reference Data'!$V$2:$V$11,MATCH('Data Entry'!$F$2,'Reference Data'!$U$2:$U$11,TRUE)),\"\")","v":""},{"$f":"IFERROR(INDEX('Reference Data'!$W$2:$W$11,MATCH('Data Entry'!$F$2,'Reference Data'!$U$2:$U$11,TRUE)),\"\")","v":""},null,null,null,null,null,null,null,null,null,null,null,null,null,null,null,null,"2025-26"]
[15,"SANCTIONED TOURNAMENTS",{"$f":"IFERROR(INDEX('Reference Data'!$S$2:$S$13,MATCH('Data Entry'!$C$2,'Reference Data'!$R$2:$R$13,TRUE)),\"\")","v":""},{"$f":"IFERROR(INDEX('Reference Data'!$Q$2:$Q$13,MATCH('Data Entry'!$D$2,'Reference Data'!$P$2:$P$13,TRUE)),\"\")","v":"SANCTIONED EVENT"},{"$f":"IFERROR(LEFT('Data Entry'!$D$2,2)&\"-\"&INDEX('Reference Data'!$V$2:$V$11,MATCH('Data Entry'!$F$2,'Reference Data'!$U$2:$U$11,TRUE)),\"\")","v":""},{"$f":"IFERROR(INDEX('Reference Data'!$W$2:$W$11,MATCH('Data Entry'!$F$2,'Reference Data'!$U$2:$U$11,TRUE)),\"\")","v":""},null,null,null,null,null,null,null,null,null,null,null,null,null,null,null,null,"2025-26"]
[16,"SANCTIONED TOURNAMENTS",{"$f":"IFERROR(INDEX('Reference Data'!$S$2:$S$13,MATCH('Data Entry'!$C$2,'Reference Data'!$R$2:$R$13,TRUE)),\"\")","v":""},{"$f":"IFERROR(INDEX('Reference Data'!$Q$2:$Q$13,MATCH('Data Entry'!$D$2,'Reference Data'!$P$2:$P$13,TRUE)),\"\")","v":"SANCTIONED EVENT"},{"$f":"IFERROR(LEFT('Data Entry'!$D$2,2)&\"-\"&INDEX('Reference Data'!$V$2:$V$11,MATCH('Data Entry'!$F$2,'Reference Data'!$U$2:$U$11,TRUE)),\"\")","v":""},{"$f":"IFERROR(INDEX('Reference Data'!$W$2:$W$11,MATCH('Data Entry'!$F$2,'Reference Data'!$U$2:$U$11,TRUE)),\"\")","v":""},null,null,null,null,null,null,null,null,null,null,null,null,null,null,null,null,"2025-26"]
[17,"SANCTIONED TOURNAMENTS",{"$f":"IFERROR(INDEX('Reference Data'!$S$2:$S$13,MATCH('Data Entry'!$C$2,'Reference Data'!$R$2:$R$13,TRUE)),\"\")","v":""},{"$f":"IFERROR(INDEX('Reference Data'!$Q$2:$Q$13,MATCH('Data Entry'!$D$2,'Reference Data'!$P$2:$P$13,TRUE)),\"\")","v":"SANCTIONED EVENT"},{"$f":"IFERROR(LEFT('Data Entry'!$D$2,2)&\"-\"&INDEX('Reference Data'!$V$2:$V$11,MATCH('Data Entry'!$F$2,'Reference Data'!$U$2:$U$11,TRUE)),\"\")","v":""},{"$f":"IFERROR(INDEX('Reference Data'!$W$2:$W$11,MATCH('Data Entry'!$F$2,'Reference Data'!$U$2:$U$11,TRUE)),\"\")","v":""},null,null,null,null,null,null,null,null,null,null,null,null,null,null,null,null,"2025-26"]
[18,"SANCTIONED TOURNAMENTS",{"$f":"IFERROR(INDEX('Reference Data'!$S$2:$S$13,MATCH('Data Entry'!$C$2,'Reference Data'!$R$2:$R$13,TRUE)),\"\")","v":""},{"$f":"IFERROR(INDEX('Reference Data'!$Q$2:$Q$13,MATCH('Data Entry'!$D$2,'Reference Data'!$P$2:$P$13,TRUE)),\"\")","v":"SANCTIONED EVENT"},{"$f":"IFERROR(LEFT('Data Entry'!$D$2,2)&\"-\"&INDEX('Reference Data'!$V$2:$V$11,MATCH('Data Entry'!$F$2,'Reference Data'!$U$2:$U$11,TRUE)),\"\")","v":""},{"$f":"IFERROR(INDEX('Reference Data'!$W$2:$W$11,MATCH('Data Entry'!$F$2,'Reference Data'!$U$2:$U$11,TRUE)),\"\")","v":""},null,null,null,null,null,null,null,null,null,null,null,null,null,null,null,null,"2025-26"]
[19,"SANCTIONED TOURNAMENTS",{"$f":"IFERROR(INDEX('Reference Data'!$S$2:$S$13,MATCH('Data Entry'!$C$2,'Reference Data'!$R$2:$R$13,TRUE)),\"\")","v":""},{"$f":"IFERROR(INDEX('Reference Data'!$Q$2:$Q$13,MATCH('Data Entry'!$D$2,'Reference Data'!$P$2:$P$13,TRUE)),\"\")","v":"SANCTIONED EVENT"},{"$f":"IFERROR(LEFT('Data Entry'!$D$2,2)&\"-\"&INDEX('Reference Data'!$V$2:$V$11,MATCH('Data Entry'!$F$2,'Reference Data'!$U$2:$U$11,TRUE)),\"\")","v":""},{"$f":"IFERROR(INDEX('Reference Data'!$W$2:$W$11,MATCH('Data Entry'!$F$2,'Reference Data'!$U$2:$U$11,TRUE)),\"\")","v":""},null,null,null,null,null,null,null,null,null,null,null,null,null,null,null,null,"2025-26"]
[20,"SANCTIONED TOURNAMENTS",{"$f":"IFERROR(INDEX('Reference Data'!$S$2:$S$13,MATCH('Data Entry'!$C$2,'Reference Data'!$R$2:$R$13,TRUE)),\"\")","v":""},{"$f":"IFERROR(INDEX('Reference Data'!$Q$2:$Q$13,MATCH('Data Entry'!$D$2,'Reference Data'!$P$2:$P$13,TRUE)),\"\")","v":"SANCTIONED EVENT"},{"$f":"IFERROR(LEFT('Data Entry'!$D$2,2)&\"-\"&INDEX('Reference Data'!$V$2:$V$11,MATCH('Data Entry'!$F$2,'Reference Data'!$U$2:$U$11,TRUE)),\"\")","v":""},{"$f":"IFERROR(INDEX('Reference Data'!$W$2:$W$11,MATCH('Data Entry'!$F$2,'Reference Data'!$U$2:$U$11,TRUE)),\"\")","v":""},null,null,null,null,null,null,null,null,null,null,null,null,null,null,null,null,"2025-26"]
[21,"SANCTIONED TOURNAMENTS",{"$f":"IFERROR(INDEX('Reference Data'!$S$2:$S$13,MATCH('Data Entry'!$C$2,'Reference Data'!$R$2:$R$13,TRUE)),\"\")","v":""},{"$f":"IFERROR(INDEX('Reference Data'!$Q$2:$Q$13,MATCH('Data Entry'!$D$2,'Reference Data'!$P$2:$P$13,TRUE)),\"\")","v":"SANCTIONED EVENT"},{"$f":"IFERROR(LEFT('Data Entry'!$D$2,2)&\"-\"&INDEX('Reference Data'!$V$2:$V$11,MATCH('Data Entry'!$F$2,'Reference Data'!$U$2:$U$11,TRUE)),\"\")","v":""},{"$f":"IFERROR(INDEX('Reference Data'!$W$2:$W$11,MATCH('Data Entry'!$F$2,'Reference Data'!$U$2:$U$11,TRUE)),\"\")","v":""},null,null,null,null,null,null,null,null,null,null,null,null,null,null,null,null,"2025-26"]
[22,"SANCTIONED TOURNAMENTS",{"$f":"IFERROR(INDEX('Reference Data'!$S$2:$S$13,MATCH('Data Entry'!$C$2,'Reference Data'!$R$2:$R$13,TRUE)),\"\")","v":""},{"$f":"IFERROR(INDEX('Reference Data'!$Q$2:$Q$13,MATCH('Data Entry'!$D$2,'Reference Data'!$P$2:$P$13,TRUE)),\"\")","v":"SANCTIONED EVENT"},{"$f":"IFERROR(LEFT('Data Entry'!$D$2,2)&\"-\"&INDEX('Reference Data'!$V$2:$V$11,MATCH('Data Entry'!$F$2,'Reference Data'!$U$2:$U$11,TRUE)),\"\")","v":""},{"$f":"IFERROR(INDEX('Reference Data'!$W$2:$W$11,MATCH('Data Entry'!$F$2,'Reference Data'!$U$2:$U$11,TRUE)),\"\")","v":""},null,null,null,null,null,null,null,null,null,null,null,null,null,null,null,null,"2025-26"]
[23,"SANCTIONED TOURNAMENTS",{"$f":"IFERROR(INDEX('Reference Data'!$S$2:$S$13,MATCH('Data Entry'!$C$2,'Reference Data'!$R$2:$R$13,TRUE)),\"\")","v":""},{"$f":"IFERROR(INDEX('Reference Data'!$Q$2:$Q$13,MATCH('Data Entry'!$D$2,'Reference Data'!$P$2:$P$13,TRUE)),\"\")","v":"SANCTIONED EVENT"},{"$f":"IFERROR(LEFT('Data Entry'!$D$2,2)&\"-\"&INDEX('Reference Data'!$V$2:$V$11,MATCH('Data Entry'!$F$2,'Reference Data'!$U$2:$U$11,TRUE)),\"\")","v":""},{"$f":"IFERROR(INDEX('Reference Data'!$W$2:$W$11,MATCH('Data Entry'!$F$2,'Reference Data'!$U$2:$U$11,TRUE)),\"\")","v":""},null,null,null,null,null,null,null,null,null,null,null,null,null,null,null,null,"2025-26"]
[24,"SANCTIONED TOURNAMENTS",{"$f":"IFERROR(INDEX('Reference Data'!$S$2:$S$13,MATCH('Data Entry'!$C$2,'Reference Data'!$R$2:$R$13,TRUE)),\"\")","v":""},{"$f":"IFERROR(INDEX('Reference Data'!$Q$2:$Q$13,MATCH('Data Entry'!$D$2,'Reference Data'!$P$2:$P$13,TRUE)),\"\")","v":"SANCTIONED EVENT"},{"$f":"IFERROR(LEFT('Data Entry'!$D$2,2)&\"-\"&INDEX('Reference Data'!$V$2:$V$11,MATCH('Data Entry'!$F$2,'Reference Data'!$U$2:$U$11,TRUE)),\"\")","v":""},{"$f":"IFERROR(INDEX('Reference Data'!$W$2:$W$11,MATCH('Data Entry'!$F$2,'Reference Data'!$U$2:$U$11,TRUE)),\"\")","v":""},null,null,null,null,null,null,null,null,null,null,null,null,null,null,null,null,"2025-26"]
[25,"SANCTIONED TOURNAMENTS",{"$f":"IFERROR(INDEX('Reference Data'!$S$2:$S$13,MATCH('Data Entry'!$C$2,'Reference Data'!$R$2:$R$13,TRUE)),\"\")","v":""},{"$f":"IFERROR(INDEX('Reference Data'!$Q$2:$Q$13,MATCH('Data Entry'!$D$2,'Reference Data'!$P$2:$P$13,TRUE)),\"\")","v":"SANCTIONED EVENT"},{"$f":"IFERROR(LEFT('Data Entry'!$D$2,2)&\"-\"&INDEX('Reference Data'!$V$2:$V$11,MATCH('Data Entry'!$F$2,'Reference Data'!$U$2:$U$11,TRUE)),\"\")","v":""},{"$f":"IFERROR(INDEX('Reference Data'!$W$2:$W$11,MATCH('Data Entry'!$F$2,'Reference Data'!$U$2:$U$11,TRUE)),\"\")","v":""},null,null,null,null,null,null,null,null,null,null,null,null,null,null,null,null,"2025-26"]
[26,"SANCTIONED TOURNAMENTS",{"$f":"IFERROR(INDEX('Reference Data'!$S$2:$S$13,MATCH('Data Entry'!$C$2,'Reference Data'!$R$2:$R$13,TRUE)),\"\")","v":""},{"$f":"IFERROR(INDEX('Reference Data'!$Q$2:$Q$13,MATCH('Data Entry'!$D$2,'Reference Data'!$P$2:$P$13,TRUE)),\"\")","v":"SANCTIONED EVENT"},{"$f":"IFERROR(LEFT('Data Entry'!$D$2,2)&\"-\"&INDEX('Reference Data'!$V$2:$V$11,MATCH('Data Entry'!$F$2,'Reference Data'!$U$2:$U$11,TRUE)),\"\")","v":""},{"$f":"IFERROR(INDEX('Reference Data'!$W$2:$W$11,MATCH('Data Entry'!$F$2,'Reference Data'!$U$2:$U$11,TRUE)),\"\")","v":""},null,null,null,null,null,null,null,null,null,null,null,null,null,null,null,null,"2025-26"]
[27,"SANCTIONED TOURNAMENTS",{"$f":"IFERROR(INDEX('Reference Data'!$S$2:$S$13,MATCH('Data Entry'!$C$2,'Reference Data'!$R$2:$R$13,TRUE)),\"\")","v":""},{"$f":"IFERROR(INDEX('Reference Data'!$Q$2:$Q$13,MATCH('Data Entry'!$D$2,'Reference Data'!$P$2:$P$13,TRUE)),\"\")","v":"SANCTIONED EVENT"},{"$f":"IFERROR(LEFT('Data Entry'!$D$2,2)&\"-\"&INDEX('Reference Data'!$V$2:$V$11,MATCH('Data Entry'!$F$2,'Reference Data'!$U$2:$U$11,TRUE)),\"\")","v":""},{"$f":"IFERROR(INDEX('Reference Data'!$W$2:$W$11,MATCH('Data Entry'!$F$2,'Reference Data'!$U$2:$U$11,TRUE)),\"\")","v":""},null,null,null,null,null,null,null,null,null,null,null,null,null,null,null,null,"2025-26"]
[28,"SANCTIONED TOURNAMENTS",{"$f":"IFERROR(INDEX('Reference Data'!$S$2:$S$13,MATCH('Data Entry'!$C$2,'Reference Data'!$R$2:$R$13,TRUE)),\"\")","v":""},{"$f":"IFERROR(INDEX('Reference Data'!$Q$2:$Q$13,MATCH('Data Entry'!$D$2,'Reference Data'!$P$2:$P$13,TRUE)),\"\")","v":"SANCTIONED EVENT"},{"$f":"IFERROR(LEFT('Data Entry'!$D$2,2)&\"-\"&INDEX('Reference Data'!$V$2:$V$11,MATCH('Data Entry'!$F$2,'Reference Data'!$U$2:$U$11,TRUE)),\"\")","v":""},{"$f":"IFERROR(INDEX('Reference Data'!$W$2:$W$11,MATCH('Data Entry'!$F$2,'Reference Data'!$U$2:$U$11,TRUE)),\"\")","v":""},null,null,null,null,null,null,null,null,null,null,null,null,null,null,null,null,"2025-26"]
[29,"SANCTIONED TOURNAMENTS",{"$f":"IFERROR(INDEX('Reference Data'!$S$2:$S$13,MATCH('Data Entry'!$C$2,'Reference Data'!$R$2:$R$13,TRUE)),\"\")","v":""},{"$f":"IFERROR(INDEX('Reference Data'!$Q$2:$Q$13,MATCH('Data Entry'!$D$2,'Reference Data'!$P$2:$P$13,TRUE)),\"\")","v":"SANCTIONED EVENT"},{"$f":"IFERROR(LEFT('Data Entry'!$D$2,2)&\"-\"&INDEX('Reference Data'!$V$2:$V$11,MATCH('Data Entry'!$F$2,'Reference Data'!$U$2:$U$11,TRUE)),\"\")","v":""},{"$f":"IFERROR(INDEX('Reference Data'!$W$2:$W$11,MATCH('Data Entry'!$F$2,'Reference Data'!$U$2:$U$11,TRUE)),\"\")","v":""},null,null,null,null,null,null,null,null,null,null,null,null,null,null,null,null,"2025-26"]
[30,"SANCTIONED TOURNAMENTS",{"$f":"IFERROR(INDEX('Reference Data'!$S$2:$S$13,MATCH('Data Entry'!$C$2,'Reference Data'!$R$2:$R$13,TRUE)),\"\")","v":""},{"$f":"IFERROR(INDEX('Reference Data'!$Q$2:$Q$13,MATCH('Data Entry'!$D$2,'Reference Data'!$P$2:$P$13,TRUE)),\"\")","v":"SANCTIONED EVENT"},{"$f":"IFERROR(LEFT('Data Entry'!$D$2,2)&\"-\"&INDEX('Reference Data'!$V$2:$V$11,MATCH('Data Entry'!$F$2,'Reference Data'!$U$2:$U$11,TRUE)),\"\")","v":""},{"$f":"IFERROR(INDEX('Reference Data'!$W$2:$W$11,MATCH('Data Entry'!$F$2,'Reference Data'!$U$2:$U$11,TRUE)),\"\")","v":""},null,null,null,null,null,null,null,null,null,null,null,null,null,null,null,null,"2025-26"]
[31,"SANCTIONED TOURNAMENTS",{"$f":"IFERROR(INDEX('Reference Data'!$S$2:$S$13,MATCH('Data Entry'!$C$2,'Reference Data'!$R$2:$R$13,TRUE)),\"\")","v":""},{"$f":"IFERROR(INDEX('Reference Data'!$Q$2:$Q$13,MATCH('Data Entry'!$D$2,'Reference Data'!$P$2:$P$13,TRUE)),\"\")","v":"SANCTIONED EVENT"},{"$f":"IFERROR(LEFT('Data Entry'!$D$2,2)&\"-\"&INDEX('Reference Data'!$V$2:$V$11,MATCH('Data Entry'!$F$2,'Reference Data'!$U$2:$U$11,TRUE)),\"\")","v":""},{"$f":"IFERROR(INDEX('Reference Data'!$W$2:$W$11,MATCH('Data Entry'!$F$2,'Reference Data'!$U$2:$U$11,TRUE)),\"\")","v":""},null,null,null,null,null,null,null,null,null,null,null,null,null,null,null,null,"2025-26"]
[32,"SANCTIONED TOURNAMENTS",{"$f":"IFERROR(INDEX('Reference Data'!$S$2:$S$13,MATCH('Data Entry'!$C$2,'Reference Data'!$R$2:$R$13,TRUE)),\"\")","v":""},{"$f":"IFERROR(INDEX('Reference Data'!$Q$2:$Q$13,MATCH('Data Entry'!$D$2,'Reference Data'!$P$2:$P$13,TRUE)),\"\")","v":"SANCTIONED EVENT"},{"$f":"IFERROR(LEFT('Data Entry'!$D$2,2)&\"-\"&INDEX('Reference Data'!$V$2:$V$11,MATCH('Data Entry'!$F$2,'Reference Data'!$U$2:$U$11,TRUE)),\"\")","v":""},{"$f":"IFERROR(INDEX('Reference Data'!$W$2:$W$11,MATCH('Data Entry'!$F$2,'Reference Data'!$U$2:$U$11,TRUE)),\"\")","v":""},null,null,null,null,null,null,null,null,null,null,null,null,null,null,null,null,"2025-26"]
[33,"SANCTIONED TOURNAMENTS",{"$f":"IFERROR(INDEX('Reference Data'!$S$2:$S$13,MATCH('Data Entry'!$C$2,'Reference Data'!$R$2:$R$13,TRUE)),\"\")","v":""},{"$f":"IFERROR(INDEX('Reference Data'!$Q$2:$Q$13,MATCH('Data Entry'!$D$2,'Reference Data'!$P$2:$P$13,TRUE)),\"\")","v":"SANCTIONED EVENT"},{"$f":"IFERROR(LEFT('Data Entry'!$D$2,2)&\"-\"&INDEX('Reference Data'!$V$2:$V$11,MATCH('Data Entry'!$F$2,'Reference Data'!$U$2:$U$11,TRUE)),\"\")","v":""},{"$f":"IFERROR(INDEX('Reference Data'!$W$2:$W$11,MATCH('Data Entry'!$F$2,'Reference Data'!$U$2:$U$11,TRUE)),\"\")","v":""},null,null,null,null,null,null,null,null,null,null,null,null,null,null,null,null,"2025-26"]
[34,"SANCTIONED TOURNAMENTS",{"$f":"IFERROR(INDEX('Reference Data'!$S$2:$S$13,MATCH('Data Entry'!$C$2,'Reference Data'!$R$2:$R$13,TRUE)),\"\")","v":""},{"$f":"IFERROR(INDEX('Reference Data'!$Q$2:$Q$13,MATCH('Data Entry'!$D$2,'Reference Data'!$P$2:$P$13,TRUE)),\"\")","v":"SANCTIONED EVENT"},{"$f":"IFERROR(LEFT('Data Entry'!$D$2,2)&\"-\"&INDEX('Reference Data'!$V$2:$V$11,MATCH('Data Entry'!$F$2,'Reference Data'!$U$2:$U$11,TRUE)),\"\")","v":""},{"$f":"IFERROR(INDEX('Reference Data'!$W$2:$W$11,MATCH('Data Entry'!$F$2,'Reference Data'!$U$2:$U$11,TRUE)),\"\")","v":""},null,null,null,null,null,null,null,null,null,null,null,null,null,null,null,null,"2025-26"]
[35,"SANCTIONED TOURNAMENTS",{"$f":"IFERROR(INDEX('Reference Data'!$S$2:$S$13,MATCH('Data Entry'!$C$2,'Reference Data'!$R$2:$R$13,TRUE)),\"\")","v":""},{"$f":"IFERROR(INDEX('Reference Data'!$Q$2:$Q$13,MATCH('Data Entry'!$D$2,'Reference Data'!$P$2:$P$13,TRUE)),\"\")","v":"SANCTIONED EVENT"},{"$f":"IFERROR(LEFT('Data Entry'!$D$2,2)&\"-\"&INDEX('Reference Data'!$V$2:$V$11,MATCH('Data Entry'!$F$2,'Reference Data'!$U$2:$U$11,TRUE)),\"\")","v":""},{"$f":"IFERROR(INDEX('Reference Data'!$W$2:$W$11,MATCH('Data Entry'!$F$2,'Reference Data'!$U$2:$U$11,TRUE)),\"\")","v":""},null,null,null,null,null,null,null,null,null,null,null,null,null,null,null,null,"2025-26"]
[36,"SANCTIONED TOURNAMENTS",{"$f":"IFERROR(INDEX('Reference Data'!$S$2:$S$13,MATCH('Data Entry'!$C$2,'Reference Data'!$R$2:$R$13,TRUE)),\"\")","v":""},{"$f":"IFERROR(INDEX('Reference Data'!$Q$2:$Q$13,MATCH('Data Entry'!$D$2,'Reference Data'!$P$2:$P$13,TRUE)),\"\")","v":"SANCTIONED EVENT"},{"$f":"IFERROR(LEFT('Data Entry'!$D$2,2)&\"-\"&INDEX('Reference Data'!$V$2:$V$11,MATCH('Data Entry'!$F$2,'Reference Data'!$U$2:$U$11,TRUE)),\"\")","v":""},{"$f":"IFERROR(INDEX('Reference Data'!$W$2:$W$11,MATCH('Data Entry'!$F$2,'Reference Data'!$U$2:$U$11,TRUE)),\"\")","v":""},null,null,null,null,null,null,null,null,null,null,null,null,null,null,null,null,"2025-26"]
[37,"SANCTIONED TOURNAMENTS",{"$f":"IFERROR(INDEX('Reference Data'!$S$2:$S$13,MATCH('Data Entry'!$C$2,'Reference Data'!$R$2:$R$13,TRUE)),\"\")","v":""},{"$f":"IFERROR(INDEX('Reference Data'!$Q$2:$Q$13,MATCH('Data Entry'!$D$2,'Reference Data'!$P$2:$P$13,TRUE)),\"\")","v":"SANCTIONED EVENT"},{"$f":"IFERROR(LEFT('Data Entry'!$D$2,2)&\"-\"&INDEX('Reference Data'!$V$2:$V$11,MATCH('Data Entry'!$F$2,'Reference Data'!$U$2:$U$11,TRUE)),\"\")","v":""},{"$f":"IFERROR(INDEX('Reference Data'!$W$2:$W$11,MATCH('Data Entry'!$F$2,'Reference Data'!$U$2:$U$11,TRUE)),\"\")","v":""},null,null,null,null,null,null,null,null,null,null,null,null,null,null,null,null,"2025-26"]
[38,"SANCTIONED TOURNAMENTS",{"$f":"IFERROR(INDEX('Reference Data'!$S$2:$S$13,MATCH('Data Entry'!$C$2,'Reference Data'!$R$2:$R$13,TRUE)),\"\")","v":""},{"$f":"IFERROR(INDEX('Reference Data'!$Q$2:$Q$13,MATCH('Data Entry'!$D$2,'Reference Data'!$P$2:$P$13,TRUE)),\"\")","v":"SANCTIONED EVENT"},{"$f":"IFERROR(LEFT('Data Entry'!$D$2,2)&\"-\"&INDEX('Reference Data'!$V$2:$V$11,MATCH('Data Entry'!$F$2,'Reference Data'!$U$2:$U$11,TRUE)),\"\")","v":""},{"$f":"IFERROR(INDEX('Reference Data'!$W$2:$W$11,MATCH('Data Entry'!$F$2,'Reference Data'!$U$2:$U$11,TRUE)),\"\")","v":""},null,null,null,null,null,null,null,null,null,null,null,null,null,null,null,null,"2025-26"]
[39,"SANCTIONED TOURNAMENTS",{"$f":"IFERROR(INDEX('Reference Data'!$S$2:$S$13,MATCH('Data Entry'!$C$2,'Reference Data'!$R$2:$R$13,TRUE)),\"\")","v":""},{"$f":"IFERROR(INDEX('Reference Data'!$Q$2:$Q$13,MATCH('Data Entry'!$D$2,'Reference Data'!$P$2:$P$13,TRUE)),\"\")","v":"SANCTIONED EVENT"},{"$f":"IFERROR(LEFT('Data Entry'!$D$2,2)&\"-\"&INDEX('Reference Data'!$V$2:$V$11,MATCH('Data Entry'!$F$2,'Reference Data'!$U$2:$U$11,TRUE)),\"\")","v":""},{"$f":"IFERROR(INDEX('Reference Data'!$W$2:$W$11,MATCH('Data Entry'!$F$2,'Reference Data'!$U$2:$U$11,TRUE)),\"\")","v":""},null,null,null,null,null,null,null,null,null,null,null,null,null,null,null,null,"2025-26"]
[40,"SANCTIONED TOURNAMENTS",{"$f":"IFERROR(INDEX('Reference Data'!$S$2:$S$13,MATCH('Data Entry'!$C$2,'Reference Data'!$R$2:$R$13,TRUE)),\"\")","v":""},{"$f":"IFERROR(INDEX('Reference Data'!$Q$2:$Q$13,MATCH('Data Entry'!$D$2,'Reference Data'!$P$2:$P$13,TRUE)),\"\")","v":"SANCTIONED EVENT"},{"$f":"IFERROR(LEFT('Data Entry'!$D$2,2)&\"-\"&INDEX('Reference Data'!$V$2:$V$11,MATCH('Data Entry'!$F$2,'Reference Data'!$U$2:$U$11,TRUE)),\"\")","v":""},{"$f":"IFERROR(INDEX('Reference Data'!$W$2:$W$11,MATCH('Data Entry'!$F$2,'Reference Data'!$U$2:$U$11,TRUE)),\"\")","v":""},null,null,null,null,null,null,null,null,null,null,null,null,null,null,null,null,"2025-26"]
[41,"SANCTIONED TOURNAMENTS",{"$f":"IFERROR(INDEX('Reference Data'!$S$2:$S$13,MATCH('Data Entry'!$C$2,'Reference Data'!$R$2:$R$13,TRUE)),\"\")","v":""},{"$f":"IFERROR(INDEX('Reference Data'!$Q$2:$Q$13,MATCH('Data Entry'!$D$2,'Reference Data'!$P$2:$P$13,TRUE)),\"\")","v":"SANCTIONED EVENT"},{"$f":"IFERROR(LEFT('Data Entry'!$D$2,2)&\"-\"&INDEX('Reference Data'!$V$2:$V$11,MATCH('Data Entry'!$F$2,'Reference Data'!$U$2:$U$11,TRUE)),\"\")","v":""},{"$f":"IFERROR(INDEX('Reference Data'!$W$2:$W$11,MATCH('Data Entry'!$F$2,'Reference Data'!$U$2:$U$11,TRUE)),\"\")","v":""},null,null,null,null,null,null,null,null,null,null,null,null,null,null,null,null,"2025-26"]
[42,"SANCTIONED TOURNAMENTS",{"$f":"IFERROR(INDEX('Reference Data'!$S$2:$S$13,MATCH('Data Entry'!$C$2,'Reference Data'!$R$2:$R$13,TRUE)),\"\")","v":""},{"$f":"IFERROR(INDEX('Reference Data'!$Q$2:$Q$13,MATCH('Data Entry'!$D$2,'Reference Data'!$P$2:$P$13,TRUE)),\"\")","v":"SANCTIONED EVENT"},{"$f":"IFERROR(LEFT('Data Entry'!$D$2,2)&\"-\"&INDEX('Reference Data'!$V$2:$V$11,MATCH('Data Entry'!$F$2,'Reference Data'!$U$2:$U$11,TRUE)),\"\")","v":""},{"$f":"IFERROR(INDEX('Reference Data'!$W$2:$W$11,MATCH('Data Entry'!$F$2,'Reference Data'!$U$2:$U$11,TRUE)),\"\")","v":""},null,null,null,null,null,null,null,null,null,null,null,null,null,null,null,null,"2025-26"]
[43,"SANCTIONED TOURNAMENTS",{"$f":"IFERROR(INDEX('Reference Data'!$S$2:$S$13,MATCH('Data Entry'!$C$2,'Reference Data'!$R$2:$R$13,TRUE)),\"\")","v":""},{"$f":"IFERROR(INDEX('Reference Data'!$Q$2:$Q$13,MATCH('Data Entry'!$D$2,'Reference Data'!$P$2:$P$13,TRUE)),\"\")","v":"SANCTIONED EVENT"},{"$f":"IFERROR(LEFT('Data Entry'!$D$2,2)&\"-\"&INDEX('Reference Data'!$V$2:$V$11,MATCH('Data Entry'!$F$2,'Reference Data'!$U$2:$U$11,TRUE)),\"\")","v":""},{"$f":"IFERROR(INDEX('Reference Data'!$W$2:$W$11,MATCH('Data Entry'!$F$2,'Reference Data'!$U$2:$U$11,TRUE)),\"\")","v":""},null,null,null,null,null,null,null,null,null,null,null,null,null,null,null,null,"2025-26"]
[44,"SANCTIONED TOURNAMENTS",{"$f":"IFERROR(INDEX('Reference Data'!$S$2:$S$13,MATCH('Data Entry'!$C$2,'Reference Data'!$R$2:$R$13,TRUE)),\"\")","v":""},{"$f":"IFERROR(INDEX('Reference Data'!$Q$2:$Q$13,MATCH('Data Entry'!$D$2,'Reference Data'!$P$2:$P$13,TRUE)),\"\")","v":"SANCTIONED EVENT"},{"$f":"IFERROR(LEFT('Data Entry'!$D$2,2)&\"-\"&INDEX('Reference Data'!$V$2:$V$11,MATCH('Data Entry'!$F$2,'Reference Data'!$U$2:$U$11,TRUE)),\"\")","v":""},{"$f":"IFERROR(INDEX('Reference Data'!$W$2:$W$11,MATCH('Data Entry'!$F$2,'Reference Data'!$U$2:$U$11,TRUE)),\"\")","v":""},null,null,null,null,null,null,null,null,null,null,null,null,null,null,null,null,"2025-26"]
[45,"SANCTIONED TOURNAMENTS",{"$f":"IFERROR(INDEX('Reference Data'!$S$2:$S$13,MATCH('Data Entry'!$C$2,'Reference Data'!$R$2:$R$13,TRUE)),\"\")","v":""},{"$f":"IFERROR(INDEX('Reference Data'!$Q$2:$Q$13,MATCH('Data Entry'!$D$2,'Reference Data'!$P$2:$P$13,TRUE)),\"\")","v":"SANCTIONED EVENT"},{"$f":"IFERROR(LEFT('Data Entry'!$D$2,2)&\"-\"&INDEX('Reference Data'!$V$2:$V$11,MATCH('Data Entry'!$F$2,'Reference Data'!$U$2:$U$11,TRUE)),\"\")","v":""},{"$f":"IFERROR(INDEX('Reference Data'!$W$2:$W$11,MATCH('Data Entry'!$F$2,'Reference Data'!$U$2:$U$11,TRUE)),\"\")","v":""},null,null,null,null,null,null,null,null,null,null,null,null,null,null,null,null,"2025-26"]
[46,"SANCTIONED TOURNAMENTS",{"$f":"IFERROR(INDEX('Reference Data'!$S$2:$S$13,MATCH('Data Entry'!$C$2,'Reference Data'!$R$2:$R$13,TRUE)),\"\")","v":""},{"$f":"IFERROR(INDEX('Reference Data'!$Q$2:$Q$13,MATCH('Data Entry'!$D$2,'Reference Data'!$P$2:$P$13,TRUE)),\"\")","v":"SANCTIONED EVENT"},{"$f":"IFERROR(LEFT('Data Entry'!$D$2,2)&\"-\"&INDEX('Reference Data'!$V$2:$V$11,MATCH('Data Entry'!$F$2,'Reference Data'!$U$2:$U$11,TRUE)),\"\")","v":""},{"$f":"IFERROR(INDEX('Reference Data'!$W$2:$W$11,MATCH('Data Entry'!$F$2,'Reference Data'!$U$2:$U$11,TRUE)),\"\")","v":""},null,null,null,null,null,null,null,null,null,null,null,null,null,null,null,null,"2025-26"]
[47,"SANCTIONED TOURNAMENTS",{"$f":"IFERROR(INDEX('Reference Data'!$S$2:$S$13,MATCH('Data Entry'!$C$2,'Reference Data'!$R$2:$R$13,TRUE)),\"\")","v":""},{"$f":"IFERROR(INDEX('Reference Data'!$Q$2:$Q$13,MATCH('Data Entry'!$D$2,'Reference Data'!$P$2:$P$13,TRUE)),\"\")","v":"SANCTIONED EVENT"},{"$f":"IFERROR(LEFT('Data Entry'!$D$2,2)&\"-\"&INDEX('Reference Data'!$V$2:$V$11,MATCH('Data Entry'!$F$2,'Reference Data'!$U$2:$U$11,TRUE)),\"\")","v":""},{"$f":"IFERROR(INDEX('Reference Data'!$W$2:$W$11,MATCH('Data Entry'!$F$2,'Reference Data'!$U$2:$U$11,TRUE)),\"\")","v":""},null,null,null,null,null,null,null,null,null,null,null,null,null,null,null,null,"2025-26"]
[48,"SANCTIONED TOURNAMENTS",{"$f":"IFERROR(INDEX('Reference Data'!$S$2:$S$13,MATCH('Data Entry'!$C$2,'Reference Data'!$R$2:$R$13,TRUE)),\"\")","v":""},{"$f":"IFERROR(INDEX('Reference Data'!$Q$2:$Q$13,MATCH('Data Entry'!$D$2,'Reference Data'!$P$2:$P$13,TRUE)),\"\")","v":"SANCTIONED EVENT"},{"$f":"IFERROR(LEFT('Data Entry'!$D$2,2)&\"-\"&INDEX('Reference Data'!$V$2:$V$11,MATCH('Data Entry'!$F$2,'Reference Data'!$U$2:$U$11,TRUE)),\"\")","v":""},{"$f":"IFERROR(INDEX('Reference Data'!$W$2:$W$11,MATCH('Data Entry'!$F$2,'Reference Data'!$U$2:$U$11,TRUE)),\"\")","v":""},null,null,null,null,null,null,null,null,null,null,null,null,null,null,null,null,"2025-26"]
[49,"SANCTIONED TOURNAMENTS",{"$f":"IFERROR(INDEX('Reference Data'!$S$2:$S$13,MATCH('Data Entry'!$C$2,'Reference Data'!$R$2:$R$13,TRUE)),\"\")","v":""},{"$f":"IFERROR(INDEX('Reference Data'!$Q$2:$Q$13,MATCH('Data Entry'!$D$2,'Reference Data'!$P$2:$P$13,TRUE)),\"\")","v":"SANCTIONED EVENT"},{"$f":"IFERROR(LEFT('Data Entry'!$D$2,2)&\"-\"&INDEX('Reference Data'!$V$2:$V$11,MATCH('Data Entry'!$F$2,'Reference Data'!$U$2:$U$11,TRUE)),\"\")","v":""},{"$f":"IFERROR(INDEX('Reference Data'!$W$2:$W$11,MATCH('Data Entry'!$F$2,'Reference Data'!$U$2:$U$11,TRUE)),\"\")","v":""},null,null,null,null,null,null,null,null,null,null,null,null,null,null,null,null,"2025-26"]
[50,"SANCTIONED TOURNAMENTS",{"$f":"IFERROR(INDEX('Reference Data'!$S$2:$S$13,MATCH('Data Entry'!$C$2,'Reference Data'!$R$2:$R$13,TRUE)),\"\")","v":""},{"$f":"IFERROR(INDEX('Reference Data'!$Q$2:$Q$13,MATCH('Data Entry'!$D$2,'Reference Data'!$P$2:$P$13,TRUE)),\"\")","v":"SANCTIONED EVENT"},{"$f":"IFERROR(LEFT('Data Entry'!$D$2,2)&\"-\"&INDEX('Reference Data'!$V$2:$V$11,MATCH('Data Entry'!$F$2,'Reference Data'!$U$2:$U$11,TRUE)),\"\")","v":""},{"$f":"IFERROR(INDEX('Reference Data'!$W$2:$W$11,MATCH('Data Entry'!$F$2,'Reference Data'!$U$2:$U$11,TRUE)),\"\")","v":""},null,null,null,null,null,null,null,null,null,null,null,null,null,null,null,null,"2025-26"]
[51,"SANCTIONED TOURNAMENTS",{"$f":"IFERROR(INDEX('Reference Data'!$S$2:$S$13,MATCH('Data Entry'!$C$2,'Reference Data'!$R$2:$R$13,TRUE)),\"\")","v":""},{"$f":"IFERROR(INDEX('Reference Data'!$Q$2:$Q$13,MATCH('Data Entry'!$D$2,'Reference Data'!$P$2:$P$13,TRUE)),\"\")","v":"SANCTIONED EVENT"},{"$f":"IFERROR(LEFT('Data Entry'!$D$2,2)&\"-\"&INDEX('Reference Data'!$V$2:$V$11,MATCH('Data Entry'!$F$2,'Reference Data'!$U$2:$U$11,TRUE)),\"\")","v":""},{"$f":"IFERROR(INDEX('Reference Data'!$W$2:$W$11,MATCH('Data Entry'!$F$2,'Reference Data'!$U$2:$U$11,TRUE)),\"\")","v":""},null,null,null,null,null,null,null,null,null,null,null,null,null,null,null,null,"2025-26"]
[52,"SANCTIONED TOURNAMENTS",{"$f":"IFERROR(INDEX('Reference Data'!$S$2:$S$13,MATCH('Data Entry'!$C$2,'Reference Data'!$R$2:$R$13,TRUE)),\"\")","v":""},{"$f":"IFERROR(INDEX('Reference Data'!$Q$2:$Q$13,MATCH('Data Entry'!$D$2,'Reference Data'!$P$2:$P$13,TRUE)),\"\")","v":"SANCTIONED EVENT"},{"$f":"IFERROR(LEFT('Data Entry'!$D$2,2)&\"-\"&INDEX('Reference Data'!$V$2:$V$11,MATCH('Data Entry'!$F$2,'Reference Data'!$U$2:$U$11,TRUE)),\"\")","v":""},{"$f":"IFERROR(INDEX('Reference Data'!$W$2:$W$11,MATCH('Data Entry'!$F$2,'Reference Data'!$U$2:$U$11,TRUE)),\"\")","v":""},null,null,null,null,null,null,null,null,null,null,null,null,null,null,null,null,"2025-26"]
[53,"SANCTIONED TOURNAMENTS",{"$f":"IFERROR(INDEX('Reference Data'!$S$2:$S$13,MATCH('Data Entry'!$C$2,'Reference Data'!$R$2:$R$13,TRUE)),\"\")","v":""},{"$f":"IFERROR(INDEX('Reference Data'!$Q$2:$Q$13,MATCH('Data Entry'!$D$2,'Reference Data'!$P$2:$P$13,TRUE)),\"\")","v":"SANCTIONED EVENT"},{"$f":"IFERROR(LEFT('Data Entry'!$D$2,2)&\"-\"&INDEX('Reference Data'!$V$2:$V$11,MATCH('Data Entry'!$F$2,'Reference Data'!$U$2:$U$11,TRUE)),\"\")","v":""},{"$f":"IFERROR(INDEX('Reference Data'!$W$2:$W$11,MATCH('Data Entry'!$F$2,'Reference Data'!$U$2:$U$11,TRUE)),\"\")","v":""},null,null,null,null,null,null,null,null,null,null,null,null,null,null,null,null,"2025-26"]
[54,"SANCTIONED TOURNAMENTS",{"$f":"IFERROR(INDEX('Reference Data'!$S$2:$S$13,MATCH('Data Entry'!$C$2,'Reference Data'!$R$2:$R$13,TRUE)),\"\")","v":""},{"$f":"IFERROR(INDEX('Reference Data'!$Q$2:$Q$13,MATCH('Data Entry'!$D$2,'Reference Data'!$P$2:$P$13,TRUE)),\"\")","v":"SANCTIONED EVENT"},{"$f":"IFERROR(LEFT('Data Entry'!$D$2,2)&\"-\"&INDEX('Reference Data'!$V$2:$V$11,MATCH('Data Entry'!$F$2,'Reference Data'!$U$2:$U$11,TRUE)),\"\")","v":""},{"$f":"IFERROR(INDEX('Reference Data'!$W$2:$W$11,MATCH('Data Entry'!$F$2,'Reference Data'!$U$2:$U$11,TRUE)),\"\")","v":""},null,null,null,null,null,null,null,null,null,null,null,null,null,null,null,null,"2025-26"]
[55,"SANCTIONED TOURNAMENTS",{"$f":"IFERROR(INDEX('Reference Data'!$S$2:$S$13,MATCH('Data Entry'!$C$2,'Reference Data'!$R$2:$R$13,TRUE)),\"\")","v":""},{"$f":"IFERROR(INDEX('Reference Data'!$Q$2:$Q$13,MATCH('Data Entry'!$D$2,'Reference Data'!$P$2:$P$13,TRUE)),\"\")","v":"SANCTIONED EVENT"},{"$f":"IFERROR(LEFT('Data Entry'!$D$2,2)&\"-\"&INDEX('Reference Data'!$V$2:$V$11,MATCH('Data Entry'!$F$2,'Reference Data'!$U$2:$U$11,TRUE)),\"\")","v":""},{"$f":"IFERROR(INDEX('Reference Data'!$W$2:$W$11,MATCH('Data Entry'!$F$2,'Reference Data'!$U$2:$U$11,TRUE)),\"\")","v":""},null,null,null,null,null,null,null,null,null,null,null,null,null,null,null,null,"2025-26"]
[56,"SANCTIONED TOURNAMENTS",{"$f":"IFERROR(INDEX('Reference Data'!$S$2:$S$13,MATCH('Data Entry'!$C$2,'Reference Data'!$R$2:$R$13,TRUE)),\"\")","v":""},{"$f":"IFERROR(INDEX('Reference Data'!$Q$2:$Q$13,MATCH('Data Entry'!$D$2,'Reference Data'!$P$2:$P$13,TRUE)),\"\")","v":"SANCTIONED EVENT"},{"$f":"IFERROR(LEFT('Data Entry'!$D$2,2)&\"-\"&INDEX('Reference Data'!$V$2:$V$11,MATCH('Data Entry'!$F$2,'Reference Data'!$U$2:$U$11,TRUE)),\"\")","v":""},{"$f":"IFERROR(INDEX('Reference Data'!$W$2:$W$11,MATCH('Data Entry'!$F$2,'Reference Data'!$U$2:$U$11,TRUE)),\"\")","v":""},null,null,null,null,null,null,null,null,null,null,null,null,null,null,null,null,"2025-26"]
[57,"SANCTIONED TOURNAMENTS",{"$f":"IFERROR(INDEX('Reference Data'!$S$2:$S$13,MATCH('Data Entry'!$C$2,'Reference Data'!$R$2:$R$13,TRUE)),\"\")","v":""},{"$f":"IFERROR(INDEX('Reference Data'!$Q$2:$Q$13,MATCH('Data Entry'!$D$2,'Reference Data'!$P$2:$P$13,TRUE)),\"\")","v":"SANCTIONED EVENT"},{"$f":"IFERROR(LEFT('Data Entry'!$D$2,2)&\"-\"&INDEX('Reference Data'!$V$2:$V$11,MATCH('Data Entry'!$F$2,'Reference Data'!$U$2:$U$11,TRUE)),\"\")","v":""},{"$f":"IFERROR(INDEX('Reference Data'!$W$2:$W$11,MATCH('Data Entry'!$F$2,'Reference Data'!$U$2:$U$11,TRUE)),\"\")","v":""},null,null,null,null,null,null,null,null,null,null,null,null,null,null,null,null,"2025-26"]
[58,"SANCTIONED TOURNAMENTS",{"$f":"IFERROR(INDEX('Reference Data'!$S$2:$S$13,MATCH('Data Entry'!$C$2,'Reference Data'!$R$2:$R$13,TRUE)),\"\")","v":""},{"$f":"IFERROR(INDEX('Reference Data'!$Q$2:$Q$13,MATCH('Data Entry'!$D$2,'Reference Data'!$P$2:$P$13,TRUE)),\"\")","v":"SANCTIONED EVENT"},{"$f":"IFERROR(LEFT('Data Entry'!$D$2,2)&\"-\"&INDEX('Reference Data'!$V$2:$V$11,MATCH('Data Entry'!$F$2,'Reference Data'!$U$2:$U$11,TRUE)),\"\")","v":""},{"$f":"IFERROR(INDEX('Reference Data'!$W$2:$W$11,MATCH('Data Entry'!$F$2,'Reference Data'!$U$2:$U$11,TRUE)),\"\")","v":""},null,null,null,null,null,null,null,null,null,null,null,null,null,null,null,null,"2025-26"]
[59,"SANCTIONED TOURNAMENTS",{"$f":"IFERROR(INDEX('Reference Data'!$S$2:$S$13,MATCH('Data Entry'!$C$2,'Reference Data'!$R$2:$R$13,TRUE)),\"\")","v":""},{"$f":"IFERROR(INDEX('Reference Data'!$Q$2:$Q$13,MATCH('Data Entry'!$D$2,'Reference Data'!$P$2:$P$13,TRUE)),\"\")","v":"SANCTIONED EVENT"},{"$f":"IFERROR(LEFT('Data Entry'!$D$2,2)&\"-\"&INDEX('Reference Data'!$V$2:$V$11,MATCH('Data Entry'!$F$2,'Reference Data'!$U$2:$U$11,TRUE)),\"\")","v":""},{"$f":"IFERROR(INDEX('Reference Data'!$W$2:$W$11,MATCH('Data Entry'!$F$2,'Reference Data'!$U$2:$U$11,TRUE)),\"\")","v":""},null,null,null,null,null,null,null,null,null,null,null,null,null,null,null,null,"2025-26"]
[60,"SANCTIONED TOURNAMENTS",{"$f":"IFERROR(INDEX('Reference Data'!$S$2:$S$13,MATCH('Data Entry'!$C$2,'Reference Data'!$R$2:$R$13,TRUE)),\"\")","v":""},{"$f":"IFERROR(INDEX('Reference Data'!$Q$2:$Q$13,MATCH('Data Entry'!$D$2,'Reference Data'!$P$2:$P$13,TRUE)),\"\")","v":"SANCTIONED EVENT"},{"$f":"IFERROR(LEFT('Data Entry'!$D$2,2)&\"-\"&INDEX('Reference Data'!$V$2:$V$11,MATCH('Data Entry'!$F$2,'Reference Data'!$U$2:$U$11,TRUE)),\"\")","v":""},{"$f":"IFERROR(INDEX('Reference Data'!$W$2:$W$11,MATCH('Data Entry'!$F$2,'Reference Data'!$U$2:$U$11,TRUE)),\"\")","v":""},null,null,null,null,null,null,null,null,null,null,null,null,null,null,null,null,"2025-26"]
[61,"SANCTIONED TOURNAMENTS",{"$f":"IFERROR(INDEX('Reference Data'!$S$2:$S$13,MATCH('Data Entry'!$C$2,'Reference Data'!$R$2:$R$13,TRUE)),\"\")","v":""},{"$f":"IFERROR(INDEX('Reference Data'!$Q$2:$Q$13,MATCH('Data Entry'!$D$2,'Reference Data'!$P$2:$P$13,TRUE)),\"\")","v":"SANCTIONED EVENT"},{"$f":"IFERROR(LEFT('Data Entry'!$D$2,2)&\"-\"&INDEX('Reference Data'!$V$2:$V$11,MATCH('Data Entry'!$F$2,'Reference Data'!$U$2:$U$11,TRUE)),\"\")","v":""},{"$f":"IFERROR(INDEX('Reference Data'!$W$2:$W$11,MATCH('Data Entry'!$F$2,'Reference Data'!$U$2:$U$11,TRUE)),\"\")","v":""},null,null,null,null,null,null,null,null,null,null,null,null,null,null,null,null,"2025-26"]
[62,"SANCTIONED TOURNAMENTS",{"$f":"IFERROR(INDEX('Reference Data'!$S$2:$S$13,MATCH('Data Entry'!$C$2,'Reference Data'!$R$2:$R$13,TRUE)),\"\")","v":""},{"$f":"IFERROR(INDEX('Reference Data'!$Q$2:$Q$13,MATCH('Data Entry'!$D$2,'Reference Data'!$P$2:$P$13,TRUE)),\"\")","v":"SANCTIONED EVENT"},{"$f":"IFERROR(LEFT('Data Entry'!$D$2,2)&\"-\"&INDEX('Reference Data'!$V$2:$V$11,MATCH('Data Entry'!$F$2,'Reference Data'!$U$2:$U$11,TRUE)),\"\")","v":""},{"$f":"IFERROR(INDEX('Reference Data'!$W$2:$W$11,MATCH('Data Entry'!$F$2,'Reference Data'!$U$2:$U$11,TRUE)),\"\")","v":""},null,null,null,null,null,null,null,null,null,null,null,null,null,null,null,null,"2025-26"]
[63,"SANCTIONED TOURNAMENTS",{"$f":"IFERROR(INDEX('Reference Data'!$S$2:$S$13,MATCH('Data Entry'!$C$2,'Reference Data'!$R$2:$R$13,TRUE)),\"\")","v":""},{"$f":"IFERROR(INDEX('Reference Data'!$Q$2:$Q$13,MATCH('Data Entry'!$D$2,'Reference Data'!$P$2:$P$13,TRUE)),\"\")","v":"SANCTIONED EVENT"},{"$f":"IFERROR(LEFT('Data Entry'!$D$2,2)&\"-\"&INDEX('Reference Data'!$V$2:$V$11,MATCH('Data Entry'!$F$2,'Reference Data'!$U$2:$U$11,TRUE)),\"\")","v":""},{"$f":"IFERROR(INDEX('Reference Data'!$W$2:$W$11,MATCH('Data Entry'!$F$2,'Reference Data'!$U$2:$U$11,TRUE)),\"\")","v":""},null,null,null,null,null,null,null,null,null,null,null,null,null,null,null,null,"2025-26"]
[64,"SANCTIONED TOURNAMENTS",{"$f":"IFERROR(INDEX('Reference Data'!$S$2:$S$13,MATCH('Data Entry'!$C$2,'Reference Data'!$R$2:$R$13,TRUE)),\"\")","v":""},{"$f":"IFERROR(INDEX('Reference Data'!$Q$2:$Q$13,MATCH('Data Entry'!$D$2,'Reference Data'!$P$2:$P$13,TRUE)),\"\")","v":"SANCTIONED EVENT"},{"$f":"IFERROR(LEFT('Data Entry'!$D$2,2)&\"-\"&INDEX('Reference Data'!$V$2:$V$11,MATCH('Data Entry'!$F$2,'Reference Data'!$U$2:$U$11,TRUE)),\"\")","v":""},{"$f":"IFERROR(INDEX('Reference Data'!$W$2:$W$11,MATCH('Data Entry'!$F$2,'Reference Data'!$U$2:$U$11,TRUE)),\"\")","v":""},null,null,null,null,null,null,null,null,null,null,null,null,null,null,null,null,"2025-26"]
[65,"SANCTIONED TOURNAMENTS",{"$f":"IFERROR(INDEX('Reference Data'!$S$2:$S$13,MATCH('Data Entry'!$C$2,'Reference Data'!$R$2:$R$13,TRUE)),\"\")","v":""},{"$f":"IFERROR(INDEX('Reference Data'!$Q$2:$Q$13,MATCH('Data Entry'!$D$2,'Reference Data'!$P$2:$P$13,TRUE)),\"\")","v":"SANCTIONED EVENT"},{"$f":"IFERROR(LEFT('Data Entry'!$D$2,2)&\"-\"&INDEX('Reference Data'!$V$2:$V$11,MATCH('Data Entry'!$F$2,'Reference Data'!$U$2:$U$11,TRUE)),\"\")","v":""},{"$f":"IFERROR(INDEX('Reference Data'!$W$2:$W$11,MATCH('Data Entry'!$F$2,'Reference Data'!$U$2:$U$11,TRUE)),\"\")","v":""},null,null,null,null,null,null,null,null,null,null,null,null,null,null,null,null,"2025-26"]
[66,"SANCTIONED TOURNAMENTS",{"$f":"IFERROR(INDEX('Reference Data'!$S$2:$S$13,MATCH('Data Entry'!$C$2,'Reference Data'!$R$2:$R$13,TRUE)),\"\")","v":""},{"$f":"IFERROR(INDEX('Reference Data'!$Q$2:$Q$13,MATCH('Data Entry'!$D$2,'Reference Data'!$P$2:$P$13,TRUE)),\"\")","v":"SANCTIONED EVENT"},{"$f":"IFERROR(LEFT('Data Entry'!$D$2,2)&\"-\"&INDEX('Reference Data'!$V$2:$V$11,MATCH('Data Entry'!$F$2,'Reference Data'!$U$2:$U$11,TRUE)),\"\")","v":""},{"$f":"IFERROR(INDEX('Reference Data'!$W$2:$W$11,MATCH('Data Entry'!$F$2,'Reference Data'!$U$2:$U$11,TRUE)),\"\")","v":""},null,null,null,null,null,null,null,null,null,null,null,null,null,null,null,null,"2025-26"]
[67,"SANCTIONED TOURNAMENTS",{"$f":"IFERROR(INDEX('Reference Data'!$S$2:$S$13,MATCH('Data Entry'!$C$2,'Reference Data'!$R$2:$R$13,TRUE)),\"\")","v":""},{"$f":"IFERROR(INDEX('Reference Data'!$Q$2:$Q$13,MATCH('Data Entry'!$D$2,'Reference Data'!$P$2:$P$13,TRUE)),\"\")","v":"SANCTIONED EVENT"},{"$f":"IFERROR(LEFT('Data Entry'!$D$2,2)&\"-\"&INDEX('Reference Data'!$V$2:$V$11,MATCH('Data Entry'!$F$2,'Reference Data'!$U$2:$U$11,TRUE)),\"\")","v":""},{"$f":"IFERROR(INDEX('Reference Data'!$W$2:$W$11,MATCH('Data Entry'!$F$2,'Reference Data'!$U$2:$U$11,TRUE)),\"\")","v":""},null,null,null,null,null,null,null,null,null,null,null,null,null,null,null,null,"2025-26"]
[68,"SANCTIONED TOURNAMENTS",{"$f":"IFERROR(INDEX('Reference Data'!$S$2:$S$13,MATCH('Data Entry'!$C$2,'Reference Data'!$R$2:$R$13,TRUE)),\"\")","v":""},{"$f":"IFERROR(INDEX('Reference Data'!$Q$2:$Q$13,MATCH('Data Entry'!$D$2,'Reference Data'!$P$2:$P$13,TRUE)),\"\")","v":"SANCTIONED EVENT"},{"$f":"IFERROR(LEFT('Data Entry'!$D$2,2)&\"-\"&INDEX('Reference Data'!$V$2:$V$11,MATCH('Data Entry'!$F$2,'Reference Data'!$U$2:$U$11,TRUE)),\"\")","v":""},{"$f":"IFERROR(INDEX('Reference Data'!$W$2:$W$11,MATCH('Data Entry'!$F$2,'Reference Data'!$U$2:$U$11,TRUE)),\"\")","v":""},null,null,null,null,null,null,null,null,null,null,null,null,null,null,null,null,"2025-26"]
[69,"SANCTIONED TOURNAMENTS",{"$f":"IFERROR(INDEX('Reference Data'!$S$2:$S$13,MATCH('Data Entry'!$C$2,'Reference Data'!$R$2:$R$13,TRUE)),\"\")","v":""},{"$f":"IFERROR(INDEX('Reference Data'!$Q$2:$Q$13,MATCH('Data Entry'!$D$2,'Reference Data'!$P$2:$P$13,TRUE)),\"\")","v":"SANCTIONED EVENT"},{"$f":"IFERROR(LEFT('Data Entry'!$D$2,2)&\"-\"&INDEX('Reference Data'!$V$2:$V$11,MATCH('Data Entry'!$F$2,'Reference Data'!$U$2:$U$11,TRUE)),\"\")","v":""},{"$f":"IFERROR(INDEX('Reference Data'!$W$2:$W$11,MATCH('Data Entry'!$F$2,'Reference Data'!$U$2:$U$11,TRUE)),\"\")","v":""},null,null,null,null,null,null,null,null,null,null,null,null,null,null,null,null,"2025-26"]
[70,"SANCTIONED TOURNAMENTS",{"$f":"IFERROR(INDEX('Reference Data'!$S$2:$S$13,MATCH('Data Entry'!$C$2,'Reference Data'!$R$2:$R$13,TRUE)),\"\")","v":""},{"$f":"IFERROR(INDEX('Reference Data'!$Q$2:$Q$13,MATCH('Data Entry'!$D$2,'Reference Data'!$P$2:$P$13,TRUE)),\"\")","v":"SANCTIONED EVENT"},{"$f":"IFERROR(LEFT('Data Entry'!$D$2,2)&\"-\"&INDEX('Reference Data'!$V$2:$V$11,MATCH('Data Entry'!$F$2,'Reference Data'!$U$2:$U$11,TRUE)),\"\")","v":""},{"$f":"IFERROR(INDEX('Reference Data'!$W$2:$W$11,MATCH('Data Entry'!$F$2,'Reference Data'!$U$2:$U$11,TRUE)),\"\")","v":""},null,null,null,null,null,null,null,null,null,null,null,null,null,null,null,null,"2025-26"]
[71,"SANCTIONED TOURNAMENTS",{"$f":"IFERROR(INDEX('Reference Data'!$S$2:$S$13,MATCH('Data Entry'!$C$2,'Reference Data'!$R$2:$R$13,TRUE)),\"\")","v":""},{"$f":"IFERROR(INDEX('Reference Data'!$Q$2:$Q$13,MATCH('Data Entry'!$D$2,'Reference Data'!$P$2:$P$13,TRUE)),\"\")","v":"SANCTIONED EVENT"},{"$f":"IFERROR(LEFT('Data Entry'!$D$2,2)&\"-\"&INDEX('Reference Data'!$V$2:$V$11,MATCH('Data Entry'!$F$2,'Reference Data'!$U$2:$U$11,TRUE)),\"\")","v":""},{"$f":"IFERROR(INDEX('Reference Data'!$W$2:$W$11,MATCH('Data Entry'!$F$2,'Reference Data'!$U$2:$U$11,TRUE)),\"\")","v":""},null,null,null,null,null,null,null,null,null,null,null,null,null,null,null,null,"2025-26"]
[72,"SANCTIONED TOURNAMENTS",{"$f":"IFERROR(INDEX('Reference Data'!$S$2:$S$13,MATCH('Data Entry'!$C$2,'Reference Data'!$R$2:$R$13,TRUE)),\"\")","v":""},{"$f":"IFERROR(INDEX('Reference Data'!$Q$2:$Q$13,MATCH('Data Entry'!$D$2,'Reference Data'!$P$2:$P$13,TRUE)),\"\")","v":"SANCTIONED EVENT"},{"$f":"IFERROR(LEFT('Data Entry'!$D$2,2)&\"-\"&INDEX('Reference Data'!$V$2:$V$11,MATCH('Data Entry'!$F$2,'Reference Data'!$U$2:$U$11,TRUE)),\"\")","v":""},{"$f":"IFERROR(INDEX('Reference Data'!$W$2:$W$11,MATCH('Data Entry'!$F$2,'Reference Data'!$U$2:$U$11,TRUE)),\"\")","v":""},null,null,null,null,null,null,null,null,null,null,null,null,null,null,null,null,"2025-26"]
[73,"SANCTIONED TOURNAMENTS",{"$f":"IFERROR(INDEX('Reference Data'!$S$2:$S$13,MATCH('Data Entry'!$C$2,'Reference Data'!$R$2:$R$13,TRUE)),\"\")","v":""},{"$f":"IFERROR(INDEX('Reference Data'!$Q$2:$Q$13,MATCH('Data Entry'!$D$2,'Reference Data'!$P$2:$P$13,TRUE)),\"\")","v":"SANCTIONED EVENT"},{"$f":"IFERROR(LEFT('Data Entry'!$D$2,2)&\"-\"&INDEX('Reference Data'!$V$2:$V$11,MATCH('Data Entry'!$F$2,'Reference Data'!$U$2:$U$11,TRUE)),\"\")","v":""},{"$f":"IFERROR(INDEX('Reference Data'!$W$2:$W$11,MATCH('Data Entry'!$F$2,'Reference Data'!$U$2:$U$11,TRUE)),\"\")","v":""},null,null,null,null,null,null,null,null,null,null,null,null,null,null,null,null,"2025-26"]
[74,"SANCTIONED TOURNAMENTS",{"$f":"IFERROR(INDEX('Reference Data'!$S$2:$S$13,MATCH('Data Entry'!$C$2,'Reference Data'!$R$2:$R$13,TRUE)),\"\")","v":""},{"$f":"IFERROR(INDEX('Reference Data'!$Q$2:$Q$13,MATCH('Data Entry'!$D$2,'Reference Data'!$P$2:$P$13,TRUE)),\"\")","v":"SANCTIONED EVENT"},{"$f":"IFERROR(LEFT('Data Entry'!$D$2,2)&\"-\"&INDEX('Reference Data'!$V$2:$V$11,MATCH('Data Entry'!$F$2,'Reference Data'!$U$2:$U$11,TRUE)),\"\")","v":""},{"$f":"IFERROR(INDEX('Reference Data'!$W$2:$W$11,MATCH('Data Entry'!$F$2,'Reference Data'!$U$2:$U$11,TRUE)),\"\")","v":""},null,null,null,null,null,null,null,null,null,null,null,null,null,null,null,null,"2025-26"]
[75,"SANCTIONED TOURNAMENTS",{"$f":"IFERROR(INDEX('Reference Data'!$S$2:$S$13,MATCH('Data Entry'!$C$2,'Reference Data'!$R$2:$R$13,TRUE)),\"\")","v":""},{"$f":"IFERROR(INDEX('Reference Data'!$Q$2:$Q$13,MATCH('Data Entry'!$D$2,'Reference Data'!$P$2:$P$13,TRUE)),\"\")","v":"SANCTIONED EVENT"},{"$f":"IFERROR(LEFT('Data Entry'!$D$2,2)&\"-\"&INDEX('Reference Data'!$V$2:$V$11,MATCH('Data Entry'!$F$2,'Reference Data'!$U$2:$U$11,TRUE)),\"\")","v":""},{"$f":"IFERROR(INDEX('Reference Data'!$W$2:$W$11,MATCH('Data Entry'!$F$2,'Reference Data'!$U$2:$U$11,TRUE)),\"\")","v":""},null,null,null,null,null,null,null,null,null,null,null,null,null,null,null,null,"2025-26"]
[76,"SANCTIONED TOURNAMENTS",{"$f":"IFERROR(INDEX('Reference Data'!$S$2:$S$13,MATCH('Data Entry'!$C$2,'Reference Data'!$R$2:$R$13,TRUE)),\"\")","v":""},{"$f":"IFERROR(INDEX('Reference Data'!$Q$2:$Q$13,MATCH('Data Entry'!$D$2,'Reference Data'!$P$2:$P$13,TRUE)),\"\")","v":"SANCTIONED EVENT"},{"$f":"IFERROR(LEFT('Data Entry'!$D$2,2)&\"-\"&INDEX('Reference Data'!$V$2:$V$11,MATCH('Data Entry'!$F$2,'Reference Data'!$U$2:$U$11,TRUE)),\"\")","v":""},{"$f":"IFERROR(INDEX('Reference Data'!$W$2:$W$11,MATCH('Data Entry'!$F$2,'Reference Data'!$U$2:$U$11,TRUE)),\"\")","v":""},null,null,null,null,null,null,null,null,null,null,null,null,null,null,null,null,"2025-26"]
[77,"SANCTIONED TOURNAMENTS",{"$f":"IFERROR(INDEX('Reference Data'!$S$2:$S$13,MATCH('Data Entry'!$C$2,'Reference Data'!$R$2:$R$13,TRUE)),\"\")","v":""},{"$f":"IFERROR(INDEX('Reference Data'!$Q$2:$Q$13,MATCH('Data Entry'!$D$2,'Reference Data'!$P$2:$P$13,TRUE)),\"\")","v":"SANCTIONED EVENT"},{"$f":"IFERROR(LEFT('Data Entry'!$D$2,2)&\"-\"&INDEX('Reference Data'!$V$2:$V$11,MATCH('Data Entry'!$F$2,'Reference Data'!$U$2:$U$11,TRUE)),\"\")","v":""},{"$f":"IFERROR(INDEX('Reference Data'!$W$2:$W$11,MATCH('Data Entry'!$F$2,'Reference Data'!$U$2:$U$11,TRUE)),\"\")","v":""},null,null,null,null,null,null,null,null,null,null,null,null,null,null,null,null,"2025-26"]
[78,"SANCTIONED TOURNAMENTS",{"$f":"IFERROR(INDEX('Reference Data'!$S$2:$S$13,MATCH('Data Entry'!$C$2,'Reference Data'!$R$2:$R$13,TRUE)),\"\")","v":""},{"$f":"IFERROR(INDEX('Reference Data'!$Q$2:$Q$13,MATCH('Data Entry'!$D$2,'Reference Data'!$P$2:$P$13,TRUE)),\"\")","v":"SANCTIONED EVENT"},{"$f":"IFERROR(LEFT('Data Entry'!$D$2,2)&\"-\"&INDEX('Reference Data'!$V$2:$V$11,MATCH('Data Entry'!$F$2,'Reference Data'!$U$2:$U$11,TRUE)),\"\")","v":""},{"$f":"IFERROR(INDEX('Reference Data'!$W$2:$W$11,MATCH('Data Entry'!$F$2,'Reference Data'!$U$2:$U$11,TRUE)),\"\")","v":""},null,null,null,null,null,null,null,null,null,null,null,null,null,null,null,null,"2025-26"]
[79,"SANCTIONED TOURNAMENTS",{"$f":"IFERROR(INDEX('Reference Data'!$S$2:$S$13,MATCH('Data Entry'!$C$2,'Reference Data'!$R$2:$R$13,TRUE)),\"\")","v":""},{"$f":"IFERROR(INDEX('Reference Data'!$Q$2:$Q$13,MATCH('Data Entry'!$D$2,'Reference Data'!$P$2:$P$13,TRUE)),\"\")","v":"SANCTIONED EVENT"},{"$f":"IFERROR(LEFT('Data Entry'!$D$2,2)&\"-\"&INDEX('Reference Data'!$V$2:$V$11,MATCH('Data Entry'!$F$2,'Reference Data'!$U$2:$U$11,TRUE)),\"\")","v":""},{"$f":"IFERROR(INDEX('Reference Data'!$W$2:$W$11,MATCH('Data Entry'!$F$2,'Reference Data'!$U$2:$U$11,TRUE)),\"\")","v":""},null,null,null,null,null,null,null,null,null,null,null,null,null,null,null,null,"2025-26"]
[80,"SANCTIONED TOURNAMENTS",{"$f":"IFERROR(INDEX('Reference Data'!$S$2:$S$13,MATCH('Data Entry'!$C$2,'Reference Data'!$R$2:$R$13,TRUE)),\"\")","v":""},{"$f":"IFERROR(INDEX('Reference Data'!$Q$2:$Q$13,MATCH('Data Entry'!$D$2,'Reference Data'!$P$2:$P$13,TRUE)),\"\")","v":"SANCTIONED EVENT"},{"$f":"IFERROR(LEFT('Data Entry'!$D$2,2)&\"-\"&INDEX('Reference Data'!$V$2:$V$11,MATCH('Data Entry'!$F$2,'Reference Data'!$U$2:$U$11,TRUE)),\"\")","v":""},{"$f":"IFERROR(INDEX('Reference Data'!$W$2:$W$11,MATCH('Data Entry'!$F$2,'Reference Data'!$U$2:$U$11,TRUE)),\"\")","v":""},null,null,null,null,null,null,null,null,null,null,null,null,null,null,null,null,"2025-26"]
[81,"SANCTIONED TOURNAMENTS",{"$f":"IFERROR(INDEX('Reference Data'!$S$2:$S$13,MATCH('Data Entry'!$C$2,'Reference Data'!$R$2:$R$13,TRUE)),\"\")","v":""},{"$f":"IFERROR(INDEX('Reference Data'!$Q$2:$Q$13,MATCH('Data Entry'!$D$2,'Reference Data'!$P$2:$P$13,TRUE)),\"\")","v":"SANCTIONED EVENT"},{"$f":"IFERROR(LEFT('Data Entry'!$D$2,2)&\"-\"&INDEX('Reference Data'!$V$2:$V$11,MATCH('Data Entry'!$F$2,'Reference Data'!$U$2:$U$11,TRUE)),\"\")","v":""},{"$f":"IFERROR(INDEX('Reference Data'!$W$2:$W$11,MATCH('Data Entry'!$F$2,'Reference Data'!$U$2:$U$11,TRUE)),\"\")","v":""},null,null,null,null,null,null,null,null,null,null,null,null,null,null,null,null,"2025-26"]
[82,"SANCTIONED TOURNAMENTS",{"$f":"IFERROR(INDEX('Reference Data'!$S$2:$S$13,MATCH('Data Entry'!$C$2,'Reference Data'!$R$2:$R$13,TRUE)),\"\")","v":""},{"$f":"IFERROR(INDEX('Reference Data'!$Q$2:$Q$13,MATCH('Data Entry'!$D$2,'Reference Data'!$P$2:$P$13,TRUE)),\"\")","v":"SANCTIONED EVENT"},{"$f":"IFERROR(LEFT('Data Entry'!$D$2,2)&\"-\"&INDEX('Reference Data'!$V$2:$V$11,MATCH('Data Entry'!$F$2,'Reference Data'!$U$2:$U$11,TRUE)),\"\")","v":""},{"$f":"IFERROR(INDEX('Reference Data'!$W$2:$W$11,MATCH('Data Entry'!$F$2,'Reference Data'!$U$2:$U$11,TRUE)),\"\")","v":""},null,null,null,null,null,null,null,null,null,null,null,null,null,null,null,null,"2025-26"]
[83,"SANCTIONED TOURNAMENTS",{"$f":"IFERROR(INDEX('Reference Data'!$S$2:$S$13,MATCH('Data Entry'!$C$2,'Reference Data'!$R$2:$R$13,TRUE)),\"\")","v":""},{"$f":"IFERROR(INDEX('Reference Data'!$Q$2:$Q$13,MATCH('Data Entry'!$D$2,'Reference Data'!$P$2:$P$13,TRUE)),\"\")","v":"SANCTIONED EVENT"},{"$f":"IFERROR(LEFT('Data Entry'!$D$2,2)&\"-\"&INDEX('Reference Data'!$V$2:$V$11,MATCH('Data Entry'!$F$2,'Reference Data'!$U$2:$U$11,TRUE)),\"\")","v":""},{"$f":"IFERROR(INDEX('Reference Data'!$W$2:$W$11,MATCH('Data Entry'!$F$2,'Reference Data'!$U$2:$U$11,TRUE)),\"\")","v":""},null,null,null,null,null,null,null,null,null,null,null,null,null,null,null,null,"2025-26"]
[84,"SANCTIONED TOURNAMENTS",{"$f":"IFERROR(INDEX('Reference Data'!$S$2:$S$13,MATCH('Data Entry'!$C$2,'Reference Data'!$R$2:$R$13,TRUE)),\"\")","v":""},{"$f":"IFERROR(INDEX('Reference Data'!$Q$2:$Q$13,MATCH('Data Entry'!$D$2,'Reference Data'!$P$2:$P$13,TRUE)),\"\")","v":"SANCTIONED EVENT"},{"$f":"IFERROR(LEFT('Data Entry'!$D$2,2)&\"-\"&INDEX('Reference Data'!$V$2:$V$11,MATCH('Data Entry'!$F$2,'Reference Data'!$U$2:$U$11,TRUE)),\"\")","v":""},{"$f":"IFERROR(INDEX('Reference Data'!$W$2:$W$11,MATCH('Data Entry'!$F$2,'Reference Data'!$U$2:$U$11,TRUE)),\"\")","v":""},null,null,null,null,null,null,null,null,null,null,null,null,null,null,null,null,"2025-26"]
[85,"SANCTIONED TOURNAMENTS",{"$f":"IFERROR(INDEX('Reference Data'!$S$2:$S$13,MATCH('Data Entry'!$C$2,'Reference Data'!$R$2:$R$13,TRUE)),\"\")","v":""},{"$f":"IFERROR(INDEX('Reference Data'!$Q$2:$Q$13,MATCH('Data Entry'!$D$2,'Reference Data'!$P$2:$P$13,TRUE)),\"\")","v":"SANCTIONED EVENT"},{"$f":"IFERROR(LEFT('Data Entry'!$D$2,2)&\"-\"&INDEX('Reference Data'!$V$2:$V$11,MATCH('Data Entry'!$F$2,'Reference Data'!$U$2:$U$11,TRUE)),\"\")","v":""},{"$f":"IFERROR(INDEX('Reference Data'!$W$2:$W$11,MATCH('Data Entry'!$F$2,'Reference Data'!$U$2:$U$11,TRUE)),\"\")","v":""},null,null,null,null,null,null,null,null,null,null,null,null,null,null,null,null,"2025-26"]

{"sheet":"C5# Lookup","index":3,"n_rows":10,"n_cols":12,"rows_kept":10,"cut":false,"hidden":false,"merged":[[3,0,3,5],[5,2,5,4],[7,2,7,4],[8,2,8,4],[1,6,1,11],[2,6,2,11],[3,6,3,11],[4,6,4,11],[6,6,6,11],[5,6,5,11]]}
[]
[]
[null,null,null,null,null,null,"Microsoft Excel 365 or higher is required for the search function to work"]
["Enter First name and Last name to find the C5#",null,null,null,null,null,"If you see #NAME? or other error below please use the website for lookups"]
[]
[null,"First Name",null,null,null,null,"Check the O5PBA website for the most current membership listing"]
[]
[null,"Last Name"]
[null,null,"Must be exact spelling of the first and last name",null,null,null,"Zones","Mem#","First","Last","Gender","Last Season"]
[null,"Copy and Paste",null,null,null,null,{"$f":"_xlfn._xlws.SORT(_xlfn._xlws.FILTER('Reference Data'!A2:F55550,'Reference Data'!G2:G55550=C8&\", \"&C6,\"Check spelling, or they may be a new bowler\"),6,-1)","v":{"$error":"#VALUE!"}}]

{"sheet":"Reference Data","index":4,"n_rows":19989,"n_cols":23,"rows_kept":4500,"cut":true,"hidden":true,"merged":[],"bounds":{"rows_first":2000,"rows_last":500,"rows_between":2000,"halvings":0}}
["Association","C5#","First Name","Last Name","Sex","Last Season",null,"Rolling Average",{"$f":"COUNTIF(I2:I19313,\"same\")","v":7},null,null,null,null,null,null,"ZONES",null,"DCs",null,null,"Tournaments"]
["Metro Toronto",592,"Lynda","Daviau","F","2016-17",{"$f":"D2&\", \"&C2","v":"Daviau, Lynda"},"NA",{"$f":"IF(G2=G1,\"Same\",\"\")","v":""},null,null,null,null,null,null,"SANCTIONED EVENT","SANCTIONED EVENT","G-BRADFORD","BRADFORD",null,"01-SUNSET SHOOT-OUT","01","SUNSET SHOOT-OUT"]
["Ottawa Valley",2390,"Debra","Cadrain","F","2022-23","Cadrain, Debra",179,{"$f":"IF(G3=G2,\"Same\",\"\")","v":""},null,null,null,null,null,null,null,null,"H-BLUE MOUNTAIN","BLUE MOUNTAIN",null,"02-HOPEDALE CLUB TOUR","02","HOPEDALE CLUB TOUR"]
["Ottawa Valley",6463,"Matthew","Polivchuk","M","2024-25","Polivchuk, Matthew",241,{"$f":"IF(G4=G3,\"Same\",\"\")","v":""},null,null,null,null,null,null,null,null,"J-COBOURG","COBOURG",null,"03-ONTARIO INVITATIONAL","03","ONTARIO INVITATIONAL"]
[null,10243,"Trevor","Hanley","M",null,"Hanley, Trevor","NA",{"$f":"IF(G5=G4,\"Same\",\"\")","v":""},null,null,null,null,null,null,null,null,"L-HASTINGS","HASTINGS",null,"04-COBA HYBRID DOUBLES","04","COBA HYBRID DOUBLES"]
["Ottawa Valley",25460,"Danielle","Andreason","F","2015-16","Andreason, Danielle","NA",{"$f":"IF(G6=G5,\"Same\",\"\")","v":""},null,null,null,null,null,null,null,null,"L-LINDSAY","LINDSAY",null,"05-WELCOME BACK TO BOWLING","05","WELCOME BACK TO BOWLING"]
["Grand River",56501,"Meredith","Bee","F","2024-25","Bee, Meredith",127,null,null,null,null,null,null,null,null,null,"S-MIKE'S","MIKE'S"]
["Grand River",56502,"Andrew","Franklin","M","2024-25","Franklin, Andrew",142,{"$f":"IF(G8=G7,\"Same\",\"\")","v":""},null,null,null,null,null,null,null,null,"S-SUNSET","SUNSET"]
["Grand River",56503,"Gene","Franklin","M","2024-25","Franklin, Gene",146,"",null,null,null,null,null,null,null,null,"S-VICTORIA","VICTORIA"]
["Grand River",56504,"Lianne","Franklin","F","2024-25","Franklin, Lianne",132,"",null,null,null,null,null,null,null,null,"X-MERIVALE","MERIVALE"]
["Grand River",56505,"Joshua","Hagen","M","2024-25","Hagen, Joshua",139,"",null,null,null,null,null,null,null,null,"X-ORLEANS","ORLEANS"]
["Grand River",56506,"Laura","Hagen","F","2024-25","Hagen, Laura",142,""]
["Grand River",56507,"Jenni","Tosic","F","2024-25","Tosic, Jenni",116,""]
["Grand River",56508,"Milan","Tosic","M","2024-25","Tosic, Milan",131,""]
["Grand River",56509,"Kim","Zinger","F","2024-25","Zinger, Kim",108,""]
["Grand River",56510,"Sioban","Ryans","F","2024-25","Ryans, Sioban",192,"",null,null,null,null,null,null,"S - Grand River",{"$f":"INDEX('Reference Data'!$Q$2:$Q$13,MATCH(P16,'Reference Data'!$P$2:$P$13,TRUE))","v":{"$error":"#N/A"}},"K-HASTINGS",{"$f":"INDEX('Reference Data'!$S$2:$S$13,MATCH(R16,'Reference Data'!$R$2:$R$13,TRUE))","v":"COBOURG"},null,"01-SUNSET SHOOT-OUT",{"$f":"INDEX('Reference Data'!$V$2:$V$11,MATCH(U16,'Reference Data'!$U$2:$U$11,TRUE))","v":"01"}]
["Grand River",56511,"Sean","Schuknecht","M","2024-25","Schuknecht, Sean",220,""]
["Grand River",56512,"John","Stokes","M","2024-25","Stokes, John",231,""]
["Grand River",56513,"Ken","Sutton","M","2024-25","Sutton, Ken",207,"",null,null,null,null,null,null,"B - MIDDLESEX-ELGIN","MIDDLESEX-ELGIN","G-BRADFORD","BRADFORD",null,"01-OPEN","01","OPEN"]
["Grand River",56514,"Christie","Clayfield","F","2024-25","Clayfield, Christie",167,"",null,null,null,null,null,null,"D - NIAGARA PENINSULA","NIAGARA PENINSULA","H-BLUE MOUNTAIN","BLUE MOUNTAIN",null,"03-SENIOR OPEN","03","SENIOR OPEN"]
["Grand River",56515,"Tracey","Edwards","F","2024-25","Edwards, Tracey",120,"",null,null,null,null,null,null,"E - HAMILTON","HAMILTON","J-COBOURG","COBOURG",null,"04-HIGH-LOW DOUBLES","04","HIGH-LOW DOUBLES"]
["Grand River",56516,"Andrew","Kew","M","2024-25","Kew, Andrew",121,"",null,null,null,null,null,null,"F - CENTRAL ONTARIO","CENTRAL ONTARIO","L-HASTINGS","HASTINGS",null,"05-HOLIDAY CLASSIC","05","HOLIDAY CLASSIC"]
["Grand River",56517,"Cathy","Kindree","F","2024-25","Kindree, Cathy",128,"",null,null,null,null,null,null,"G - YORK SIMCOE","YORK SIMCOE","L-LINDSAY","LINDSAY",null,"06-EXECUTIVES","06","EXECUTIVES"]
["Grand River",56518,"Lucas","Phillips","M","2024-25","Phillips, Lucas",217,"",null,null,null,null,null,null,"H - HURONIA","HURONIA","S-MIKE'S","MIKE'S",null,"07-PROVINCIAL TRIPLES","07","PROVINCIAL TRIPLES"]
["Grand River",56519,"Gates","Rodrigue","M","2024-25","Rodrigue, Gates",174,"",null,null,null,null,null,null,"J - ONTARIO DURHAM","ONTARIO DURHAM","S-SUNSET","SUNSET",null,"08-BOOSTER CLUB","08","BOOSTER CLUB"]
["Grand River",56520,"Aimee","Wyman","F","2024-25","Wyman, Aimee",142,"",null,null,null,null,null,null,"K - BAY OF QUINTE","BAY OF QUINTE","S-VICTORIA","VICTORIA",null,"09-SENIOR CITIZEN CHAMPIONSHIPS","09","SENIOR CITIZEN CHAMPIONSHIPS"]
["Ontario Durham",56521,"Sherie","Roberts","F","2024-25","Roberts, Sherie",126,"",null,null,null,null,null,null,"L - KAWARTHA LAKES","KAWARTHA LAKES","X-MERIVALE","MERIVALE",null,"10-JUNIOR/SENIOR CITIZEN CHAMPIONSHIPS","10","JUNIOR/SENIOR CITIZEN CHAMPIONSHIPS"]
["Ontario Durham",56522,"Ian","Roberts","M","2024-25","Roberts, Ian",139,"",null,null,null,null,null,null,"S - GRAND RIVER","GRAND RIVER","X-ORLEANS","ORLEANS",null,"11-YOUTH CHALLENGE","11","YOUTH CHALLENGE"]
["Grand River",56523,"Sandy","Kirkham","F","2024-25","Kirkham, Sandy",132,"",null,null,null,null,null,null,"X - OTTAWA VALLEY","OTTAWA VALLEY"]
["Grand River",56524,"Diane","Stack","F","2024-25","Stack, Diane",104,"",null,null,null,null,null,null,null,null,null,null,null,"02-OPEN SINGLES","02","OPEN SINGLES"]
["Ottawa Valley",56525,"Isabelle","Crowe","F","2024-25","Crowe, Isabelle",145,""]
["Ottawa Valley",56526,"Charlie","Rau","M","2024-25","Rau, Charlie",185,""]
["Ontario Durham",56527,"Jesse","Kean","M","2024-25","Kean, Jesse",183,""]
["Ontario Durham",56528,"Steve","Terranova","M","2024-25","Terranova, Steve",161,""]
["Huronia",56529,"Tara","Taggart","F","2024-25","Taggart, Tara",121,""]
["Huronia",56530,"George","Greenslade","M","2024-25","Greenslade, George",153,""]
["Huronia",56531,"Vicky","Greenslade","F","2024-25","Greenslade, Vicky",127,""]
["Huronia",56532,"Crystal","Myers","F","2024-25","Myers, Crystal",141,""]
["Huronia",56533,"Kory","Myers","M","2024-25","Myers, Kory",154,""]
["Huronia",56534,"Stacie","Swinton","F","2024-25","Swinton, Stacie",119,""]
["Huronia",56535,"Jordan","Howard","F","2024-25","Howard, Jordan",118,""]
["Huronia",56536,"Doug","Van horn","M","2024-25","Van horn, Doug",122,""]
["York Simcoe",56537,"Terry","Armstrong","M","2024-25","Armstrong, Terry",192,""]
["Kawartha Lakes",56538,"Jeff","Hewlett","M","2024-25","Hewlett, Jeff",141,""]
["Kawartha Lakes",56539,"Dennis","Hannah","M","2024-25","Hannah, Dennis",106,""]
["Kawartha Lakes",56540,"Brenda","Mcdougall","F","2024-25","Mcdougall, Brenda",114,""]
["Kawartha Lakes",56541,"Dave","Mcdougall","M","2024-25","Mcdougall, Dave",109,""]
["Kawartha Lakes",56542,"Donna","Thomson","F","2024-25","Thomson, Donna",98,""]
["Kawartha Lakes",56543,"Gerald","Thomson","M","2024-25","Thomson, Gerald",133,""]
["York Simcoe",56544,"Michael","Giovannelli","M","2024-25","Giovannelli, Michael",105,""]
["York Simcoe",56545,"Jianlong","Liang","M","2024-25","Liang, Jianlong",91,""]
["York Simcoe",56546,"Matteo","Merigliano","M","2024-25","Merigliano, Matteo",127,""]
["Kawartha Lakes",56547,"Cindy","Coulter","F","2024-25","Coulter, Cindy",106,""]
["Kawartha Lakes",56548,"Gloria","Macdonald","F","2024-25","Macdonald, Gloria","NA",""]
["Kawartha Lakes",56549,"Laura","Macdonald","F","2024-25","Macdonald, Laura","NA",""]
["Kawartha Lakes",56550,"Kevin","Rudy","M","2024-25","Rudy, Kevin","NA",""]
["Kawartha Lakes",56551,"Aimee","Smallwood","F","2024-25","Smallwood, Aimee",163,""]
["Kawartha Lakes",56552,"Jason","Kellar","M","2024-25","Kellar, Jason",181,""]
["Kawartha Lakes",56553,"Lisa","Hogan","F","2024-25","Hogan, Lisa",116,""]
["Kawartha Lakes",56554,"Tracy","Solomon","F","2024-25","Solomon, Tracy",85,""]
["Kawartha Lakes",56555,"Tania","Villa","F","2024-25","Villa, Tania",116,""]
["Kawartha Lakes",56556,"Luke","Buerin","M","2024-25","Buerin, Luke",119,""]
["Kawartha Lakes",56557,"Jessica","Cerveny","F","2024-25","Cerveny, Jessica",114,""]
["Kawartha Lakes",56558,"Stuart","Ridley","M","2024-25","Ridley, Stuart",113,""]
["Kawartha Lakes",56559,"Patricia","Schwass","F","2024-25","Schwass, Patricia",105,""]
["Kawartha Lakes",56560,"Hope","Reundds","F","2024-25",{"$f":"D66&\", \"&C66","v":"Reundds, Hope"},135,""]
["Kawartha Lakes",56561,"Ayrran","Hart","M","2024-25","Hart, Ayrran",148,""]
["Kawartha Lakes",56562,"Drew","Robson","M","2024-25","Robson, Drew",113,""]
["Kawartha Lakes",56563,"Amanda","Kelly","F","2024-25","Kelly, Amanda",116,""]
["Kawartha Lakes",56564,"Chuck","Campbell","M","2024-25","Campbell, Chuck",145,""]
["Huronia",56565,"Lana","Spence","F","2024-25","Spence, Lana",132,""]
["Huronia",56566,"Belinda","Marcellus","F","2024-25","Marcellus, Belinda",115,{"$f":"IF(G72=G71,\"Same\",\"\")","v":""}]
["Grand River",56567,"Stuart","Armbrust","M","2024-25","Armbrust, Stuart",167,""]
["Grand River",56568,"Tanya","Armbrust","F","2024-25","Armbrust, Tanya",123,""]
["Grand River",56569,"Samantha","Armbrust","F","2024-25","Armbrust, Samantha",103,""]
["Grand River",56570,"Megan","Mcdermid","F","2024-25","Mcdermid, Megan",126,""]
["Grand River",56571,"Peter","Mcdermid","M","2024-25","Mcdermid, Peter",150,""]
["Grand River",56572,"Andrea","Stretch","F","2024-25","Stretch, Andrea",121,""]
["Grand River",56573,"Garrett","Knight","M","2024-25","Knight, Garrett",141,""]
["Grand River",56574,"Glenda","Irwin","F","2024-25","Irwin, Glenda",152,""]
["Grand River",56575,"Troy","Courneyea","M","2024-25","Courneyea, Troy",181,""]
["Grand River",56576,"Ron","Courneyea","M","2024-25","Courneyea, Ron",132,""]
["Grand River",56577,"Deanna","Courneyea","F","2024-25","Courneyea, Deanna",123,""]
["Grand River",56578,"Jill","Williams","F","2024-25","Williams, Jill",115,""]
["Ottawa Valley",56579,"Madison","Hebert","F","2024-25","Hebert, Madison",172,""]
["Ottawa Valley",56580,"Nigel","Darker","M","2024-25","Darker, Nigel",156,""]
["Ottawa Valley",56581,"Rhona","Macinnis","F","2024-25","Macinnis, Rhona","NA",""]
["Ottawa Valley",56582,"Robert david","Rudnicki","M","2024-25","Rudnicki, Robert david",111,""]
["Huronia",56583,"Gryphon","Mcculloch","M","2024-25","Mcculloch, Gryphon",161,""]
["Central Ontario",56584,"Adreas","Seita","M","2024-25","Seita, Adreas",93,""]
["York Simcoe",56585,"Kylie","Brown","F","2024-25","Brown, Kylie",124,""]
["York Simcoe",56586,"Neil","Sinclair","M","2024-25","Sinclair, Neil",167,""]
["York Simcoe",56587,"Gord","Thompson","M","2024-25","Thompson, Gord",146,""]
["York Simcoe",56588,"Bill","Wells","M","2024-25","Wells, Bill",165,""]
["Hamilton",56589,"Alyssa","Birkby","F","2024-25","Birkby, Alyssa",203,""]
["Hamilton",56590,"Matt","Gillis","M","2024-25","Gillis, Matt",180,""]
["Hamilton",56591,"Stephanie","Spears","F","2024-25","Spears, Stephanie",107,""]
["Ontario Durham",56592,"Lori","Gertzos","F","2024-25","Gertzos, Lori",132,""]
["Ontario Durham",56593,"Chris","Gertzos","M","2024-25","Gertzos, Chris",132,""]
["Ontario Durham",56594,"Steve","Young","M","2024-25","Young, Steve",248,""]
["Ontario Durham",56595,"Theresa","Clarke","F","2024-25","Clarke, Theresa",162,""]
["Ontario Durham",56596,"Caleb","Layden","M","2024-25","Layden, Caleb",189,""]
["Ontario Durham",56597,"Adam","Wichall","M","2024-25","Wichall, Adam",220,""]
["Ontario Durham",56598,"Amanda","Brownley","F","2024-25","Brownley, Amanda","NA",""]
["Ontario Durham",56599,"Ryan","Oosting","M","2024-25","Oosting, Ryan",212,""]
["Ontario Durham",56599,"Ryan","Oosting","M","2024-25","Oosting, Ryan",212,"Same"]
["Ontario Durham",56600,"Samantha","Cross","F","2024-25","Cross, Samantha",157,""]
["Ontario Durham",56601,"Sean","Sproul","M","2024-25","Sproul, Sean",170,""]
["Ontario Durham",56602,"Calvin","March","M","2024-25","March, Calvin",155,""]
["Ontario Durham",56603,"Jason","Fowler","M","2024-25","Fowler, Jason",220,""]
["Ontario Durham",56604,"Jake","Naccarato","M","2024-25","Naccarato, Jake",189,""]
["Ontario Durham",56605,"Korry","Williamson","M","2024-25","Williamson, Korry",163,""]
["Kawartha Lakes",56606,"Teri","Lawrence","F","2024-25","Lawrence, Teri",114,""]
["Kawartha Lakes",56607,"Michael","Sunde","M","2024-25","Sunde, Michael",146,""]
["Kawartha Lakes",56608,"Su","Edwardson","F","2024-25","Edwardson, Su",111,""]
["Kawartha Lakes",56609,"Brenda","Lapierre","F","2024-25","Lapierre, Brenda",107,""]
["Grand River",56610,"Curtis","Terpstra","M","2024-25","Terpstra, Curtis",219,""]
["Kawartha Lakes",56611,"Tanya denise","Baker","F","2024-25","Baker, Tanya denise",87,""]
["Kawartha Lakes",56612,"Angela marie","Baker","F","2024-25","Baker, Angela marie",99,""]
["Bay of Quinte",56613,"Rick","Mccormack","M","2024-25","Mccormack, Rick",147,""]
["Bay of Quinte",56614,"Rob","Pomfret","M","2024-25","Pomfret, Rob",139,""]
["Bay of Quinte",56615,"Kelly","Cody","F","2024-25","Cody, Kelly",134,""]
["Bay of Quinte",56616,"Guy","Cody","M","2024-25","Cody, Guy",110,""]
["Bay of Quinte",56617,"David","Hayward","M","2024-25","Hayward, David",187,""]
["Bay of Quinte",56618,"Carol","Ladouceur","F","2024-25","Ladouceur, Carol",106,""]
["Bay of Quinte",56619,"Carol","Switzer","F","2024-25","Switzer, Carol","NA",""]
["Bay of Quinte",56620,"Shayne","Switzer","M","2024-25","Switzer, Shayne",129,""]
["Bay of Quinte",56621,"Charlie","Wendell","M","2024-25","Wendell, Charlie",140,""]
["Bay of Quinte",56622,"Ben","Mcmurter","M","2024-25","Mcmurter, Ben",173,""]
["Bay of Quinte",56623,"Jessica","Loveless","F","2024-25",{"$f":"D130&\", \"&C130","v":"Loveless, Jessica"},118,""]
["Bay of Quinte",56624,"Jenn","Bain","F","2024-25","Bain, Jenn",139,""]
["Bay of Quinte",56625,"Kory","Moxam","M","2024-25","Moxam, Kory",168,""]
["Ottawa Valley",56626,"Boris","Rebinczak","M","2024-25","Rebinczak, Boris",113,""]
["Ottawa Valley",56627,"Thomas","Flaro","M","2024-25","Flaro, Thomas",237,""]
["Ottawa Valley",56628,"Chloe","Russell","F","2024-25","Russell, Chloe",213,""]
["York Simcoe",56629,"Clara","Kim","F","2024-25","Kim, Clara","NA",{"$f":"IF(G136=G135,\"Same\",\"\")","v":""}]
["York Simcoe",56630,"Suzanne","Mcrae","F","2024-25","Mcrae, Suzanne","NA",""]
["York Simcoe",56631,"Adam","Springer","M","2024-25","Springer, Adam",95,""]
["York Simcoe",56632,"Lorilyn","Woodcock","F","2024-25","Woodcock, Lorilyn","NA",""]
["Ottawa Valley",56633,"Kyle","Bergsma","M","2024-25","Bergsma, Kyle",120,""]
["Ottawa Valley",56634,"Patti","Dossett","F","2024-25","Dossett, Patti",127,""]
["Huronia",56635,"Bob","Owen","M","2024-25","Owen, Bob",114,""]
["Grand River",56636,"James","Dunlop","M","2024-25","Dunlop, James",155,""]
["Grand River",56637,"Ted","Attridge","M","2024-25","Attridge, Ted",164,""]
["Ottawa Valley",56638,"Chantal","Cleroux","F","2024-25","Cleroux, Chantal",135,""]
["Grand River",56639,"Rohan","Nandakumar","M","2024-25","Nandakumar, Rohan",147,""]
["Bay of Quinte",56640,"Kyle","Wills","M","2024-25","Wills, Kyle",116,""]
["Bay of Quinte",56641,"Kim","Bonisteel","F","2024-25","Bonisteel, Kim",157,""]
["Huronia",56642,"Brett","Gearin","M","2024-25","Gearin, Brett",154,""]
["Ontario Durham",56644,"Bernita","Thompson","F","2024-25","Thompson, Bernita","NA",""]
["Ottawa Valley",56645,"Andy","Lancaster","M","2024-25","Lancaster, Andy",226,""]
["Ottawa Valley",56646,"David","St-amand","M","2024-25","St-amand, David",240,""]
["Grand River",56647,"Otto","Geczi","M","2024-25","Geczi, Otto",165,""]
["Grand River",56648,"Robert","Schaaf","M","2024-25","Schaaf, Robert",135,""]
["Kawartha Lakes",56649,"Philip","Comartin","M","2024-25","Comartin, Philip",77,""]
["Grand River",56650,"Claire","Turner","F","2024-25","Turner, Claire",165,""]
["Grand River",56651,"Owen","Martin","M","2024-25","Martin, Owen",178,""]
["Grand River",56652,"Wiatt","Robinson","M","2024-25","Robinson, Wiatt",165,""]
["Grand River",56653,"Sydney","Smith","F","2024-25","Smith, Sydney",152,""]
["Grand River",56654,"Dominic","Boyles keating","M","2024-25","Boyles keating, Dominic",191,""]
["Grand River",56655,"Zachary","Clarke","M","2024-25","Clarke, Zachary",193,""]
["Grand River",56656,"Payton","Petrie","F","2024-25","Petrie, Payton",191,""]
["Kawartha Lakes",56657,"Chris","Ephgrave","M","2024-25","Ephgrave, Chris",140,""]
["Kawartha Lakes",56658,"Debbie","Buckley","F","2024-25","Buckley, Debbie",147,""]
["Huronia",56659,"Melissa","Murray","F","2024-25","Murray, Melissa",146,""]
["Huronia",56660,"Hannah","Osburn","F","2024-25","Osburn, Hannah",149,""]
["Central Ontario",56661,"Shawn","Large","M","2024-25","Large, Shawn","NA",""]
["Metro Toronto",56662,"Lee","Deal","F","2024-25","Deal, Lee",182,""]
["Ottawa Valley",56663,"Heather","Bird","F","2024-25","Bird, Heather",113,""]
["Ottawa Valley",56664,"Ruth","Bassett","F","2024-25","Bassett, Ruth",106,""]
["Middlesex Elgin",56665,"Grace","Murphy","F","2024-25","Murphy, Grace",141,""]
["York Simcoe",56666,"Natalie","Pineda","F","2024-25","Pineda, Natalie",127,""]
["York Simcoe",56667,"Keith","Thompson","M","2024-25","Thompson, Keith",178,""]
["Ottawa Valley",56668,"Carol","Berthiaume","F","2024-25","Berthiaume, Carol",145,""]
["Huronia",56669,"Alex","Palamarchuk","M","2024-25","Palamarchuk, Alex","NA",""]
["Middlesex Elgin",56670,"Sara","Cox","F","2024-25","Cox, Sara",161,""]
["Middlesex Elgin",56671,"Scott","Helwig","M","2024-25","Helwig, Scott","NA",""]
["Huronia",56672,"Jacqy","Stewart","F","2024-25","Stewart, Jacqy",119,""]
["Huronia",56673,"Ted","Phillips","M","2024-25","Phillips, Ted",161,""]
["Huronia",56674,"Zach","Mceachern","M","2024-25","Mceachern, Zach",156,""]
["Huronia",56675,"Paul","Lafleur","M","2024-25","Lafleur, Paul",173,""]
["Huronia",56676,"Mckenzie","Ralph","F","2024-25","Ralph, Mckenzie",174,""]
["Middlesex Elgin",56677,"Josiah","Duffin","M","2024-25","Duffin, Josiah",193,""]
["Ottawa Valley",56678,"Michel","Seguin","M","2024-25","Seguin, Michel",172,""]
["Huronia",56679,"Carter","Mclean","M","2024-25","Mclean, Carter",124,""]
["Middlesex Elgin",56680,"Jamie","Morrison","F","2024-25","Morrison, Jamie",211,""]
["Grand River",56681,"Casey","Matichuk","M","2024-25","Matichuk, Casey",169,""]
["Metro Toronto",56682,"Brianna","Darnbrough","F","2024-25","Darnbrough, Brianna",165,""]
["Middlesex Elgin",56683,"Bradley","Shipman","M","2024-25","Shipman, Bradley",174,""]
["Middlesex Elgin",56684,"Kevin","Ricard","M","2024-25","Ricard, Kevin",201,""]
["Middlesex Elgin",56685,"Kym","Wagg","F","2024-25","Wagg, Kym",156,""]
["Middlesex Elgin",56686,"Sebastian","Lavallee-tirone","M","2024-25","Lavallee-tirone, Sebastian",165,""]
["Grand River",56687,"Natalie","Oesch","F","2024-25","Oesch, Natalie",179,""]
["Grand River",56688,"Sophie","Brockman","F","2024-25",{"$f":"D194&\", \"&C194","v":"Brockman, Sophie"},185,""]
["Grand River",56689,"Anita","Gregory","F","2024-25","Gregory, Anita",150,""]
["Grand River",56690,"Shaene","Yates","F","2024-25","Yates, Shaene",185,""]
["Grand River",56691,"Felicia","Krauskopf","F","2024-25","Krauskopf, Felicia",131,""]
["Grand River",56692,"Kaitlyn","Fares","F","2024-25","Fares, Kaitlyn",181,""]
["Grand River",56693,"Alexis","Fares","F","2024-25","Fares, Alexis",168,""]
["Huronia",56694,"Chanette","Rossignol","F","2024-25","Rossignol, Chanette",109,{"$f":"IF(G200=G199,\"Same\",\"\")","v":""}]
["Central Ontario",56695,"Tyler a.j.","Cook","M","2024-25","Cook, Tyler a.j.",171,""]
["York Simcoe",56696,"Kameron","Holmes","M","2024-25","Holmes, Kameron","NA",""]
["York Simcoe",56697,"Kasey","Holmes","M","2024-25","Holmes, Kasey","NA",""]
["York Simcoe",56698,"Kaylianna","Holmes","F","2024-25","Holmes, Kaylianna","NA",""]
["York Simcoe",56699,"Richele","Bruno","F","2024-25","Bruno, Richele","NA",""]
["York Simcoe",56700,"Victoria","Mcdonald","F","2024-25","Mcdonald, Victoria","NA",""]
["Kawartha Lakes",56701,"Paul","Henry","M","2024-25","Henry, Paul","NA",""]
["Kawartha Lakes",56702,"Wayne","Burgess","M","2024-25","Burgess, Wayne","NA",""]
["Kawartha Lakes",56703,"Kim","Burgess","F","2024-25","Burgess, Kim","NA",""]
["Central Ontario",56704,"Alison f","Collins","F","2024-25","Collins, Alison f",108,""]
["Central Ontario",56705,"Taylor","Quigley","F","2024-25","Quigley, Taylor","NA",""]
["Central Ontario",56706,"Jenny","Adams","F","2024-25","Adams, Jenny","NA",""]
["Central Ontario",56707,"Noah","Banton","M","2024-25","Banton, Noah","NA",""]
["Central Ontario",56708,"Naman","Singhal","M","2024-25","Singhal, Naman","NA",""]
["Ottawa Valley",56709,"Connie","Burke","F","2024-25","Burke, Connie","NA",""]
["Ottawa Valley",56710,"Raymond","Bellamy","M","2024-25","Bellamy, Raymond","NA",""]
["Ottawa Valley",56711,"Len","Hazard","M","2024-25","Hazard, Len","NA",""]
["Ottawa Valley",56712,"Greg","Bannister","M","2024-25","Bannister, Greg","NA",""]
["Ottawa Valley",56713,"Mark","Albert","M","2024-25","Albert, Mark","NA",""]
["Ottawa Valley",56714,"Guillaume","Boucher","M","2024-25","Boucher, Guillaume","NA",""]
["Ottawa Valley",56715,"Francine","Boucher","F","2024-25","Boucher, Francine","NA",""]
["Ottawa Valley",56716,"Pierette","Cleroux","F","2024-25","Cleroux, Pierette","NA",""]
["Ottawa Valley",56717,"Raymond","Cleroux","M","2024-25","Cleroux, Raymond","NA",""]
["Ottawa Valley",56718,"Normand","Rail","M","2024-25","Rail, Normand","NA",""]
["Ottawa Valley",56719,"Louis","Seguin","M","2024-25","Seguin, Louis","NA",""]
["Ontario Durham",56740,"Brad","Bassingthwaite","M","2024-25","Bassingthwaite, Brad","NA",""]
["Kawartha Lakes",56755,"Bob","Haines","M","2024-25","Haines, Bob","NA",""]
["Kawartha Lakes",56756,"Anne","Dranitsaris","F","2024-25","Dranitsaris, Anne","NA",""]
["Kawartha Lakes",56757,"Bill","Charlton","M","2024-25","Charlton, Bill","NA",""]
["Kawartha Lakes",56758,"Blake","Taylor","M","2024-25","Taylor, Blake","NA",""]
["Kawartha Lakes",56759,"Tammy","Smith","F","2024-25","Smith, Tammy","NA",""]
["Kawartha Lakes",56760,"Ray","Smith","M","2024-25","Smith, Ray","NA",""]
["Kawartha Lakes",56761,"Jonni","Addante","F","2024-25","Addante, Jonni","NA",""]
["Kawartha Lakes",56762,"Dave","Eager","M","2024-25","Eager, Dave","NA",""]
["Kawartha Lakes",56763,"Faith","Eager","F","2024-25","Eager, Faith","NA",""]
["Kawartha Lakes",56764,"Terry","Marchand","M","2024-25","Marchand, Terry","NA",""]
["Kawartha Lakes",56765,"Dwight","Walton","M","2024-25","Walton, Dwight","NA",""]
["Kawartha Lakes",56766,"Jasmine","Lam","F","2024-25","Lam, Jasmine","NA",""]
["Kawartha Lakes",56767,"Deanna","Stuckless","F","2024-25","Stuckless, Deanna","NA",""]
["Kawartha Lakes",56768,"Chantel","Connolly","F","2024-25","Connolly, Chantel","NA",""]
["Kawartha Lakes",56769,"Ben","Latchford","M","2024-25","Latchford, Ben","NA",""]
["Kawartha Lakes",56770,"Amy","Latchford","F","2024-25","Latchford, Amy","NA",""]
["Kawartha Lakes",56771,"Cigie","Crowder","F","2024-25","Crowder, Cigie","NA",""]
["Kawartha Lakes",56772,"Kristine","Lewis","F","2024-25","Lewis, Kristine","NA",""]
["Kawartha Lakes",56773,"Ray","Lewis","M","2024-25","Lewis, Ray","NA",""]
["Kawartha Lakes",56774,"Sydney","Moore","F","2024-25","Moore, Sydney","NA",""]
["Kawartha Lakes",56775,"Elora","Powell","F","2024-25","Powell, Elora","NA",""]
["Kawartha Lakes",56776,"Victoria","Watson","F","2024-25","Watson, Victoria","NA",""]
["Kawartha Lakes",56777,"Kayla","Woolridge","F","2024-25","Woolridge, Kayla","NA",""]
["Kawartha Lakes",56778,"Joe","Romagnuolo","M","2024-25","Romagnuolo, Joe","NA",""]
["Kawartha Lakes",56779,"Sarah","Yeaman","F","2024-25","Yeaman, Sarah","NA",""]
["Kawartha Lakes",56780,"Cohen","Sheehey","M","2024-25","Sheehey, Cohen","NA",""]
["Kawartha Lakes",56781,"Ashton","Sheehey","M","2024-25","Sheehey, Ashton","NA",""]
["Kawartha Lakes",56782,"Trish","Brownson","F","2024-25","Brownson, Trish","NA",""]
["Kawartha Lakes",56783,"Ellen","Mocha","F","2024-25","Mocha, Ellen","NA",""]
["Kawartha Lakes",56784,"Janice","Laswick","F","2024-25","Laswick, Janice","NA",""]
["Kawartha Lakes",56785,"Henry","Mocha","M","2024-25","Mocha, Henry","NA",""]
["York Simcoe",100001,"Gail","Aabo","F","2017-18",{"$f":"D258&\", \"&C258","v":"Aabo, Gail"},"NA",""]
["Ontario Durham",100002,"Todd","Van huss","M","2024-25","Van huss, Todd",176,""]
["York Simcoe",100003,"Dan","Adams","M","2011-12","Adams, Dan","NA",""]
["York Simcoe",100004,"Marj","Adams","F","2013-14","Adams, Marj","NA",""]
["York Simcoe",100005,"Charlie","Addorisio","M","2011-12","Addorisio, Charlie","NA",""]
["Western Ontario",100006,"Sarah","Jones","M","2015-16","Jones, Sarah","NA",""]
["Western Ontario",100007,"John","Brennan","M","2013-14","Brennan, John","NA",{"$f":"IF(G264=G263,\"Same\",\"\")","v":""}]
["Hamilton",100008,"Jocelyn","Forster","F","2018-19","Forster, Jocelyn","NA",""]
["York Simcoe",100009,"Henry","Alexander","M","2012-13","Alexander, Henry","NA",""]
["York Simcoe",100010,"Fred","Allen","M","2013-14","Allen, Fred","NA",""]
["York Simcoe",100011,"Lilly","Allen","F","2012-13","Allen, Lilly","NA",""]
["Western Ontario",100012,"Donna","Morykot","F","2023-24","Morykot, Donna",122,""]
["Western Ontario",100013,"Cassandra","Mcmahon","F","2015-16","Mcmahon, Cassandra","NA",""]
["York Simcoe",100014,"Matthew","Amon","M","2016-17","Amon, Matthew","NA",""]
["York Simcoe",100015,"Barb","Anderson","F","2012-13","Anderson, Barb","NA",""]
["York Simcoe",100016,"Blair","Anderson","M","2019-20","Anderson, Blair","NA",""]
["Western Ontario",100017,"Roy","Morykot","M","2023-24","Morykot, Roy",157,""]
["O5PBA",100018,"Hester","Garside","F","2024-25","Garside, Hester","NA",""]
["Western Ontario",100019,"Dianne","Browell","F","2013-14","Browell, Dianne","NA",""]
["Western Ontario",100020,"Samantha","Fougere","F","2015-16","Fougere, Samantha","NA",""]
["York Simcoe",100021,"Mary","Anderson","F","2019-20","Anderson, Mary","NA",""]
["Western Ontario",100022,"Jason","Apthorp","M","2022-23","Apthorp, Jason",164,""]
["Western Ontario",100023,"Christine","Thompson","F","2016-17","Thompson, Christine","NA",""]
["York Simcoe",100024,"Vanessa","Anderson","F","2023-24","Anderson, Vanessa","NA",""]
["York Simcoe",100025,"Margaret","Andic","F","2024-25","Andic, Margaret",176,""]
["York Simcoe",100026,"Brad","Andrews","M","2011-12","Andrews, Brad","NA",""]
["Ontario Durham",100027,"Danny","Jewell","M","2015-16","Jewell, Danny","NA",""]
["Western Ontario",100028,"Chad","Ewing","M","2015-16","Ewing, Chad","NA",""]
["York Simcoe",100029,"Shig","Aoki","M","2010-11","Aoki, Shig","NA",""]
["Western Ontario",100030,"Brad","Thompson","M","2016-17","Thompson, Brad","NA",""]
["Western Ontario",100031,"Dave","Browell","M","2013-14","Browell, Dave","NA",""]
["Western Ontario",100032,"Barb","Flynn","F","2022-23","Flynn, Barb",128,""]
["Western Ontario",100033,"Ted","Snake","M","2019-20","Snake, Ted","NA",""]
["York Simcoe",100034,"Dave","Argue","M","2016-17","Argue, Dave","NA",""]
["Ottawa Valley",100035,"Wayne","Paton","M","2019-20","Paton, Wayne","NA",""]
["Ottawa Valley",100036,"Dawn","Landry","F","2015-16","Landry, Dawn","NA",""]
["York Simcoe",100037,"Leslie","Armstrong","F","2010-11","Armstrong, Leslie","NA",""]
["Ottawa Valley",100038,"Catherine","Mclaren","F","2018-19","Mclaren, Catherine","NA",""]
["Western Ontario",100039,"Joe","Lieb","M","2013-14","Lieb, Joe","NA",""]
["York Simcoe",100040,"Joseph","Arseneau","M","2024-25","Arseneau, Joseph",175,""]
["York Simcoe",100041,"Alison","Arthur","F","2018-19","Arthur, Alison","NA",""]
["York Simcoe",100042,"Kim","Arthurs","F","2024-25","Arthurs, Kim",90,""]
["Grand River",100043,"Crystal","Hundt","F","2015-16","Hundt, Crystal","NA",""]
["Western Ontario",100044,"Jim","Mucha","M","2013-14","Mucha, Jim","NA",""]
["York Simcoe",100045,"Alex","Auciello","M","2011-12","Auciello, Alex","NA",""]
["Western Ontario",100046,"Marcel","Parent","M","2023-24","Parent, Marcel",193,""]
["Kawartha Lakes",100047,"Julie","Babuik","F","2016-17","Babuik, Julie","NA",""]
["Kawartha Lakes",100048,"Kris","Babuik","M","2016-17","Babuik, Kris","NA",""]
["Grand River",100049,"Paul","Brown","M","2024-25","Brown, Paul",183,""]
["York Simcoe",100050,"Paul","Baird","M","2010-11","Baird, Paul","NA",""]
["Western Ontario",100051,"Mike","Risatti","M","2013-14","Risatti, Mike","NA",""]
["Western Ontario",100052,"Mark","Swystun","M","2013-14","Swystun, Mark","NA",""]
["Western Ontario",100053,"Susan","Willcock","F","2015-16","Willcock, Susan","NA",""]
["Grand River",100054,"Karl","Klomp","M","2019-20","Klomp, Karl","NA",""]
["York Simcoe",100055,"Toula","Balasca","F","2012-13","Balasca, Toula","NA",""]
["Western Ontario",100056,"Pat","Macnevin","F","2018-19","Macnevin, Pat","NA",""]
["Western Ontario",100057,"Candace","David","F","2016-17","David, Candace","NA",""]
["York Simcoe",100058,"Randy","Banks","M","2011-12","Banks, Randy","NA",""]
["York Simcoe",100059,"Marylou","Barber","F","2012-13","Barber, Marylou","NA",""]
["Western Ontario",100060,"Jamie","Campbell","F","2013-14","Campbell, Jamie","NA",""]
["Grand River",100061,"Janis","Sidwell","F","2018-19","Sidwell, Janis","NA",""]
["Grand River",100062,"Marion","Bennett","F","2015-16","Bennett, Marion","NA",""]
["Grand River",100063,"Chantel","Moore","F","2015-16","Moore, Chantel","NA",""]
["Grand River",100064,"Dan","Ruth","M","2015-16","Ruth, Dan","NA",""]
["Grand River",100065,"Tristan","Barter","M","2015-16",{"$f":"D322&\", \"&C322","v":"Barter, Tristan"},"NA",""]
["Western Ontario",100066,"Sandra","Thompson","F","2014-15","Thompson, Sandra","NA",""]
["Grand River",100067,"Lloyd","Barter","M","2015-16","Barter, Lloyd","NA",""]
["Grand River",100068,"Jody","Kempel","M","2024-25","Kempel, Jody",182,""]
["York Simcoe",100069,"Angie","Battista","F","2013-14","Battista, Angie","NA",""]
["York Simcoe",100070,"Teresa","Battista","F","2010-11","Battista, Teresa","NA",""]
["York Simcoe",100071,"Tony","Battista","M","2013-14","Battista, Tony","NA",{"$f":"IF(G328=G327,\"Same\",\"\")","v":""}]
["York Simcoe",100072,"Monica","Baz","F","2010-11","Baz, Monica","NA",""]
["Grand River",100073,"Mercedes","Graham","F","2024-25","Graham, Mercedes",186,""]
["York Simcoe",100074,"Jeannette","Beauregard","F","2010-11","Beauregard, Jeannette","NA",""]
["York Simcoe",100075,"Ken","Beauregard","M","2010-11","Beauregard, Ken","NA",""]
["Western Ontario",100076,"Alisha","Dawson","F","2013-14","Dawson, Alisha","NA",""]
["Western Ontario",100077,"Elsie","Cotton","F","2014-15","Cotton, Elsie","NA",""]
["Grand River",100078,"Steve","Long","M","2021-22","Long, Steve","NA",""]
["Grand River",100079,"Jennifer","Long","F","2024-25","Long, Jennifer",134,""]
["York Simcoe",100080,"Jack","Begin","M","2015-16","Begin, Jack","NA",""]
["York Simcoe",100081,"Brian","Belman","M","2010-11","Belman, Brian","NA",""]
["Grand River",100082,"Derek","Mckenzie","M","2016-17","Mckenzie, Derek","NA",""]
["Grand River",100083,"Tyler","Paquette","M","2015-16","Paquette, Tyler","NA",""]
["Grand River",100084,"Connor","Tannahill","M","2015-16","Tannahill, Connor","NA",""]
["York Simcoe",100085,"Debbie","Harmer","F","2011-12","Harmer, Debbie","NA",""]
["Western Ontario",100086,"Cheryl","Cameron","F","2014-15","Cameron, Cheryl","NA",""]
["York Simcoe",100087,"Gaspare","Benvenuto","M","2010-11","Benvenuto, Gaspare","NA",""]
["York Simcoe",100088,"Theresa","Berkopec","F","2015-16","Berkopec, Theresa","NA",""]
["York Simcoe",100089,"Cory","Bernard","M","2013-14","Bernard, Cory","NA",""]
["Bay of Quinte",100090,"Susan","Parcels","F","2015-16","Parcels, Susan","NA",""]
["York Simcoe",100091,"Carol","Bernier","F","2014-15","Bernier, Carol","NA",""]
["Bay of Quinte",100092,"Gale","Mchardy","F","2019-20","Mchardy, Gale","NA",""]
["Grand River",100093,"Madison","Graham","F","2020-21","Graham, Madison","NA",""]
["Ontario Durham",100094,"Jeanette","White","F","2015-16","White, Jeanette","NA",""]
["O5PBA",100095,"Rhonda","Gifford","F","2024-25","Gifford, Rhonda","NA",""]
["Bay of Quinte",100096,"Ruth","Wilson","F","2014-15","Wilson, Ruth","NA",""]
["York Simcoe",100097,"Steve","Black","M","2012-13","Black, Steve","NA",""]
["Ontario Durham",100098,"Amy","Blakeley","F","2015-16","Blakeley, Amy","NA",""]
["Bay of Quinte",100099,"Diane","Smith","F","2013-14","Smith, Diane","NA",""]
["York Simcoe",100100,"John","Blake","M","2024-25","Blake, John",195,""]
["Bay of Quinte",100101,"Leslie","Brandon","F","2013-14","Brandon, Leslie","NA",""]
["York Simcoe",100102,"Marilyn","Blom","F","2015-16","Blom, Marilyn","NA",""]
["York Simcoe",100103,"Bertha","Blomerley","F","2012-13","Blomerley, Bertha","NA",""]
["York Simcoe",100104,"Kevin","Blomerley","M","2010-11","Blomerley, Kevin","NA",""]
["Bay of Quinte",100105,"Gord","Jesseman","M","2013-14","Jesseman, Gord","NA",""]
["York Simcoe",100106,"John","Bloss","M","2011-12","Bloss, John","NA",""]
["Ontario Durham",100107,"Emily","Joudrey","F","2024-25","Joudrey, Emily",199,""]
["Ontario Durham",100108,"Marisa","Humphrey","F","2019-20","Humphrey, Marisa","NA",""]
["Ontario Durham",100109,"Heather","Turnball","F","2016-17","Turnball, Heather","NA",""]
["Ontario Durham",100110,"Matt","Blakeley","M","2015-16","Blakeley, Matt","NA",""]
["Central Ontario",100111,"Emil","Boljkovac","M","2024-25","Boljkovac, Emil",233,""]
["Kawartha Lakes",100112,"Donna","Hamilton","F","2023-24","Hamilton, Donna",185,""]
["Kawartha Lakes",100113,"Debbie","Hamilton","F","2015-16","Hamilton, Debbie","NA",""]
["York Simcoe",100114,"Charlie","Booth","M","2015-16","Booth, Charlie","NA",""]
["York Simcoe",100115,"Eva","Booth","F","2015-16","Booth, Eva","NA",""]
["Kawartha Lakes",100116,"Nicole","Barnard","F","2017-18","Barnard, Nicole","NA",""]
["Kawartha Lakes",100117,"Reg","Shaughnessy","M","2019-20","Shaughnessy, Reg","NA",""]
["Kawartha Lakes",100118,"Alisha","Shaughnessy","F","2024-25","Shaughnessy, Alisha",209,""]
["York Simcoe",100119,"Lynne","Bouchard","F","2012-13","Bouchard, Lynne","NA",""]
["Kawartha Lakes",100120,"Crystal","Dillon","F","2015-16","Dillon, Crystal","NA",""]
["Huronia",100121,"Teresa","Mcdougall","F","2011-12","Mcdougall, Teresa","NA",""]
["Bay of Quinte",100122,"Maurice","Knight","M","2013-14","Knight, Maurice","NA",""]
["York Simcoe",100123,"Neal","Bowie","M","2013-14","Bowie, Neal","NA",""]
["Bay of Quinte",100124,"Karen","Hutton","F","2015-16","Hutton, Karen","NA",""]
["York Simcoe",100125,"Harvey","Boyd","M","2011-12","Boyd, Harvey","NA",""]
["York Simcoe",100126,"Shirley","Boyle","F","2015-16","Boyle, Shirley","NA",""]
["Kawartha Lakes",100127,"Julie","Chatten","F","2016-17","Chatten, Julie","NA",""]
["York Simcoe",100128,"Adam","Bradbury","M","2010-11","Bradbury, Adam","NA",""]
["York Simcoe",100129,"Dennis","Bradbury","M","2010-11",{"$f":"D386&\", \"&C386","v":"Bradbury, Dennis"},"NA",""]
["York Simcoe",100130,"Dennis sr.","Bradbury","M","2010-11","Bradbury, Dennis sr.","NA",""]
["York Simcoe",100131,"Kyle","Bradbury","M","2010-11","Bradbury, Kyle","NA",""]
["York Simcoe",100132,"Shane","Bradbury","M","2010-11","Bradbury, Shane","NA",""]
["Bay of Quinte",100133,"Doug","Hutton","M","2015-16","Hutton, Doug","NA",""]
["York Simcoe",100134,"Camille","Braithwaite","F","2023-24","Braithwaite, Camille",87,""]
["Kawartha Lakes",100135,"Gord","Rowley","M","2019-20","Rowley, Gord","NA",{"$f":"IF(G392=G391,\"Same\",\"\")","v":""}]
["Kawartha Lakes",100136,"Nancy","Renaud","F","2019-20","Renaud, Nancy","NA",""]
["York Simcoe",100137,"Heidi","Breen","F","2012-13","Breen, Heidi","NA",""]
["Kawartha Lakes",100138,"Rob","Van riper","M","2017-18","Van riper, Rob","NA",""]
["York Simcoe",100139,"Chris","Bresser","M","2022-23","Bresser, Chris","NA",""]
["York Simcoe",100140,"Jon","Bresser","M","2016-17","Bresser, Jon","NA",""]
["York Simcoe",100141,"Joanne","Briggs","F","2014-15","Briggs, Joanne","NA",""]
["York Simcoe",100142,"Rick","Briggs","M","2014-15","Briggs, Rick","NA",""]
["Bay of Quinte",100143,"Trudie","Jesseman","F","2013-14","Jesseman, Trudie","NA",""]
["York Simcoe",100144,"Matt","Broschell","M","2019-20","Broschell, Matt","NA",""]
["York Simcoe",100145,"Mark","Brotman","M","2013-14","Brotman, Mark","NA",""]
["York Simcoe",100146,"A.j.","Brown","M","2012-13","Brown, A.j.","NA",""]
["Kawartha Lakes",100147,"Craig","Mceachern","M","2015-16","Mceachern, Craig","NA",""]
["Kawartha Lakes",100148,"Ray","Naugler","M","2015-16","Naugler, Ray","NA",""]
["Kawartha Lakes",100149,"Aidan","Richter","M","2015-16","Richter, Aidan","NA",""]
["Kawartha Lakes",100150,"Cam","Lywood","M","2024-25","Lywood, Cam",182,""]
["Kawartha Lakes",100151,"Brian","Laport","M","2015-16","Laport, Brian","NA",""]
["Kawartha Lakes",100152,"Jeremy","Parks","M","2015-16","Parks, Jeremy","NA",""]
["York Simcoe",100153,"Ron","Brown","M","2024-25","Brown, Ron",147,""]
["Bay of Quinte",100154,"Margaret","Knight","F","2013-14","Knight, Margaret","NA",""]
["Kawartha Lakes",100155,"Kimmie","Morin","F","2019-20","Morin, Kimmie","NA",""]
["Kawartha Lakes",100156,"Katie","Lywood","F","2024-25","Lywood, Katie",150,""]
["Bay of Quinte",100157,"Lynn","Sturch","F","2013-14","Sturch, Lynn","NA",""]
["York Simcoe",100158,"Rosemary","Brubacher","F","2019-20","Brubacher, Rosemary","NA",""]
["Bay of Quinte",100159,"Jason","Westall","M","2013-14","Westall, Jason","NA",""]
["Kawartha Lakes",100160,"Alex","Appleton","F","2015-16","Appleton, Alex","NA",""]
["York Simcoe",100161,"Jim","Buckingham","M","2015-16","Buckingham, Jim","NA",""]
["York Simcoe",100162,"Adrian","Buckley","M","2011-12","Buckley, Adrian","NA",""]
["Kawartha Lakes",100163,"Amy","Jones","F","2015-16","Jones, Amy","NA",""]
["York Simcoe",100164,"Ken","Buckley","M","2015-16","Buckley, Ken","NA",""]
["Kawartha Lakes",100165,"John","Conroy","M","2016-17","Conroy, John","NA",""]
["York Simcoe",100166,"Sandra","Buckley","F","2015-16","Buckley, Sandra","NA",""]
["Bay of Quinte",100167,"Sharon","Kennedy","F","2013-14","Kennedy, Sharon","NA",""]
["Kawartha Lakes",100168,"Dave","Welch","M","2019-20","Welch, Dave","NA",""]
["York Simcoe",100169,"Janet","Bunston","F","2010-11","Bunston, Janet","NA",""]
["Kawartha Lakes",100170,"Chad","Foley","M","2014-15","Foley, Chad","NA",""]
["Kawartha Lakes",100171,"Diane","Armstrong","F","2010-11","Armstrong, Diane","NA",""]
["York Simcoe",100172,"Brendan","Burd","M","2024-25","Burd, Brendan",115,""]
["York Simcoe",100173,"Susanne","Burlton","F","2014-15","Burlton, Susanne","NA",""]
["Kawartha Lakes",100174,"Terry","Shea","M","2016-17","Shea, Terry","NA",""]
["York Simcoe",100175,"Sandy","Burnie","F","2012-13","Burnie, Sandy","NA",""]
["York Simcoe",100176,"Robbie","Burns","M","2011-12","Burns, Robbie","NA",""]
["York Simcoe",100177,"Bill","Burrows","M","2019-20","Burrows, Bill","NA",""]
["York Simcoe",100178,"Tina","Burrows","F","2011-12","Burrows, Tina","NA",""]
["Huronia",100179,"Bruce","Bursey","M","2017-18","Bursey, Bruce","NA",""]
["Bay of Quinte",100180,"Jennifer","Doornbos","F","2014-15","Doornbos, Jennifer","NA",""]
["York Simcoe",100181,"Astrid","Buschke","F","2024-25","Buschke, Astrid",160,""]
["Kawartha Lakes",100182,"Jeff","Rye","M","2015-16","Rye, Jeff","NA",""]
["York Simcoe",100183,"Kathleen","Byrne","F","2013-14","Byrne, Kathleen","NA",""]
["Kawartha Lakes",100184,"Kayley","Vinette","F","2015-16","Vinette, Kayley","NA",""]
["York Simcoe",100185,"Gail","Cadeau","F","2012-13","Cadeau, Gail","NA",""]
["York Simcoe",100186,"Ron","Cadeau","M","2012-13","Cadeau, Ron","NA",""]
["York Simcoe",100187,"Ashley","Cadman","F","2012-13","Cadman, Ashley","NA",""]
["York Simcoe",100188,"Julie","Cadman","F","2017-18","Cadman, Julie","NA",""]
["York Simcoe",100189,"Mike","Cadman","M","2023-24","Cadman, Mike",187,""]
["Kawartha Lakes",100190,"Laurie lee","Welch","F","2019-20","Welch, Laurie lee","NA",""]
["Grand River",100191,"Betty","Davies","F","2013-14","Davies, Betty","NA",""]
["York Simcoe",100192,"Margaret","Callum","F","2024-25","Callum, Margaret",94,""]
["Grand River",100193,"Jeff","Bannon","M","2020-21",{"$f":"D450&\", \"&C450","v":"Bannon, Jeff"},"NA",""]
["York Simcoe",100194,"Dale","Cameron","M","2011-12","Cameron, Dale","NA",""]
["Kawartha Lakes",100195,"Carrie","Conroy","F","2016-17","Conroy, Carrie","NA",""]
["Grand River",100196,"Sean","Cassidy","M","2015-16","Cassidy, Sean","NA",""]
["Kawartha Lakes",100197,"Dana","Doherty","F","2015-16","Doherty, Dana","NA",""]
["York Simcoe",100198,"Rita","Campbell","F","2015-16","Campbell, Rita","NA",""]
["Kawartha Lakes",100199,"Sylvia","Shea","F","2016-17","Shea, Sylvia","NA",{"$f":"IF(G456=G455,\"Same\",\"\")","v":""}]
["Kawartha Lakes",100200,"Valerie","Timmermans","F","2018-19","Timmermans, Valerie","NA",""]
["Kawartha Lakes",100201,"Christine","Rose","F","2023-24","Rose, Christine",143,""]
["Kawartha Lakes",100202,"Kim","Whynot","F","2015-16","Whynot, Kim","NA",""]
["Niagara Peninsula",100203,"Danelle","Bilodeau","F","2015-16","Bilodeau, Danelle","NA",""]
["Grand River",100204,"Sarah","Sage","F","2013-14","Sage, Sarah","NA",""]
["Niagara Peninsula",100205,"Simon","Burke","M","2015-16","Burke, Simon","NA",""]
["Niagara Peninsula",100206,"Alex","Frost","F","2016-17","Frost, Alex","NA",""]
["Ontario Durham",100207,"Lucas","Hall","M","2024-25","Hall, Lucas",214,""]
["Grand River",100208,"Dona lea","St. clair","F","2013-14","St. clair, Dona lea","NA",""]
["York Simcoe",100209,"Tom","Carlisle","M","2012-13","Carlisle, Tom","NA",""]
["Niagara Peninsula",100210,"Bill","Steinhoff","M","2024-25","Steinhoff, Bill",189,""]
["Niagara Peninsula",100211,"Graham","Walker","M","2016-17","Walker, Graham","NA",""]
["York Simcoe",100212,"Fraser","Cassels","M","2010-11","Cassels, Fraser","NA",""]
["Niagara Peninsula",100213,"Krisha","Walker","F","2016-17","Walker, Krisha","NA",""]
["Niagara Peninsula",100214,"Will","Watson","M","2016-17","Watson, Will","NA",""]
["York Simcoe",100215,"Annie","Aemato","F","2015-16","Aemato, Annie","NA",""]
["York Simcoe",100216,"Sean","Chalmers","M","2024-25","Chalmers, Sean",181,""]
["Grand River",100217,"Samuel","Minhas","M","2013-14","Minhas, Samuel","NA",""]
["York Simcoe",100218,"Peter","Chambers","M","2016-17","Chambers, Peter","NA",""]
["York Simcoe",100219,"Vivian","Chan","F","2010-11","Chan, Vivian","NA",""]
["Niagara Peninsula",100220,"Mike","Owen","M","2023-24","Owen, Mike",87,""]
["York Simcoe",100221,"Robert","Chapple","M","2016-17","Chapple, Robert","NA",""]
["York Simcoe",100222,"Don","Chase","M","2011-12","Chase, Don","NA",""]
["Niagara Peninsula",100223,"Ray","Darchi","M","2018-19","Darchi, Ray","NA",""]
["Niagara Peninsula",100224,"Cindy","Peters","F","2015-16","Peters, Cindy","NA",""]
["Niagara Peninsula",100225,"Kyle","Newman","M","2015-16","Newman, Kyle","NA",""]
["York Simcoe",100226,"Patrick","Cheron","M","2012-13","Cheron, Patrick","NA",""]
["Grand River",100227,"T.j.","Minhas","F","2013-14","Minhas, T.j.","NA",""]
["York Simcoe",100228,"Sharyn","Choules","F","2011-12","Choules, Sharyn","NA",""]
["York Simcoe",100229,"Terry","Choules","M","2011-12","Choules, Terry","NA",""]
["York Simcoe",100230,"Donna","Chown","F","2010-11","Chown, Donna","NA",""]
["Niagara Peninsula",100231,"Nicki","Champagne","F","2016-17","Champagne, Nicki","NA",""]
["Niagara Peninsula",100232,"Kevin","Gale","M","2015-16","Gale, Kevin","NA",""]
["Niagara Peninsula",100233,"Kile","Robins","M","2024-25","Robins, Kile",233,""]
["Niagara Peninsula",100234,"Josh","Robins","M","2024-25","Robins, Josh",248,""]
["York Simcoe",100235,"Lena","Ciccoterli","F","2010-11","Ciccoterli, Lena","NA",""]
["York Simcoe",100236,"Fraser","Clark","M","2016-17","Clark, Fraser","NA",""]
["York Simcoe",100237,"Jackie","Clark","F","2015-16","Clark, Jackie","NA",""]
["Grand River",100238,"Jim","Mcguire","M","2013-14","Mcguire, Jim","NA",""]
["York Simcoe",100239,"Paul","Clark","M","2017-18","Clark, Paul","NA",""]
["Niagara Peninsula",100240,"Cheryl","Rogers","F","2019-20","Rogers, Cheryl","NA",""]
["Niagara Peninsula",100241,"Dennis","Rogers","M","2018-19","Rogers, Dennis","NA",""]
["Niagara Peninsula",100242,"Matthew","Tessier","M","2016-17","Tessier, Matthew","NA",""]
["Niagara Peninsula",100243,"Nick","Warankie","M","2023-24","Warankie, Nick",174,""]
["York Simcoe",100244,"Ashley","Girouard","F","2011-12","Girouard, Ashley","NA",""]
["York Simcoe",100245,"Bill","Clews","M","2023-24","Clews, Bill",106,""]
["Niagara Peninsula",100246,"Matt","Burghall","M","2019-20","Burghall, Matt","NA",""]
["Ottawa Valley",100247,"Ron","Kenkel","M","2016-17","Kenkel, Ron","NA",""]
["York Simcoe",100248,"Doreen","Collins","F","2010-11","Collins, Doreen","NA",""]
["Ottawa Valley",100249,"Tom","Kenkel","M","2016-17","Kenkel, Tom","NA",""]
["York Simcoe",100250,"Patty","Colucci","F","2012-13","Colucci, Patty","NA",""]
["York Simcoe",100251,"Tulio","Colucci","M","2012-13","Colucci, Tulio","NA",""]
["York Simcoe",100252,"Carlos","Comendador","M","2024-25","Comendador, Carlos",152,""]
["Ottawa Valley",100253,"Gary","Langton","M","2016-17","Langton, Gary","NA",""]
["Ottawa Valley",100254,"Luke","Penasse","M","2019-20","Penasse, Luke","NA",""]
["Ottawa Valley",100255,"Roxanne","Briand","F","2021-22","Briand, Roxanne","NA",""]
["York Simcoe",100256,"Terry","Cooke","M","2017-18","Cooke, Terry","NA",""]
["Grand River",100257,"Nancy","Mcguire","F","2013-14",{"$f":"D514&\", \"&C514","v":"Mcguire, Nancy"},"NA",""]
["Grand River",100258,"Jason","Young","M","2024-25","Young, Jason",160,""]
["Kawartha Lakes",100259,"Shawn","Coombs","M","2024-25","Coombs, Shawn",230,""]
["Ottawa Valley",100260,"Mark","Brown","M","2016-17","Brown, Mark","NA",""]
["Ottawa Valley",100261,"Phil","Levesque","M","2016-17","Levesque, Phil","NA",""]
["Ottawa Valley",100262,"Laurie","Ryan","F","2021-22","Ryan, Laurie","NA",""]
["York Simcoe",100263,"Deb","Cooper","F","2016-17","Cooper, Deb","NA",{"$f":"IF(G520=G519,\"Same\",\"\")","v":""}]
["Ottawa Valley",100264,"Real","Gauvreau","M","2017-18","Gauvreau, Real","NA",""]
["York Simcoe",100265,"Jamie","Cooper","M","2024-25","Cooper, Jamie",194,""]
["York Simcoe",100266,"Roger","Cooper","M","2017-18","Cooper, Roger","NA",""]
["Grand River",100267,"Kathy","Verhouven","F","2013-14","Verhouven, Kathy","NA",""]
["York Simcoe",100268,"Kevin","Cormier","M","2024-25","Cormier, Kevin",180,""]
["Ottawa Valley",100269,"Adelle","Ferguson","F","2016-17","Ferguson, Adelle","NA",""]
["Ontario Durham",100270,"Angela","Humphrey","F","2017-18","Humphrey, Angela","NA",""]
["Ottawa Valley",100271,"Laurie","Macdonald","F","2017-18","Macdonald, Laurie","NA",""]
["Ottawa Valley",100272,"Dan","Macdonald","M","2017-18","Macdonald, Dan","NA",""]
["York Simcoe",100273,"Monique","Coutu","F","2016-17","Coutu, Monique","NA",""]
["York Simcoe",100274,"Brendan","Cowie","M","2012-13","Cowie, Brendan","NA",""]
["Ottawa Valley",100275,"Lorraine","Dumoulin","F","2015-16","Dumoulin, Lorraine","NA",""]
["York Simcoe",100276,"Ken","Cox","M","2024-25","Cox, Ken",125,""]
["Ontario Durham",100277,"Glen","Lane","M","2014-15","Lane, Glen","NA",""]
["Ottawa Valley",100278,"Pierre","Dumoulin","M","2015-16","Dumoulin, Pierre","NA",""]
["Ottawa Valley",100279,"Gwen","Kueffler","F","2016-17","Kueffler, Gwen","NA",""]
["Tri-County",100280,"Virginia","Mcadam","F","2015-16","Mcadam, Virginia","NA",""]
["Middlesex Elgin",100281,"Spencer","Radford","M","2024-25","Radford, Spencer",224,""]
["Middlesex Elgin",100282,"Connie","Radford","F","2024-25","Radford, Connie",189,""]
["York Simcoe",100283,"Matt","Crane","M","2015-16","Crane, Matt","NA",""]
["Middlesex Elgin",100284,"Connor","Radford","M","2024-25","Radford, Connor",230,""]
["York Simcoe",100285,"Robin","Craven","F","2016-17","Craven, Robin","NA",""]
["York Simcoe",100286,"Wayne","Craven","M","2016-17","Craven, Wayne","NA",""]
["York Simcoe",100287,"A.j.","Cresswell","M","2020-21","Cresswell, A.j.","NA",""]
["York Simcoe",100288,"Heather","Cresswell","F","2024-25","Cresswell, Heather","NA",""]
["O5PBA, York Simcoe",100289,"John","Cresswell","M","2024-25","Cresswell, John",168,""]
["Ontario Durham",100290,"Dave","Mclean","M","2019-20","Mclean, Dave","NA",""]
["Ontario Durham",100291,"Kim","Gallagher","F","2014-15","Gallagher, Kim","NA",""]
["Middlesex Elgin",100292,"Kip","Watson","M","2021-22","Watson, Kip","NA",""]
["Middlesex Elgin",100293,"Jonathan","Gordon","M","2024-25","Gordon, Jonathan",203,""]
["York Simcoe",100294,"David","Crump","M","2010-11","Crump, David","NA",""]
["York Simcoe",100295,"Dave","Crust","M","2011-12","Crust, Dave","NA",""]
["Middlesex Elgin",100296,"Hayden","Martin","M","2019-20","Martin, Hayden","NA",""]
["Tri-County",100297,"Connie","Prouse","F","2015-16","Prouse, Connie","NA",""]
["York Simcoe",100298,"David","Crymble","M","2019-20","Crymble, David","NA",""]
["York Simcoe",100299,"Mark","Cullen","M","2012-13","Cullen, Mark","NA",""]
["York Simcoe",100300,"Pat","Cunliffe","F","2010-11","Cunliffe, Pat","NA",""]
["Ontario Durham",100301,"Anick","Bruneau","F","2013-14","Bruneau, Anick","NA",""]
["Ontario Durham",100302,"Dale","Bircham","F","2016-17","Bircham, Dale","NA",""]
["York Simcoe",100303,"Maria","Curcio","F","2013-14","Curcio, Maria","NA",""]
["Middlesex Elgin",100304,"Andy","Hayward","M","2020-21","Hayward, Andy","NA",""]
["Middlesex Elgin",100305,"Dylan","Hayward","M","2024-25","Hayward, Dylan",229,""]
["York Simcoe",100306,"Theresa","D'agostino","F","2018-19","D'agostino, Theresa","NA",""]
["York Simcoe",100307,"Barb","D'innocenzo","F","2011-12","D'innocenzo, Barb","NA",""]
["York Simcoe",100308,"Linda","Daily","F","2012-13","Daily, Linda","NA",""]
["York Simcoe",100309,"Sandra","Daily-lance","F","2012-13","Daily-lance, Sandra","NA",""]
["York Simcoe",100310,"Velma","Dale","F","2010-11","Dale, Velma","NA",""]
["Bay of Quinte",100311,"Kellie","Fairman","F","2015-16","Fairman, Kellie","NA",""]
["York Simcoe",100312,"Linda","Danbrook","F","2010-11","Danbrook, Linda","NA",""]
["Bay of Quinte",100313,"Judy","Miles","F","2015-16","Miles, Judy","NA",""]
["Bay of Quinte",100314,"Kathy","Vout","F","2015-16","Vout, Kathy","NA",""]
["Bay of Quinte",100315,"June","Golloher","F","2015-16","Golloher, June","NA",""]
["Bay of Quinte",100316,"Katie","Brunton","F","2016-17","Brunton, Katie","NA",""]
["Bay of Quinte",100317,"Mary","Van will","F","2015-16","Van will, Mary","NA",""]
["Bay of Quinte",100318,"Darlene","Pomeroy","F","2017-18","Pomeroy, Darlene","NA",""]
["York Simcoe",100319,"Stephanie","Kuehl","F","2011-12","Kuehl, Stephanie","NA",""]
["York Simcoe",100320,"Cathy","Davidson","F","2024-25","Davidson, Cathy",186,""]
["York Simcoe",100321,"Dawn","Dawe","F","2019-20",{"$f":"D578&\", \"&C578","v":"Dawe, Dawn"},"NA",""]
["York Simcoe",100322,"Nat","De carolis","M","2013-14","De carolis, Nat","NA",""]
["York Simcoe",100323,"Palmira","De carolis","F","2013-14","De carolis, Palmira","NA",""]
["York Simcoe",100324,"Joan","De'ath","F","2017-18","De'ath, Joan","NA",""]
["York Simcoe",100325,"John","De'ath","M","2019-20","De'ath, John","NA",""]
["York Simcoe",100326,"Mary","Debono","F","2010-11","Debono, Mary","NA",""]
["Bay of Quinte",100327,"Roxanne","Zufelt","F","2015-16","Zufelt, Roxanne","NA",{"$f":"IF(G584=G583,\"Same\",\"\")","v":""}]
["Middlesex Elgin",100328,"Scott","Powley","M","2018-19","Powley, Scott","NA",""]
["Ontario Durham",100329,"Kassidy","Anderson","F","2014-15","Anderson, Kassidy","NA",""]
["Middlesex Elgin",100330,"Evelyn","Rogers","F","2015-16","Rogers, Evelyn","NA",""]
["Ontario Durham",100331,"Cameron","Clephan","M","2014-15","Clephan, Cameron","NA",""]
["Middlesex Elgin",100332,"Karen","Tripp","F","2016-17","Tripp, Karen","NA",""]
["Middlesex Elgin",100333,"Lloyd","Anderson","M","2016-17","Anderson, Lloyd","NA",""]
["Ontario Durham",100334,"Steven","Cooper","M","2013-14","Cooper, Steven","NA",""]
["Middlesex Elgin",100335,"Dan","Balcom","M","2022-23","Balcom, Dan",207,""]
["York Simcoe",100336,"Avye","Desrochers","F","2011-12","Desrochers, Avye","NA",""]
["Middlesex Elgin",100337,"Sara","Beck","F","2019-20","Beck, Sara","NA",""]
["York Simcoe",100338,"Zoe","Desrochers","M","2011-12","Desrochers, Zoe","NA",""]
["York Simcoe",100339,"Wayne","Devin","M","2010-11","Devin, Wayne","NA",""]
["York Simcoe",100340,"Rick","Devine","M","2022-23","Devine, Rick",94,""]
["York Simcoe",100341,"Basil","Dewnandan","M","2019-20","Dewnandan, Basil","NA",""]
["York Simcoe",100342,"Ryan","Damiani","M","2013-14","Damiani, Ryan","NA",""]
["York Simcoe",100343,"Anne-marie","Dibowski","F","2015-16","Dibowski, Anne-marie","NA",""]
["York Simcoe",100344,"Judy","Diceman","F","2021-22","Diceman, Judy","NA",""]
["York Simcoe",100345,"Margaret","Diceman","F","2014-15","Diceman, Margaret","NA",""]
["York Simcoe",100346,"Darryl","Dickson","M","2019-20","Dickson, Darryl","NA",""]
["Huronia",100347,"Sandi","Horton","F","2024-25","Horton, Sandi",206,""]
["York Simcoe",100348,"Scott","Dickson","M","2010-11","Dickson, Scott","NA",""]
["York Simcoe",100349,"Shawn","Dix","M","2012-13","Dix, Shawn","NA",""]
["Ontario Durham",100350,"Daniel","Gordon","M","2013-14","Gordon, Daniel","NA",""]
["Middlesex Elgin",100351,"Tara","Finzgar","F","2023-24","Finzgar, Tara",178,""]
["Ontario Durham",100352,"Willis","Goswell","M","2014-15","Goswell, Willis","NA",""]
["Ontario Durham",100353,"Melissa","Molica","F","2013-14","Molica, Melissa","NA",""]
["York Simcoe",100354,"Greg","Dobson","M","2024-25","Dobson, Greg",213,""]
["York Simcoe",100355,"Kyrsten","Dodd","F","2013-14","Dodd, Kyrsten","NA",""]
["Ontario Durham",100356,"Rebecca","Osmond","F","2014-15","Osmond, Rebecca","NA",""]
["York Simcoe",100357,"Leslie","Donato","F","2012-13","Donato, Leslie","NA",""]
["York Simcoe",100358,"Leona","Donovan","F","2013-14","Donovan, Leona","NA",""]
["Ontario Durham",100359,"Lauren","Ralph","F","2014-15","Ralph, Lauren","NA",""]
["York Simcoe",100360,"Donna","Doucet","F","2011-12","Doucet, Donna","NA",""]
["York Simcoe",100361,"Leo","Doucet","M","2011-12","Doucet, Leo","NA",""]
["Ontario Durham",100362,"Jeffrey","Saunders","M","2014-15","Saunders, Jeffrey","NA",""]
["York Simcoe",100363,"Mary","Doughan","F","2011-12","Doughan, Mary","NA",""]
["Metro Toronto",100364,"Veronica","Doughan","F","2013-14","Doughan, Veronica","NA",""]
["York Simcoe",100365,"Victor","Doughan","M","2011-12","Doughan, Victor","NA",""]
["Ontario Durham",100366,"Rebecca","Symonds","F","2014-15","Symonds, Rebecca","NA",""]
["York Simcoe",100367,"Tim","Dowell","M","2024-25","Dowell, Tim",131,""]
["York Simcoe",100368,"Craig","Dowey","M","2020-21","Dowey, Craig","NA",""]
["York Simcoe",100369,"Iva","Drain","F","2016-17","Drain, Iva","NA",""]
["Ontario Durham",100370,"Sarah","Szabo","F","2013-14","Szabo, Sarah","NA",""]
["York Simcoe",100371,"Dorothy","Duarte","F","2017-18","Duarte, Dorothy","NA",""]
["Ontario Durham",100372,"Dana","Thompson","F","2014-15","Thompson, Dana","NA",""]
["York Simcoe",100373,"Johanna","Duffy","F","2016-17","Duffy, Johanna","NA",""]
["Middlesex Elgin",100374,"John","Nethercott","M","2019-20","Nethercott, John","NA",""]
["York Simcoe",100375,"Matthew","Dunbar","M","2013-14","Dunbar, Matthew","NA",""]
["Middlesex Elgin",100376,"Denis","Therrien","M","2024-25","Therrien, Denis",199,""]
["Bay of Quinte",100377,"Ed","Cairns","M","2024-25","Cairns, Ed",216,""]
["Ontario Durham",100378,"Kyle","Waltenbury","M","2013-14","Waltenbury, Kyle","NA",""]
["York Simcoe",100379,"Roy","Dunkley","M","2013-14","Dunkley, Roy","NA",""]
["York Simcoe",100380,"Don","Duquette","M","2024-25","Duquette, Don",143,""]
["Ontario Durham",100381,"Bobby","Davies","M","2013-14","Davies, Bobby","NA",""]
["York Simcoe",100382,"Ian","Durrant","M","2016-17","Durrant, Ian","NA",""]
["York Simcoe",100383,"Nicole","Dwyer","F","2011-12","Dwyer, Nicole","NA",""]
["Bay of Quinte",100384,"Megan","Bertrim","F","2016-17","Bertrim, Megan","NA",""]
["York Simcoe",100385,"David","Dynes","M","2013-14",{"$f":"D642&\", \"&C642","v":"Dynes, David"},"NA",""]
["Ontario Durham",100386,"Jenn","Marsh","F","2013-14","Marsh, Jenn","NA",""]
["York Simcoe",100387,"Jessie","Ebata","F","2010-11","Ebata, Jessie","NA",""]
["York Simcoe",100388,"Devin","Ebey","M","2012-13","Ebey, Devin","NA",""]
["Bay of Quinte",100389,"Haley","Fisher","F","2017-18","Fisher, Haley","NA",""]
["Bay of Quinte",100390,"Joyce","Beaton","F","2015-16","Beaton, Joyce","NA",""]
["Ontario Durham",100391,"Katrina","Garcia","F","2013-14","Garcia, Katrina","NA",{"$f":"IF(G648=G647,\"Same\",\"\")","v":""}]
["Ontario Durham",100392,"Bert","Vandergraaf","M","2013-14","Vandergraaf, Bert","NA",""]
["York Simcoe",100393,"Mae","Eek","F","2012-13","Eek, Mae","NA",""]
["York Simcoe",100394,"Faye","Elbert","F","2014-15","Elbert, Faye","NA",""]
["York Simcoe",100395,"Kim","Eldridge","F","2019-20","Eldridge, Kim","NA",""]
["York Simcoe",100396,"Tracey","Elliott","F","2010-11","Elliott, Tracey","NA",""]
["Metro Toronto",100397,"Aaron","Becker","M","2015-16","Becker, Aaron","NA",""]
["Metro Toronto",100398,"Logan","Bodera","M","2017-18","Bodera, Logan","NA",""]
["York Simcoe",100399,"Chris","England","M","2019-20","England, Chris","NA",""]
["Metro Toronto",100400,"Laurianne","Kidd","F","2015-16","Kidd, Laurianne","NA",""]
["York Simcoe",100401,"Julie","England","F","2011-12","England, Julie","NA",""]
["York Simcoe",100402,"Tom","England","M","2024-25","England, Tom",156,""]
["Metro Toronto",100403,"Colleen","Erskine","F","2017-18","Erskine, Colleen","NA",""]
["York Simcoe",100404,"Joe","Erskine","M","2015-16","Erskine, Joe","NA",""]
["York Simcoe",100405,"Sherri","Esposito","F","2017-18","Esposito, Sherri","NA",""]
["York Simcoe",100406,"Tony","Esposito","M","2017-18","Esposito, Tony","NA",""]
["York Simcoe",100407,"Robert","Evans","M","2012-13","Evans, Robert","NA",""]
["Metro Toronto",100408,"Melody","Makinen","F","2015-16","Makinen, Melody","NA",""]
["York Simcoe",100409,"Barbara","Ewles","F","2015-16","Ewles, Barbara","NA",""]
["Metro Toronto",100410,"Brayden","Gordon","M","2018-19","Gordon, Brayden","NA",""]
["Ontario Durham",100411,"Darlene","Thompson","F","2014-15","Thompson, Darlene","NA",""]
["Ontario Durham",100412,"Dennis","Thompson","M","2014-15","Thompson, Dennis","NA",""]
["Metro Toronto",100413,"Bobby","Mccloy","M","2022-23","Mccloy, Bobby",204,""]
["York Simcoe",100414,"Dave","Fairhurst","M","2011-12","Fairhurst, Dave","NA",""]
["York Simcoe",100415,"Mark","Fairweather","M","2012-13","Fairweather, Mark","NA",""]
["York Simcoe",100416,"Tricia","Fairweather","F","2021-22","Fairweather, Tricia","NA",""]
["York Simcoe",100417,"William","Fairweather","M","2024-25","Fairweather, William",132,""]
["York Simcoe",100418,"Kevin","Fane","M","2012-13","Fane, Kevin","NA",""]
["Ontario Durham",100419,"Laura","Barrett","F","2019-20","Barrett, Laura","NA",""]
["Ontario Durham",100420,"Theresa","Kousmanidis","F","2014-15","Kousmanidis, Theresa","NA",""]
["York Simcoe",100421,"Damian","Feeney","M","2015-16","Feeney, Damian","NA",""]
["York Simcoe",100422,"Jane","Feeney","F","2015-16","Feeney, Jane","NA",""]
["Ontario Durham",100423,"Debbie","Wichert","F","2014-15","Wichert, Debbie","NA",""]
["York Simcoe",100424,"Robert","Feldman","M","2024-25","Feldman, Robert",135,""]
["Metro Toronto",100425,"Breanna","Traynor","F","2019-20","Traynor, Breanna","NA",""]
["Metro Toronto",100426,"Jennifer","Croke","F","2019-20","Croke, Jennifer","NA",""]
["York Simcoe",100427,"Jay","Fendley","M","2024-25","Fendley, Jay",219,""]
["Bay of Quinte",100428,"David","Ferraccioli","M","2019-20","Ferraccioli, David","NA",""]
["York Simcoe",100429,"Richard","Ferraccioli","M","2016-17","Ferraccioli, Richard","NA",""]
["Western Ontario",100430,"Lauren","Szucki","F","2017-18","Szucki, Lauren","NA",""]
["York Simcoe",100431,"Dominic","Ferragina","M","2011-12","Ferragina, Dominic","NA",""]
["Western Ontario",100432,"Robert","Porter","M","2019-20","Porter, Robert","NA",""]
["York Simcoe",100433,"Tony","Ferragine","M","2010-11","Ferragine, Tony","NA",""]
["York Simcoe",100434,"Margaret","Ferrie","F","2015-16","Ferrie, Margaret","NA",""]
["York Simcoe",100435,"Connie","Figliuzzi","F","2024-25","Figliuzzi, Connie",105,""]
["York Simcoe",100436,"Frank","Figliuzzi","M","2013-14","Figliuzzi, Frank","NA",""]
["York Simcoe",100437,"Gail","Finch","F","2010-11","Finch, Gail","NA",""]
["York Simcoe",100438,"Peter","Finch","M","2010-11","Finch, Peter","NA",""]
["York Simcoe",100439,"Scott","Fisher","M","2014-15","Fisher, Scott","NA",""]
["York Simcoe",100440,"Murray","Fitzgerald","M","2024-25","Fitzgerald, Murray",165,""]
["Ontario Durham",100441,"Tony","Gartsen","M","2015-16","Gartsen, Tony","NA",""]
["York Simcoe",100442,"Sandra","Fitzpatrick","F","2024-25","Fitzpatrick, Sandra",157,""]
["York Simcoe",100443,"Nancy","Flagel","F","2013-14","Flagel, Nancy","NA",""]
["York Simcoe",100444,"Gwen","Fleming","F","2011-12","Fleming, Gwen","NA",""]
["York Simcoe",100445,"Ted","Fleming","M","2011-12","Fleming, Ted","NA",""]
["York Simcoe",100446,"Bob","Fletcher","M","2011-12","Fletcher, Bob","NA",""]
["Western Ontario",100447,"Peter","Martin","M","2015-16","Martin, Peter","NA",""]
["York Simcoe",100448,"Glenn","Fockler","M","2013-14","Fockler, Glenn","NA",""]
["York Simcoe",100449,"Graham","Fogal","M","2019-20",{"$f":"D706&\", \"&C706","v":"Fogal, Graham"},"NA",""]
["York Simcoe",100450,"Mark","Folkers","M","2016-17","Folkers, Mark","NA",""]
["Western Ontario",100451,"Roger","Coutts umstead","M","2016-17","Coutts umstead, Roger","NA",""]
["York Simcoe",100452,"Eileen","Ford","F","2018-19","Ford, Eileen","NA",""]
["York Simcoe",100453,"Michelle","Ford","F","2018-19","Ford, Michelle","NA",""]
["Western Ontario",100454,"Fern","Lachance","F","2017-18","Lachance, Fern","NA",""]
["Ontario Durham",100455,"David","Claxton","M","2014-15","Claxton, David","NA",{"$f":"IF(G712=G711,\"Same\",\"\")","v":""}]
["Western Ontario",100456,"Peter","Lisinski","M","2018-19","Lisinski, Peter","NA",""]
["Western Ontario",100457,"Mary","Reaume","F","2015-16","Reaume, Mary","NA",""]
["Ontario Durham",100458,"Andrew","Bates","M","2014-15","Bates, Andrew","NA",""]
["York Simcoe",100459,"John","Foster","M","2021-22","Foster, John","NA",""]
["Western Ontario",100460,"Ginny","Waligorski","F","2015-16","Waligorski, Ginny","NA",""]
["Western Ontario",100461,"Chris","Gillis","M","2022-23","Gillis, Chris",129,""]
["Ontario Durham",100462,"Michelle","Spero","F","2013-14","Spero, Michelle","NA",""]
["Western Ontario",100463,"Tom","Waligorski","M","2015-16","Waligorski, Tom","NA",""]
["York Simcoe",100464,"Pat","Fowler","F","2010-11","Fowler, Pat","NA",""]
["Western Ontario",100465,"Chris","Johnston","M","2023-24","Johnston, Chris",240,""]
["Western Ontario",100466,"Janine","Johnston","F","2021-22","Johnston, Janine","NA",""]
["Ontario Durham",100467,"Jan","Easton","F","2014-15","Easton, Jan","NA",""]
["Ontario Durham",100468,"Susan","Reid","F","2014-15","Reid, Susan","NA",""]
["York Simcoe",100469,"Allen","Freedman","M","2012-13","Freedman, Allen","NA",""]
["York Simcoe",100470,"Bruce","French","M","2012-13","French, Bruce","NA",""]
["York Simcoe",100471,"Casey","French","F","2011-12","French, Casey","NA",""]
["York Simcoe",100472,"Eric","French","M","2011-12","French, Eric","NA",""]
["York Simcoe",100473,"Margaret","French","F","2024-25","French, Margaret","NA",""]
["York Simcoe",100474,"Marion","French","F","2017-18","French, Marion","NA",""]
["Ontario Durham",100475,"Valerie","Meldrum","F","2014-15","Meldrum, Valerie","NA",""]
["Western Ontario",100476,"Jay","Renaud","M","2022-23","Renaud, Jay",192,""]
["Western Ontario",100477,"Mary","Meyers","F","2015-16","Meyers, Mary","NA",""]
["Ontario Durham",100478,"Kirk","Reid","M","2014-15","Reid, Kirk","NA",""]
["Western Ontario",100479,"Val","Jeffery","M","2023-24","Jeffery, Val",162,""]
["York Simcoe",100480,"Kay","Fukuda","F","2010-11","Fukuda, Kay","NA",""]
["York Simcoe",100481,"Steve","Fukushima","M","2010-11","Fukushima, Steve","NA",""]
["Ontario Durham",100482,"Carol","Mcleod","F","2013-14","Mcleod, Carol","NA",""]
["York Simcoe",100483,"Ted","Furness","M","2011-12","Furness, Ted","NA",""]
["Western Ontario",100484,"Kerrie","Boland","F","2015-16","Boland, Kerrie","NA",""]
["Ontario Durham",100485,"Mike","Mcleod","M","2013-14","Mcleod, Mike","NA",""]
["York Simcoe",100486,"Rick","Garbutt","M","2014-15","Garbutt, Rick","NA",""]
["Middlesex Elgin",100487,"Zach","Renaud","M","2024-25","Renaud, Zach",215,""]
["Ontario Durham",100488,"Joanne","Tanner (dec.)","F","2013-14","Tanner (dec.), Joanne","NA",""]
["York Simcoe",100489,"Anne","Gasko","F","2013-14","Gasko, Anne","NA",""]
["York Simcoe",100490,"Katie","Gasko","F","2012-13","Gasko, Katie","NA",""]
["Ontario Durham",100491,"Pat","Bennett","F","2014-15","Bennett, Pat","NA",""]
["Western Ontario",100492,"Ken","Lebert","M","2020-21","Lebert, Ken","NA",""]
["York Simcoe",100493,"Tyler","Gray","M","2012-13","Gray, Tyler","NA",""]
["Ontario Durham",100494,"Margaret","Kitchen","F","2014-15","Kitchen, Margaret","NA",""]
["Ontario Durham",100495,"Dave","Taylor","M","2016-17","Taylor, Dave","NA",""]
["Ontario Durham",100496,"David","Cho chu","M","2013-14","Cho chu, David","NA",""]
["Ontario Durham",100497,"Thelma","Bacon","F","2014-15","Bacon, Thelma","NA",""]
["Western Ontario",100498,"Jolayne","Gagnon","F","2018-19","Gagnon, Jolayne","NA",""]
["York Simcoe",100499,"Irene","George","F","2011-12","George, Irene","NA",""]
["O5PBA",100500,"Al","Hong","M","2024-25","Hong, Al","NA",""]
["Ontario Durham",100501,"Susan","Mckay","F","2013-14","Mckay, Susan","NA",""]
["Ontario Durham",100502,"Leo","Easton","M","2014-15","Easton, Leo","NA",""]
["Ontario Durham",100503,"Brian","Walker","M","2014-15","Walker, Brian","NA",""]
["Ontario Durham",100504,"Heather","Meldrum","F","2014-15","Meldrum, Heather","NA",""]
["Huronia",100505,"Veronica","Albers","F","2023-24","Albers, Veronica",121,""]
["Huronia",100506,"Jon","Howie","M","2015-16","Howie, Jon","NA",""]
["York Simcoe",100507,"Ira","Gilley","M","2010-11","Gilley, Ira","NA",""]
["York Simcoe",100508,"Wavey","Gilley","F","2010-11","Gilley, Wavey","NA",""]
["Ontario Durham",100509,"Deanna","Cho chu","F","2013-14","Cho chu, Deanna","NA",""]
["York Simcoe",100510,"Matthew","Bond","M","2022-23","Bond, Matthew",200,""]
["York Simcoe",100511,"Mary","Delplavignano","F","2017-18","Delplavignano, Mary","NA",""]
["York Simcoe",100512,"Dan","Girouard","M","2011-12","Girouard, Dan","NA",""]
["O5PBA",100513,"Kevyn","Jones","M","2024-25",{"$f":"D770&\", \"&C770","v":"Jones, Kevyn"},"NA",""]
["York Simcoe",100514,"Taina","Kuczora","F","2017-18","Kuczora, Taina","NA",""]
["Huronia",100515,"Stella","Watt","F","2017-18","Watt, Stella","NA",""]
["York Simcoe",100516,"Katherine","Romeo","F","2013-14","Romeo, Katherine","NA",""]
["York Simcoe",100517,"Kathie","Stewart","F","2024-25","Stewart, Kathie",150,""]
["Huronia",100518,"Gary","Watt","M","2017-18","Watt, Gary","NA",""]
["Huronia",100519,"Andrew","Mcarthur","M","2015-16","Mcarthur, Andrew","NA",{"$f":"IF(G776=G775,\"Same\",\"\")","v":""}]
["Huronia",100520,"Alex","Albers","M","2022-23","Albers, Alex",153,""]
["Huronia",100521,"Jim","Hunter","M","2015-16","Hunter, Jim","NA",""]
["York Simcoe",100522,"Scott","Stewart","M","2024-25","Stewart, Scott",208,""]
["Huronia",100523,"Mike","Mulvihill","M","2024-25","Mulvihill, Mike",166,""]
["Huronia",100524,"Denise","Hunter","F","2015-16","Hunter, Denise","NA",""]
["Huronia",100525,"Kila","Walster","F","2019-20","Walster, Kila","NA",""]
["Huronia",100526,"Jane","Yetman","F","2015-16","Yetman, Jane","NA",""]
["Huronia",100527,"Carolyn","Hebner","F","2019-20","Hebner, Carolyn","NA",""]
["York Simcoe",100528,"Julie","Mahnke","F","2015-16","Mahnke, Julie","NA",""]
["Huronia",100529,"Geoffrey","Brown","M","2015-16","Brown, Geoffrey","NA",""]
["York Simcoe",100530,"Terri","Graham","F","2010-11","Graham, Terri","NA",""]
["Huronia",100531,"Darlene","Evans","F","2017-18","Evans, Darlene","NA",""]
["York Simcoe",100532,"Iris","Grant","F","2015-16","Grant, Iris","NA",""]
["York Simcoe",100533,"Lisa","Graves","F","2011-12","Graves, Lisa","NA",""]
["York Simcoe",100534,"Marisa","Gravito","F","2024-25","Gravito, Marisa","NA",""]
["York Simcoe",100535,"Jim","Gray","M","2011-12","Gray, Jim","NA",""]
["York Simcoe",100536,"Matthew","Gray","M","2013-14","Gray, Matthew","NA",""]
["York Simcoe",100537,"Bill","Greenwood","M","2016-17","Greenwood, Bill","NA",""]
["York Simcoe",100538,"Lino","Traccitti","M","2018-19","Traccitti, Lino","NA",""]
["Central Ontario, York Simcoe",100539,"Lisa","Groombridge","F","2024-25","Groombridge, Lisa",180,""]
["York Simcoe",100540,"Anne","Armstrong","F","2014-15","Armstrong, Anne","NA",""]
["Huronia",100541,"Mary","Doyle","F","2016-17","Doyle, Mary","NA",""]
["Huronia",100542,"Tim","Evans","M","2017-18","Evans, Tim","NA",""]
["York Simcoe",100543,"Clayton","Gyotoku","M","2010-11","Gyotoku, Clayton","NA",""]
["Huronia",100544,"Cassie","Fleming","F","2015-16","Fleming, Cassie","NA",""]
["York Simcoe",100545,"Paul","Haggins","M","2024-25","Haggins, Paul",181,""]
["Huronia",100546,"Walter","Meyer","M","2016-17","Meyer, Walter","NA",""]
["Huronia",100547,"John","Williams","M","2016-17","Williams, John","NA",""]
["Huronia",100548,"Sharyn","Williams","F","2017-18","Williams, Sharyn","NA",""]
["York Simcoe",100549,"Liz","Bunder","F","2019-20","Bunder, Liz","NA",""]
["Huronia",100550,"Tessa-lynn","Burkholder","F","2024-25","Burkholder, Tessa-lynn",161,""]
["York Simcoe",100551,"Amy","Halloran","F","2013-14","Halloran, Amy","NA",""]
["York Simcoe",100552,"Dave","Halloran","M","2010-11","Halloran, Dave","NA",""]
["Huronia",100553,"Rob","Fillingham","M","2018-19","Fillingham, Rob","NA",""]
["York Simcoe",100554,"David","Hamilton","M","2017-18","Hamilton, David","NA",""]
["Huronia",100555,"Krystal","Hehl","F","2019-20","Hehl, Krystal","NA",""]
["Huronia",100556,"Keith","Irwin","M","2023-24","Irwin, Keith",149,""]
["York Simcoe",100557,"Scott","Hamilton","M","2012-13","Hamilton, Scott","NA",""]
["York Simcoe",100558,"Roger","Fowler","M","2019-20","Fowler, Roger","NA",""]
["Huronia",100559,"Stacy","Smith","F","2024-25","Smith, Stacy",205,""]
["Huronia",100560,"Dana","King","F","2020-21","King, Dana","NA",""]
["York Simcoe",100561,"Laura","Hampson","F","2010-11","Hampson, Laura","NA",""]
["Huronia",100562,"Matt","Latanville","M","2024-25","Latanville, Matt",176,""]
["York Simcoe",100563,"Wayne","Hanley","M","2015-16","Hanley, Wayne","NA",""]
["York Simcoe",100564,"Pauline","Hare","F","2011-12","Hare, Pauline","NA",""]
["York Simcoe",100565,"Anni","Pulkki","F","2015-16","Pulkki, Anni","NA",""]
["York Simcoe",100566,"Jim","Killoran","M","2013-14","Killoran, Jim","NA",""]
["York Simcoe",100567,"Kevin","Harrington","M","2019-20","Harrington, Kevin","NA",""]
["Huronia",100568,"Brenda","Marasse","F","2020-21","Marasse, Brenda","NA",""]
["York Simcoe",100569,"Bill","Harris","M","2022-23","Harris, Bill",192,""]
["Huronia",100570,"Lori","Alcott (marion)","F","2022-23","Alcott (marion), Lori",130,""]
["Huronia",100571,"Sonya","Windross","F","2016-17","Windross, Sonya","NA",""]
["Huronia",100572,"Katherine","Latanville","F","2015-16","Latanville, Katherine","NA",""]
["York Simcoe",100573,"Lee","Leivo","F","2013-14","Leivo, Lee","NA",""]
["York Simcoe",100574,"Megan","Wamback","F","2013-14","Wamback, Megan","NA",""]
["Huronia",100575,"Denis","Seguin","M","2024-25","Seguin, Denis",157,""]
["York Simcoe",100576,"Brent","Hawkrigg","M","2012-13","Hawkrigg, Brent","NA",""]
["York Simcoe",100577,"Linda","Barson","F","2019-20",{"$f":"D834&\", \"&C834","v":"Barson, Linda"},"NA",""]
["Huronia",100578,"Anita","Griffin","F","2015-16","Griffin, Anita","NA",""]
["York Simcoe",100579,"Sharon","Heide","F","2016-17","Heide, Sharon","NA",""]
["Huronia",100580,"Sal","Ferlito","M","2024-25","Ferlito, Sal",161,""]
["York Simcoe",100581,"Ingrid","Heisel","F","2016-17","Heisel, Ingrid","NA",""]
["Huronia",100582,"Sharon","Fletcher","F","2022-23","Fletcher, Sharon",162,""]
["York Simcoe",100583,"Judy","Hendricks","F","2011-12","Hendricks, Judy","NA",{"$f":"IF(G840=G839,\"Same\",\"\")","v":""}]
["Huronia",100584,"Bob","Scott","M","2017-18","Scott, Bob","NA",""]
["York Simcoe",100585,"Carole","Henry","F","2011-12","Henry, Carole","NA",""]
["York Simcoe",100586,"Gordon","Henry","M","2014-15","Henry, Gordon","NA",""]
["York Simcoe",100587,"Kevin","Henry","M","2011-12","Henry, Kevin","NA",""]
["York Simcoe",100588,"Bill","Hawkins","M","2014-15","Hawkins, Bill","NA",""]
["York Simcoe",100589,"Katie","Hawkins","F","2014-15","Hawkins, Katie","NA",""]
["Huronia",100590,"Christianne","Donovan","F","2015-16","Donovan, Christianne","NA",""]
["York Simcoe",100591,"Fred","Hickman","M","2019-20","Hickman, Fred","NA",""]
["York Simcoe",100592,"Shirley","Hickman","F","2019-20","Hickman, Shirley","NA",""]
["O5PBA",100593,"Gord","Passmore","M","2024-25","Passmore, Gord","NA",""]
["York Simcoe",100594,"Jim","Hinchcliffe","M","2019-20","Hinchcliffe, Jim","NA",""]
["Huronia",100595,"Suzy","Burtenshaw","F","2017-18","Burtenshaw, Suzy","NA",""]
["York Simcoe",100596,"Jason","Mcgruthers","M","2013-14","Mcgruthers, Jason","NA",""]
["York Simcoe",100597,"Rhi","Mckinley","F","2014-15","Mckinley, Rhi","NA",""]
["Huronia",100598,"Bill","Duncan","M","2015-16","Duncan, Bill","NA",""]
["York Simcoe",100599,"Katrina","Hollingshead","F","2011-12","Hollingshead, Katrina","NA",""]
["York Simcoe",100600,"Brendan","Schroder","M","2013-14","Schroder, Brendan","NA",""]
["York Simcoe",100601,"Bob","Holmes","M","2011-12","Holmes, Bob","NA",""]
["Huronia",100602,"Alvin","Gabrielson","M","2015-16","Gabrielson, Alvin","NA",""]
["York Simcoe",100603,"Jill","Hood","F","2010-11","Hood, Jill","NA",""]
["York Simcoe",100604,"Latitia","Hopkins","F","2011-12","Hopkins, Latitia","NA",""]
["York Simcoe",100605,"Mary","Sgambelluri","F","2013-14","Sgambelluri, Mary","NA",""]
["York Simcoe",100606,"Lainie","Apellido","F","2015-16","Apellido, Lainie","NA",""]
["York Simcoe",100607,"Joan","Horlings","F","2020-21","Horlings, Joan","NA",""]
["Ottawa Valley",100608,"Ron","Lavigueur","M","2014-15","Lavigueur, Ron","NA",""]
["Ottawa Valley",100609,"Erin","Lavigueur","F","2014-15","Lavigueur, Erin","NA",""]
["York Simcoe",100610,"Andrea","Horrocks","F","2014-15","Horrocks, Andrea","NA",""]
["York Simcoe",100611,"Shawn","Horsley","M","2013-14","Horsley, Shawn","NA",""]
["Huronia",100612,"Betty","Horton","F","2016-17","Horton, Betty","NA",""]
["Huronia",100613,"Christina","Thiffault","F","2015-16","Thiffault, Christina","NA",""]
["Ottawa Valley",100614,"Val","Lavigueur","F","2014-15","Lavigueur, Val","NA",""]
["Huronia",100615,"Mike","Howell","M","2017-18","Howell, Mike","NA",""]
["York Simcoe",100616,"Jim","Howitt","M","2012-13","Howitt, Jim","NA",""]
["York Simcoe",100617,"Karen","Howitt","F","2018-19","Howitt, Karen","NA",""]
["York Simcoe",100618,"Linda","Hubert","F","2012-13","Hubert, Linda","NA",""]
["Huronia",100619,"Bob","Salisbury","M","2015-16","Salisbury, Bob","NA",""]
["Ottawa Valley",100620,"Tina","Csontos","F","2013-14","Csontos, Tina","NA",""]
["York Simcoe",100621,"Glen","Humphrey","M","2024-25","Humphrey, Glen",151,""]
["Huronia",100622,"Nancy","West","F","2016-17","West, Nancy","NA",""]
["Ottawa Valley",100623,"Francis","Roy","M","2024-25","Roy, Francis",163,""]
["Huronia",100624,"Glenda","Cameron","F","2016-17","Cameron, Glenda","NA",""]
["York Simcoe",100625,"Heather","Hutchinson","F","2013-14","Hutchinson, Heather","NA",""]
["Central Ontario",100626,"Jeremy","Huth","M","2014-15","Huth, Jeremy","NA",""]
["York Simcoe",100627,"Richard","Huth","M","2011-12","Huth, Richard","NA",""]
["York Simcoe",100628,"Dale","Huxtable","M","2012-13","Huxtable, Dale","NA",""]
["Huronia",100629,"Zan","Cantin","M","2015-16","Cantin, Zan","NA",""]
["Huronia",100630,"Adam","Claus","M","2016-17","Claus, Adam","NA",""]
["York Simcoe",100631,"Jeffrey","Ie","M","2012-13","Ie, Jeffrey","NA",""]
["Ottawa Valley",100632,"Lesley","Hodgins","F","2017-18","Hodgins, Lesley","NA",""]
["Ottawa Valley",100633,"Doug","Hodgins","M","2017-18","Hodgins, Doug","NA",""]
["Huronia",100634,"Marek","Grzeskowiak","M","2015-16","Grzeskowiak, Marek","NA",""]
["Huronia",100635,"Ken","Johnston","M","2018-19","Johnston, Ken","NA",""]
["Ottawa Valley",100636,"Linda","Turenne","F","2015-16","Turenne, Linda","NA",""]
["Ottawa Valley",100637,"Nicole","Proulx","F","2016-17","Proulx, Nicole","NA",""]
["Central Ontario",100638,"Christine","Ingham","F","2011-12","Ingham, Christine","NA",""]
["Huronia",100639,"Susan","Johnston","F","2018-19","Johnston, Susan","NA",""]
["York Simcoe",100640,"Charles","Ingles","M","2014-15","Ingles, Charles","NA",""]
["Huronia",100641,"Boyd","Allen","M","2015-16",{"$f":"D898&\", \"&C898","v":"Allen, Boyd"},"NA",""]
["Ottawa Valley",100642,"Alain","Gauvreau","M","2019-20","Gauvreau, Alain","NA",""]
["Huronia",100643,"Matt","Wallace","M","2015-16","Wallace, Matt","NA",""]
["Ottawa Valley",100644,"Grace","Pimentel","F","2015-16","Pimentel, Grace","NA",""]
["Huronia",100645,"Debbie","Lacroix","F","2015-16","Lacroix, Debbie","NA",""]
["Central Ontario",100646,"Colin","Newman","M","2019-20","Newman, Colin","NA",""]
["Central Ontario",100647,"Daniela","Clozza","F","2024-25","Clozza, Daniela",106,{"$f":"IF(G904=G903,\"Same\",\"\")","v":""}]
["York Simcoe",100648,"Stacey","Jackson","F","2013-14","Jackson, Stacey","NA",""]
["Ottawa Valley",100649,"Karen","Laurin","F","2013-14","Laurin, Karen","NA",""]
["Ottawa Valley",100650,"Holly","Boulter-laurin","F","2013-14","Boulter-laurin, Holly","NA",""]
["Ottawa Valley",100651,"Elyse","De varennes","F","2013-14","De varennes, Elyse","NA",""]
["Central Ontario",100652,"Teri","Stokes","F","2018-19","Stokes, Teri","NA",""]
["Central Ontario",100653,"Matteo","Morelli","M","2018-19","Morelli, Matteo","NA",""]
["Ottawa Valley",100654,"Laurie","Vermette","F","2013-14","Vermette, Laurie","NA",""]
["York Simcoe",100655,"Humera","Javed","F","2014-15","Javed, Humera","NA",""]
["York Simcoe",100656,"Keith","Jean-marie","M","2013-14","Jean-marie, Keith","NA",""]
["York Simcoe",100657,"Bob","Jenkins","M","2019-20","Jenkins, Bob","NA",""]
["Central Ontario",100658,"Tracy","Tiu","F","2024-25","Tiu, Tracy",90,""]
["Central Ontario",100659,"Patryk","Sadkiewicz","M","2024-25","Sadkiewicz, Patryk",103,""]
["Ottawa Valley",100660,"Tom","Wylie","M","2013-14","Wylie, Tom","NA",""]
["Central Ontario",100661,"Stefano","Bearzot","M","2015-16","Bearzot, Stefano","NA",""]
["Ottawa Valley",100662,"Sylvie","Wylie","F","2013-14","Wylie, Sylvie","NA",""]
["Central Ontario",100663,"Taylor","Arbeau","F","2015-16","Arbeau, Taylor","NA",""]
["Central Ontario",100664,"Melissa","Kwo","F","2023-24","Kwo, Melissa",129,""]
["Central Ontario",100665,"Ed","Kufel","M","2019-20","Kufel, Ed","NA",""]
["Kawartha Lakes",100666,"Penny","Johnson","F","2013-14","Johnson, Penny","NA",""]
["Central Ontario",100667,"Mike","Kurzawski","M","2016-17","Kurzawski, Mike","NA",""]
["Central Ontario",100668,"Eric","Ensoll","M","2016-17","Ensoll, Eric","NA",""]
["Central Ontario",100669,"Manon","Grey","F","2016-17","Grey, Manon","NA",""]
["York Simcoe",100670,"Tyler","Jolliffe","M","2013-14","Jolliffe, Tyler","NA",""]
["Ottawa Valley",100671,"Annika","Keloway","F","2013-14","Keloway, Annika","NA",""]
["York Simcoe",100672,"Bob","Jones","M","2011-12","Jones, Bob","NA",""]
["Central Ontario",100673,"Jamie","Lambert","M","2018-19","Lambert, Jamie","NA",""]
["York Simcoe",100674,"Doug","Jones","M","2011-12","Jones, Doug","NA",""]
["Grand River",100675,"Chris","Wilkie","M","2013-14","Wilkie, Chris","NA",""]
["Ottawa Valley",100676,"Greg","Dicola","M","2013-14","Dicola, Greg","NA",""]
["York Simcoe",100677,"Elizabeth","Jordan","F","2019-20","Jordan, Elizabeth","NA",""]
["Central Ontario",100678,"Chris","Dawkins","M","2024-25","Dawkins, Chris",188,""]
["Central Ontario",100679,"John","Duhacek","M","2015-16","Duhacek, John","NA",""]
["Ottawa Valley",100680,"Chico","Ladoureux","M","2013-14","Ladoureux, Chico","NA",""]
["York Simcoe",100681,"Megan","Juul","F","2019-20","Juul, Megan","NA",""]
["York Simcoe",100682,"Mike","Kallicragas","M","2019-20","Kallicragas, Mike","NA",""]
["Ottawa Valley",100683,"Matt","Bourque","M","2014-15","Bourque, Matt","NA",""]
["Ottawa Valley",100684,"Marc","Rouleau","M","2014-15","Rouleau, Marc","NA",""]
["Central Ontario",100685,"David","Whidden","M","2024-25","Whidden, David",230,""]
["Central Ontario",100686,"Kathryn","Snjaric","F","2024-25","Snjaric, Kathryn",122,""]
["Central Ontario",100687,"Carol","Forester","F","2021-22","Forester, Carol","NA",""]
["Central Ontario",100688,"Kim","Schonrock","F","2024-25","Schonrock, Kim",138,""]
["York Simcoe",100689,"Alex","Keeting","M","2014-15","Keeting, Alex","NA",""]
["York Simcoe",100690,"Chuck","Keeting","M","2013-14","Keeting, Chuck","NA",""]
["O5PBA, York Simcoe",100691,"Gary","Kehoe","M","2024-25","Kehoe, Gary","NA",""]
["York Simcoe",100692,"Greg","Kehoe","M","2010-11","Kehoe, Greg","NA",""]
["York Simcoe",100693,"Jim","Kehoe","M","2013-14","Kehoe, Jim","NA",""]
["York Simcoe",100694,"Kim","Kehoe","F","2021-22","Kehoe, Kim","NA",""]
["Central Ontario",100695,"Norm","Vanderploeg","M","2018-19","Vanderploeg, Norm","NA",""]
["Central Ontario",100696,"Stephanie","Barrett","F","2018-19","Barrett, Stephanie","NA",""]
["York Simcoe",100697,"Danny","Keiser","M","2014-15","Keiser, Danny","NA",""]
["York Simcoe",100698,"Matt","Kellington","M","2010-11","Kellington, Matt","NA",""]
["Ottawa Valley",100699,"Richard","Provost","M","2013-14","Provost, Richard","NA",""]
["Ottawa Valley",100700,"Joel","Bertrand","M","2013-14","Bertrand, Joel","NA",""]
["York Simcoe",100701,"Richard","Kennard","M","2015-16","Kennard, Richard","NA",""]
["Ottawa Valley",100702,"Matt","Brunet","M","2014-15","Brunet, Matt","NA",""]
["Ottawa Valley",100703,"Michelle","Soleil","F","2013-14","Soleil, Michelle","NA",""]
["Central Ontario",100704,"Greg","Kaye","M","2024-25","Kaye, Greg",172,""]
["York Simcoe",100705,"Wayne","Henning","M","2015-16",{"$f":"D962&\", \"&C962","v":"Henning, Wayne"},"NA",""]
["Central Ontario",100706,"Daniel","Burnell","M","2015-16","Burnell, Daniel","NA",""]
["York Simcoe",100707,"Mark","Koskie","M","2015-16","Koskie, Mark","NA",""]
["Central Ontario",100708,"John","Richardson","M","2022-23","Richardson, John",113,""]
["Kawartha Lakes",100709,"Cassie","Jones","F","2013-14","Jones, Cassie","NA",""]
["Kawartha Lakes",100710,"Tabitha","Hopkins","F","2013-14","Hopkins, Tabitha","NA",""]
["Central Ontario",100711,"Jennifer","Irwin","F","2015-16","Irwin, Jennifer","NA",{"$f":"IF(G968=G967,\"Same\",\"\")","v":""}]
["York Simcoe",100712,"Kevin","King","M","2017-18","King, Kevin","NA",""]
["Kawartha Lakes",100713,"Brian","Eadie","M","2015-16","Eadie, Brian","NA",""]
["Kawartha Lakes",100714,"Carl","Baker","M","2018-19","Baker, Carl","NA",""]
["Kawartha Lakes",100715,"Mike","Elder","M","2013-14","Elder, Mike","NA",""]
["Ontario Durham",100716,"Ray","Stubbings","M","2015-16","Stubbings, Ray","NA",""]
["Ontario Durham",100717,"Mike","Connell","M","2019-20","Connell, Mike","NA",""]
["Ontario Durham",100718,"Ryan","Pickle","M","2019-20","Pickle, Ryan","NA",""]
["Ontario Durham",100719,"Taylor","Mcarthur","F","2015-16","Mcarthur, Taylor","NA",""]
["Ontario Durham",100720,"Riley","Clark","M","2019-20","Clark, Riley","NA",""]
["Ontario Durham",100721,"Sharlene","Szoldra","F","2019-20","Szoldra, Sharlene","NA",""]
["Kawartha Lakes",100722,"Milt","Hanlan","M","2013-14","Hanlan, Milt","NA",""]
["Ontario Durham",100723,"Ted","Barrett","M","2019-20","Barrett, Ted","NA",""]
["Ontario Durham",100724,"Bea","Hancock","F","2024-25","Hancock, Bea",130,""]
["Ontario Durham",100725,"Lynda","Harding","F","2024-25","Harding, Lynda",80,""]
["Ontario Durham",100726,"Carol","Martell","F","2019-20","Martell, Carol","NA",""]
["Western Ontario",100727,"Holly","Lough","F","2015-16","Lough, Holly","NA",""]
["York Simcoe",100728,"Tomas","Krysiak","M","2015-16","Krysiak, Tomas","NA",""]
["Kawartha Lakes",100729,"Janet","Lowery","F","2013-14","Lowery, Janet","NA",""]
["York Simcoe",100730,"Bonnie","Kuehl","F","2015-16","Kuehl, Bonnie","NA",""]
["York Simcoe",100731,"Matthew","Kuehl","M","2012-13","Kuehl, Matthew","NA",""]
["York Simcoe",100732,"Steve","Kuehl","M","2015-16","Kuehl, Steve","NA",""]
["York Simcoe",100733,"Toula","Kyriakoulias","F","2010-11","Kyriakoulias, Toula","NA",""]
["York Simcoe",100734,"Diana","Fendley","F","2024-25","Fendley, Diana",203,""]
["York Simcoe",100735,"Doreen","Kyte","F","2024-25","Kyte, Doreen",122,""]
["York Simcoe",100736,"Michelle","Kyte","F","2024-25","Kyte, Michelle",201,""]
["O5PBA, York Simcoe",100737,"Mike","Kyte","M","2024-25","Kyte, Mike",121,""]
["Western Ontario",100738,"Dylan","Dupuis","M","2015-16","Dupuis, Dylan","NA",""]
["York Simcoe",100739,"Bradley","Lafrance","M","2019-20","Lafrance, Bradley","NA",""]
["Western Ontario",100740,"Jen","Knight","F","2015-16","Knight, Jen","NA",""]
["Western Ontario",100742,"Dave","Jeffrey","M","2015-16","Jeffrey, Dave","NA",""]
["York Simcoe",100743,"Dan","Lamontagne","M","2024-25","Lamontagne, Dan",213,""]
["Kawartha Lakes",100745,"Norma","Maceachern","F","2016-17","Maceachern, Norma","NA",""]
["Kawartha Lakes",100746,"Eilidh","Ashmore","M","2013-14","Ashmore, Eilidh","NA",""]
["Western Ontario",100747,"Paulette","Mceachen","F","2015-16","Mceachen, Paulette","NA",""]
["Western Ontario",100748,"Mary","Saunders","F","2015-16","Saunders, Mary","NA",""]
["Kawartha Lakes",100749,"Brandon","Lywood","M","2024-25","Lywood, Brandon",201,""]
["York Simcoe",100750,"Mary ann","Larcina","F","2019-20","Larcina, Mary ann","NA",""]
["York Simcoe",100751,"Megan","Larkin","F","2013-14","Larkin, Megan","NA",""]
["Western Ontario",100752,"Jeff","Charrington","M","2015-16","Charrington, Jeff","NA",""]
["Western Ontario",100753,"Amanda","Hillman","F","2015-16","Hillman, Amanda","NA",""]
["Western Ontario",100754,"Jason","Willemsvandyk","M","2017-18","Willemsvandyk, Jason","NA",""]
["York Simcoe",100755,"Cassandra","Lavigne","F","2010-11","Lavigne, Cassandra","NA",""]
["Western Ontario",100756,"Ron","Maxfield","M","2019-20","Maxfield, Ron","NA",""]
["York Simcoe",100757,"Harry","Lavigne","M","2024-25","Lavigne, Harry",179,""]
["York Simcoe",100758,"Kalei","Lavigne","F","2011-12","Lavigne, Kalei","NA",""]
["York Simcoe",100759,"Nancy","Lavigne","F","2010-11","Lavigne, Nancy","NA",""]
["Kawartha Lakes",100760,"Judy","Wild","F","2013-14","Wild, Judy","NA",""]
["Western Ontario",100761,"Ken","Smith","M","2016-17","Smith, Ken","NA",""]
["Huronia",100762,"Carl","Prochillo","M","2018-19","Prochillo, Carl","NA",""]
["Huronia",100763,"Darryl","Tordiff","M","2015-16","Tordiff, Darryl","NA",""]
["Huronia",100764,"Shane","Campbell","M","2015-16","Campbell, Shane","NA",""]
["York Simcoe",100765,"Ray","Leblanc","M","2010-11","Leblanc, Ray","NA",""]
["York Simcoe",100766,"Ed","Leclere","M","2010-11","Leclere, Ed","NA",""]
["Kawartha Lakes",100767,"Roger","Wild","M","2013-14","Wild, Roger","NA",""]
["Huronia",100768,"Judy","Partington","F","2017-18","Partington, Judy","NA",""]
["Huronia",100769,"Russell","Bain","M","2024-25","Bain, Russell",163,""]
["Huronia",100770,"Sarah","Cook","F","2024-25","Cook, Sarah",143,""]
["Kawartha Lakes",100771,"Desiree","Brooks","F","2023-24",{"$f":"D1026&\", \"&C1026","v":"Brooks, Desiree"},165,""]
["Huronia",100772,"Lola","Honsberger","F","2020-21","Honsberger, Lola","NA",""]
["Huronia",100773,"Ashley","Marsden","F","2015-16","Marsden, Ashley","NA",""]
["Huronia",100774,"April","Herbert","F","2015-16","Herbert, April","NA",""]
["Huronia",100775,"Ken","Woodrow","M","2015-16","Woodrow, Ken","NA",""]
["Kawartha Lakes",100776,"Karen","Cole","F","2013-14","Cole, Karen","NA",""]
["Kawartha Lakes",100778,"Trevor","Colley","M","2014-15","Colley, Trevor","NA",{"$f":"IF(G1032=G1031,\"Same\",\"\")","v":""}]
["Huronia",100779,"Cecil","Heal","M","2015-16","Heal, Cecil","NA",""]
["Kawartha Lakes",100780,"Brenda","O'brien","F","2013-14","O'brien, Brenda","NA",""]
["Huronia",100781,"Susan","Mcdougall","F","2021-22","Mcdougall, Susan","NA",""]
["Huronia",100782,"Israel","Solodovnick","F","2015-16","Solodovnick, Israel","NA",""]
["York Simcoe",100783,"Dwayne","Lewis","M","2014-15","Lewis, Dwayne","NA",""]
["Huronia",100784,"Pat","Toomey","F","2017-18","Toomey, Pat","NA",""]
["York Simcoe",100785,"Jennifer","Lewis","F","2010-11","Lewis, Jennifer","NA",""]
["York Simcoe",100786,"Cathy","Ley","F","2024-25","Ley, Cathy",133,""]
["Huronia",100787,"Will","Brooking","M","2015-16","Brooking, Will","NA",""]
["Huronia",100788,"John","Brooking","M","2015-16","Brooking, John","NA",""]
["York Simcoe",100789,"Diana","Liscoumb","F","2012-13","Liscoumb, Diana","NA",""]
["York Simcoe",100790,"Gary","Liscoumb","M","2012-13","Liscoumb, Gary","NA",""]
["York Simcoe",100791,"Jeremy","Liscoumb","M","2023-24","Liscoumb, Jeremy",211,""]
["Kawartha Lakes",100792,"Mike","O'brien","M","2013-14","O'brien, Mike","NA",""]
["York Simcoe",100793,"Bob","Little","M","2019-20","Little, Bob","NA",""]
["Huronia",100794,"Anthony","Hutchinson","M","2024-25","Hutchinson, Anthony",207,""]
["Huronia",100795,"Josh","Jamieson","M","2019-20","Jamieson, Josh","NA",""]
["York Simcoe",100796,"Cecil","Lloyd","M","2017-18","Lloyd, Cecil","NA",""]
["Huronia",100797,"Justin","Jamieson","M","2024-25","Jamieson, Justin",166,""]
["York Simcoe",100798,"Nicole","Lombardo","F","2010-11","Lombardo, Nicole","NA",""]
["Huronia",100799,"Mitch","Johnson","M","2017-18","Johnson, Mitch","NA",""]
["York Simcoe",100800,"Marina","Long-gerow","F","2024-25","Long-gerow, Marina",171,""]
["York Simcoe",100801,"Robert","Long","M","2016-17","Long, Robert","NA",""]
["York Simcoe",100802,"Ed","Longhurst","M","2016-17","Longhurst, Ed","NA",""]
["York Simcoe",100803,"Wesley","Longhurst","M","2013-14","Longhurst, Wesley","NA",""]
["York Simcoe",100804,"Marlyn","Longhurst","F","2016-17","Longhurst, Marlyn","NA",""]
["York Simcoe",100805,"Mary jane","Loomans","F","2013-14","Loomans, Mary jane","NA",""]
["Kawartha Lakes",100806,"Al","Mcrae","M","2013-14","Mcrae, Al","NA",""]
["York Simcoe",100807,"Marg","Love","F","2010-11","Love, Marg","NA",""]
["York Simcoe",100808,"Norm","Love","M","2010-11","Love, Norm","NA",""]
["Huronia",100809,"Kyla","Murphy","F","2015-16","Murphy, Kyla","NA",""]
["Metro Toronto",100810,"Terry","Lowe","M","2018-19","Lowe, Terry","NA",""]
["York Simcoe",100812,"Bill","Lunney","M","2010-11","Lunney, Bill","NA",""]
["York Simcoe",100813,"Pat","Macarthur","F","2015-16","Macarthur, Pat","NA",""]
["York Simcoe",100814,"Shawn","Maccormack","M","2016-17","Maccormack, Shawn","NA",""]
["Huronia",100815,"James","Noyes","M","2024-25","Noyes, James",198,""]
["York Simcoe",100816,"Michael","Mackenzie","M","2013-14","Mackenzie, Michael","NA",""]
["Huronia",100817,"Bill","Penny","M","2015-16","Penny, Bill","NA",""]
["Huronia",100818,"Erin","Small","F","2017-18","Small, Erin","NA",""]
["York Simcoe",100819,"Corinne","Maclam","F","2013-14","Maclam, Corinne","NA",""]
["York Simcoe",100820,"Diane","Macleod","F","2012-13","Macleod, Diane","NA",""]
["York Simcoe",100822,"Kara","Macleod","F","2023-24","Macleod, Kara",219,""]
["Kawartha Lakes",100823,"Ryan","Brooks","M","2024-25","Brooks, Ryan",170,""]
["York Simcoe",100824,"Laura","Madeira","F","2024-25","Madeira, Laura",130,""]
["Kawartha Lakes",100825,"Sylvia","Spencer","F","2013-14","Spencer, Sylvia","NA",""]
["Kawartha Lakes",100826,"Jenny","Hopkinson","F","2013-14","Hopkinson, Jenny","NA",""]
["Huronia",100827,"Shelly","Stewart","F","2024-25","Stewart, Shelly",188,""]
["Huronia",100828,"Spencer","Watters","M","2020-21","Watters, Spencer","NA",""]
["York Simcoe",100829,"Morris","Madore","M","2019-20","Madore, Morris","NA",""]
["York Simcoe",100830,"Sharon","Madore","F","2019-20","Madore, Sharon","NA",""]
["York Simcoe",100832,"Jenthryk","Magnaye","M","2023-24","Magnaye, Jenthryk","NA",""]
["York Simcoe",100833,"Catherine","Mahoney","F","2011-12","Mahoney, Catherine","NA",""]
["York Simcoe",100834,"Shirley","Mahoney","F","2011-12","Mahoney, Shirley","NA",""]
["York Simcoe",100835,"Brandon","Mailhot","M","2023-24","Mailhot, Brandon",221,""]
["York Simcoe",100836,"Tom","Maize","M","2016-17","Maize, Tom","NA",""]
["Huronia",100837,"Lyn","Caputo","F","2024-25","Caputo, Lyn",128,""]
["York Simcoe",100838,"Norm","Mallais","M","2016-17","Mallais, Norm","NA",""]
["York Simcoe",100840,"Jordan","Maloney","M","2017-18",{"$f":"D1090&\", \"&C1090","v":"Maloney, Jordan"},"NA",""]
["York Simcoe",100841,"Jack","Maltby","M","2017-18","Maltby, Jack","NA",""]
["York Simcoe",100842,"Jean","Maltby","F","2017-18","Maltby, Jean","NA",""]
["York Simcoe",100843,"Patsy","Manktelow","F","2013-14","Manktelow, Patsy","NA",""]
["Grand River",100844,"Angelle","Eybel","F","2017-18","Eybel, Angelle","NA",""]
["York Simcoe",100845,"Fred","Marcussen","M","2024-25","Marcussen, Fred",72,""]
["York Simcoe",100846,"Lisa","Mariani","F","2024-25","Mariani, Lisa",183,{"$f":"IF(G1096=G1095,\"Same\",\"\")","v":""}]
["York Simcoe",100847,"Mario","Mariani","M","2019-20","Mariani, Mario","NA",""]
["York Simcoe",100848,"Cindy","Marlow","F","2024-25","Marlow, Cindy","NA",""]
["Kawartha Lakes",100849,"Lori","Mcmaster","F","2013-14","Mcmaster, Lori","NA",""]
["Metro Toronto",100850,"Giancarlo","Marrelli","M","2016-17","Marrelli, Giancarlo","NA",""]
["Kawartha Lakes",100851,"Dave","Mcmasters","M","2013-14","Mcmasters, Dave","NA",""]
["York Simcoe",100852,"Marcello","Marrelli","M","2010-11","Marrelli, Marcello","NA",""]
["Huronia",100853,"Duncan","Galt","M","2015-16","Galt, Duncan","NA",""]
["Kawartha Lakes",100854,"Scott","Emmorey","M","2015-16","Emmorey, Scott","NA",""]
["Huronia",100855,"Jan","Thomas","F","2019-20","Thomas, Jan","NA",""]
["Huronia",100856,"John","Thomas","M","2019-20","Thomas, John","NA",""]
["Kawartha Lakes",100857,"Chantale","Emmorey","F","2015-16","Emmorey, Chantale","NA",""]
["York Simcoe",100858,"Joan","Masters","F","2019-20","Masters, Joan","NA",""]
["York Simcoe",100859,"Scott","Masters","M","2020-21","Masters, Scott","NA",""]
["Huronia",100860,"Ken","Hurd","M","2019-20","Hurd, Ken","NA",""]
["Huronia",100861,"Judy","Hurd","F","2019-20","Hurd, Judy","NA",""]
["York Simcoe",100862,"Roger","Mathewson","M","2024-25","Mathewson, Roger",136,""]
["Kawartha Lakes",100863,"Danielle","Desjardins","F","2014-15","Desjardins, Danielle","NA",""]
["Kawartha Lakes",100864,"Debbie","Davidson","F","2013-14","Davidson, Debbie","NA",""]
["Huronia",100865,"Love","Fraser","F","2019-20","Fraser, Love","NA",""]
["York Simcoe",100866,"Matthew","Matunin","M","2015-16","Matunin, Matthew","NA",""]
["Huronia",100867,"Diane","Avery","F","2015-16","Avery, Diane","NA",""]
["Huronia",100868,"Alan","Avery","M","2015-16","Avery, Alan","NA",""]
["Huronia",100869,"Dave","Lewis","M","2020-21","Lewis, Dave","NA",""]
["Huronia",100870,"Sharon","Lewis","F","2017-18","Lewis, Sharon","NA",""]
["Kawartha Lakes",100871,"Megan","Green","F","2013-14","Green, Megan","NA",""]
["Huronia",100872,"Bill","Ferguson","M","2024-25","Ferguson, Bill",136,""]
["Kawartha Lakes",100873,"Brett","Jones","M","2015-16","Jones, Brett","NA",""]
["York Simcoe",100874,"Vincent","Mazzola","M","2010-11","Mazzola, Vincent","NA",""]
["York Simcoe",100875,"Deborah","Mcandrews","F","2024-25","Mcandrews, Deborah",146,""]
["Huronia",100876,"Dan","Squires","M","2015-16","Squires, Dan","NA",""]
["York Simcoe",100877,"Madeline","Mccarthy","F","2019-20","Mccarthy, Madeline","NA",""]
["Kawartha Lakes",100878,"Sonia","Guthrie","F","2013-14","Guthrie, Sonia","NA",""]
["York Simcoe",100879,"Rick","Mccarthy","M","2019-20","Mccarthy, Rick","NA",""]
["Kawartha Lakes",100880,"Audrey","Foote","F","2022-23","Foote, Audrey",121,""]
["York Simcoe",100881,"Corrine","Mccarty","F","2011-12","Mccarty, Corrine","NA",""]
["Huronia",100882,"Linda","Squires","F","2015-16","Squires, Linda","NA",""]
["Huronia",100883,"Everett","Rivait","M","2015-16","Rivait, Everett","NA",""]
["Huronia",100884,"Penny","Rivait","F","2015-16","Rivait, Penny","NA",""]
["York Simcoe",100885,"Brian","Mccorkell","M","2023-24","Mccorkell, Brian",86,""]
["Huronia",100886,"Barbara","Cousins","F","2024-25","Cousins, Barbara",126,""]
["Huronia",100887,"Donna","Perkins","F","2023-24","Perkins, Donna",133,""]
["Ontario Durham",100888,"Marg","Gaudet","F","2019-20","Gaudet, Marg","NA",""]
["Ontario Durham",100889,"Deb","Issac","F","2019-20","Issac, Deb","NA",""]
["Kawartha Lakes",100890,"Michelle","Savoie","F","2013-14","Savoie, Michelle","NA",""]
["Bay of Quinte",100891,"Shawn","Mcghie","M","2013-14","Mcghie, Shawn","NA",""]
["York Simcoe",100892,"Cecilia","Mcglade","F","2024-25","Mcglade, Cecilia",79,""]
["Ontario Durham",100893,"Tina","Martin","F","2015-16","Martin, Tina","NA",""]
["Kawartha Lakes",100894,"Wayne","Brooks","M","2013-14","Brooks, Wayne","NA",""]
["Ontario Durham",100895,"Alicia","Smith","F","2015-16","Smith, Alicia","NA",""]
["Kawartha Lakes",100896,"Carolyn","Pittman","F","2013-14","Pittman, Carolyn","NA",""]
["York Simcoe",100897,"Katie","Mcinnis","F","2022-23","Mcinnis, Katie",147,""]
["York Simcoe",100898,"Mike","Mcinnis","M","2019-20","Mcinnis, Mike","NA",""]
["York Simcoe",100899,"Sally","Mcinnis","F","2013-14","Mcinnis, Sally","NA",""]
["York Simcoe",100900,"Pat","Mckay","F","2011-12","Mckay, Pat","NA",""]
["Huronia",100901,"Maurice","Mckeown","M","2019-20","Mckeown, Maurice","NA",""]
["Ontario Durham",100902,"Myrna","Davey","F","2018-19","Davey, Myrna","NA",""]
["Middlesex Elgin",100903,"Emily","Barrett","F","2022-23","Barrett, Emily",202,""]
["Ontario Durham",100904,"Dave","Carley","M","2024-25",{"$f":"D1154&\", \"&C1154","v":"Carley, Dave"},172,""]
["Huronia",100905,"Betty","Mcdougall","F","2018-19","Mcdougall, Betty","NA",""]
["Ontario Durham",100906,"Cheryl","Carley","F","2024-25","Carley, Cheryl",134,""]
["Ontario Durham",100907,"Gord","Edmunds","M","2015-16","Edmunds, Gord","NA",""]
["York Simcoe",100908,"J. bob","Mcnamara","M","2011-12","Mcnamara, J. bob","NA",""]
["Kawartha Lakes",100909,"Susan","Mackie","F","2024-25","Mackie, Susan",154,""]
["Ontario Durham",100910,"Joanne","Edmunds","F","2015-16","Edmunds, Joanne","NA",{"$f":"IF(G1160=G1159,\"Same\",\"\")","v":""}]
["York Simcoe",100911,"Kathy","Meadus","F","2010-11","Meadus, Kathy","NA",""]
["Ontario Durham",100912,"Greg","Hibbard","M","2018-19","Hibbard, Greg","NA",""]
["York Simcoe",100913,"Tara","Moreau-mendes","F","2011-12","Moreau-mendes, Tara","NA",""]
["Kawartha Lakes",100914,"Jocelyn","Carr","F","2021-22","Carr, Jocelyn","NA",""]
["York Simcoe",100915,"Mike","Mercier","M","2024-25","Mercier, Mike",198,""]
["Kawartha Lakes",100916,"Patsy","Parsons","F","2021-22","Parsons, Patsy","NA",""]
["Ontario Durham",100917,"Tiffani","Anderson","F","2024-25","Anderson, Tiffani",183,""]
["Ontario Durham",100918,"Darrell","Toms","M","2023-24","Toms, Darrell",156,""]
["Ontario Durham",100919,"Jen","Toms","F","2019-20","Toms, Jen","NA",""]
["Kawartha Lakes",100920,"Mike","Bradbury","M","2015-16","Bradbury, Mike","NA",""]
["Ontario Durham",100921,"Kathy","Toms","F","2024-25","Toms, Kathy",143,""]
["Kawartha Lakes",100922,"Pat","Nichols","M","2013-14","Nichols, Pat","NA",""]
["Ontario Durham",100923,"Jeremy","Toms","M","2017-18","Toms, Jeremy","NA",""]
["Ontario Durham",100924,"Kyle","Toms","M","2015-16","Toms, Kyle","NA",""]
["Kawartha Lakes",100925,"David","Mortimer","M","2019-20","Mortimer, David","NA",""]
["Ontario Durham",100926,"Luke","Toms","M","2023-24","Toms, Luke",149,""]
["York Simcoe",100927,"Carl","Miller","M","2010-11","Miller, Carl","NA",""]
["York Simcoe",100928,"Chris","Miller","M","2017-18","Miller, Chris","NA",""]
["York Simcoe",100929,"Donna","Miller","F","2012-13","Miller, Donna","NA",""]
["York Simcoe",100930,"Harry","Miller jr.","M","2017-18","Miller jr., Harry","NA",""]
["York Simcoe",100931,"Janet","Miller","F","2012-13","Miller, Janet","NA",""]
["Ontario Durham",100932,"Amanda","Toms","F","2015-16","Toms, Amanda","NA",""]
["York Simcoe",100933,"Kristin","Johnson","F","2014-15","Johnson, Kristin","NA",""]
["Kawartha Lakes",100934,"Melissa","Thoburn","F","2018-19","Thoburn, Melissa","NA",""]
["Ontario Durham",100935,"Brad","Hilton","M","2015-16","Hilton, Brad","NA",""]
["York Simcoe",100936,"Melissa","Miller","F","2017-18","Miller, Melissa","NA",""]
["York Simcoe",100937,"Al","Mills","M","2010-11","Mills, Al","NA",""]
["York Simcoe",100938,"Tom","Mills","M","2010-11","Mills, Tom","NA",""]
["Kawartha Lakes",100939,"Jen","Brooks","F","2014-15","Brooks, Jen","NA",""]
["Kawartha Lakes",100940,"Jenn","Guthrie","F","2015-16","Guthrie, Jenn","NA",""]
["York Simcoe",100941,"Doug","Mitchell","M","2011-12","Mitchell, Doug","NA",""]
["York Simcoe",100942,"Ed","Mitchell","M","2011-12","Mitchell, Ed","NA",""]
["York Simcoe",100943,"Judy","Mitchell","F","2010-11","Mitchell, Judy","NA",""]
["York Simcoe",100944,"Karen","Mitchell","F","2011-12","Mitchell, Karen","NA",""]
["York Simcoe",100945,"Steve","Mitchell","M","2010-11","Mitchell, Steve","NA",""]
["York Simcoe",100946,"Bob","Mitobe","M","2010-11","Mitobe, Bob","NA",""]
["York Simcoe",100947,"Donna","Mitobe","F","2010-11","Mitobe, Donna","NA",""]
["York Simcoe",100948,"Lewis","Mizzi","M","2011-12","Mizzi, Lewis","NA",""]
["York Simcoe",100949,"Jennie","Mizzoni","F","2013-14","Mizzoni, Jennie","NA",""]
["Kawartha Lakes",100950,"Debbie","Fegan","F","2013-14","Fegan, Debbie","NA",""]
["York Simcoe",100951,"David","Mohammad","M","2013-14","Mohammad, David","NA",""]
["York Simcoe",100952,"Rick","Mondry","M","2012-13","Mondry, Rick","NA",""]
["Kawartha Lakes",100953,"Marcy","Barriball","F","2024-25","Barriball, Marcy",165,""]
["York Simcoe",100954,"Doris","Montgomery","F","2013-14","Montgomery, Doris","NA",""]
["Kawartha Lakes",100955,"Darlene","Marren","F","2013-14","Marren, Darlene","NA",""]
["Ontario Durham",100956,"Caleigh","Bruten","F","2015-16","Bruten, Caleigh","NA",""]
["Ontario Durham",100957,"Eugene","Partridge","M","2015-16","Partridge, Eugene","NA",""]
["Bay of Quinte",100958,"Lorie","Hoekstra","F","2020-21","Hoekstra, Lorie","NA",""]
["York Simcoe",100959,"Owen","Moreau","M","2024-25","Moreau, Owen","NA",""]
["Kawartha Lakes",100960,"Angela","Mortimer","F","2015-16","Mortimer, Angela","NA",""]
["Kawartha Lakes",100961,"Dayna","Thoburn","F","2016-17","Thoburn, Dayna","NA",""]
["Ontario Durham",100962,"Ike","Chiplick","M","2015-16","Chiplick, Ike","NA",""]
["Ontario Durham",100963,"Joe","Amodeo","M","2015-16","Amodeo, Joe","NA",""]
["Ontario Durham",100964,"Heidi","Peters","F","2015-16","Peters, Heidi","NA",""]
["Ontario Durham",100965,"Robyn","Van-es","F","2015-16","Van-es, Robyn","NA",""]
["York Simcoe",100966,"Kim","Morra","F","2017-18","Morra, Kim","NA",""]
["Ontario Durham",100967,"Patrick","Helps","M","2024-25","Helps, Patrick",186,""]
["York Simcoe",100968,"Rocco","Morra","M","2017-18",{"$f":"D1218&\", \"&C1218","v":"Morra, Rocco"},"NA",""]
["York Simcoe",100969,"Theresa","Morra","F","2013-14","Morra, Theresa","NA",""]
["York Simcoe",100970,"Shawn","Morris","M","2024-25","Morris, Shawn",174,""]
["York Simcoe",100972,"Sydella","Morris","F","2010-11","Morris, Sydella","NA",""]
["Ontario Durham",100973,"Jim","Swinton","M","2017-18","Swinton, Jim","NA",""]
["Ontario Durham",100974,"Ruth","Woermke","F","2017-18","Woermke, Ruth","NA",""]
["Ontario Durham",100975,"Kelly","Loubert","F","2017-18","Loubert, Kelly","NA",{"$f":"IF(G1224=G1223,\"Same\",\"\")","v":""}]
["York Simcoe",100976,"Sharon","Morrow","F","2010-11","Morrow, Sharon","NA",""]
["Ontario Durham",100977,"Amanda","Panepinto-begg","F","2017-18","Panepinto-begg, Amanda","NA",""]
["Ontario Durham",100978,"Deb","Coupland","F","2015-16","Coupland, Deb","NA",""]
["York Simcoe",100979,"Mike","Mortson","M","2011-12","Mortson, Mike","NA",""]
["York Simcoe",100980,"Aglaia","Mossman","F","2023-24","Mossman, Aglaia",102,""]
["York Simcoe",100981,"Hiro","Motomura","M","2010-11","Motomura, Hiro","NA",""]
["York Simcoe",100982,"Lily","Motomura","F","2010-11","Motomura, Lily","NA",""]
["York Simcoe",100983,"Reg","Mottershal","M","2012-13","Mottershal, Reg","NA",""]
["Ontario Durham",100984,"Roy","Woodman","M","2017-18","Woodman, Roy","NA",""]
["Ontario Durham",100985,"Murray","Northam","M","2015-16","Northam, Murray","NA",""]
["Ontario Durham",100986,"Dave","Little","M","2017-18","Little, Dave","NA",""]
["Ontario Durham",100987,"Dave","Wilcox","M","2015-16","Wilcox, Dave","NA",""]
["Ontario Durham",100988,"Sarah","Moir","F","2018-19","Moir, Sarah","NA",""]
["York Simcoe",100989,"Carol","Muir","F","2024-25","Muir, Carol","NA",""]
["York Simcoe",100990,"Charles","Muir","M","2024-25","Muir, Charles",131,""]
["York Simcoe",100991,"Frank","Muir","M","2024-25","Muir, Frank","NA",""]
["Niagara Peninsula",100992,"Raymond","Belanger","M","2023-24","Belanger, Raymond",190,""]
["York Simcoe",100993,"Sean","Munshaw","M","2013-14","Munshaw, Sean","NA",""]
["Niagara Peninsula",100994,"Ken","Colosimo","M","2015-16","Colosimo, Ken","NA",""]
["Niagara Peninsula",100995,"Ellen","Robillard","F","2017-18","Robillard, Ellen","NA",""]
["York Simcoe",100996,"Brian","Murphy","M","2011-12","Murphy, Brian","NA",""]
["Niagara Peninsula",100997,"Roxanne","Benner","F","2017-18","Benner, Roxanne","NA",""]
["Niagara Peninsula",100998,"Bruce","Benner","M","2017-18","Benner, Bruce","NA",""]
["Niagara Peninsula",100999,"Jessica","Webb","F","2018-19","Webb, Jessica","NA",""]
["York Simcoe",101000,"Jim","Murray","M","2010-11","Murray, Jim","NA",""]
["Niagara Peninsula",101001,"Mary-lynn","Agostino","F","2019-20","Agostino, Mary-lynn","NA",""]
["York Simcoe",101002,"Barbara","Murrell","F","2024-25","Murrell, Barbara",147,""]
["York Simcoe",101003,"Dave","Murrell","M","2024-25","Murrell, Dave",160,""]
["York Simcoe",101004,"Tori","Nagamatsu","M","2010-11","Nagamatsu, Tori","NA",""]
["York Simcoe",101005,"Jean","Nagata","F","2010-11","Nagata, Jean","NA",""]
["York Simcoe",101006,"Harry","Nagata","M","2010-11","Nagata, Harry","NA",""]
["York Simcoe",101007,"Kay","Nagata","F","2010-11","Nagata, Kay","NA",""]
["Niagara Peninsula",101008,"Roger","Mercier","M","2023-24","Mercier, Roger",205,""]
["Niagara Peninsula",101009,"Christine","Haymes","F","2015-16","Haymes, Christine","NA",""]
["York Simcoe",101010,"Stephen","Nash","M","2010-11","Nash, Stephen","NA",""]
["Niagara Peninsula",101011,"Doug","Haymes","M","2023-24","Haymes, Doug",102,""]
["Niagara Peninsula",101012,"Alex","Gaudreau","M","2016-17","Gaudreau, Alex","NA",""]
["Kawartha Lakes",101013,"Catherine","Hennings","F","2017-18","Hennings, Catherine","NA",""]
["York Simcoe",101014,"Tristan","Nevill","M","2016-17","Nevill, Tristan","NA",""]
["Niagara Peninsula",101015,"Mike","Gage","M","2016-17","Gage, Mike","NA",""]
["York Simcoe",101016,"Dave","Newns","M","2013-14","Newns, Dave","NA",""]
["Niagara Peninsula",101018,"Spencer","Lyttle","M","2018-19","Lyttle, Spencer","NA",""]
["Niagara Peninsula",101019,"Nancy","Gage","F","2016-17","Gage, Nancy","NA",""]
["York Simcoe",101020,"Matthew","Nighswander","M","2019-20","Nighswander, Matthew","NA",""]
["Niagara Peninsula",101021,"Kathy","Haist","F","2015-16","Haist, Kathy","NA",""]
["Niagara Peninsula",101022,"Chris","Fournier","F","2015-16","Fournier, Chris","NA",""]
["Kawartha Lakes",101023,"Kathy","Mcisaac","F","2013-14","Mcisaac, Kathy","NA",""]
["Grand River, York Simcoe",101024,"Bruce","Norman","M","2011-12","Norman, Bruce","NA",""]
["Niagara Peninsula",101025,"Shirley","Hastings","F","2015-16","Hastings, Shirley","NA",""]
["York Simcoe",101026,"Robbie","Carver","M","2015-16","Carver, Robbie","NA",""]
["Kawartha Lakes",101027,"Teresa","Ralph","F","2013-14","Ralph, Teresa","NA",""]
["York Simcoe",101028,"George","Dally","M","2015-16","Dally, George","NA",""]
["York Simcoe",101029,"Dave sr.","Nuthall","M","2011-12","Nuthall, Dave sr.","NA",""]
["York Simcoe",101030,"Gregory","O'brien","M","2014-15","O'brien, Gregory","NA",""]
["York Simcoe",101031,"Dan","Dobson","M","2022-23","Dobson, Dan",227,""]
["York Simcoe",101032,"Tom","O'neill","M","2017-18","O'neill, Tom","NA",""]
["Metro Toronto",101033,"Elena","Viopoulou","F","2013-14","Viopoulou, Elena","NA",""]
["Kawartha Lakes",101034,"Bob","Adams","M","2013-14",{"$f":"D1282&\", \"&C1282","v":"Adams, Bob"},"NA",""]
["York Simcoe",101035,"Aki","Oda","M","2010-11","Oda, Aki","NA",""]
["York Simcoe",101036,"Anthony","Hachem","M","2015-16","Hachem, Anthony","NA",""]
["York Simcoe",101037,"Mark","Buckley","M","2015-16","Buckley, Mark","NA",""]
["York Simcoe",101038,"Lee ann","Godin","F","2015-16","Godin, Lee ann","NA",""]
["Kawartha Lakes",101039,"Howard","Tremaine","M","2015-16","Tremaine, Howard","NA",""]
["Kawartha Lakes",101040,"Donna","Adams","F","2013-14","Adams, Donna","NA",{"$f":"IF(G1288=G1287,\"Same\",\"\")","v":""}]
["York Simcoe",101041,"Masae","Okamoto","F","2010-11","Okamoto, Masae","NA",""]
["York Simcoe",101042,"Cindy","Glasson","F","2015-16","Glasson, Cindy","NA",""]
["York Simcoe",101043,"Monica","O'keefe","F","2015-16","O'keefe, Monica","NA",""]
["York Simcoe",101044,"Bill","Oostveen","M","2018-19","Oostveen, Bill","NA",""]
["Grand River",101045,"Peter","Braun","M","2018-19","Braun, Peter","NA",""]
["York Simcoe",101046,"Nancy","Oppedisano","F","2010-11","Oppedisano, Nancy","NA",""]
["York Simcoe",101047,"Roy","Orida","M","2010-11","Orida, Roy","NA",""]
["Ontario Durham",101048,"Kaitlyn","Osborne","F","2024-25","Osborne, Kaitlyn",209,""]
["York Simcoe",101049,"Matt","Osborne","M","2024-25","Osborne, Matt",174,""]
["Kawartha Lakes",101050,"Linda","Trapp","F","2013-14","Trapp, Linda","NA",""]
["Kawartha Lakes",101051,"Annette","Tremaine","F","2015-16","Tremaine, Annette","NA",""]
["York Simcoe",101052,"Brad","Ough","M","2013-14","Ough, Brad","NA",""]
["Kawartha Lakes",101053,"Teagan","Mcdonald","F","2024-25","Mcdonald, Teagan",120,""]
["Kawartha Lakes",101054,"Susan","Swartman","F","2013-14","Swartman, Susan","NA",""]
["York Simcoe",101055,"Fernando","Pannozzo","M","2010-11","Pannozzo, Fernando","NA",""]
["York Simcoe",101056,"June","Paolini","F","2012-13","Paolini, June","NA",""]
["Grand River",101057,"Anna","Vandyk","F","2015-16","Vandyk, Anna","NA",""]
["Kawartha Lakes",101058,"Ron","Martin","M","2013-14","Martin, Ron","NA",""]
["Grand River",101059,"Sharon","Mackay","F","2018-19","Mackay, Sharon","NA",""]
["Grand River",101060,"Gretta","Fletcher","F","2018-19","Fletcher, Gretta","NA",""]
["Kawartha Lakes",101061,"Tiff","Melnik","F","2013-14","Melnik, Tiff","NA",""]
["Grand River",101062,"Sharon","Szymkowski","F","2017-18","Szymkowski, Sharon","NA",""]
["York Simcoe",101063,"Stuart","Parker","M","2010-11","Parker, Stuart","NA",""]
["Grand River",101064,"Gary","Bielaski","M","2017-18","Bielaski, Gary","NA",""]
["Grand River",101065,"Nicole","Bielaski","F","2017-18","Bielaski, Nicole","NA",""]
["York Simcoe",101066,"Sheila","Pate","F","2010-11","Pate, Sheila","NA",""]
["Kawartha Lakes",101067,"Shanny","Mccombe","F","2013-14","Mccombe, Shanny","NA",""]
["York Simcoe",101068,"Johnathan","Paterson","M","2011-12","Paterson, Johnathan","NA",""]
["Grand River",101069,"Darrel","Kuzub","M","2015-16","Kuzub, Darrel","NA",""]
["Grand River",101070,"Shawn","Mallaley","M","2016-17","Mallaley, Shawn","NA",""]
["Grand River",101071,"Tyler","Mallaley","M","2016-17","Mallaley, Tyler","NA",""]
["Grand River",101072,"Sarah","Bacvar (pellin)","F","2024-25","Bacvar (pellin), Sarah",246,""]
["Kawartha Lakes",101073,"Susan","Hrushka","F","2013-14","Hrushka, Susan","NA",""]
["York Simcoe",101074,"David","Paul","M","2013-14","Paul, David","NA",""]
["Kawartha Lakes",101075,"Brittany","Roka","F","2013-14","Roka, Brittany","NA",""]
["Kawartha Lakes",101076,"Jim","Hale","M","2022-23","Hale, Jim",151,""]
["Ottawa Valley",101077,"Andrew","Schuweiler","M","2016-17","Schuweiler, Andrew","NA",""]
["Kawartha Lakes",101078,"Cal","Callbert","M","2022-23","Callbert, Cal",138,""]
["York Simcoe",101079,"Bob","Pearce","M","2012-13","Pearce, Bob","NA",""]
["York Simcoe",101080,"Dave","Pearce","M","2015-16","Pearce, Dave","NA",""]
["Grand River",101081,"Terry","Karn","M","2019-20","Karn, Terry","NA",""]
["York Simcoe",101082,"Jen","Pearce","F","2015-16","Pearce, Jen","NA",""]
["Grand River",101083,"Bob","Woroch","M","2017-18","Woroch, Bob","NA",""]
["Grand River",101084,"Mike","Woroch","M","2015-16","Woroch, Mike","NA",""]
["York Simcoe",101085,"Yvonne","Pearce","F","2016-17","Pearce, Yvonne","NA",""]
["Central Ontario",101086,"Robert","Bowman","M","2024-25","Bowman, Robert",163,""]
["York Simcoe",101087,"Deb","Pennington","F","2017-18","Pennington, Deb","NA",""]
["York Simcoe",101088,"Pam","Pereira","F","2015-16","Pereira, Pam","NA",""]
["Kawartha Lakes",101089,"Shirley","Ellison","F","2021-22","Ellison, Shirley","NA",""]
["Kawartha Lakes",101090,"Shirley","Clements","F","2017-18","Clements, Shirley","NA",""]
["Kawartha Lakes",101091,"Karl","Achenbach","M","2016-17","Achenbach, Karl","NA",""]
["York Simcoe",101092,"Stan","Perry","M","2013-14","Perry, Stan","NA",""]
["Central Ontario",101093,"Joel","Layne","M","2024-25","Layne, Joel",141,""]
["Ottawa Valley",101094,"Patrick","Sabourin","M","2016-17","Sabourin, Patrick","NA",""]
["York Simcoe",101095,"Frank","Phillips","M","2015-16","Phillips, Frank","NA",""]
["York Simcoe",101096,"Patty","Phillips","F","2013-14","Phillips, Patty","NA",""]
["York Simcoe",101097,"Steve","Phillips","M","2016-17","Phillips, Steve","NA",""]
["York Simcoe",101098,"Jean","Phinnemore","F","2019-20",{"$f":"D1346&\", \"&C1346","v":"Phinnemore, Jean"},"NA",""]
["Ottawa Valley",101099,"Michel","Labreche","M","2016-17","Labreche, Michel","NA",""]
["Kawartha Lakes",101100,"Jack","Hicks","M","2014-15","Hicks, Jack","NA",""]
["Ottawa Valley",101101,"Luc","Labreche","M","2016-17","Labreche, Luc","NA",""]
["Ottawa Valley",101102,"Angie","Mainville","F","2016-17","Mainville, Angie","NA",""]
["Ottawa Valley",101103,"Sylvain","Mainville","M","2016-17","Mainville, Sylvain","NA",""]
["Kawartha Lakes",101104,"Lisa","Britton","F","2024-25","Britton, Lisa",171,{"$f":"IF(G1352=G1351,\"Same\",\"\")","v":""}]
["Grand River",101105,"Rob","Hill","M","2015-16","Hill, Rob","NA",""]
["Central Ontario",101106,"Darin","Pletsch","M","2012-13","Pletsch, Darin","NA",""]
["Central Ontario, York Simcoe",101107,"Richard","Poitras","M","2012-13","Poitras, Richard","NA",""]
["Western Ontario",101108,"Anthony","Boyko","M","2016-17","Boyko, Anthony","NA",""]
["Kawartha Lakes",101109,"Rick","Hughes","M","2024-25","Hughes, Rick","NA",""]
["Kawartha Lakes",101110,"Duncan","Mcdonough","M","2013-14","Mcdonough, Duncan","NA",""]
["Kawartha Lakes",101111,"Glyn","Thomas","M","2018-19","Thomas, Glyn","NA",""]
["York Simcoe",101112,"Matthew","Powell","M","2011-12","Powell, Matthew","NA",""]
["York Simcoe",101113,"Randy","Power","M","2011-12","Power, Randy","NA",""]
["York Simcoe",101114,"Carrie","Praught","F","2016-17","Praught, Carrie","NA",""]
["York Simcoe",101115,"Mark","Praught","M","2016-17","Praught, Mark","NA",""]
["York Simcoe",101116,"Justin","Preece","M","2011-12","Preece, Justin","NA",""]
["York Simcoe",101117,"Kenny","Prentice","M","2012-13","Prentice, Kenny","NA",""]
["York Simcoe",101118,"Craig","Preston","M","2019-20","Preston, Craig","NA",""]
["York Simcoe",101119,"Bob","Price","M","2013-14","Price, Bob","NA",""]
["Metro Toronto",101120,"Stephanie","Johnson","F","2015-16","Johnson, Stephanie","NA",""]
["Kawartha Lakes",101121,"Al","Thurston","M","2016-17","Thurston, Al","NA",""]
["York Simcoe",101122,"Darrin","Puddester","M","2010-11","Puddester, Darrin","NA",""]
["Ottawa Valley",101123,"Pete","Marion","M","2010-11","Marion, Pete","NA",""]
["Metro Toronto",101124,"Zach","Wells","M","2024-25","Wells, Zach",237,""]
["Metro Toronto",101125,"Andy","Mccandless","M","2017-18","Mccandless, Andy","NA",""]
["York Simcoe",101126,"Mike","Pullicino","M","2011-12","Pullicino, Mike","NA",""]
["Kawartha Lakes",101127,"Dave","Waldon","M","2014-15","Waldon, Dave","NA",""]
["Kawartha Lakes",101128,"Ann","Armstrong","M","2017-18","Armstrong, Ann","NA",""]
["Kawartha Lakes",101129,"Janet","Cameron","F","2018-19","Cameron, Janet","NA",""]
["York Simcoe",101130,"Nolene","Radford","F","2017-18","Radford, Nolene","NA",""]
["York Simcoe",101131,"Terry","Radford","M","2016-17","Radford, Terry","NA",""]
["York Simcoe",101132,"Cathy","Radi","F","2019-20","Radi, Cathy","NA",""]
["York Simcoe",101133,"Lyla","Ramage","F","2016-17","Ramage, Lyla","NA",""]
["Metro Toronto, Ontario Durham",101134,"Brian","Cox","M","2024-25","Cox, Brian",212,""]
["York Simcoe",101135,"Ray","Barber","M","2015-16","Barber, Ray","NA",""]
["York Simcoe",101136,"Mike","Rancourt","M","2024-25","Rancourt, Mike",217,""]
["York Simcoe",101138,"Courtney","Bishop","F","2015-16","Bishop, Courtney","NA",""]
["York Simcoe",101139,"Dave","Goldie","M","2024-25","Goldie, Dave",186,""]
["York Simcoe",101140,"Tammy","Goldie","F","2024-25","Goldie, Tammy",130,""]
["York Simcoe",101141,"Andrya","Reddick","F","2012-13","Reddick, Andrya","NA",""]
["York Simcoe",101142,"Teresa","Lico","F","2020-21","Lico, Teresa","NA",""]
["York Simcoe",101143,"Janice","Miner","F","2019-20","Miner, Janice","NA",""]
["Kawartha Lakes",101144,"Audrey","Dudman","F","2024-25","Dudman, Audrey",110,""]
["Kawartha Lakes",101145,"Glenda","Hughes","F","2024-25","Hughes, Glenda",134,""]
["York Simcoe",101146,"Sean","Peoples","M","2016-17","Peoples, Sean","NA",""]
["York Simcoe",101147,"Meria","Kehoe","F","2011-12","Kehoe, Meria","NA",""]
["York Simcoe",101148,"Chrissy","Pilkey","F","2016-17","Pilkey, Chrissy","NA",""]
["York Simcoe",101149,"Bonnie","Prisayane","F","2018-19","Prisayane, Bonnie","NA",""]
["York Simcoe",101150,"Steve","Ridgway","M","2023-24","Ridgway, Steve",188,""]
["Kawartha Lakes",101151,"Margaret","Kylie","F","2024-25","Kylie, Margaret",148,""]
["York Simcoe",101152,"Kjeld","Samuelsson","M","2016-17","Samuelsson, Kjeld","NA",""]
["Huronia",101153,"Heather","Johnson","F","2024-25","Johnson, Heather",224,""]
["York Simcoe",101154,"Elizabeth","Ridder","F","2010-11","Ridder, Elizabeth","NA",""]
["Kawartha Lakes",101155,"Sylvia","Reineker","F","2018-19","Reineker, Sylvia","NA",""]
["York Simcoe",101156,"Cindy","Leblanc","F","2017-18","Leblanc, Cindy","NA",""]
["York Simcoe",101157,"Larry","Leblanc","M","2019-20","Leblanc, Larry","NA",""]
["York Simcoe",101158,"Andrew","Mcinnis","M","2017-18","Mcinnis, Andrew","NA",""]
["York Simcoe",101159,"Darcy","Rivait","M","2024-25","Rivait, Darcy",131,""]
["Kawartha Lakes",101160,"Audrey","Mclauglin","F","2013-14","Mclauglin, Audrey","NA",""]
["York Simcoe",101161,"Lauren","Campbell","F","2015-16","Campbell, Lauren","NA",""]
["York Simcoe",101162,"Shawna","Christie","F","2024-25","Christie, Shawna",189,""]
["York Simcoe",101163,"Debbie","Frampton","F","2015-16",{"$f":"D1410&\", \"&C1410","v":"Frampton, Debbie"},"NA",""]
["York Simcoe",101164,"Ross","Robinson","M","2011-12","Robinson, Ross","NA",""]
["Kawartha Lakes",101165,"Linda","Wagg","F","2018-19","Wagg, Linda","NA",""]
["York Simcoe",101166,"Shane","Robinson","M","2013-14","Robinson, Shane","NA",""]
["York Simcoe",101167,"Sharon","Robinson","F","2011-12","Robinson, Sharon","NA",""]
["Kawartha Lakes",101168,"Sandra","Small","F","2014-15","Small, Sandra","NA",""]
["York Simcoe",101169,"Paula","Hambrook","F","2024-25","Hambrook, Paula",146,{"$f":"IF(G1416=G1415,\"Same\",\"\")","v":""}]
["York Simcoe",101170,"Terry","Coates","M","2015-16","Coates, Terry","NA",""]
["York Simcoe",101171,"Pam","Rodney","F","2016-17","Rodney, Pam","NA",""]
["York Simcoe",101172,"Diane","Rogers","M","2012-13","Rogers, Diane","NA",""]
["Kawartha Lakes",101173,"Joanne","Walden","F","2014-15","Walden, Joanne","NA",""]
["York Simcoe",101174,"Jim","Mitchell","M","2016-17","Mitchell, Jim","NA",""]
["York Simcoe",101175,"Daisy","Romanvitch","F","2011-12","Romanvitch, Daisy","NA",""]
["York Simcoe",101176,"Lana","Romic","F","2013-14","Romic, Lana","NA",""]
["York Simcoe",101177,"Larry","Ross","M","2017-18","Ross, Larry",203,""]
["York Simcoe",101178,"Steve","Ross","M","2010-11","Ross, Steve","NA",""]
["Kawartha Lakes",101179,"Marg","Ward","F","2017-18","Ward, Marg","NA",""]
["Kawartha Lakes",101180,"Ron","Allinson","M","2013-14","Allinson, Ron","NA",""]
["York Simcoe",101181,"Helen","Wilkinson","F","2016-17","Wilkinson, Helen","NA",""]
["York Simcoe",101182,"Sharon","Krol","F","2015-16","Krol, Sharon","NA",""]
["Central Ontario",101183,"Mike","Rowe","M","2019-20","Rowe, Mike","NA",""]
["York Simcoe",101184,"Andrew","Rowland","M","2024-25","Rowland, Andrew",217,""]
["York Simcoe",101185,"Brad","Rowland","M","2024-25","Rowland, Brad",224,""]
["York Simcoe",101186,"Bea","Rowntree","F","2015-16","Rowntree, Bea","NA",""]
["York Simcoe",101187,"George","Owens","M","2016-17","Owens, George","NA",""]
["Kawartha Lakes",101188,"John","Benson","M","2015-16","Benson, John","NA",""]
["York Simcoe",101189,"Lorna","Owens","F","2016-17","Owens, Lorna","NA",""]
["York Simcoe",101190,"Helga","Woldenga","F","2023-24","Woldenga, Helga",102,""]
["York Simcoe",101191,"Mark","Russell","M","2011-12","Russell, Mark","NA",""]
["York Simcoe",101193,"Debbie","Ryan","F","2011-12","Ryan, Debbie","NA",""]
["York Simcoe",101194,"Ron","Ryan","M","2017-18","Ryan, Ron","NA",""]
["York Simcoe",101195,"Ellen","Wu","F","2015-16","Wu, Ellen","NA",""]
["York Simcoe",101196,"Ronald","Wu","M","2015-16","Wu, Ronald","NA",""]
["York Simcoe",101197,"Samantha","Goddard","F","2015-16","Goddard, Samantha","NA",""]
["York Simcoe",101198,"Victor","Sakamoto","M","2010-11","Sakamoto, Victor","NA",""]
["York Simcoe",101199,"Jassaman","Naimian","F","2015-16","Naimian, Jassaman","NA",""]
["York Simcoe",101200,"Anthony (t.j.)","Santilli","M","2015-16","Santilli, Anthony (t.j.)","NA",""]
["York Simcoe",101201,"Rae","Sarlin","M","2010-11","Sarlin, Rae","NA",""]
["York Simcoe",101202,"John","Sawtell","M","2010-11","Sawtell, John","NA",""]
["York Simcoe",101203,"Calleigh","Reid","F","2015-16","Reid, Calleigh","NA",""]
["York Simcoe",101204,"Duane","Scherzinger","M","2010-11","Scherzinger, Duane","NA",""]
["Kawartha Lakes",101206,"Bob","Lereverend","M","2023-24","Lereverend, Bob",170,""]
["York Simcoe",101207,"Tahera","Sunderji","F","2024-25","Sunderji, Tahera",126,""]
["York Simcoe",101208,"Davide","Giuliana","M","2015-16","Giuliana, Davide","NA",""]
["York Simcoe",101209,"Vanetta","Belisle","F","2016-17","Belisle, Vanetta","NA",""]
["York Simcoe",101210,"Lesley","Coleman","F","2015-16","Coleman, Lesley","NA",""]
["Metro Toronto",101211,"Brian g","Scott","M","2024-25","Scott, Brian g",211,""]
["York Simcoe",101212,"Joanne","Scott","F","2012-13","Scott, Joanne","NA",""]
["York Simcoe",101213,"Debbie","Fiore","F","2015-16","Fiore, Debbie","NA",""]
["York Simcoe",101214,"Sabrina","Scuilli","F","2013-14","Scuilli, Sabrina","NA",""]
["York Simcoe",101215,"Sue","Seago","F","2011-12","Seago, Sue","NA",""]
["York Simcoe",101216,"Tom","Seago","M","2011-12","Seago, Tom","NA",""]
["York Simcoe",101217,"Amanda","Mccormick","F","2016-17","Mccormick, Amanda","NA",""]
["York Simcoe",101218,"Adam","Sedore","M","2013-14","Sedore, Adam","NA",""]
["York Simcoe",101219,"Brian","Mccormick","M","2016-17","Mccormick, Brian","NA",""]
["York Simcoe",101220,"Donna","Metcalfe","F","2015-16","Metcalfe, Donna","NA",""]
["York Simcoe",101221,"Seanna","Sedore","F","2014-15","Sedore, Seanna","NA",""]
["York Simcoe",101222,"Sarah","Holditch","F","2024-25","Holditch, Sarah",158,""]
["York Simcoe",101223,"Rielle","Seebach","F","2024-25","Seebach, Rielle",101,""]
["Kawartha Lakes",101224,"Alan","Little","M","2024-25","Little, Alan",139,""]
["York Simcoe",101225,"Shirley","Mossman","F","2022-23","Mossman, Shirley","NA",""]
["Kawartha Lakes",101226,"Art","Luff","M","2013-14","Luff, Art","NA",""]
["Kawartha Lakes",101227,"Maurice","Martin","M","2019-20","Martin, Maurice","NA",""]
["York Simcoe",101228,"Brenda","Seymour","F","2013-14","Seymour, Brenda","NA",""]
["York Simcoe",101229,"Kevin","Seymour","M","2010-11",{"$f":"D1474&\", \"&C1474","v":"Seymour, Kevin"},"NA",""]
["Hamilton",101230,"Amber","Ashton","F","2019-20","Ashton, Amber","NA",""]
["Hamilton",101231,"Kelli","Ridgeway","F","2024-25","Ridgeway, Kelli",191,""]
["Kawartha Lakes",101232,"Ray","Mcwilliams","M","2024-25","Mcwilliams, Ray",108,""]
["York Simcoe",101233,"Andrew","Shannon","M","2019-20","Shannon, Andrew","NA",""]
["Hamilton",101234,"Kristy","Luker","F","2016-17","Luker, Kristy","NA",""]
["Hamilton",101235,"Kara","Morton","F","2015-16","Morton, Kara","NA",{"$f":"IF(G1480=G1479,\"Same\",\"\")","v":""}]
["York Simcoe",101236,"Bill","Shearer","M","2017-18","Shearer, Bill","NA",""]
["York Simcoe",101237,"Flo","Sherman","F","2015-16","Sherman, Flo","NA",""]
["Hamilton",101238,"Ross","Varlow","M","2019-20","Varlow, Ross","NA",""]
["Hamilton",101239,"Melanie","Moser","F","2017-18","Moser, Melanie","NA",""]
["Hamilton",101240,"Shawn","Barrow","M","2024-25","Barrow, Shawn",256,""]
["York Simcoe",101241,"Yuki","Shigeishi","M","2010-11","Shigeishi, Yuki","NA",""]
["Hamilton",101242,"Don","Marinucci","M","2024-25","Marinucci, Don",181,""]
["Hamilton",101243,"Dianne","Kunkel","F","2017-18","Kunkel, Dianne","NA",""]
["Hamilton",101244,"Julie","Currie","F","2015-16","Currie, Julie","NA",""]
["York Simcoe",101245,"Patti","Simmerson","F","2017-18","Simmerson, Patti","NA",""]
["Hamilton",101246,"Rob","Hill","M","2015-16","Hill, Rob","NA",""]
["York Simcoe",101247,"Michael","Soman","M","2012-13","Soman, Michael","NA",""]
["Hamilton",101248,"Brandon","Burnside","M","2024-25","Burnside, Brandon",164,""]
["Hamilton",101249,"Larry","Cooper (dec.)","M","2019-20","Cooper (dec.), Larry","NA",""]
["Kawartha Lakes",101250,"Tom","O'brien","M","2019-20","O'brien, Tom","NA",""]
["York Simcoe",101251,"Bev","Simpson","F","2016-17","Simpson, Bev","NA",""]
["Kawartha Lakes",101252,"Don","Meyer","M","2016-17","Meyer, Don","NA",""]
["York Simcoe",101253,"Debbie","Slater","F","2011-12","Slater, Debbie","NA",""]
["York Simcoe",101254,"Sean","Slater","M","2011-12","Slater, Sean","NA",""]
["York Simcoe",101255,"Bill","Slater","M","2024-25","Slater, Bill",134,""]
["Kawartha Lakes",101256,"Don","Sova","M","2013-14","Sova, Don","NA",""]
["Hamilton",101257,"Janice","Trainor","F","2015-16","Trainor, Janice","NA",""]
["Hamilton",101258,"Rina","Cremasco","F","2015-16","Cremasco, Rina","NA",""]
["Hamilton",101259,"Audrey","Marshall","F","2017-18","Marshall, Audrey","NA",""]
["Kawartha Lakes",101260,"Tom","Teare","M","2013-14","Teare, Tom","NA",""]
["York Simcoe",101261,"Nancy","Smith","F","2013-14","Smith, Nancy","NA",""]
["Hamilton",101262,"Darren","Orvis","M","2021-22","Orvis, Darren","NA",""]
["Kawartha Lakes",101263,"Carl","Thompson","M","2017-18","Thompson, Carl","NA",""]
["Hamilton",101264,"Roy","Peart","M","2019-20","Peart, Roy","NA",""]
["Hamilton",101265,"Wanda","Mcmaster","F","2024-25","Mcmaster, Wanda",155,""]
["Grand River",101266,"Chris","Vredeveld","M","2018-19","Vredeveld, Chris","NA",""]
["Kawartha Lakes",101267,"Joe","Walsh","M","2013-14","Walsh, Joe","NA",""]
["Hamilton",101268,"Chris","Hillman","F","2015-16","Hillman, Chris","NA",""]
["Hamilton",101269,"Ed","Riley","M","2015-16","Riley, Ed","NA",""]
["Huronia",101270,"Doreen","Beauvais","F","2017-18","Beauvais, Doreen","NA",""]
["York Simcoe",101271,"Jamie","Snow","M","2016-17","Snow, Jamie","NA",""]
["York Simcoe",101272,"Gillian","Snowdon","F","2012-13","Snowdon, Gillian","NA",""]
["Ontario Durham",101273,"Dave","Sorley","M","2017-18","Sorley, Dave","NA",""]
["York Simcoe",101274,"Diane","Soucie","F","2010-11","Soucie, Diane","NA",""]
["Kawartha Lakes",101275,"Tim","Wood","M","2016-17","Wood, Tim","NA",""]
["Huronia",101276,"Linda","Collin","F","2015-16","Collin, Linda","NA",""]
["York Simcoe",101277,"Steph","Squires","F","2011-12","Squires, Steph","NA",""]
["Kawartha Lakes",101278,"Stan","Wray","M","2021-22","Wray, Stan","NA",""]
["Kawartha Lakes",101279,"Joy","Allen","F","2013-14","Allen, Joy","NA",""]
["York Simcoe",101280,"Dody","St. george","F","2018-19","St. george, Dody","NA",""]
["Huronia",101281,"Bill","Oulster","M","2015-16","Oulster, Bill","NA",""]
["York Simcoe",101282,"Dana","Standeaven","F","2013-14","Standeaven, Dana","NA",""]
["Huronia",101283,"Marg","Poirier","F","2018-19","Poirier, Marg","NA",""]
["Huronia",101284,"John","Poirier","M","2018-19","Poirier, John","NA",""]
["York Simcoe",101285,"Chuck","Starnes","M","2015-16","Starnes, Chuck","NA",""]
["Huronia",101286,"Geraldine","Trahan","F","2015-16","Trahan, Geraldine","NA",""]
["Huronia",101287,"Leo","Davidson","M","2018-19","Davidson, Leo","NA",""]
["Kawartha Lakes",101288,"Janice","Clarke","F","2016-17","Clarke, Janice","NA",""]
["Huronia",101289,"Shirley","Bryan","F","2018-19","Bryan, Shirley","NA",""]
["Huronia",101290,"Roger","Brown","M","2018-19","Brown, Roger","NA",""]
["York Simcoe",101291,"Geoff","Stevens","M","2024-25","Stevens, Geoff",228,""]
["Huronia",101292,"Jim jr.","Fawcett","M","2015-16","Fawcett, Jim jr.","NA",""]
["York Simcoe",101293,"Carol","Stewart","F","2024-25",{"$f":"D1538&\", \"&C1538","v":"Stewart, Carol"},116,""]
["Kawartha Lakes",101294,"Rosalea","Edgar","F","2019-20","Edgar, Rosalea","NA",""]
["Tri-County",101295,"Jeff","Martin","M","2015-16","Martin, Jeff","NA",""]
["Kawartha Lakes",101296,"Vivian","Franklin","M","2015-16","Franklin, Vivian","NA",""]
["York Simcoe",101297,"Helen","Stewart","F","2015-16","Stewart, Helen","NA",""]
["York Simcoe",101298,"Kathy","Stewart","F","2010-11","Stewart, Kathy","NA",""]
["Kawartha Lakes",101299,"Marlene","Gillard","F","2013-14","Gillard, Marlene","NA",{"$f":"IF(G1544=G1543,\"Same\",\"\")","v":""}]
["York Simcoe",101300,"Russ","Stewart","M","2024-25","Stewart, Russ",173,""]
["Tri-County",101301,"Rob","Miller","M","2016-17","Miller, Rob","NA",""]
["Kawartha Lakes",101302,"Shirley","Goldby","F","2015-16","Goldby, Shirley","NA",""]
["Tri-County",101303,"Chris","Johnson","M","2015-16","Johnson, Chris","NA",""]
["York Simcoe",101304,"John","Stickwood","M","2010-11","Stickwood, John","NA",""]
["York Simcoe",101305,"Pierre","Stinson","M","2024-25","Stinson, Pierre",196,""]
["York Simcoe",101306,"Lindsay","Stirrat","F","2014-15","Stirrat, Lindsay","NA",""]
["Tri-County",101307,"Charlie","Jamieson","M","2015-16","Jamieson, Charlie","NA",""]
["Kawartha Lakes",101308,"Ruby","Greer","F","2013-14","Greer, Ruby","NA",""]
["York Simcoe",101309,"Robin","Storton","F","2011-12","Storton, Robin","NA",""]
["York Simcoe",101310,"Bill","Stowe","M","2024-25","Stowe, Bill",192,""]
["York Simcoe",101311,"Debbie","Stowe","F","2017-18","Stowe, Debbie","NA",""]
["Kawartha Lakes",101312,"Mary","Henderson","F","2024-25","Henderson, Mary",147,""]
["York Simcoe",101313,"Sue","Strocken","F","2024-25","Strocken, Sue",115,""]
["York Simcoe",101314,"Wayne","Strocken","M","2024-25","Strocken, Wayne",137,""]
["Tri-County",101315,"Brady","Johnson","M","2015-16","Johnson, Brady","NA",""]
["York Simcoe",101316,"Catherine","Sullivan","F","2024-25","Sullivan, Catherine",199,""]
["York Simcoe",101317,"John","Sullivan","M","2016-17","Sullivan, John","NA",""]
["Tri-County",101318,"Brody","Ramey","M","2015-16","Ramey, Brody","NA",""]
["York Simcoe",101319,"Nancy","Sumi","F","2010-11","Sumi, Nancy","NA",""]
["Central Ontario",101320,"Liana","Hammond","F","2018-19","Hammond, Liana","NA",""]
["York Simcoe",101321,"Irene","Swan","F","2011-12","Swan, Irene","NA",""]
["York Simcoe",101322,"Myles","Swartz","M","2012-13","Swartz, Myles","NA",""]
["York Simcoe",101323,"June","Sweet","F","2024-25","Sweet, June",142,""]
["York Simcoe",101324,"Gerry","Sylvester","M","2015-16","Sylvester, Gerry","NA",""]
["Central Ontario",101325,"Tracey","Fiorini","F","2016-17","Fiorini, Tracey","NA",""]
["Central Ontario",101326,"Christine","Morritt","F","2018-19","Morritt, Christine","NA",""]
["York Simcoe",101327,"Tei","Takata","M","2010-11","Takata, Tei","NA",""]
["York Simcoe",101328,"Gavin","Tamaya","M","2019-20","Tamaya, Gavin","NA",""]
["Kawartha Lakes",101329,"Lorraine","Humphrey","F","2016-17","Humphrey, Lorraine","NA",""]
["York Simcoe",101330,"Al","Taylor","M","2021-22","Taylor, Al","NA",""]
["York Simcoe",101331,"Christina","Taylor","F","2011-12","Taylor, Christina","NA",""]
["Central Ontario",101332,"Theresa","Drisdelle","F","2018-19","Drisdelle, Theresa","NA",""]
["York Simcoe",101333,"Donna","Taylor","F","2015-16","Taylor, Donna","NA",""]
["York Simcoe",101334,"Gary","Taylor","M","2011-12","Taylor, Gary","NA",""]
["Kawartha Lakes",101335,"Diane","Leonard","F","2022-23","Leonard, Diane","NA",""]
["Kawartha Lakes",101336,"Susan","Lereverend","F","2023-24","Lereverend, Susan",146,""]
["York Simcoe",101337,"Brian","Teunissen","M","2010-11","Teunissen, Brian","NA",""]
["Central Ontario",101338,"Diane","Kamins","F","2016-17","Kamins, Diane","NA",""]
["York Simcoe",101339,"Fran","Thede","F","2014-15","Thede, Fran","NA",""]
["Huronia",101340,"Joe","Meyers","M","2014-15","Meyers, Joe","NA",""]
["Central Ontario",101341,"Katie","Preet","F","2015-16","Preet, Katie","NA",""]
["Central Ontario",101342,"Maria","Dicarlo","F","2017-18","Dicarlo, Maria","NA",""]
["Central Ontario",101343,"Carrie","Eremita","F","2019-20","Eremita, Carrie","NA",""]
["York Simcoe",101344,"Bill","Thompson","M","2024-25","Thompson, Bill",124,""]
["York Simcoe",101345,"Brian","Thompson","M","2017-18","Thompson, Brian","NA",""]
["Huronia",101346,"Holly","Gibson","M","2012-13","Gibson, Holly","NA",""]
["York Simcoe",101347,"Chris","Thompson","M","2024-25","Thompson, Chris",190,""]
["Niagara Peninsula",101348,"Kim","Cornish","F","2015-16","Cornish, Kim","NA",""]
["Central Ontario",101349,"Karen","Foley","F","2018-19","Foley, Karen","NA",""]
["York Simcoe",101350,"Mark","Thompson","M","2011-12","Thompson, Mark","NA",""]
["Huronia",101351,"Elizabeth","Twaddle","F","2019-20","Twaddle, Elizabeth","NA",""]
["Central Ontario",101352,"Bonnie","Renwick","F","2018-19","Renwick, Bonnie","NA",""]
["York Simcoe",101353,"Mike","Thompson","M","2010-11","Thompson, Mike","NA",""]
["Huronia",101354,"Donna","Lawrence","F","2013-14","Lawrence, Donna","NA",""]
["Huronia",101355,"Morgan","Lawrence","M","2013-14","Lawrence, Morgan","NA",""]
["York Simcoe",101356,"Robert","Thompson","M","2010-11","Thompson, Robert","NA",""]
["Central Ontario",101357,"Rebecca","Crossman","F","2015-16",{"$f":"D1602&\", \"&C1602","v":"Crossman, Rebecca"},"NA",""]
["York Simcoe",101358,"Tommy","Thompson","M","2010-11","Thompson, Tommy","NA",""]
["Kawartha Lakes",101359,"Jean","Lindsay","F","2016-17","Lindsay, Jean","NA",""]
["York Simcoe",101360,"Kara","Tigchelaar","F","2015-16","Tigchelaar, Kara","NA",""]
["Kawartha Lakes",101361,"Lynn","Little","F","2024-25","Little, Lynn",116,""]
["Kawartha Lakes",101362,"Isobel","Luff","F","2013-14","Luff, Isobel","NA",""]
["Central Ontario",101363,"Laura","Varvaro","F","2015-16","Varvaro, Laura","NA",{"$f":"IF(G1608=G1607,\"Same\",\"\")","v":""}]
["Central Ontario",101364,"Shirley","Della mora","F","2018-19","Della mora, Shirley","NA",""]
["York Simcoe",101365,"Rebecca","Tomasone","F","2011-12","Tomasone, Rebecca","NA",""]
["York Simcoe",101366,"Judy","Tomassi","F","2019-20","Tomassi, Judy","NA",""]
["York Simcoe",101367,"Tom","Tomassi","M","2019-20","Tomassi, Tom","NA",""]
["Kawartha Lakes",101368,"Beverley","Martin","F","2019-20","Martin, Beverley","NA",""]
["York Simcoe",101369,"Warren","Tomlinson","M","2013-14","Tomlinson, Warren","NA",""]
["Central Ontario",101370,"Lisa","French","F","2018-19","French, Lisa","NA",""]
["York Simcoe",101371,"Mark","Topham","M","2011-12","Topham, Mark","NA",""]
["Central Ontario",101372,"Donna","Moore","F","2017-18","Moore, Donna","NA",""]
["Central Ontario",101373,"Bonnie","Stewart","F","2015-16","Stewart, Bonnie","NA",""]
["Central Ontario",101374,"Rose marie","Landesz","F","2018-19","Landesz, Rose marie","NA",""]
["York Simcoe",101375,"Craig","Toy","M","2010-11","Toy, Craig","NA",""]
["Kawartha Lakes",101376,"Elloy","Mcconnell","F","2022-23","Mcconnell, Elloy",103,""]
["Kawartha Lakes",101377,"Donna","Meyer","F","2015-16","Meyer, Donna","NA",""]
["York Simcoe",101378,"Risa","Trecciola","F","2011-12","Trecciola, Risa","NA",""]
["York Simcoe",101379,"Sergio","Trecciola","M","2011-12","Trecciola, Sergio","NA",""]
["Kawartha Lakes",101380,"Cheryl","O'brien","F","2024-25","O'brien, Cheryl",115,""]
["York Simcoe",101381,"Mike","Troiani","M","2010-11","Troiani, Mike","NA",""]
["Central Ontario",101382,"Claudia","Miller","F","2018-19","Miller, Claudia","NA",""]
["Kawartha Lakes",101383,"Jan","Pearl","F","2015-16","Pearl, Jan","NA",""]
["York Simcoe",101384,"Vanessa","Tsotsos","F","2010-11","Tsotsos, Vanessa","NA",""]
["Central Ontario",101385,"Carol","Hamilton","F","2018-19","Hamilton, Carol","NA",""]
["Central Ontario",101386,"Cecile","Raffington","F","2015-16","Raffington, Cecile","NA",""]
["York Simcoe",101387,"Derek","Tupker","M","2024-25","Tupker, Derek",122,""]
["Central Ontario",101388,"Tony","Evans","M","2019-20","Evans, Tony","NA",""]
["Huronia",101389,"Joanna","Norton","F","2021-22","Norton, Joanna","NA",""]
["Huronia",101390,"Michael","Twitchin","M","2016-17","Twitchin, Michael","NA",""]
["Kawartha Lakes",101391,"Edith","Schofield","F","2013-14","Schofield, Edith","NA",""]
["Kawartha Lakes",101392,"Margit","Snell","F","2015-16","Snell, Margit","NA",""]
["Central Ontario",101393,"Joe","Fiorini","M","2016-17","Fiorini, Joe","NA",""]
["Central Ontario",101394,"Calvin","Gyles","M","2018-19","Gyles, Calvin","NA",""]
["Central Ontario",101395,"Ron","Kanins","M","2016-17","Kanins, Ron","NA",""]
["Central Ontario",101396,"Mike","Preet","M","2015-16","Preet, Mike","NA",""]
["York Simcoe",101397,"Marianne","Urbach","F","2011-12","Urbach, Marianne","NA",""]
["Central Ontario",101398,"Vinnie","Pullicino","M","2017-18","Pullicino, Vinnie","NA",""]
["Central Ontario",101399,"Dan","Eremita","M","2019-20","Eremita, Dan","NA",""]
["Central Ontario",101400,"Brian","Foley","M","2019-20","Foley, Brian","NA",""]
["Central Ontario",101401,"George","Renwick","M","2018-19","Renwick, George","NA",""]
["Central Ontario",101402,"Jed","Boylen","M","2015-16","Boylen, Jed","NA",""]
["Central Ontario",101403,"Chris","Henderson","M","2015-16","Henderson, Chris","NA",""]
["Central Ontario",101404,"Tom","Grieve","M","2018-19","Grieve, Tom","NA",""]
["Middlesex Elgin",101405,"Roger","Vandepol","M","2024-25","Vandepol, Roger",210,""]
["York Simcoe",101406,"Ann","Vanderdonk","F","2012-13","Vanderdonk, Ann","NA",""]
["Kawartha Lakes",101407,"Eileen","Weldon","F","2019-20","Weldon, Eileen","NA",""]
["York Simcoe",101408,"Gwen","Vanderkooij","F","2013-14","Vanderkooij, Gwen","NA",""]
["Central Ontario",101409,"Alexander","Della mora","M","2018-19","Della mora, Alexander","NA",""]
["Kawartha Lakes",101410,"Wilma","Wray","F","2021-22","Wray, Wilma","NA",""]
["Huronia",101411,"Diane","Gorda","F","2013-14","Gorda, Diane","NA",""]
["Central Ontario",101412,"Max","Della mora","M","2018-19","Della mora, Max","NA",""]
["Huronia",101413,"Jerry","Gorda","M","2015-16","Gorda, Jerry","NA",""]
["York Simcoe",101414,"Jaclyn","Veres","F","2019-20","Veres, Jaclyn","NA",""]
["York Simcoe",101415,"Joe","Vetro","M","2019-20","Vetro, Joe","NA",""]
["Huronia",101416,"Dilys","Jones","F","2024-25","Jones, Dilys",134,""]
["Huronia",101417,"Pat","Keenan","F","2024-25","Keenan, Pat",151,""]
["Central Ontario",101418,"Tom","Forsyth","M","2018-19","Forsyth, Tom","NA",""]
["York Simcoe",101419,"Paolo","Viresi","M","2013-14","Viresi, Paolo","NA",""]
["Central Ontario",101420,"Robbie","Forsyth","M","2017-18","Forsyth, Robbie","NA",""]
["Central Ontario",101421,"Bernie","Brannigan","M","2015-16",{"$f":"D1666&\", \"&C1666","v":"Brannigan, Bernie"},"NA",""]
["Central Ontario",101422,"Gary","Kelly","M","2015-16","Kelly, Gary","NA",""]
["Huronia",101423,"Lynne","Melville","F","2022-23","Melville, Lynne",104,""]
["Central Ontario",101424,"Ron","Pollard","M","2017-18","Pollard, Ron","NA",""]
["Central Ontario",101425,"Steve","Tardelli","M","2016-17","Tardelli, Steve","NA",""]
["York Simcoe",101426,"Barb","Waddell","F","2010-11","Waddell, Barb","NA",""]
["York Simcoe",101427,"George","Waddell","M","2010-11","Waddell, George","NA",{"$f":"IF(G1672=G1671,\"Same\",\"\")","v":""}]
["York Simcoe",101428,"Maureen","Wade","F","2016-17","Wade, Maureen","NA",""]
["Huronia",101429,"Terry","Melville","M","2022-23","Melville, Terry",153,""]
["Central Ontario",101430,"Sean","Hodges","M","2019-20","Hodges, Sean","NA",""]
["Huronia",101431,"Sheila","Smith","F","2021-22","Smith, Sheila","NA",""]
["Central Ontario",101432,"Ken","Bowen","M","2018-19","Bowen, Ken","NA",""]
["Huronia",101433,"Jane","Willis","F","2018-19","Willis, Jane","NA",""]
["Central Ontario",101434,"Mike","Tracey","M","2018-19","Tracey, Mike","NA",""]
["Huronia",101435,"Shirley","Bunn","F","2022-23","Bunn, Shirley",132,""]
["York Simcoe",101436,"Jody","Walford","F","2012-13","Walford, Jody","NA",""]
["York Simcoe",101437,"Jordan","Wallace","M","2010-11","Wallace, Jordan","NA",""]
["York Simcoe",101438,"Glen","Wallbank","M","2024-25","Wallbank, Glen",189,""]
["York Simcoe",101439,"Rob","Wallbank","M","2024-25","Wallbank, Rob",230,""]
["York Simcoe",101440,"Steve","Wallbank","M","2018-19","Wallbank, Steve","NA",""]
["York Simcoe",101441,"Steve","Walley","M","2017-18","Walley, Steve","NA",""]
["York Simcoe",101442,"Hilda","Walsh","F","2010-11","Walsh, Hilda","NA",""]
["York Simcoe",101443,"Sue","Walsh","F","2015-16","Walsh, Sue","NA",""]
["Huronia",101444,"Shirley","Milne","F","2013-14","Milne, Shirley","NA",""]
["York Simcoe",101445,"Janet","Warwood","F","2011-12","Warwood, Janet","NA",""]
["York Simcoe",101446,"Jason","Wasielewitsch","M","2013-14","Wasielewitsch, Jason","NA",""]
["Central Ontario",101447,"Allen","Burley","M","2015-16","Burley, Allen","NA",""]
["Huronia",101448,"Marilynn","Michieli","F","2013-14","Michieli, Marilynn","NA",""]
["Central Ontario",101449,"Steve","Carter","M","2017-18","Carter, Steve","NA",""]
["York Simcoe",101450,"Bruce","Watton","M","2011-12","Watton, Bruce","NA",""]
["Niagara Peninsula",101451,"Jacob","Boyer","M","2015-16","Boyer, Jacob","NA",""]
["York Simcoe",101452,"Leeann","Watton","F","2011-12","Watton, Leeann","NA",""]
["Huronia",101453,"April","Bendell","F","2013-14","Bendell, April","NA",""]
["York Simcoe",101454,"Shawn","Watton","M","2013-14","Watton, Shawn","NA",""]
["York Simcoe",101455,"Christine","Watton","F","2013-14","Watton, Christine","NA",""]
["York Simcoe",101456,"John","Waxman","M","2013-14","Waxman, John","NA",""]
["Niagara Peninsula",101457,"Erica","Chapman","F","2015-16","Chapman, Erica","NA",""]
["Niagara Peninsula",101458,"Adam","Corey","M","2015-16","Corey, Adam","NA",""]
["Niagara Peninsula",101459,"Leslie","Drake","F","2015-16","Drake, Leslie","NA",""]
["York Simcoe",101460,"Robert","Webster","M","2017-18","Webster, Robert","NA",""]
["Niagara Peninsula",101461,"Georgina","Horton","F","2015-16","Horton, Georgina","NA",""]
["York Simcoe",101462,"Dianne","Welby","F","2010-11","Welby, Dianne","NA",""]
["York Simcoe",101463,"David","Westbrook","M","2013-14","Westbrook, David","NA",""]
["Huronia",101464,"Albert","Hawboldt","M","2024-25","Hawboldt, Albert",175,""]
["York Simcoe",101465,"Larry","Weston","M","2012-13","Weston, Larry","NA",""]
["Grand River",101466,"Brian","Whalen","M","2016-17","Whalen, Brian","NA",""]
["York Simcoe",101467,"Shirley","Wheeler","F","2015-16","Wheeler, Shirley","NA",""]
["York Simcoe",101468,"Sean","Whelan","M","2015-16","Whelan, Sean","NA",""]
[null,101469,"Lauren","Hawboldt","F",null,"Hawboldt, Lauren","NA",""]
["York Simcoe",101470,"Greg","White","M","2019-20","White, Greg","NA",""]
["Niagara Peninsula",101471,"Arien","Marsh","F","2015-16","Marsh, Arien","NA",""]
["York Simcoe",101472,"Karen maureen","White","F","2010-11","White, Karen maureen","NA",""]
["Niagara Peninsula",101473,"Jeremy","Marsh","M","2015-16","Marsh, Jeremy","NA",""]
["Huronia",101474,"Tom","Haines","M","2013-14","Haines, Tom","NA",""]
["Niagara Peninsula",101475,"Neville","Johnson","M","2015-16","Johnson, Neville","NA",""]
["Niagara Peninsula",101476,"Cindy","Boyer","F","2015-16","Boyer, Cindy","NA",""]
["Niagara Peninsula",101477,"Gil","Boyer","M","2019-20","Boyer, Gil","NA",""]
["York Simcoe",101478,"Andrew","Wigelius","M","2013-14","Wigelius, Andrew","NA",""]
["Niagara Peninsula",101479,"Ross","Sommers","M","2015-16","Sommers, Ross","NA",""]
["Middlesex Elgin",101480,"Tammy","Walker","F","2015-16","Walker, Tammy","NA",""]
["Metro Toronto",101481,"Elaine","Gray","F","2017-18","Gray, Elaine","NA",""]
["Huronia",101482,"Daryl","Wilkinson","M","2022-23","Wilkinson, Daryl",216,""]
["York Simcoe",101483,"Brandon","Hopkins","M","2022-23","Hopkins, Brandon","NA",""]
["Bay of Quinte",101484,"Peggy","Clark","F","2024-25","Clark, Peggy",143,""]
["York Simcoe",101485,"Charlie","Williamson","M","2018-19",{"$f":"D1730&\", \"&C1730","v":"Williamson, Charlie"},"NA",""]
["Bay of Quinte",101486,"Dianne","Allen","F","2015-16","Allen, Dianne","NA",""]
["Huronia",101487,"Jenny","Haines","F","2013-14","Haines, Jenny","NA",""]
["York Simcoe",101488,"Linda","Wilson","F","2015-16","Wilson, Linda","NA",""]
["Bay of Quinte",101489,"Delayne","Donald","F","2016-17","Donald, Delayne","NA",""]
["Central Ontario",101490,"Dee dee","Haynes-ridley","F","2019-20","Haynes-ridley, Dee dee","NA",""]
["Tri-County",101491,"Kristine","Clermont","F","2015-16","Clermont, Kristine","NA",{"$f":"IF(G1736=G1735,\"Same\",\"\")","v":""}]
["York Simcoe",101492,"David","Winchuk","M","2019-20","Winchuk, David","NA",""]
["York Simcoe",101493,"Phil","Winter","M","2024-25","Winter, Phil",229,""]
["York Simcoe",101494,"Marg","Witherspoon","F","2013-14","Witherspoon, Marg","NA",""]
["Tri-County",101495,"Steve","Macdowall","M","2016-17","Macdowall, Steve","NA",""]
["Grand River",101496,"Scott","Sipple","M","2024-25","Sipple, Scott",160,""]
["Huronia",101497,"Al","White","M","2013-14","White, Al","NA",""]
["Grand River",101498,"Steven","Bowers","M","2024-25","Bowers, Steven",185,""]
["Tri-County",101499,"Michael","Copland","M","2015-16","Copland, Michael","NA",""]
["Grand River",101500,"Beth","Sipple","F","2024-25","Sipple, Beth",153,""]
["Grand River",101501,"Laurie","Bowers","F","2024-25","Bowers, Laurie",143,""]
["Tri-County",101502,"Shelley","Cameron","F","2015-16","Cameron, Shelley","NA",""]
["York Simcoe",101503,"George","Wooley","M","2011-12","Wooley, George","NA",""]
["Tri-County",101504,"Matt","Baumann","M","2015-16","Baumann, Matt","NA",""]
["Grand River",101505,"Chris","Spencer","M","2024-25","Spencer, Chris",191,""]
["Grand River",101506,"Jim","Howe","M","2024-25","Howe, Jim",194,""]
["York Simcoe",101507,"Lauretta","Wright","F","2024-25","Wright, Lauretta","NA",""]
["York Simcoe",101508,"Richard","Wright","M","2016-17","Wright, Richard","NA",""]
["Huronia",101509,"Suzanne","Woodman","F","2015-16","Woodman, Suzanne","NA",""]
["Tri-County",101510,"Rick","Tucker","M","2015-16","Tucker, Rick","NA",""]
["Tri-County",101511,"Tara","Palubeski","F","2015-16","Palubeski, Tara","NA",""]
["Grand River",101512,"Trish","Howe","F","2024-25","Howe, Trish",149,""]
["York Simcoe",101513,"Rick","Yake","M","2024-25","Yake, Rick",109,""]
["York Simcoe",101514,"Jordan","Yakiwchuk","M","2017-18","Yakiwchuk, Jordan","NA",""]
["Tri-County",101515,"Dawn","Wood","F","2015-16","Wood, Dawn","NA",""]
["Tri-County",101516,"Jim","Penney","M","2015-16","Penney, Jim","NA",""]
["York Simcoe",101517,"Derek","Young","M","2019-20","Young, Derek","NA",""]
["Tri-County",101518,"Chelsea","Vanoverbeke","F","2015-16","Vanoverbeke, Chelsea","NA",""]
["Huronia, York Simcoe",101519,"Lori","Ferlito","F","2024-25","Ferlito, Lori",227,""]
["Niagara Peninsula",101520,"P.j.","Cole","M","2024-25","Cole, P.j.",212,""]
["York Simcoe",101521,"Sandra","Zappala","F","2024-25","Zappala, Sandra",109,""]
["Kawartha Lakes",101522,"Darlene","Abernethy","F","2018-19","Abernethy, Darlene","NA",""]
["York Simcoe",101523,"Anton","Ziel","M","2011-12","Ziel, Anton","NA",""]
["York Simcoe",101525,"Tanja","Zitter","F","2011-12","Zitter, Tanja","NA",""]
["York Simcoe",101526,"Josh","Zsigmond","M","2011-12","Zsigmond, Josh","NA",""]
["Huronia",101529,"Ken","Abrams","M","2011-12","Abrams, Ken","NA",""]
["Huronia",101530,"Randy","Abrey","M","2012-13","Abrey, Randy","NA",""]
["Huronia",101531,"Camilla","Sanelli","F","2013-14","Sanelli, Camilla","NA",""]
["Huronia",101532,"Todd","Adair","M","2015-16","Adair, Todd","NA",""]
["Huronia",101534,"Bob","Akitt","M","2020-21","Akitt, Bob","NA",""]
["Huronia",101535,"Ed","Akitt","M","2011-12","Akitt, Ed","NA",""]
["Huronia",101536,"Doris","Allen","F","2012-13","Allen, Doris","NA",""]
["Huronia",101537,"Joe","Chreptak","M","2019-20","Chreptak, Joe","NA",""]
["Grand River, Huronia",101538,"Carol","Anderson","F","2024-25","Anderson, Carol",117,""]
["Huronia",101539,"Cindy","Caines","F","2011-12","Caines, Cindy","NA",""]
["York Simcoe",101540,"Neil","Anderson","M","2024-25","Anderson, Neil",201,""]
["Middlesex Elgin",101541,"Shari","Becker","F","2015-16","Becker, Shari","NA",""]
["Middlesex Elgin",101542,"Brent","Ducharme","M","2023-24","Ducharme, Brent",214,""]
["Huronia",101543,"Gerry","Aprea","M","2016-17","Aprea, Gerry","NA",""]
["Huronia",101544,"June","Aprea","F","2016-17","Aprea, June","NA",""]
["Huronia",101545,"Derek","Brander","M","2024-25","Brander, Derek",172,""]
["Huronia",101546,"Chris","Gough","M","2022-23","Gough, Chris","NA",""]
["Huronia",101547,"John","Ariss","M","2011-12","Ariss, John","NA",""]
["Huronia",101548,"Ron","Degagne","M","2019-20","Degagne, Ron","NA",""]
["Middlesex Elgin",101549,"Jamie","Hunt","M","2015-16","Hunt, Jamie","NA",""]
["Middlesex Elgin",101550,"Patti","Hunt","F","2015-16","Hunt, Patti","NA",""]
["Middlesex Elgin",101551,"Matt","Laporte","M","2021-22","Laporte, Matt","NA",""]
["Huronia",101552,"Karen","Arnem","F","2011-12","Arnem, Karen","NA",""]
["Middlesex Elgin",101553,"Brittany","Ducharme","F","2019-20",{"$f":"D1794&\", \"&C1794","v":"Ducharme, Brittany"},"NA",""]
["Huronia",101555,"Carol","Stacey","F","2013-14","Stacey, Carol","NA",""]
["Huronia",101556,"John","Atkinson","M","2016-17","Atkinson, John","NA",""]
["Middlesex Elgin",101557,"Cheryl","Regier","F","2022-23","Regier, Cheryl",141,""]
["Middlesex Elgin",101558,"Jacqui","Regier","F","2022-23","Regier, Jacqui",155,""]
["Huronia",101559,"Wally","Stacey","M","2013-14","Stacey, Wally","NA",""]
["Western Ontario",101560,"Dean","Jukica","M","2013-14","Jukica, Dean","NA",{"$f":"IF(G1800=G1799,\"Same\",\"\")","v":""}]
["Huronia",101561,"Winnie","Austin","F","2011-12","Austin, Winnie","NA",""]
["Huronia",101562,"Shirley","Ayles","F","2018-19","Ayles, Shirley","NA",""]
["Ottawa Valley",101563,"Donna","Adams","F","2015-16","Adams, Donna","NA",""]
["Huronia",101564,"Pauline","Bailey","F","2018-19","Bailey, Pauline","NA",""]
["Grand River",101565,"Martin","Wolfe","M","2024-25","Wolfe, Martin",145,""]
["Western Ontario",101566,"Len","Ferrari","M","2023-24","Ferrari, Len",104,""]
["Middlesex Elgin",101567,"Greg","Spiering","M","2015-16","Spiering, Greg","NA",""]
["Western Ontario",101568,"Bernice","Sawyer","F","2023-24","Sawyer, Bernice",141,""]
["Tri-County",101569,"Kathy","Boot","F","2014-15","Boot, Kathy","NA",""]
["Western Ontario",101570,"Ashley","Taylor","F","2021-22","Taylor, Ashley","NA",""]
["Huronia",101571,"Tammy","Ball","F","2011-12","Ball, Tammy","NA",""]
["Middlesex Elgin",101572,"Myrna","Hough","F","2016-17","Hough, Myrna","NA",""]
["Huronia",101573,"Bill","Balsdon","M","2012-13","Balsdon, Bill","NA",""]
["Huronia",101574,"Heather","Balsdon","F","2012-13","Balsdon, Heather","NA",""]
["Huronia",101576,"Stan","Barber","M","2012-13","Barber, Stan","NA",""]
["Huronia",101577,"Ryan","Elmy","M","2013-14","Elmy, Ryan","NA",""]
["Middlesex Elgin",101578,"Bev","Shields","F","2016-17","Shields, Bev","NA",""]
["Huronia",101579,"Virginia","Hunter","F","2014-15","Hunter, Virginia","NA",""]
["Huronia",101580,"Dan","Baron","M","2016-17","Baron, Dan","NA",""]
["Huronia",101581,"Sue","Baron","F","2012-13","Baron, Sue","NA",""]
["Huronia",101582,"Joy","Barr","F","2024-25","Barr, Joy",158,""]
["Huronia",101583,"Susan","Barr","F","2012-13","Barr, Susan","NA",""]
["Huronia",101584,"Greg","Hunter","M","2019-20","Hunter, Greg","NA",""]
["Kawartha Lakes",101585,"Kirk","Bevines","M","2015-16","Bevines, Kirk","NA",""]
["Huronia",101586,"Donna","Bartlett","F","2019-20","Bartlett, Donna","NA",""]
["Huronia",101587,"Eric","Bates","M","2024-25","Bates, Eric",136,""]
["Kawartha Lakes",101588,"Lucas","Timmermans","M","2024-25","Timmermans, Lucas",150,""]
["Huronia",101589,"Stephen","Beattie","M","2024-25","Beattie, Stephen",219,""]
["Huronia",101590,"Chantelle","Mayer","F","2013-14","Mayer, Chantelle","NA",""]
["Huronia",101591,"Chris","Beauchesne","M","2010-11","Beauchesne, Chris","NA",""]
["Huronia",101592,"Chris","Beaudette","M","2010-11","Beaudette, Chris","NA",""]
["Huronia",101593,"Nick","Beaupre","M","2024-25","Beaupre, Nick",186,""]
["Huronia",101594,"Jo-anne","Beaver","F","2019-20","Beaver, Jo-anne","NA",""]
["Kawartha Lakes",101595,"Ed","Ryan","M","2024-25","Ryan, Ed",118,""]
["Kawartha Lakes",101596,"Paul","Playfoot","M","2015-16","Playfoot, Paul","NA",""]
["Huronia",101597,"Caroline","Mclinden","F","2013-14","Mclinden, Caroline","NA",""]
["Kawartha Lakes",101598,"Rosemary","Turpin","F","2015-16","Turpin, Rosemary","NA",""]
["Huronia",101599,"Marg","Belcher","F","2011-12","Belcher, Marg","NA",""]
["Huronia",101600,"Lisa","Longman","F","2013-14","Longman, Lisa","NA",""]
["Huronia",101601,"Debbie","Belfry","F","2011-12","Belfry, Debbie","NA",""]
["Kawartha Lakes",101602,"Tracey","Embley","F","2015-16","Embley, Tracey","NA",""]
["Huronia",101603,"Paige","White","F","2013-14","White, Paige","NA",""]
["Huronia",101604,"Dave","Bellchambers","M","2013-14","Bellchambers, Dave","NA",""]
["Huronia",101605,"Shane","Bendell","M","2013-14","Bendell, Shane","NA",""]
["Huronia",101606,"Barb","Benford","F","2014-15","Benford, Barb","NA",""]
["Kawartha Lakes",101608,"Colleen","Allison","F","2024-25","Allison, Colleen","NA",""]
["Huronia",101609,"Jerry","Benoit","M","2024-25","Benoit, Jerry",183,""]
["Huronia",101610,"Brian","Berndt","M","2019-20","Berndt, Brian","NA",""]
["Huronia",101611,"Theresa","Berndt","F","2019-20","Berndt, Theresa","NA",""]
["Kawartha Lakes",101612,"Marg","Monkton","F","2019-20","Monkton, Marg","NA",""]
["Huronia",101613,"Bruce","Bible","M","2011-12","Bible, Bruce","NA",""]
["Huronia",101614,"Mike","Baker","M","2022-23","Baker, Mike",153,""]
["Kawartha Lakes",101615,"Doreen","Mctague","F","2024-25","Mctague, Doreen",129,""]
["Huronia",101617,"John","Bishop","M","2019-20","Bishop, John","NA",""]
["Huronia",101618,"Sheila","Barnard","F","2013-14","Barnard, Sheila","NA",""]
["Huronia",101619,"Denise","Belanger","F","2013-14","Belanger, Denise","NA",""]
["Huronia",101621,"Rick","Bittman","M","2017-18","Bittman, Rick","NA",""]
["Huronia",101622,"Felice","Bizzard","M","2011-12",{"$f":"D1858&\", \"&C1858","v":"Bizzard, Felice"},"NA",""]
["Huronia",101623,"Coleen","Brockley","F","2013-14","Brockley, Coleen","NA",""]
["Huronia",101624,"Ric","Cooke","M","2013-14","Cooke, Ric","NA",""]
["Ottawa Valley",101625,"Linda","Van santen","F","2015-16","Van santen, Linda","NA",""]
["Huronia",101626,"Judy","Daly","F","2013-14","Daly, Judy","NA",""]
["Huronia",101627,"David","Eaves","M","2013-14","Eaves, David","NA",""]
["Huronia",101628,"Bernie","Blimkie","M","2010-11","Blimkie, Bernie","NA",{"$f":"IF(G1864=G1863,\"Same\",\"\")","v":""}]
["Huronia",101629,"Lesley","Boehmker","F","2012-13","Boehmker, Lesley","NA",""]
["Huronia",101630,"Hank","Boerman","M","2024-25","Boerman, Hank",143,""]
["Huronia",101631,"Terry","Gilbert","M","2013-14","Gilbert, Terry","NA",""]
["Huronia",101632,"Sharon","Gordon","F","2013-14","Gordon, Sharon","NA",""]
["Huronia",101633,"Cindy","Grzeskowiak","F","2019-20","Grzeskowiak, Cindy","NA",""]
["Ottawa Valley",101634,"Andy","Armstrong","M","2017-18","Armstrong, Andy","NA",""]
["Ottawa Valley",101635,"Clark","Godfrey","M","2015-16","Godfrey, Clark","NA",""]
["Huronia",101636,"David","Howard","M","2019-20","Howard, David","NA",""]
["Huronia",101637,"Lisa","Lambert","F","2014-15","Lambert, Lisa","NA",""]
["Huronia",101639,"Frank","Botacion","M","2012-13","Botacion, Frank","NA",""]
["Huronia",101640,"Lorna","Bouchard","F","2010-11","Bouchard, Lorna","NA",""]
["Huronia",101641,"Rose","Papais","F","2019-20","Papais, Rose","NA",""]
["Huronia",101642,"Natalie","Boucher","F","2010-11","Boucher, Natalie","NA",""]
["Huronia",101643,"Steve","Boudreau","M","2015-16","Boudreau, Steve","NA",""]
["Huronia",101644,"Len","Porter","M","2013-14","Porter, Len","NA",""]
["Huronia",101645,"Gerry","Bourgeois","M","2011-12","Bourgeois, Gerry","NA",""]
["Huronia",101646,"Donna","Bourinot","F","2010-11","Bourinot, Donna","NA",""]
["Huronia",101647,"Angelina","Rubino","F","2019-20","Rubino, Angelina","NA",""]
["Ottawa Valley",101648,"Susan","Berndt","F","2015-16","Berndt, Susan","NA",""]
["Huronia",101649,"Bruce","Bowman","M","2020-21","Bowman, Bruce","NA",""]
["Huronia",101650,"Norma","Bowman","F","2020-21","Bowman, Norma","NA",""]
["Huronia",101651,"Pat","Bowman","F","2013-14","Bowman, Pat","NA",""]
["Huronia",101652,"Barb","Boyd","F","2014-15","Boyd, Barb","NA",""]
["Ottawa Valley",101653,"Ryan","Adams","M","2015-16","Adams, Ryan","NA",""]
["Ottawa Valley",101654,"Brenda","Delle palme","F","2015-16","Delle palme, Brenda","NA",""]
["Huronia",101655,"Dennis","Brabant","M","2019-20","Brabant, Dennis","NA",""]
["Huronia",101656,"Pauline","Brabant","F","2024-25","Brabant, Pauline",161,""]
["Huronia",101657,"Debbie","Brancati","F","2014-15","Brancati, Debbie","NA",""]
["Huronia",101658,"John","Brancati","M","2014-15","Brancati, John","NA",""]
["Huronia",101659,"Roger","Brancati","M","2014-15","Brancati, Roger","NA",""]
["Huronia",101660,"Ruth","Breedon","F","2015-16","Breedon, Ruth","NA",""]
["Huronia",101661,"Rhonda","Yarski","F","2013-14","Yarski, Rhonda","NA",""]
["Huronia",101662,"Jane","Smith","F","2014-15","Smith, Jane","NA",""]
["Huronia",101663,"Marilyn","Burton","F","2014-15","Burton, Marilyn","NA",""]
["Huronia",101664,"Cathie","Bridger","F","2019-20","Bridger, Cathie","NA",""]
["Ottawa Valley",101665,"Joe","Delle palme","M","2019-20","Delle palme, Joe","NA",""]
["Huronia",101666,"Steve","Gollop","M","2014-15","Gollop, Steve","NA",""]
["Huronia",101667,"Philip","Mckinlay","M","2013-14","Mckinlay, Philip","NA",""]
["Ottawa Valley",101668,"Brenda","Delong","F","2024-25","Delong, Brenda",156,""]
["Ottawa Valley",101669,"Tom","Delong","M","2024-25","Delong, Tom",174,""]
["Ottawa Valley",101670,"Caitlin","Luther","F","2019-20","Luther, Caitlin","NA",""]
["Ottawa Valley",101671,"Michaela","Brunton","F","2015-16","Brunton, Michaela","NA",""]
["Huronia",101672,"Travis","Robin","M","2013-14","Robin, Travis","NA",""]
["Ottawa Valley",101673,"Pamela","Lucyshyn","F","2018-19","Lucyshyn, Pamela","NA",""]
["Huronia",101674,"Harold","Dougall","M","2014-15","Dougall, Harold","NA",""]
["Ottawa Valley",101675,"Sean","Simko","M","2019-20","Simko, Sean","NA",""]
[null,101676,"John","Brown","M",null,"Brown, John","NA",""]
["Huronia",101677,"Judy","Brown","F","2014-15","Brown, Judy","NA",""]
["Huronia",101678,"Laurie","Burnie","F","2013-14","Burnie, Laurie","NA",""]
["Huronia",101679,"Lynda","Brown","F","2020-21","Brown, Lynda","NA",""]
["Huronia",101680,"Ron","Brown","M","2020-21","Brown, Ron","NA",""]
["Huronia",101681,"Russ","Brown","M","2011-12","Brown, Russ","NA",""]
["Huronia",101682,"Ian","Cowper","M","2014-15","Cowper, Ian","NA",""]
["Huronia",101683,"Glenn","Duffy","M","2013-14","Duffy, Glenn","NA",""]
["Huronia",101684,"Gerald","Esper","M","2014-15","Esper, Gerald","NA",""]
["Huronia",101685,"Troy","Flintoff","M","2014-15","Flintoff, Troy","NA",""]
["Huronia",101686,"Howard","Horne","M","2024-25","Horne, Howard",151,""]
["Huronia",101687,"Sue","Howard","F","2013-14",{"$f":"D1922&\", \"&C1922","v":"Howard, Sue"},"NA",""]
["Huronia",101688,"Scott","Kuczenyk","M","2013-14","Kuczenyk, Scott","NA",""]
["Huronia",101689,"Kim","Lambert","F","2013-14","Lambert, Kim","NA",""]
["Ottawa Valley",101691,"Debbie","Grainger","F","2017-18","Grainger, Debbie","NA",""]
["Huronia",101692,"Mark","Mcdonald","M","2024-25","Mcdonald, Mark",184,""]
["Huronia",101693,"Sarah","Oshefski","F","2013-14","Oshefski, Sarah","NA",""]
["Huronia",101694,"Russ","Burmaster","M","2014-15","Burmaster, Russ","NA",{"$f":"IF(G1928=G1927,\"Same\",\"\")","v":""}]
["Huronia",101695,"Zack","Oshefski","M","2013-14","Oshefski, Zack","NA",""]
["Huronia",101696,"Casey","Planting","M","2013-14","Planting, Casey","NA",""]
["Ottawa Valley",101697,"Terry","Martin","F","2024-25","Martin, Terry",148,""]
["Huronia",101698,"Anita","Burton","F","2013-14","Burton, Anita","NA",""]
["Huronia",101699,"Kelly","Planting","F","2013-14","Planting, Kelly","NA",""]
["Ottawa Valley",101700,"Corina","Danis","F","2015-16","Danis, Corina","NA",""]
["Ottawa Valley",101701,"Jen","Dopson","F","2022-23","Dopson, Jen","NA",""]
["Huronia",101702,"Ted","Russell","M","2013-14","Russell, Ted","NA",""]
["Huronia",101703,"Russell","Buttineau","M","2013-14","Buttineau, Russell","NA",""]
["Huronia",101704,"Ed","Watson","M","2013-14","Watson, Ed","NA",""]
["Huronia",101705,"Jason","Watson","M","2014-15","Watson, Jason","NA",""]
["Ottawa Valley",101706,"Thomas","Gilligan","M","2018-19","Gilligan, Thomas","NA",""]
["Huronia",101707,"Megan","Calhoun","F","2014-15","Calhoun, Megan","NA",""]
["Ottawa Valley",101708,"Sharon","Cochrane","F","2015-16","Cochrane, Sharon","NA",""]
["Ottawa Valley",101709,"Brian","Cochrane","M","2018-19","Cochrane, Brian","NA",""]
["Ottawa Valley",101711,"Kelly","Maric","F","2015-16","Maric, Kelly","NA",""]
["Huronia",101712,"Wilma","Cameron","F","2010-11","Cameron, Wilma","NA",""]
["Huronia",101713,"Carrie-ann","Campbell","F","2014-15","Campbell, Carrie-ann","NA",""]
["Huronia",101714,"Jason","Campbell","M","2014-15","Campbell, Jason","NA",""]
["Huronia",101715,"Ken","Campbell","M","2012-13","Campbell, Ken","NA",""]
["Niagara Peninsula",101716,"Jon","Cook","M","2023-24","Cook, Jon",197,""]
["Middlesex Elgin",101717,"Dan sr.","Harris","M","2024-25","Harris, Dan sr.",213,""]
["Huronia",101718,"Heather","Marshall","F","2020-21","Marshall, Heather","NA",""]
["Huronia",101719,"Kim","Burgie","F","2013-14","Burgie, Kim","NA",""]
["Huronia",101720,"Kim","Carlson","F","2016-17","Carlson, Kim","NA",""]
["Huronia",101721,"Mike","Carnovale","M","2024-25","Carnovale, Mike",167,""]
["Huronia",101722,"Josh","Shynn","M","2013-14","Shynn, Josh","NA",""]
["Huronia",101723,"Paul","Carter","M","2015-16","Carter, Paul","NA",""]
["Huronia",101724,"Rosanne","Carter","F","2016-17","Carter, Rosanne","NA",""]
["Huronia",101725,"Al","Caskanette","M","2015-16","Caskanette, Al","NA",""]
["Huronia",101726,"Darwin","Caswell","M","2010-11","Caswell, Darwin","NA",""]
["Huronia",101727,"Jeannie","Caswell","F","2010-11","Caswell, Jeannie","NA",""]
["Huronia",101728,"Dominic","Martinez","M","2013-14","Martinez, Dominic","NA",""]
["Huronia",101729,"Tanya","Cavelaire","F","2011-12","Cavelaire, Tanya","NA",""]
["Huronia",101730,"Chris","Dawby","M","2013-14","Dawby, Chris","NA",""]
["Middlesex Elgin",101731,"James","Inger","M","2024-25","Inger, James",213,""]
["Hamilton",101732,"Pam","Van delen","F","2017-18","Van delen, Pam","NA",""]
["Huronia",101733,"Wayne","Chambers","M","2016-17","Chambers, Wayne","NA",""]
["Huronia",101734,"Rick","Chan","M","2019-20","Chan, Rick","NA",""]
["Hamilton",101735,"Joan","Morrissey","F","2017-18","Morrissey, Joan","NA",""]
["Huronia",101736,"Brian","Charman","M","2010-11","Charman, Brian","NA",""]
["Hamilton",101737,"Sylvia","Mackrory","F","2017-18","Mackrory, Sylvia","NA",""]
["Hamilton",101738,"Bob","Bragdon","M","2017-18","Bragdon, Bob","NA",""]
["Hamilton",101739,"Leona","Geddes","F","2017-18","Geddes, Leona","NA",""]
["Huronia",101740,"Kay","Chase","F","2015-16","Chase, Kay","NA",""]
["Hamilton",101741,"Tyron","Harvey","M","2018-19","Harvey, Tyron","NA",""]
["Huronia",101742,"Jill","Chilvers","F","2024-25","Chilvers, Jill",169,""]
["Huronia",101743,"Peter","Christakos","M","2010-11","Christakos, Peter","NA",""]
["Huronia",101744,"Barbara","Christian","F","2010-11","Christian, Barbara","NA",""]
["Hamilton",101745,"Alanna","Alton","F","2021-22","Alton, Alanna","NA",""]
["Huronia",101746,"Duncan","Craig","M","2014-15","Craig, Duncan","NA",""]
["Grand River",101747,"Stephanie","Facca","F","2024-25","Facca, Stephanie",214,""]
["Huronia",101748,"Jeff","Buie","M","2013-14","Buie, Jeff","NA",""]
["Huronia",101749,"Theresa","Kenyon","F","2014-15","Kenyon, Theresa","NA",""]
["Huronia",101750,"Joan","Clark","F","2012-13","Clark, Joan","NA",""]
["Huronia",101752,"Debra","Auclair","F","2013-14","Auclair, Debra","NA",""]
["Huronia",101753,"Libby","Clarke","F","2013-14","Clarke, Libby","NA",""]
[null,101754,"Marg","Clarke","F",null,{"$f":"D1986&\", \"&C1986","v":"Clarke, Marg"},"NA",""]
["Huronia",101755,"Sandra","Mcgill","F","2013-14","Mcgill, Sandra","NA",""]
["Huronia",101756,"James","Cleveland","M","2017-18","Cleveland, James","NA",""]
["Huronia",101757,"Cathy","Clift","F","2010-11","Clift, Cathy","NA",""]
["Huronia",101758,"Keith","Clow","M","2019-20","Clow, Keith","NA",""]
["Huronia",101759,"Laurie","Coach","F","2010-11","Coach, Laurie","NA",""]
["Huronia",101760,"Ted","Coach","M","2010-11","Coach, Ted","NA",{"$f":"IF(G1992=G1991,\"Same\",\"\")","v":""}]
["Huronia",101761,"Matt","Coad","M","2019-20","Coad, Matt","NA",""]
["Huronia",101762,"Pam","Craig","F","2013-14","Craig, Pam","NA",""]
["Huronia",101763,"Tracey","May","F","2013-14","May, Tracey","NA",""]
["Kawartha Lakes",101764,"Pat","Hall","F","2019-20","Hall, Pat","NA",""]
["Huronia",101765,"Mike","Allen","F","2013-14","Allen, Mike","NA",""]
["Huronia",101766,"Darlene","Young","F","2013-14","Young, Darlene","NA",""]
["Huronia",101767,"Karen","Conroy","F","2010-11","Conroy, Karen","NA",""]
["Huronia",101768,"Phyllis","Cooney","F","2012-13","Cooney, Phyllis","NA",""]
["Huronia",101770,"Ed","Cooper","M","2013-14","Cooper, Ed","NA",""]
["Huronia",101781,"Bob","Coutts","M","2013-14","Coutts, Bob","NA",""]
["Huronia",101793,"Jackie","Duffy","F","2024-25","Duffy, Jackie",157,""]
["Huronia",101800,"Danielle","Harrigan","F","2013-14","Harrigan, Danielle","NA",""]
["Niagara Peninsula",101812,"Pam","Furry","F","2018-19","Furry, Pam","NA",""]
["Huronia",101815,"Laurie","Churchill","F","2024-25","Churchill, Laurie",181,""]
["Huronia",101822,"Debbie","Heidel","F","2024-25","Heidel, Debbie",141,""]
["Niagara Peninsula",101832,"John paul","Toulouse","M","2023-24","Toulouse, John paul",113,""]
["Huronia",101841,"Kyle","Brancati","M","2013-14","Brancati, Kyle","NA",""]
["Huronia",101853,"Tyler","Gignac","M","2013-14","Gignac, Tyler","NA",""]
["Huronia",101865,"Susan","Stricker","F","2024-25","Stricker, Susan",170,""]
["Niagara Peninsula",101871,"Rick","Skelton","M","2022-23","Skelton, Rick",162,""]
["Niagara Peninsula",101883,"Paula","Pogue","F","2022-23","Pogue, Paula",115,""]
["Huronia",101887,"Laura","Edwards","F","2015-16","Edwards, Laura","NA",""]
["Niagara Peninsula",101894,"Rudy","Warkentin","M","2021-22","Warkentin, Rudy","NA",""]
["Huronia",101904,"Mike","Eversfield","M","2018-19","Eversfield, Mike","NA",""]
["Huronia",101913,"Ian","Ferguson","M","2010-11","Ferguson, Ian","NA",""]
["Huronia",101925,"Ann marie","Findlay","F","2010-11","Findlay, Ann marie","NA",""]
["Huronia",101937,"Karen","Lowe","F","2017-18","Lowe, Karen","NA",""]
["Huronia",101943,"Wayne","Forth","M","2022-23","Forth, Wayne",198,""]
["Middlesex Elgin",101955,"Will","Sentjens","M","2015-16","Sentjens, Will","NA",""]
["Huronia",101962,"Bonnie","Furneaux","F","2013-14","Furneaux, Bonnie","NA",""]
["Grand River",101965,"Mike","Graffi","M","2021-22","Graffi, Mike","NA",""]
["Huronia",101974,"Anna","Gasdia","F","2024-25","Gasdia, Anna",215,""]
["Huronia",101983,"Les","Gibson","M","2010-11","Gibson, Les","NA",""]
["Ontario Durham",101995,"Tina","Maclean","F","2018-19","Maclean, Tina","NA",""]
["Huronia",102008,"Louise","Grayhurst","F","2010-11","Grayhurst, Louise","NA",""]
["Huronia",102014,"Garry","Greenside","M","2024-25","Greenside, Garry","NA",""]
["Grand River",102026,"Wayne","Wideman","M","2015-16","Wideman, Wayne","NA",""]
["Ontario Durham",102033,"Rob","Terry","M","2019-20","Terry, Rob","NA",""]
["Huronia",102036,"Shirley","Hamilton","F","2015-16","Hamilton, Shirley","NA",""]
["Bay of Quinte",102046,"John","Campbell","M","2015-16","Campbell, John","NA",""]
["Huronia",102055,"Karen","Hawboldt","F","2024-25","Hawboldt, Karen",123,""]
["Niagara Peninsula",102067,"Amie","Gifford","F","2013-14","Gifford, Amie","NA",""]
["Huronia",102079,"Trevor","Henson","M","2015-16","Henson, Trevor","NA",""]
["Grand River",102085,"Sally","Devlin","F","2016-17","Devlin, Sally","NA",""]
["Huronia",102098,"Chris","Hobbs","M","2011-12","Hobbs, Chris","NA",""]
["Huronia",102105,"Dave","Hood","M","2015-16","Hood, Dave","NA",""]
["Huronia",102108,"Anne","Hopkins","F","2010-11","Hopkins, Anne","NA",""]
["Grand River",102117,"Carl","Gilbert","M","2015-16","Gilbert, Carl","NA",""]
["Huronia",102126,"Bob","Hutchison","M","2010-11","Hutchison, Bob","NA",""]
["Huronia",102138,"Steve","Jago","M","2012-13","Jago, Steve","NA",""]
["Huronia",102145,"Scott","Jellicoe","M","2024-25",{"$f":"D2370&\", \"&C2370","v":"Jellicoe, Scott"},176,""]
["Bay of Quinte",102156,"Chris","Henderson","M","2013-14","Henderson, Chris","NA",""]
["Huronia",102168,"Michelle","Redman","F","2017-18","Redman, Michelle","NA",""]
["Ontario Durham",102175,"Ron","Mcgrath","M","2016-17","Mcgrath, Ron","NA",""]
["Ontario Durham",102186,"Larry","Davis","M","2013-14","Davis, Larry","NA",""]
["Ontario Durham",102190,"Gail","Bosman","F","2013-14","Bosman, Gail","NA",""]
["York Simcoe",102197,"Dale","Coughlin","M","2017-18","Coughlin, Dale","NA",""]
["Ontario Durham",102211,"Gary","Gillingham","M","2019-20","Gillingham, Gary","NA",""]
["Huronia",102219,"Marlena","Ladouceur","F","2020-21","Ladouceur, Marlena","NA",""]
["Central Ontario",102229,"Kelly","Verner","F","2015-16","Verner, Kelly","NA",""]
["Huronia",102241,"Norma","Laxton-haddock","F","2015-16","Laxton-haddock, Norma","NA",""]
["Huronia",102249,"Ernie","Ledyit","M","2010-11","Ledyit, Ernie","NA",""]
["Huronia",102259,"Gord","Levoy","M","2011-12","Levoy, Gord","NA",""]
["Ontario Durham",102267,"Bobby-jo","Turner","F","2013-14","Turner, Bobby-jo","NA",""]
["York Simcoe",102270,"Steve","Feltham","M","2017-18","Feltham, Steve","NA",""]
["Huronia",102282,"Dave","Logan","M","2017-18","Logan, Dave","NA",""]
["Huronia",102290,"Jeff","Lougheed","M","2010-11","Lougheed, Jeff","NA",""]
["Huronia",102300,"Gord","Maccollum","M","2011-12","Maccollum, Gord","NA",""]
["Ottawa Valley",102312,"Joann","Groulx","F","2013-14","Groulx, Joann","NA",""]
["Ottawa Valley",102319,"Angela","Jones","F","2018-19","Jones, Angela","NA",""]
["Central Ontario",102330,"Dianna","Foster","F","2016-17","Foster, Dianna","NA",""]
["Kawartha Lakes",102338,"Colin","Murray","M","2024-25","Murray, Colin",176,""]
["Huronia",102341,"Claude","Larin","M","2018-19","Larin, Claude","NA",""]
["Huronia",102354,"John","Mccreight","M","2012-13","Mccreight, John","NA",""]
["Huronia",102362,"Barb","Mcgill","F","2012-13","Mcgill, Barb","NA",""]
["Huronia",102372,"Daniel","Shuttleworth","M","2016-17","Shuttleworth, Daniel","NA",""]
["Huronia",102384,"Paul","Shervill","M","2014-15","Shervill, Paul","NA",""]
["Huronia",102392,"Phil","Metcalf","M","2011-12","Metcalf, Phil","NA",""]
["Niagara Peninsula",102402,"Amanda","Mills","F","2010-11","Mills, Amanda","NA",""]
["Huronia",102410,"Agnes","Montgomery","F","2010-11","Montgomery, Agnes","NA",""]
["Huronia",102413,"Al","Myre","M","2017-18","Myre, Al","NA",""]
["Central Ontario",102425,"Tahir","Wareesha","F","2013-14","Wareesha, Tahir","NA",""]
["York Simcoe",102433,"Kendra","Hole","F","2023-24","Hole, Kendra",194,""]
["Central Ontario",102443,"Rachel","Seabourne","F","2013-14","Seabourne, Rachel","NA",""]
["Huronia",102450,"Karyn","Ness","F","2010-11","Ness, Karyn","NA",""]
["Huronia",102463,"Mike","Northmore","M","2019-20","Northmore, Mike","NA",""]
["Central Ontario",102473,"John","Macinnis","M","2022-23",{"$f":"D2690&\", \"&C2690","v":"Macinnis, John"},155,""]
["Huronia",102481,"Lana","Palmer","F","2014-15","Palmer, Lana","NA",""]
["Huronia",102484,"Anita","Parker","F","2019-20","Parker, Anita","NA",""]
["Central Ontario",102496,"Robben","Williams","M","2015-16","Williams, Robben","NA",""]
["Grand River",102504,"Barry","Schooweerwoerd","M","2019-20","Schooweerwoerd, Barry","NA",""]
["Grand River",102515,"Judi","O'connor","F","2016-17","O'connor, Judi","NA",""]
["Huronia",102523,"Cory","Pilgrim","M","2010-11","Pilgrim, Cory","NA",""]
["Niagara Peninsula",102535,"John","Hadath","M","2014-15","Hadath, John","NA",""]
["Huronia",102545,"Kathy","Rainey","F","2014-15","Rainey, Kathy","NA",{"$f":"IF(G2760=G2759,\"Same\",\"\")","v":""}]
["Huronia",102553,"Sandy","Redman","F","2018-19","Redman, Sandy","NA",""]
["Niagara Peninsula",102556,"Cynthia","Schuur","F","2013-14","Schuur, Cynthia","NA",""]
["Grand River",102568,"Mackenzie","Kalbfleisch","M","2021-22","Kalbfleisch, Mackenzie","NA",""]
["Huronia",102576,"Inge","Riscinski","F","2010-11","Riscinski, Inge","NA",""]
["Huronia",102586,"Shirley","Rostek","F","2014-15","Rostek, Shirley","NA",""]
["Ottawa Valley",102593,"Monique","Buckle","F","2013-14","Buckle, Monique","NA",""]
["Huronia",102605,"Richard","Saul","M","2011-12","Saul, Richard","NA",""]
["Ottawa Valley",102607,"Chad","Reynolds","M","2024-25","Reynolds, Chad",165,""]
["Middlesex Elgin",102623,"Beverley","Ayoub","F","2017-18","Ayoub, Beverley","NA",""]
["Middlesex Elgin",102626,"Dennis","Ayoub","M","2024-25","Ayoub, Dennis",188,""]
["Huronia",102636,"Jim","Shanahan","M","2018-19","Shanahan, Jim","NA",""]
["Huronia",102644,"Ryan","Shaw","M","2012-13","Shaw, Ryan","NA",""]
["Ontario Durham",102656,"Graham","Halsey","M","2016-17","Halsey, Graham","NA",""]
["Niagara Peninsula",102663,"Claudette","Seguin","F","2023-24","Seguin, Claudette",150,""]
["Huronia",102675,"Laura","Smith","F","2010-11","Smith, Laura","NA",""]
["Niagara Peninsula",102677,"Deb","Kreamer","F","2013-14","Kreamer, Deb","NA",""]
["Central Ontario",102696,"Kathleen","Loranger","F","2019-20","Loranger, Kathleen","NA",""]
["Central Ontario",102699,"Diane","Scott","F","2018-19","Scott, Diane","NA",""]
["Metro Toronto",102709,"Paul","Mitchell","M","2013-14","Mitchell, Paul","NA",""]
["Huronia",102717,"Jean","Stewart","F","2012-13","Stewart, Jean","NA",""]
["Huronia",102729,"George","Sullivan","M","2024-25","Sullivan, George",187,""]
["Huronia",102736,"Dale","Sweeney","M","2018-19","Sweeney, Dale","NA",""]
["Tri-County",102748,"Karen","Roy","F","2013-14","Roy, Karen","NA",""]
["Huronia",102754,"Brian","Thompson","M","2012-13","Thompson, Brian","NA",""]
["Huronia",102766,"Wayne","Thorn","M","2010-11","Thorn, Wayne","NA",""]
["Ontario Durham",102769,"Jessica","Martin","F","2016-17","Martin, Jessica","NA",""]
["Ontario Durham",102779,"Judy","Spencer","F","2017-18","Spencer, Judy","NA",""]
["Huronia",102787,"Andy","Tremblay","M","2010-11","Tremblay, Andy","NA",""]
["Huronia",102799,"Paul","Tschesnokow","M","2019-20","Tschesnokow, Paul","NA",""]
["Central Ontario",102806,"Carolyn","Johnson","F","2013-14","Johnson, Carolyn","NA",""]
["Hamilton",102818,"Tom","Gibson","M","2015-16","Gibson, Tom","NA",""]
["Huronia",102824,"Tom","Vanderwouw","M","2011-12","Vanderwouw, Tom","NA",""]
["Huronia",102836,"Sean","Walker","M","2012-13","Walker, Sean","NA",""]
["Niagara Peninsula",102839,"Shannon","Gallant","F","2020-21","Gallant, Shannon",178,""]
["Central Ontario",102849,"Michael","Collings","M","2016-17","Collings, Michael","NA",""]
["Huronia",102858,"Jeff","Weicker","M","2012-13","Weicker, Jeff","NA",""]
["Huronia",102870,"Rose","Whipps","F","2013-14","Whipps, Rose","NA",""]
["Huronia",102877,"Lynne","White","F","2024-25","White, Lynne",209,""]
["Huronia",102889,"Rick","Wicklum","M","2012-13","Wicklum, Rick","NA",""]
["Huronia",102895,"Jackie","Williams","F","2021-22","Williams, Jackie","NA",""]
["Hamilton",102907,"Kevin","Spencer","M","2015-16","Spencer, Kevin","NA",""]
["Hamilton",102910,"Paul","Bes","M","2014-15","Bes, Paul","NA",""]
["Middlesex Elgin",102920,"Brad","Thorpe","M","2024-25","Thorpe, Brad",229,""]
["Middlesex Elgin",102929,"Rob","Pharand","M","2019-20","Pharand, Rob","NA",""]
["Huronia",102937,"Nicki","Northmore","F","2016-17","Northmore, Nicki","NA",""]
["Ontario Durham",102949,"Chad","Neville","M","2024-25","Neville, Chad",209,""]
["Middlesex Elgin",102961,"Rasa","Roberts","F","2024-25","Roberts, Rasa",162,""]
["Huronia",102967,"Shannon","Scott","F","2012-13","Scott, Shannon","NA",""]
["Western Ontario",102979,"Barb","Boyle","F","2017-18","Boyle, Barb","NA",""]
["Western Ontario",102982,"Deb","Barnes","F","2016-17","Barnes, Deb","NA",""]
["Huronia",102997,"Jeff","Caskanette","M","2012-13","Caskanette, Jeff","NA",""]
["Huronia",103000,"Carolyn","Howard","F","2022-23","Howard, Carolyn",131,""]
["Huronia",103007,"John","Angel","M","2011-12","Angel, John","NA",""]
["Ottawa Valley",103021,"Martin","Schnob","M","2017-18","Schnob, Martin","NA",""]
["Ottawa Valley",103030,"Brandon","Bergeron","M","2024-25","Bergeron, Brandon",168,""]
["Huronia",103037,"Chris","Gilpin","M","2010-11","Gilpin, Chris","NA",""]
["Bay of Quinte",103049,"Judy","Williams","F","2016-17","Williams, Judy","NA",""]
["Kawartha Lakes",103052,"Loretta","Barnes","F","2017-18","Barnes, Loretta","NA",""]
["Huronia",103067,"Dawn","Decaire","F","2010-11","Decaire, Dawn","NA",""]
["Kawartha Lakes",103070,"Lori","Hearsum","F","2019-20","Hearsum, Lori","NA",""]
["Huronia",103077,"Candice","Macintosh","F","2024-25","Macintosh, Candice",172,""]
["Kawartha Lakes",103091,"Sandy","Fullman","F","2022-23","Fullman, Sandy",144,""]
["Kawartha Lakes",103100,"Cindy","Marois","F","2018-19","Marois, Cindy","NA",""]
["Huronia",103107,"Ross","Faulkner","M","2010-11","Faulkner, Ross","NA",""]
["Huronia",103119,"Larry","Wendel","M","2024-25","Wendel, Larry",224,""]
["Kawartha Lakes",103122,"Mark","Fensom","M","2016-17","Fensom, Mark","NA",""]
["Huronia",103137,"Blair","Buckland","M","2022-23","Buckland, Blair",193,""]
["Huronia",103140,"Susan","Michaud","F","2016-17","Michaud, Susan","NA",""]
["Kawartha Lakes",103147,"Leah","Kivisaari","F","2016-17","Kivisaari, Leah","NA",""]
["Grand River",103161,"Polly","Lichty","F","2016-17","Lichty, Polly","NA",""]
["Kawartha Lakes",103170,"Patricia","Simon","F","2017-18","Simon, Patricia","NA",""]
["Western Ontario",103177,"Frances","Belmore","F","2013-14","Belmore, Frances","NA",""]
["Western Ontario",103189,"Erica","Prieur","F","2023-24","Prieur, Erica",253,""]
["Kawartha Lakes",103192,"Lucinda","Ellis","F","2019-20","Ellis, Lucinda","NA",""]
["Grand River",103207,"Vern","Foreman","M","2018-19","Foreman, Vern","NA",""]
["Grand River",103210,"Pat","Thompson","M","2018-19","Thompson, Pat","NA",""]
["Western Ontario",103217,"Kate","Burgess","F","2019-20","Burgess, Kate","NA",""]
["Western Ontario",103231,"Alan","Carter","M","2015-16","Carter, Alan","NA",""]
["Western Ontario",103235,"Ron","Charron","M","2014-15","Charron, Ron","NA",""]
["Kawartha Lakes",103247,"Chic","Kelly","M","2024-25","Kelly, Chic",173,""]
["Kawartha Lakes",103259,"Bent","Streigler","M","2019-20","Streigler, Bent","NA",""]
["Western Ontario",103262,"Monica","Donaldson","F","2014-15","Donaldson, Monica","NA",""]
["Western Ontario",103277,"Willow","Eaglesham","F","2018-19","Eaglesham, Willow","NA",""]
["Western Ontario",103280,"Jason","Eskritt","M","2020-21","Eskritt, Jason","NA",""]
["Huronia",103287,"Rob","Leonard","M","2019-20","Leonard, Rob","NA",""]
["Huronia",103302,"Paula","Byrne","F","2016-17","Byrne, Paula","NA",""]
["Huronia",103306,"Chris","Wilson","M","2016-17","Wilson, Chris","NA",""]
["Huronia",103319,"Bob","Potter","M","2016-17","Potter, Bob","NA",""]
["Western Ontario",103331,"Walter","Hancrar","M","2014-15","Hancrar, Walter","NA",""]
["Tri-County",103334,"Kol","Faulds","M","2013-14","Faulds, Kol","NA",""]
["Ontario Durham",103349,"Tom","Foster","M","2016-17","Foster, Tom","NA",""]
["Western Ontario",103352,"Bonnie","Hlozan","F","2013-14","Hlozan, Bonnie","NA",""]
["Western Ontario",103359,"Margie","Holmes","F","2022-23","Holmes, Margie",157,""]
["Middlesex Elgin",103373,"Trevor","Lansbergen","M","2013-14","Lansbergen, Trevor","NA",""]
["Ontario Durham",103377,"Jenn","Case","F","2016-17","Case, Jenn","NA",""]
["Western Ontario",103389,"Jennifer","Katona","F","2011-12","Katona, Jennifer","NA",""]
["Western Ontario",103394,"Michele","Kelly","F","2016-17","Kelly, Michele","NA",""]
["Western Ontario",103407,"Jody","Lachance","F","2023-24","Lachance, Jody",160,""]
["Western Ontario",103419,"Phil","Lasek","M","2019-20","Lasek, Phil","NA",""]
["Niagara Peninsula",103426,"Laurie","Webb","F","2016-17","Webb, Laurie","NA",""]
["Middlesex Elgin",103433,"Lindsay","Ensing","F","2013-14","Ensing, Lindsay","NA",""]
["Western Ontario",103440,"Joe","Maisonville","M","2012-13","Maisonville, Joe","NA",""]
["Middlesex Elgin, Western Ontario",103447,"Diane","Martin","F","2020-21","Martin, Diane","NA",""]
["Niagara Peninsula",103459,"Evelyn","Watchorn","F","2024-25","Watchorn, Evelyn",139,""]
["Western Ontario",103464,"Larry","Mcfadden","M","2016-17","Mcfadden, Larry","NA",""]
["Western Ontario",103478,"Mariano","Meconi","M","2023-24","Meconi, Mariano",195,""]
["Western Ontario",103490,"Kristine","Moninger","F","2016-17","Moninger, Kristine","NA",""]
["Niagara Peninsula",103497,"Clemence","Martineau","F","2019-20","Martineau, Clemence","NA",""]
["Western Ontario",103504,"June","Murray","F","2013-14","Murray, June","NA",""]
["Bay of Quinte",103511,"Anne","Rees","F","2013-14","Rees, Anne","NA",""]
["Western Ontario",103518,"Shawn","Oldridge","M","2023-24","Oldridge, Shawn",192,""]
["Niagara Peninsula",103530,"Francoise","Wolek","F","2016-17","Wolek, Francoise","NA",""]
["Middlesex Elgin",103535,"Dean","Parmley","M","2024-25","Parmley, Dean",208,""]
["Western Ontario",103548,"Steve","Pickering","M","2023-24","Pickering, Steve",186,""]
["Grand River",103560,"Carol","Nafziger","F","2017-18","Nafziger, Carol","NA",""]
["Kawartha Lakes",103567,"Marshall","Hamblin","M","2017-18","Hamblin, Marshall","NA",""]
["Niagara Peninsula",103574,"Justin","Mccauley","M","2013-14","Mccauley, Justin","NA",""]
["Ottawa Valley",103581,"Billie-jo","Lemieux","F","2013-14","Lemieux, Billie-jo","NA",""]
["Bay of Quinte",103588,"Anita","Roocroft","F","2016-17","Roocroft, Anita","NA",""]
["Bay of Quinte",103600,"Liz","Poce","F","2016-17","Poce, Liz","NA",""]
["Middlesex Elgin",103605,"Grant","Sloan","M","2024-25","Sloan, Grant",207,""]
["York Simcoe",103618,"Mike","Peron","M","2019-20","Peron, Mike","NA",""]
["Western Ontario",103630,"Fred","Taylor","M","2010-11","Taylor, Fred","NA",""]
["Western Ontario",103637,"Lucy","Theoret","F","2012-13","Theoret, Lucy","NA",""]
["Western Ontario",103644,"Esther","Thompson","F","2012-13","Thompson, Esther","NA",""]
["Western Ontario",103651,"Jodi","Timperly","F","2013-14","Timperly, Jodi","NA",""]
["Bay of Quinte",103658,"Barb","Hutchenson","F","2016-17","Hutchenson, Barb","NA",""]
["Western Ontario",103670,"Brock","Vangaver","M","2011-12","Vangaver, Brock","NA",""]
["Western Ontario",103675,"Kyle","Verhulst","M","2018-19","Verhulst, Kyle","NA",""]
["Western Ontario",103688,"Karen","Wiggins","F","2019-20","Wiggins, Karen","NA",""]
["Bay of Quinte",103700,"Sandy","Nault","F","2016-17",{"$f":"D3906&\", \"&C3906","v":"Nault, Sandy"},"NA",""]
["Western Ontario",103707,"Len","Bailey","M","2015-16","Bailey, Len","NA",""]
["Western Ontario",103714,"Lois","Browning","F","2011-12","Browning, Lois","NA",""]
["Western Ontario",103726,"Jonas","Cook","M","2012-13","Cook, Jonas","NA",""]
["Bay of Quinte",103729,"Linda","Welch","F","2016-17","Welch, Linda","NA",""]
["Western Ontario",103741,"Mike","Hales","M","2010-11","Hales, Mike","NA",""]
["Western Ontario",103746,"Amanda","Johnston","F","2016-17","Johnston, Amanda","NA",""]
["Western Ontario",103759,"Deb","Miller","F","2014-15","Miller, Deb","NA",""]
["Bay of Quinte",103771,"Morris","Nikolaiko","M","2016-17","Nikolaiko, Morris","NA",{"$f":"IF(G3976=G3975,\"Same\",\"\")","v":""}]
["Western Ontario",103778,"Hilary","Scott","F","2011-12","Scott, Hilary","NA",""]
["Western Ontario",103785,"Bonnie","Speal","F","2019-20","Speal, Bonnie","NA",""]
["Bay of Quinte",103796,"Charles","Brooks","M","2016-17","Brooks, Charles","NA",""]
["Kawartha Lakes",103799,"John","Reynolds","M","2010-11","Reynolds, John","NA",""]
["Kawartha Lakes",103815,"Ross","Butler","M","2010-11","Butler, Ross","NA",""]
["Kawartha Lakes",103818,"Fred","Burrows","M","2010-11","Burrows, Fred","NA",""]
["Kawartha Lakes",103830,"Ernie","Butcher","M","2024-25",{"$f":"D4034&\", \"&C4034","v":"Butcher, Ernie"},159,""]
["Bay of Quinte",103842,"Jenny","Rose","F","2016-17","Rose, Jenny","NA",""]
["York Simcoe",103846,"Ada","Seebach","F","2024-25","Seebach, Ada","NA",""]
["Kawartha Lakes",103851,"Harold","Mackay","M","2013-14","Mackay, Harold","NA",""]
["Kawartha Lakes",103867,"Randy","Wickett","M","2018-19","Wickett, Randy","NA",""]
["Kawartha Lakes",103870,"Gary","Sellars","M","2018-19","Sellars, Gary","NA",""]
["Kawartha Lakes",103885,"Lorne","Bartholomew","M","2019-20","Bartholomew, Lorne","NA",""]
["Kawartha Lakes",103888,"Karl","Metcalfe","M","2013-14","Metcalfe, Karl","NA",""]
["Bay of Quinte",103900,"Sherry","Samson","F","2020-21","Samson, Sherry","NA",{"$f":"IF(G4104=G4103,\"Same\",\"\")","v":""}]
["Kawartha Lakes",103907,"Clark","Jewell","M","2017-18","Jewell, Clark","NA",""]
["Grand River",103916,"Jill","Mccullough","F","2013-14","Mccullough, Jill","NA",""]
["Central Ontario",103921,"Marie","Seifried","F","2024-25","Seifried, Marie",120,""]
["Ontario Durham",103938,"Patty","Patterson","F","2017-18","Patterson, Patty","NA",""]
["Niagara Peninsula",103941,"Judy","Tennier","F","2016-17","Tennier, Judy","NA",""]
["Niagara Peninsula",103956,"Nancy","Cornwall","F","2022-23","Cornwall, Nancy",152,""]
["Niagara Peninsula",103959,"Stephanie","Coons","F","2016-17",{"$f":"D4162&\", \"&C4162","v":"Coons, Stephanie"},"NA",""]
["Kawartha Lakes",103972,"Bruce","Wise","M","2016-17","Wise, Bruce","NA",""]
["Niagara Peninsula",103979,"Sarah","Lutz","F","2023-24","Lutz, Sarah",105,""]
["Western Ontario",103988,"James","Pardo","M","2013-14","Pardo, James","NA",""]
["York Simcoe",103993,"Shenna","English","F","2020-21","English, Shenna","NA",""]
["Kawartha Lakes",104009,"Colleen","Wright","F","2014-15","Wright, Colleen","NA",""]
["Huronia",104012,"Simon","Rasmussen","M","2024-25","Rasmussen, Simon",189,""]
["Grand River",104027,"Jerri lynn","Daum","F","2017-18","Daum, Jerri lynn","NA",""]
["Ontario Durham",104030,"Al","Francis","M","2013-14","Francis, Al","NA",{"$f":"IF(G4232=G4231,\"Same\",\"\")","v":""}]
["Kawartha Lakes",104042,"Helen","Sage","F","2011-12","Sage, Helen","NA",""]
["Kawartha Lakes",104049,"Rick","Sanders","M","2010-11","Sanders, Rick","NA",""]
["Kawartha Lakes",104058,"Matthew","Thompson","M","2013-14","Thompson, Matthew","NA",""]
["Kawartha Lakes",104063,"Dorothy","Chislett","F","2024-25","Chislett, Dorothy",139,""]
["Kawartha Lakes",104079,"Ken","Mcdermott","M","2010-11","Mcdermott, Ken","NA",""]
["Kawartha Lakes",104082,"Hans","Peterson","M","2010-11","Peterson, Hans","NA",""]
["York Simcoe",104097,"Leah","Cataluna","F","2017-18","Cataluna, Leah","NA",""]
["Kawartha Lakes",104100,"Christine","Grimes","F","2012-13","Grimes, Christine","NA",""]
["Kawartha Lakes",104113,"Glenn","Henry","M","2011-12","Henry, Glenn","NA",""]
["Kawartha Lakes",104120,"Richard","Powell","M","2011-12","Powell, Richard","NA",""]
["York Simcoe",104129,"Mona","Harding","F","2019-20","Harding, Mona","NA",""]
["Kawartha Lakes",104134,"Christina","Alldred","F","2013-14","Alldred, Christina","NA",""]
["Kawartha Lakes",104150,"Joan","Baird","F","2011-12","Baird, Joan","NA",""]
["Kawartha Lakes",104153,"Leslie","Dyment","F","2024-25",{"$f":"D4354&\", \"&C4354","v":"Dyment, Leslie"},116,""]
["York Simcoe",104168,"Maggie","Skok","F","2014-15","Skok, Maggie","NA",""]
["Kawartha Lakes",104171,"Jake","Van willigen","M","2010-11","Van willigen, Jake","NA",""]
["Kawartha Lakes",104183,"Chris","Woodman","M","2016-17","Woodman, Chris","NA",""]
["Kawartha Lakes",104189,"James","Todd","M","2011-12","Todd, James","NA",""]
["Kawartha Lakes",104201,"Janice","Clark","F","2011-12","Clark, Janice","NA",""]
["Kawartha Lakes",104208,"Shawn","Bushey","M","2022-23","Bushey, Shawn",181,""]
["Huronia",104221,"Chic","Anastacio","F","2015-16","Anastacio, Chic","NA",""]
["Huronia",104229,"Chris","Epp","M","2014-15","Epp, Chris","NA",""]
["Kawartha Lakes",104239,"Ray","Simmonds","M","2013-14","Simmonds, Ray","NA",""]
["York Simcoe",104242,"Eric","Rolls","M","2016-17","Rolls, Eric","NA",""]
["Kawartha Lakes",104254,"Ivan","Wall","M","2010-11","Wall, Ivan","NA",""]
["Kawartha Lakes",104260,"Stan","Gallop","M","2010-11","Gallop, Stan","NA",""]
["Kawartha Lakes",104272,"Linda","Storey","F","2010-11","Storey, Linda","NA",""]
["Huronia",104279,"Dennis","Parrish","M","2019-20","Parrish, Dennis","NA",""]
["Huronia",104291,"Joan","Macdonald","F","2016-17","Macdonald, Joan","NA",""]
["Kawartha Lakes",104299,"Ken","Black","M","2023-24","Black, Ken",191,""]
["Kawartha Lakes",104310,"Rob","Newhouse","M","2019-20","Newhouse, Rob","NA",""]
["Kawartha Lakes",104313,"Lori","Nottingham","F","2024-25","Nottingham, Lori","NA",""]
["Huronia",104320,"Pamela","Snow","F","2017-18","Snow, Pamela","NA",""]
["Huronia",104331,"Jim","Belanger","M","2016-17","Belanger, Jim","NA",""]
["Kawartha Lakes",104343,"Debbie","Sicard","F","2010-11","Sicard, Debbie","NA",""]
["Kawartha Lakes",104350,"Doug","Trumbley","M","2010-11","Trumbley, Doug","NA",""]
["Kawartha Lakes",104363,"Dorothy","Smith","F","2016-17","Smith, Dorothy","NA",""]
["Kawartha Lakes",104372,"Gayle","Andrew","F","2019-20","Andrew, Gayle","NA",""]
["Kawartha Lakes",104382,"Bev","Jeeves","F","2024-25","Jeeves, Bev",137,""]
["Ontario Durham",104385,"Anna","Pavan","F","2014-15","Pavan, Anna","NA",""]
["Kawartha Lakes",104392,"Peggy","Staples","F","2010-11","Staples, Peggy","NA",""]
["Kawartha Lakes",104403,"Joe","Langley","M","2024-25","Langley, Joe",135,""]
["Kawartha Lakes",104416,"Joanne","Gilligan","F","2013-14","Gilligan, Joanne","NA",""]
["Kawartha Lakes",104423,"Dawna","Jacobs","F","2023-24","Jacobs, Dawna",206,""]
["Kawartha Lakes",104435,"Josh","Munro","M","2017-18","Munro, Josh","NA",""]
["Western Ontario",104443,"Deb","Coleman","F","2019-20","Coleman, Deb","NA",""]
["Kawartha Lakes",104454,"Tiffany","Henry","F","2015-16","Henry, Tiffany","NA",""]
["Kawartha Lakes",104457,"Debbie","Tripp","F","2010-11","Tripp, Debbie","NA",""]
["Kawartha Lakes",104464,"Jackie","Gerrow","F","2014-15","Gerrow, Jackie","NA",""]
["Western Ontario",104475,"Bill","Gibbons","M","2019-20","Gibbons, Bill","NA",""]
["Western Ontario",104487,"Darcie","Orton","F","2020-21","Orton, Darcie","NA",""]
["Kawartha Lakes",104494,"Ken","Maud","M","2016-17","Maud, Ken","NA",""]
["Kawartha Lakes",104506,"Marianne","Palmer","F","2012-13","Palmer, Marianne","NA",""]
["Kawartha Lakes",104514,"Joan","Fulton","F","2012-13","Fulton, Joan","NA",""]
["Kawartha Lakes",104524,"Gladys","Shea","F","2024-25","Shea, Gladys",124,""]
["Kawartha Lakes",104527,"James","Callaghan","M","2011-12","Callaghan, James","NA",""]
["Kawartha Lakes",104534,"Shelly","Scott","F","2017-18","Scott, Shelly","NA",""]
["York Simcoe",104545,"Daphne","Young","F","2019-20","Young, Daphne","NA",""]
["Kawartha Lakes",104557,"Fred","Beeton","M","2019-20","Beeton, Fred","NA",""]
["Kawartha Lakes",104564,"Ken","Downing","M","2010-11","Downing, Ken","NA",""]
["Kawartha Lakes",104576,"Beth","Burke","F","2024-25","Burke, Beth",116,""]
["Kawartha Lakes",104584,"Ruby","Sherman","F","2016-17","Sherman, Ruby","NA",""]
["Kawartha Lakes",104594,"Deb","Spadafore","F","2011-12","Spadafore, Deb","NA",""]
["Central Ontario",104597,"Stojanka","Gooder","F","2016-17","Gooder, Stojanka","NA",""]
["Kawartha Lakes",104605,"Ron","Woolacott","M","2010-11","Woolacott, Ron","NA",""]
["Kawartha Lakes",104615,"Leslie","Prudhomme","M","2024-25","Prudhomme, Leslie",111,""]
["Central Ontario",104627,"Brant","Purdy","M","2016-17","Purdy, Brant","NA",""]
["Central Ontario",104634,"Brian","Smith","M","2016-17","Smith, Brian","NA",""]
["Kawartha Lakes",104644,"Rick","Papish","M","2011-12","Papish, Rick","NA",""]
["Tri-County",104652,"Taylor","Beal","F","2016-17","Beal, Taylor","NA",""]
["Central Ontario, York Simcoe",104664,"Mark","Leighton","M","2024-25","Leighton, Mark",175,""]
["Kawartha Lakes",104667,"Dave","Imrie","M","2011-12","Imrie, Dave","NA",""]
["Kawartha Lakes",104675,"Iain","Maclean","M","2024-25","Maclean, Iain",250,""]
["Metro Toronto",104685,"Jason","Willoughby","M","2016-17","Willoughby, Jason","NA",""]
["Kawartha Lakes",104692,"Jamie","Graham","M","2024-25","Graham, Jamie",167,""]
["Grand River",104704,"Jasper","Baker","M","2017-18","Baker, Jasper","NA",""]
["Western Ontario",104714,"John","Kirby","M","2022-23","Kirby, John",197,""]
["Ottawa Valley",104722,"Bernard","Oprey","M","2016-17","Oprey, Bernard","NA",""]
["Kawartha Lakes",104734,"Liam","Tuck","M","2013-14","Tuck, Liam","NA",""]
["Kawartha Lakes",104737,"John","Boudreau","M","2018-19","Boudreau, John","NA",""]
["Kawartha Lakes",104745,"Dennis","Crawford","M","2016-17","Crawford, Dennis","NA",""]
["Kawartha Lakes",104755,"Monika","Doran","F","2015-16","Doran, Monika","NA",""]
["Kawartha Lakes",104762,"Dorothy","Hofsteller","F","2010-11","Hofsteller, Dorothy","NA",""]
["Kawartha Lakes",104774,"Lorne","Miles","M","2011-12","Miles, Lorne","NA",""]
["Kawartha Lakes",104784,"Ruth","Donchak","F","2011-12","Donchak, Ruth","NA",""]
["Kawartha Lakes",104792,"Theresa","Jansen","F","2011-12","Jansen, Theresa","NA",""]
["Kawartha Lakes",104804,"Doug","Mclean","M","2011-12","Mclean, Doug","NA",""]
["Kawartha Lakes",104811,"Donna","Thompson","F","2011-12","Thompson, Donna","NA",""]
["Central Ontario",104815,"Paul","Aird","M","2012-13","Aird, Paul","NA",""]
["Central Ontario",104825,"Ernie","Arsenault","M","2011-12","Arsenault, Ernie","NA",""]
["Central Ontario",104832,"Alain","Aubin","M","2022-23","Aubin, Alain",216,""]
["Central Ontario",104844,"Denise","Bard","F","2019-20","Bard, Denise","NA",""]
["Hamilton",104854,"Al","Ryall","M","2017-18","Ryall, Al","NA",""]
["Central Ontario",104862,"Bob","Beaucage","M","2024-25","Beaucage, Bob",240,""]
["Western Ontario",104874,"Michael","Flynn","M","2022-23","Flynn, Michael",177,""]
["Central Ontario",104881,"Valerie","Bilan","F","2010-11","Bilan, Valerie","NA",""]
["York Simcoe",104886,"Mike","Freeman","M","2017-18","Freeman, Mike","NA",""]
["York Simcoe",104896,"Joan","Aprile","F","2024-25","Aprile, Joan",157,""]
["Central Ontario",104903,"Frank","Bonora","M","2012-13","Bonora, Frank","NA",""]
["York Simcoe",104915,"Nick","Molnar","M","2016-17","Molnar, Nick","NA",""]
["Huronia",104925,"Doug","Brock","M","2024-25","Brock, Doug",249,""]
["Central Ontario",104933,"Cory","Williams","M","2015-16","Williams, Cory","NA",""]
["Kawartha Lakes",104946,"Mandy","Purcell","F","2016-17","Purcell, Mandy","NA",""]
["Central Ontario",104953,"Charlotte","Buttigieg","F","2011-12","Buttigieg, Charlotte","NA",""]
["Metro Toronto",104957,"Ronnie","Deering","F","2024-25","Deering, Ronnie",173,""]
["Central Ontario",104967,"Al","Cassidy","M","2016-17","Cassidy, Al","NA",""]
["Central Ontario",104974,"Pasquale","Cerrone","M","2016-17","Cerrone, Pasquale","NA",""]
["Huronia",104986,"Doug","Cockburn","M","2015-16","Cockburn, Doug","NA",""]
["Grand River",104992,"Dan","Mcdowell","M","2016-17","Mcdowell, Dan","NA",""]
["Grand River",105004,"Michelle","Jackson","F","2016-17","Jackson, Michelle","NA",""]
["Central Ontario",105016,"Michael","Coull","M","2024-25","Coull, Michael",160,""]
["Grand River",105017,"Marvin","Roberts","M","2016-17","Roberts, Marvin","NA",""]
["Central Ontario",105025,"Candace","Laycox","F","2019-20","Laycox, Candace","NA",""]
["Kawartha Lakes",105037,"Lloyd","Elson","M","2024-25","Elson, Lloyd",173,""]
["Kawartha Lakes",105044,"Mike","Gordanier","M","2017-18","Gordanier, Mike","NA",""]
["York Simcoe",105056,"Ryan","Urlando","M","2024-25","Urlando, Ryan",177,""]
["Central Ontario",105062,"Steven","Dolanjski","M","2019-20","Dolanjski, Steven","NA",""]
["Central Ontario",105074,"Larry","Drozda","M","2012-13","Drozda, Larry","NA",""]
["Middlesex Elgin",105088,"Brian","Mccraney","M","2017-18","Mccraney, Brian","NA",""]
["Kawartha Lakes",105089,"Kelli","Cleave","F","2015-16","Cleave, Kelli","NA",""]
["Kawartha Lakes",105099,"Brenda","Tinley","F","2016-17","Tinley, Brenda","NA",""]
["Central Ontario",105119,"Teri-sue","Ford","F","2015-16","Ford, Teri-sue","NA",""]
["Central Ontario",105122,"Alex","Foster","M","2013-14","Foster, Alex","NA",""]
["Central Ontario",105135,"Karen","Fridulin","F","2019-20","Fridulin, Karen","NA",""]
["O5PBA",105141,"Tom","Cowan","M","2024-25","Cowan, Tom","NA",""]
["Ontario Durham",105155,"Allan","Austin","M","2018-19","Austin, Allan","NA",""]
["Huronia",105168,"Shirley","Beeton","F","2012-13","Beeton, Shirley","NA",""]
["Central Ontario",105169,"Harold","Gillis","M","2015-16","Gillis, Harold","NA",""]
["York Simcoe",105177,"Tavish","Kumar","M","2019-20","Kumar, Tavish","NA",""]
["Kawartha Lakes",105193,"Stephanie","Widdis","F","2024-25","Widdis, Stephanie",159,""]
["Bay of Quinte",105196,"Daryl","May","M","2022-23","May, Daryl",121,""]
["Middlesex Elgin",105208,"Carol","Harrington","F","2024-25","Harrington, Carol",192,""]
["Central Ontario",105214,"Cliff","Hand","M","2012-13","Hand, Cliff","NA",""]
["Central Ontario",105226,"Jim","Head","M","2024-25","Head, Jim",255,""]
["Niagara Peninsula",105238,"Tracie","Jones","F","2019-20","Jones, Tracie","NA",""]
["Central Ontario",105239,"Stacy","Hibbs","F","2024-25","Hibbs, Stacy",171,""]
["Central Ontario",105247,"Steve","Hill","M","2018-19","Hill, Steve","NA",""]
["Central Ontario",105263,"Erwin","Hoffman","M","2017-18","Hoffman, Erwin","NA",""]
["Kawartha Lakes",105266,"Sherri","Quinn","F","2014-15","Quinn, Sherri","NA",""]
["Central Ontario",105279,"Jeff","Hutchinson","M","2024-25","Hutchinson, Jeff",211,""]
["Central Ontario",105285,"Maria","Istvanic","F","2024-25","Istvanic, Maria",204,""]
["Central Ontario",105297,"Jim","Johnson","M","2011-12","Johnson, Jim","NA",""]
["Huronia",105304,"Paul","Demaria","M","2017-18","Demaria, Paul","NA",""]
["Central Ontario",105310,"Jamie","Kaake","M","2010-11","Kaake, Jamie","NA",""]
["Central Ontario",105318,"Gordon","Keith","M","2012-13","Keith, Gordon","NA",""]
["Huronia",105334,"Tim","Monahan","M","2020-21","Monahan, Tim","NA",""]
["Western Ontario",105337,"Randi","Hull","F","2014-15","Hull, Randi","NA",""]
["Central Ontario",105349,"Donald","Lalsingh","M","2012-13","Lalsingh, Donald","NA",""]
["Central Ontario",105355,"Loredana","Lancia","F","2018-19","Lancia, Loredana","NA",""]
["Central Ontario",105367,"Natalie","Laporte","F","2024-25","Laporte, Natalie","NA",""]
["Central Ontario",105374,"Lea-anne","Leavens","F","2010-11","Leavens, Lea-anne","NA",""]
["Western Ontario",105380,"Sandra","Wagner","F","2018-19","Wagner, Sandra","NA",""]
["Grand River",105388,"Troy","Alves","M","2018-19","Alves, Troy","NA",""]
["Grand River",105405,"Natalie","Behn","F","2018-19","Behn, Natalie","NA",""]
["Grand River",105410,"Carlo","Pallone","M","2019-20","Pallone, Carlo","NA",""]
["Central Ontario",105419,"Daniel","Maiola","M","2010-11","Maiola, Daniel","NA",""]
["Central Ontario",105426,"Kelly","Mannetje","F","2020-21","Mannetje, Kelly","NA",""]
["Ontario Durham",105438,"Kim","Burns","F","2017-18","Burns, Kim","NA",""]
["Central Ontario",105449,"Sheila","Mashinter","F","2012-13","Mashinter, Sheila","NA",""]
["Central Ontario",105456,"Eva","Mayer","F","2019-20","Mayer, Eva","NA",""]
["Ontario Durham",105459,"Paul","Lavis","M","2017-18","Lavis, Paul","NA",""]
["Ontario Durham",105475,"Kris","Snoddon","F","2024-25","Snoddon, Kris",164,""]
["Ontario Durham",105480,"Lara","Cho","F","2018-19","Cho, Lara","NA",""]
["Central Ontario",105493,"Helene","Miller","F","2010-11","Miller, Helene","NA",""]
["Central Ontario",105496,"Janice","Miller","F","2014-15","Miller, Janice","NA",""]
["Central Ontario",105508,"Wayne","Cullen","M","2019-20","Cullen, Wayne","NA",""]
["Central Ontario",105519,"Reilly","Cameron","F","2024-25",{"$f":"D5698&\", \"&C5698","v":"Cameron, Reilly"},221,""]
["Central Ontario",105526,"Joan","Gardhouse","F","2019-20","Gardhouse, Joan","NA",""]
["Central Ontario",105529,"Mac","Myers","M","2024-25","Myers, Mac",170,""]
["Tri-County",105544,"Blake","Telfer","M","2018-19","Telfer, Blake","NA",""]
["Huronia",105549,"Shawn","Irwin","M","2018-19","Irwin, Shawn","NA",""]
["Ottawa Valley",105562,"Barb","Mcdonald","F","2024-25","Mcdonald, Barb",119,""]
["Ottawa Valley",105565,"Cindy","Seaman","F","2024-25","Seaman, Cindy",132,""]
["Kawartha Lakes",105577,"Tyler","Mccoll","M","2024-25","Mccoll, Tyler",188,""]
["Central Ontario",105588,"Ilona","Stobinski","F","2024-25","Stobinski, Ilona",148,{"$f":"IF(G5768=G5767,\"Same\",\"\")","v":""}]
["Central Ontario",105595,"Chanel","Delory","F","2024-25","Delory, Chanel",53,""]
["Western Ontario",105602,"Haley","Minardi","F","2014-15","Minardi, Haley","NA",""]
["Central Ontario",105614,"Robert","Pineau","M","2010-11","Pineau, Robert","NA",""]
["Central Ontario",105619,"Alex","Plumb","M","2011-12","Plumb, Alex","NA",""]
["Central Ontario",105634,"Mark","Pszczolowski","M","2024-25","Pszczolowski, Mark",159,""]
["Central Ontario",105637,"Jeffrey","Tennant","M","2019-20","Tennant, Jeffrey","NA",""]
["Central Ontario",105649,"Jeff","Rayment","M","2011-12","Rayment, Jeff","NA",""]
["Middlesex Elgin",105660,"Kevin","Macdougall","M","2017-18","Macdougall, Kevin","NA",""]
["Central Ontario",105667,"Brian","Robertson","M","2014-15","Robertson, Brian","NA",""]
["Western Ontario",105674,"Taylor","Stephens","F","2019-20","Stephens, Taylor","NA",""]
["Western Ontario",105686,"Janice","Greenaway","F","2017-18","Greenaway, Janice","NA",""]
["Central Ontario",105691,"Shirley","Rumohr","F","2010-11","Rumohr, Shirley","NA",""]
["Central Ontario",105704,"Bill","Schwemlein","M","2019-20","Schwemlein, Bill","NA",""]
["Central Ontario",105707,"Rose","Seago","F","2023-24","Seago, Rose",102,""]
["Ontario Durham",105720,"Sam","Mcisaac","F","2017-18","Mcisaac, Sam","NA",""]
["Kawartha Lakes",105731,"Briana","Hertendy","F","2024-25","Hertendy, Briana",176,""]
["Central Ontario",105738,"Danielle","Smith","F","2024-25","Smith, Danielle",131,""]
["Ontario Durham",105745,"Allan","Gourd","M","2017-18","Gourd, Allan","NA",""]
["Central Ontario",105758,"Marco","Stellato","M","2020-21","Stellato, Marco","NA",""]
["Niagara Peninsula",105763,"Belinda","Souder","F","2019-20","Souder, Belinda","NA",""]
["Niagara Peninsula",105776,"Melissa","Warankie","F","2016-17","Warankie, Melissa","NA",""]
["Central Ontario",105779,"Gregory","Szymus","M","2024-25","Szymus, Gregory",126,""]
["Niagara Peninsula",105786,"Steve","Warankie","M","2023-24","Warankie, Steve",191,""]
["Central Ontario",105802,"Alex","Thompson","M","2011-12","Thompson, Alex","NA",""]
["Central Ontario",105809,"Sue","Tobin","F","2010-11","Tobin, Sue","NA",""]
["Huronia",105816,"Sandro","Di iorio","M","2017-18","Di iorio, Sandro","NA",""]
["York Simcoe",105823,"Roman","Dipede","M","2015-16","Dipede, Roman","NA",""]
["Huronia",105830,"John","Langridge","M","2017-18","Langridge, John","NA",""]
["Huronia",105846,"Amanda","Royal","F","2018-19","Royal, Amanda","NA",""]
["York Simcoe",105849,"Michael","Petti","M","2015-16","Petti, Michael","NA",""]
["York Simcoe",105862,"Sam","Rockmaker","M","2014-15","Rockmaker, Sam","NA",""]
["Huronia",105867,"Judy","Gallacher","F","2018-19","Gallacher, Judy","NA",""]
["York Simcoe",105879,"Renee","Sowden","F","2017-18","Sowden, Renee","NA",""]
["Central Ontario",105886,"Dave","Williams","M","2012-13","Williams, Dave","NA",""]
["York Simcoe",105893,"Wayne","Fletcher","M","2023-24","Fletcher, Wayne",122,""]
["Huronia",105900,"Lillian","Davis","F","2017-18","Davis, Lillian","NA",""]
["Central Ontario",105916,"James","Young","M","2018-19","Young, James","NA",""]
["Middlesex Elgin",105919,"Paul","Blair","M","2021-22","Blair, Paul","NA",""]
["Middlesex Elgin",105932,"Don","Waldie","M","2020-21","Waldie, Don","NA",""]
["Niagara Peninsula",105937,"Joe","Lane","M","2017-18","Lane, Joe","NA",""]
["Niagara Peninsula",105951,"Alycia","Royer","F","2017-18","Royer, Alycia","NA",""]
["Central Ontario",105958,"Christine","Calleja","F","2011-12","Calleja, Christine","NA",""]
["Niagara Peninsula",105965,"Natalie","Bennett","F","2017-18","Bennett, Natalie","NA",""]
["Niagara Peninsula",105976,"Michelle","Lacey","F","2017-18","Lacey, Michelle","NA",""]
["Grand River",105988,"Krystal","Graham","F","2024-25","Graham, Krystal",210,""]
["Bay of Quinte",105991,"Christina","Moore","F","2017-18","Moore, Christina","NA",""]
["York Simcoe",106004,"John","Hopkinson","M","2017-18","Hopkinson, John","NA",""]
["Central Ontario",106009,"Mitch","Lolli","M","2024-25","Lolli, Mitch",120,""]
["Central Ontario",106021,"Christian","Muccelli","M","2010-11","Muccelli, Christian","NA",""]
["Huronia",106028,"Debbie","Patey","F","2012-13","Patey, Debbie","NA",""]
["York Simcoe",106035,"Brandon","Pike","M","2021-22","Pike, Brandon","NA",""]
["Grand River",106046,"Cathy","Liani","F","2017-18","Liani, Cathy","NA",""]
["Grand River",106058,"Gloria","Doering","F","2017-18","Doering, Gloria","NA",""]
["Ottawa Valley",106061,"Sonia","Acres","F","2011-12","Acres, Sonia","NA",""]
["Ottawa Valley",106074,"Geri","Alger","F","2012-13","Alger, Geri","NA",""]
["Grand River",106079,"Marilyn","Schmidt","F","2017-18","Schmidt, Marilyn","NA",""]
["Ottawa Valley",106086,"Laurie","Arcand","F","2010-11","Arcand, Laurie","NA",""]
["York Simcoe",106098,"Karin","Hansson (dec.)","F","2020-21","Hansson (dec.), Karin","NA",""]
["Ottawa Valley",106105,"Nancy","Badali","F","2019-20","Badali, Nancy","NA",""]
["Ottawa Valley",106116,"John","Barry","M","2017-18","Barry, John","NA",""]
["Metro Toronto",106128,"Vicki","Baker","F","2019-20","Baker, Vicki","NA",""]
["York Simcoe",106132,"Stan","Marshall","M","2018-19","Marshall, Stan","NA",""]
["York Simcoe",106145,"Ken","Ross (dec.)","M","2019-20","Ross (dec.), Ken","NA",""]
["York Simcoe",106150,"Ed","Sackfield","M","2017-18","Sackfield, Ed","NA",""]
["Ottawa Valley",106157,"Carole","Blais","F","2017-18","Blais, Carole","NA",""]
["York Simcoe",106169,"Yvonne","Smith","F","2024-25","Smith, Yvonne",108,""]
["Bay of Quinte",106176,"Wayne","Ayling","M","2023-24","Ayling, Wayne",197,""]
["Ottawa Valley",106188,"Jeff","Brown","M","2019-20","Brown, Jeff",193,""]
["Ottawa Valley",106200,"Laurene","Button","F","2017-18","Button, Laurene","NA",""]
["Kawartha Lakes",106206,"Bill","Marquard","M","2018-19","Marquard, Bill","NA",""]
["York Simcoe",106209,"Marguerite","Umbach","F","2019-20","Umbach, Marguerite","NA",""]
["Kawartha Lakes",106221,"Nikki","Jones","F","2017-18","Jones, Nikki","NA",""]
["Huronia",106228,"Gregory","Cousineau","M","2015-16","Cousineau, Gregory","NA",""]
["Huronia",106237,"Shawn","Mckinlay","M","2014-15","Mckinlay, Shawn","NA",""]
["Ottawa Valley",106251,"Victor","Collins","M","2024-25","Collins, Victor",240,""]
["Kawartha Lakes",106259,"Amanda","Grylls","F","2024-25","Grylls, Amanda",178,""]
["Huronia",106272,"Jennifer","Bolton","F","2014-15","Bolton, Jennifer","NA",""]
["Ottawa Valley",106278,"Gerry","Daigneault","M","2010-11","Daigneault, Gerry","NA",""]
["Ottawa Valley",106281,"Lynn","Dagleish","F","2013-14","Dagleish, Lynn","NA",""]
["Niagara Peninsula",106293,"Brad","Maurice","M","2024-25","Maurice, Brad",239,""]
["Western Ontario",106300,"Cathy","Boyce","F","2018-19","Boyce, Cathy","NA",""]
["Ottawa Valley",106309,"John","Domenico","M","2019-20","Domenico, John","NA",""]
["Ottawa Valley",106324,"Ivy","Dunn","F","2010-11","Dunn, Ivy","NA",""]
["Huronia",106331,"George","Mccron","M","2016-17","Mccron, George","NA",""]
["Huronia",106343,"Sam","Slessor","M","2014-15","Slessor, Sam","NA",""]
["Ottawa Valley",106349,"Andy","Ferguson","F","2019-20","Ferguson, Andy","NA",""]
["Ottawa Valley",106352,"Joanne","Finley","F","2014-15","Finley, Joanne","NA",""]
["Ottawa Valley",106364,"Penny","Forsythe","F","2010-11","Forsythe, Penny","NA",""]
["Hamilton",106371,"Linda","Cholette","F","2017-18","Cholette, Linda","NA",""]
["Ottawa Valley",106381,"Gord","Garrow","M","2010-11","Garrow, Gord","NA",""]
["Hamilton",106390,"Ryan","Dueck","M","2024-25","Dueck, Ryan",237,""]
["Ottawa Valley",106402,"Darlene","Gilson","F","2023-24","Gilson, Darlene",177,""]
["Bay of Quinte",106414,"Myrle","Mcrae","M","2014-15","Mcrae, Myrle","NA",""]
["Bay of Quinte",106422,"Dianna","Rodgers","F","2014-15","Rodgers, Dianna","NA",""]
["Ottawa Valley",106425,"Laurie","Groulx","F","2019-20","Groulx, Laurie","NA",""]
["Bay of Quinte",106437,"Larry","Henderson","M","2014-15","Henderson, Larry","NA",""]
["Ottawa Valley",106445,"John","Heyden","M","2015-16","Heyden, John","NA",""]
["Ottawa Valley",106454,"Robert","Hoger","M","2024-25","Hoger, Robert",211,""]
["Ottawa Valley",106463,"Colleen","Bull","F","2023-24","Bull, Colleen",196,""]
["Ottawa Valley",106476,"Rosemary","Irvine","F","2012-13","Irvine, Rosemary","NA",""]
["Hamilton",106488,"Jenn","Burge","F","2017-18","Burge, Jenn","NA",""]
["Ottawa Valley",106494,"Norris","Johnston","M","2019-20",{"$f":"D6658&\", \"&C6658","v":"Johnston, Norris"},"NA",""]
["Central Ontario",106497,"Avia","Goffe","F","2015-16","Goffe, Avia","NA",""]
["Hamilton",106509,"Kevin","Moning","M","2017-18","Moning, Kevin","NA",""]
["Hamilton",106516,"Mark","Everson","M","2017-18","Everson, Mark","NA",""]
["Huronia",106525,"Russ","Holmes","M","2019-20","Holmes, Russ","NA",""]
["Huronia",106534,"Heather","Pratt","F","2018-19","Pratt, Heather","NA",""]
["Ottawa Valley",106546,"Dave","Laska","M","2015-16","Laska, Dave","NA",""]
["Ottawa Valley",106558,"Jim","Reynolds","M","2020-21",{"$f":"D6722&\", \"&C6722","v":"Reynolds, Jim"},"NA",""]
["Ottawa Valley",106564,"Neil","Shepherd","M","2019-20","Shepherd, Neil","NA",{"$f":"IF(G6728=G6727,\"Same\",\"\")","v":""}]
["Ottawa Valley",106567,"Steve","Argue","M","2018-19","Argue, Steve","NA",""]
["Ottawa Valley",106583,"Devon","Broad","M","2021-22","Broad, Devon","NA",""]
["Huronia",106586,"Jim","Hill","M","2018-19","Hill, Jim","NA",""]
["Ottawa Valley",106595,"Yanick","Proulx","M","2018-19","Proulx, Yanick","NA",""]
["Ottawa Valley",106604,"Brian","Major","M","2013-14","Major, Brian","NA",""]
["Huronia",106616,"Jared","Eberschlag","M","2014-15","Eberschlag, Jared","NA",""]
["Ottawa Valley",106624,"Ian","Mcdonald","M","2011-12","Mcdonald, Ian","NA",""]
["Ottawa Valley",106634,"Robert","Mcnally","M","2019-20","Mcnally, Robert","NA",""]
["Ottawa Valley",106637,"Bernie","Menard","M","2024-25","Menard, Bernie",235,""]
["Ottawa Valley",106653,"Chris","Moody","F","2024-25","Moody, Chris",105,""]
["York Simcoe",106655,"Andrea","Harris","F","2017-18","Harris, Andrea","NA",""]
["Ottawa Valley",106667,"Heather","Murdock","F","2017-18","Murdock, Heather","NA",""]
["Huronia",106675,"Karen","Ross","F","2021-22","Ross, Karen","NA",""]
["Ottawa Valley",106687,"Rick","Mousseau","M","2017-18",{"$f":"D6850&\", \"&C6850","v":"Mousseau, Rick"},"NA",""]
["Ottawa Valley",106695,"Alain","Lalonde","M","2022-23","Lalonde, Alain",156,""]
["Huronia",106705,"Sandy","Scrannage","F","2014-15","Scrannage, Sandy","NA",""]
["Ottawa Valley",106708,"Rob","Carisse","M","2017-18","Carisse, Rob","NA",""]
["Huronia",106724,"Tina","Legault","F","2014-15","Legault, Tina","NA",""]
["Ottawa Valley",106726,"Jonathan","Piche","M","2024-25","Piche, Jonathan","NA",""]
["Grand River",106739,"Marino","Gazzola","M","2017-18","Gazzola, Marino","NA",""]
["Ottawa Valley",106746,"Terry","Pratt","M","2017-18","Pratt, Terry","NA",""]
["Ottawa Valley",106758,"Karen","Quesnel","F","2012-13","Quesnel, Karen","NA",{"$f":"IF(G6920=G6919,\"Same\",\"\")","v":""}]
["Ontario Durham",106767,"Kyle","Meyers","M","2014-15","Meyers, Kyle","NA",""]
["Ottawa Valley",106777,"Sandra","Robb","F","2016-17","Robb, Sandra","NA",""]
["Ontario Durham",106780,"Matt","Moreton","M","2014-15","Moreton, Matt","NA",""]
["York Simcoe",106796,"Darryl","Begg","M","2024-25","Begg, Darryl",197,""]
["Ottawa Valley",106798,"Solange","Sakalauskas","F","2018-19","Sakalauskas, Solange","NA",""]
["Ottawa Valley",106810,"Warren","Scherr","M","2024-25","Scherr, Warren",172,""]
["Ottawa Valley",106817,"Kelly","Sears-cluff","F","2019-20",{"$f":"D6978&\", \"&C6978","v":"Sears-cluff, Kelly"},"NA",""]
["Ottawa Valley",106829,"Bruce","Sheridan","M","2010-11","Sheridan, Bruce","NA",""]
["Huronia",106837,"Rick","Beattie","M","2017-18","Beattie, Rick","NA",""]
["Ontario Durham",106848,"Martin","O'brien","M","2014-15","O'brien, Martin","NA",""]
["Ottawa Valley",106851,"Winnie","Spires","F","2024-25","Spires, Winnie","NA",""]
["Ottawa Valley",106867,"Mike","Stork","M","2024-25","Stork, Mike",199,""]
["Ottawa Valley",106869,"Neil","Strober","M","2021-22","Strober, Neil","NA",""]
["Ottawa Valley",106885,"Tammy","Taylor","F","2011-12","Taylor, Tammy","NA",""]
["Ontario Durham",106888,"Kevin","Rayfield","M","2019-20","Rayfield, Kevin","NA",{"$f":"IF(G7048=G7047,\"Same\",\"\")","v":""}]
["Kawartha Lakes",106900,"Brian","Mctaggart","M","2024-25","Mctaggart, Brian",127,""]
["Ottawa Valley",106908,"Donna","Tugnett","F","2010-11","Tugnett, Donna","NA",""]
["Kawartha Lakes",106918,"Richard","Mistelbacher","M","2024-25","Mistelbacher, Richard",132,""]
["Ontario Durham",106921,"Sarah","Clayon","F","2014-15","Clayon, Sarah","NA",""]
["Ottawa Valley",106937,"Robert","Watt","M","2015-16","Watt, Robert","NA",""]
["Kawartha Lakes",106939,"Randy","Mcinnes","M","2019-20","Mcinnes, Randy","NA",""]
["Kawartha Lakes",106955,"Eldon","Adams","M","2017-18","Adams, Eldon","NA",""]
["Ottawa Valley",106958,"John","White","M","2024-25","White, John",248,""]
["Ottawa Valley",106970,"Chris","Jung","M","2010-11","Jung, Chris","NA",""]
["Kawartha Lakes",106978,"Glen","Haskett","M","2019-20","Haskett, Glen","NA",""]
["Kawartha Lakes",106988,"Jen","Krauss","F","2017-18","Krauss, Jen","NA",""]
["Kawartha Lakes",106991,"Nancy","Whitehead","F","2017-18","Whitehead, Nancy","NA",""]
["Hamilton",107007,"Laura","Dechaine","F","2018-19","Dechaine, Laura","NA",""]
["Ottawa Valley",107009,"Gwen","St. louis","F","2010-11","St. louis, Gwen","NA",""]
["Hamilton",107025,"Deb","Clairemont","F","2017-18","Clairemont, Deb","NA",""]
["Hamilton",107028,"Tom","Pereira","M","2017-18","Pereira, Tom","NA",""]
["York Simcoe",107038,"Noel","Wolanski","M","2017-18","Wolanski, Noel","NA",""]
["Grand River",107046,"Rob","Henning","M","2018-19","Henning, Rob","NA",""]
["Central Ontario",107058,"Denver","Carter","M","2017-18","Carter, Denver","NA",""]
["Ottawa Valley",107065,"Ron","O'jaick","M","2016-17","O'jaick, Ron","NA",""]
["Grand River",107077,"Darryl","Vaters","M","2018-19","Vaters, Darryl","NA",""]
["Grand River",107079,"Paul","Cluff","M","2020-21","Cluff, Paul","NA",""]
["Western Ontario",107095,"Sara","Macgregor","F","2019-20","Macgregor, Sara","NA",""]
["Ottawa Valley",107098,"Brad","Bergstrand","M","2012-13","Bergstrand, Brad","NA",""]
["Metro Toronto",107108,"Wayne","Cook","M","2019-20","Cook, Wayne","NA",""]
["Ottawa Valley",107116,"Denis","Berube","M","2011-12","Berube, Denis","NA",""]
["Ontario Durham",107128,"Clark","Leary","M","2018-19","Leary, Clark","NA",""]
["Ottawa Valley",107135,"Charlotte","Cowie","F","2023-24","Cowie, Charlotte",112,""]
["Ottawa Valley",107147,"David","Anderson","M","2022-23","Anderson, David",212,""]
["Grand River",107149,"Nikkolas","Jackson","M","2024-25","Jackson, Nikkolas",238,""]
["Ontario Durham",107166,"Jason","Blake","M","2014-15","Blake, Jason","NA",""]
["Bay of Quinte",107169,"Scot","Richter","M","2014-15","Richter, Scot","NA",""]
["Bay of Quinte",107179,"Jennifer","Bahlieda","F","2024-25","Bahlieda, Jennifer",211,""]
["Metro Toronto",107187,"Carol","Blachford","F","2023-24","Blachford, Carol",189,""]
["Central Ontario",107199,"Donna","Burley","F","2019-20","Burley, Donna","NA",""]
["Ontario Durham",107206,"Sam","Canarella","M","2013-14","Canarella, Sam","NA",""]
["Bay of Quinte",107218,"Jack","Brunton","M","2014-15","Brunton, Jack","NA",""]
["Huronia",107220,"Ron","Coombs","M","2021-22","Coombs, Ron","NA",""]
["Metro Toronto",107236,"Phil","Doble","M","2012-13","Doble, Phil","NA",""]
["Bay of Quinte",107239,"Vicky","Therrien","F","2014-15","Therrien, Vicky","NA",""]
["Bay of Quinte",107249,"Jamie","Cotter","F","2014-15","Cotter, Jamie","NA",""]
["Metro Toronto",107258,"Debbie","Fogelman","F","2010-11","Fogelman, Debbie","NA",""]
["Bay of Quinte",107272,"Stephen","Mcgeein","M","2015-16","Mcgeein, Stephen","NA",""]
["Metro Toronto",107279,"Joe","Hamilton","M","2013-14","Hamilton, Joe","NA",""]
["Metro Toronto",107292,"Loretta","Hotton","F","2013-14","Hotton, Loretta","NA",""]
["Central Ontario",107294,"Eric","Bradley","M","2023-24","Bradley, Eric",168,""]
["Metro Toronto",107310,"Linda","Keeping-morris","F","2013-14","Keeping-morris, Linda","NA",""]
["Metro Toronto",107314,"Bill","Kilgour","M","2019-20","Kilgour, Bill","NA",""]
["Central Ontario",107324,"Des","Clarke","M","2019-20","Clarke, Des","NA",""]
["Ottawa Valley",107332,"Dan","Stankovic","M","2015-16","Stankovic, Dan","NA",""]
["Metro Toronto",107345,"Mark","Mccauley","M","2024-25","Mccauley, Mark",190,""]
["York Simcoe",107352,"Gary","Medhurst","M","2024-25","Medhurst, Gary","NA",""]
["Metro Toronto",107364,"Greg","Darling","M","2019-20","Darling, Greg","NA",""]
["Ottawa Valley",107370,"Josephine","Stoddard","F","2018-19","Stoddard, Josephine","NA",""]
["Ottawa Valley",107383,"Colette","Hiscott","F","2018-19","Hiscott, Colette","NA",""]
["Ottawa Valley",107386,"Louisa","Green","F","2019-20","Green, Louisa","NA",""]
["Metro Toronto",107396,"Debbie","Reesor","F","2011-12","Reesor, Debbie","NA",""]
["Ottawa Valley",107404,"Francine","Desjardins","F","2017-18","Desjardins, Francine","NA",""]
["Bay of Quinte",107416,"Rita","Sabourin","F","2021-22","Sabourin, Rita","NA",""]
["Metro Toronto",107425,"Wesley","Smith","M","2019-20","Smith, Wesley","NA",""]
["Niagara Peninsula",107434,"Ashley","Ruddy","F","2021-22","Ruddy, Ashley","NA",""]
["Huronia",107441,"Dianne","Mcrae","F","2022-23","Mcrae, Dianne",105,""]
["Metro Toronto",107453,"Marvin","Varela","M","2019-20","Varela, Marvin","NA",""]
["Niagara Peninsula",107456,"George","Groff","M","2022-23","Groff, George",120,""]
["Niagara Peninsula",107462,"Rod","Lee","M","2022-23","Lee, Rod","NA",""]
["Metro Toronto",107475,"Larry","Wootton","M","2019-20","Wootton, Larry","NA",""]
["Metro Toronto",107487,"Jean marc","Sylvestre","M","2011-12","Sylvestre, Jean marc","NA",""]
["Central Ontario",107496,"Gordon","Best","M","2019-20","Best, Gordon","NA",""]
["Huronia",107505,"Stacy","Keenan","F","2024-25","Keenan, Stacy",224,""]
["Metro Toronto",107512,"Lianne","Defranco","F","2010-11","Defranco, Lianne","NA",""]
["Metro Toronto",107525,"Shayne","Widawski","M","2012-13","Widawski, Shayne","NA",""]
["Middlesex Elgin",107528,"Pat","Alexander","M","2010-11","Alexander, Pat","NA",""]
["Niagara Peninsula",107534,"Lori","Ivankovich","F","2014-15","Ivankovich, Lori","NA",""]
["Middlesex Elgin",107546,"Marcus","Appleman","M","2010-11","Appleman, Marcus","NA",""]
["Huronia",107553,"Justin","Souch","M","2024-25","Souch, Justin",209,""]
["Middlesex Elgin",107567,"Doug","Beaudoin","M","2011-12","Beaudoin, Doug","NA",""]
["Niagara Peninsula",107576,"Jacques","Levac","M","2023-24","Levac, Jacques",168,""]
["Huronia",107583,"Dan","Brett","M","2024-25","Brett, Dan",149,""]
["Middlesex Elgin",107595,"Richard","Bolton","M","2011-12","Bolton, Richard","NA",""]
["Niagara Peninsula",107598,"Marion","Kormos","F","2019-20","Kormos, Marion","NA",""]
["Middlesex Elgin",107604,"Carl","Brus","M","2019-20","Brus, Carl","NA",""]
["Ontario Durham",107616,"Edward","Richard","M","2019-20","Richard, Edward","NA",""]
["Ontario Durham",107623,"Sandra","Parrington","F","2018-19","Parrington, Sandra","NA",""]
["Ontario Durham",107637,"Kim","Beattie","F","2019-20","Beattie, Kim","NA",""]
["Middlesex Elgin",107646,"Bob","Cuttell","M","2018-19","Cuttell, Bob","NA",""]
["Ontario Durham",107654,"Marianne","Vanderheyden","F","2024-25","Vanderheyden, Marianne",137,""]
["Middlesex Elgin",107666,"Kevin","Dhaen","M","2024-25","Dhaen, Kevin",232,""]
["Ottawa Valley",107669,"Shannon","Brownrigg","F","2014-15","Brownrigg, Shannon","NA",""]
["Middlesex Elgin",107675,"Harry","Doxtator","M","2011-12","Doxtator, Harry","NA",""]
["Ontario Durham",107687,"Chris","Finochiaro","M","2018-19","Finochiaro, Chris","NA",""]
["Middlesex Elgin",107694,"Bucky","Faulkner","M","2024-25","Faulkner, Bucky",218,""]
["Middlesex Elgin",107708,"Ron","Forth","M","2012-13","Forth, Ron","NA",""]
["Middlesex Elgin",107717,"Sam","Fullerton","M","2019-20","Fullerton, Sam","NA",""]
["Middlesex Elgin",107724,"Frank","Garton","M","2019-20","Garton, Frank","NA",""]
["Grand River",107736,"Noreen","Johnston","F","2014-15","Johnston, Noreen","NA",""]
["Middlesex Elgin",107739,"Al","Graystone","M","2021-22","Graystone, Al","NA",""]
["Middlesex Elgin",107745,"Wayne","Handley","M","2018-19","Handley, Wayne","NA",""]
["Middlesex Elgin",107757,"John","Heegsma","M","2018-19","Heegsma, John","NA",""]
["Tri-County",107764,"Samantha","Moss","F","2014-15","Moss, Samantha","NA",""]
["Huronia",107778,"Jill","Snider","F","2018-19","Snider, Jill","NA",""]
["Huronia",107788,"Jim","Mcdoulton","M","2019-20","Mcdoulton, Jim","NA",""]
["Huronia",107795,"Mitchell","Tingey","M","2023-24","Tingey, Mitchell",220,""]
["York Simcoe",107808,"Chad","Fairfield","M","2015-16","Fairfield, Chad","NA",""]
["Middlesex Elgin",107812,"Darren","Knott","M","2016-17","Knott, Darren","NA",""]
["Middlesex Elgin",107818,"Sherry","Laframboise","F","2012-13","Laframboise, Sherry","NA",""]
["Middlesex Elgin",107830,"Brian","Lawrence","M","2024-25","Lawrence, Brian",200,""]
["Middlesex Elgin",107841,"Gerald","Morin","M","2016-17","Morin, Gerald","NA",""]
["Huronia",107848,"John","Brawley","M","2014-15","Brawley, John","NA",""]
["Middlesex Elgin",107855,"Shayne","Luscombe","M","2010-11","Luscombe, Shayne","NA",""]
["Middlesex Elgin",107867,"Shannon","Maracle","M","2014-15","Maracle, Shannon","NA",""]
["Middlesex Elgin",107872,"Ann","Martin","F","2011-12","Martin, Ann","NA",""]
["Middlesex Elgin",107885,"Alastair","Mcdonald","M","2013-14","Mcdonald, Alastair","NA",""]
["Hamilton",107888,"Jeremy","Bentley","M","2014-15","Bentley, Jeremy","NA",""]
["Hamilton",107900,"Will","Macdonell","M","2021-22","Macdonell, Will","NA",""]
["York Simcoe",107911,"Josh","Mauceri","M","2019-20","Mauceri, Josh","NA",""]
["Bay of Quinte",107918,"Becky","Moore","F","2011-12","Moore, Becky","NA",""]
["Middlesex Elgin",107925,"Ron","Mousley","M","2015-16","Mousley, Ron","NA",""]
["Metro Toronto",107937,"Lyndsay","Vair","F","2019-20","Vair, Lyndsay","NA",""]
["York Simcoe",107942,"Hailey","Mcintyre","F","2024-25","Mcintyre, Hailey",216,""]
["Middlesex Elgin",107955,"Herman","Wessell","M","2014-15","Wessell, Herman","NA",""]
["Middlesex Elgin",107958,"Crystal","Dixon","F","2019-20","Dixon, Crystal","NA",""]
["Middlesex Elgin",107970,"Don","Rawlings","M","2012-13","Rawlings, Don","NA",""]
["Middlesex Elgin",107981,"Rocky","Robb","M","2014-15","Robb, Rocky","NA",""]
["Middlesex Elgin",107988,"Ivan","Horvat","M","2020-21","Horvat, Ivan","NA",""]
["Middlesex Elgin",107995,"Leo","Rozon","M","2019-20","Rozon, Leo","NA",""]
["Middlesex Elgin",108008,"Clare","Scheerer","M","2010-11","Scheerer, Clare","NA",""]
["Middlesex Elgin",108013,"Barb","Serle","F","2010-11","Serle, Barb","NA",""]
["Middlesex Elgin",108026,"Charlie","Smith","M","2018-19","Smith, Charlie","NA",""]
["Tri-County",108029,"Chantel","Mokrzycki","F","2017-18","Mokrzycki, Chantel","NA",""]
["Kawartha Lakes",108045,"Courtney","Campbell","F","2024-25","Campbell, Courtney",163,""]
["Middlesex Elgin",108052,"Bruce","Tapp","M","2015-16","Tapp, Bruce","NA",""]
["Metro Toronto",108060,"Mike","O'leary","M","2024-25","O'leary, Mike",203,""]
["Huronia",108067,"Jeff","Zummach","M","2014-15","Zummach, Jeff","NA",""]
["Bay of Quinte",108079,"Vicki","Essert","F","2019-20","Essert, Vicki","NA",""]
["Ottawa Valley",108084,"Jesse","Kean","F","2018-19","Kean, Jesse","NA",""]
["Middlesex Elgin",108098,"Ed","Walter","M","2015-16","Walter, Ed","NA",""]
["Middlesex Elgin",108101,"Rita","Wayner","F","2020-21","Wayner, Rita","NA",""]
["Middlesex Elgin",108117,"Ian","Wilton","M","2019-20","Wilton, Ian","NA",""]
["Niagara Peninsula",108124,"Hollie","Middlebrook","F","2019-20","Middlebrook, Hollie","NA",""]
["Niagara Peninsula",108131,"Marcel","Champagne","M","2023-24","Champagne, Marcel",176,""]
["Middlesex Elgin",108138,"Tim","Caudle","M","2011-12","Caudle, Tim","NA",""]
["Middlesex Elgin",108150,"Bob","Pellow","M","2024-25","Pellow, Bob",218,""]
["Niagara Peninsula",108155,"Jerry","Sager","M","2023-24","Sager, Jerry",146,""]
["Niagara Peninsula",108168,"Wendy","Robins","M","2018-19","Robins, Wendy","NA",""]
["Niagara Peninsula",108171,"Jay","Anger","M","2010-11","Anger, Jay","NA",""]
["Niagara Peninsula",108187,"Mylene","Asselin","F","2012-13","Asselin, Mylene","NA",""]
["Huronia",108194,"Laura","Macham","F","2018-19","Macham, Laura","NA",""]
["Niagara Peninsula",108202,"Wanda","Austin","F","2022-23","Austin, Wanda",136,""]
["Bay of Quinte",108209,"Doug","Bennett","M","2024-25","Bennett, Doug",175,""]
["Niagara Peninsula",108217,"Wayne","Barre","M","2013-14","Barre, Wayne","NA",""]
["Niagara Peninsula",108229,"Diane","Beasley","F","2011-12","Beasley, Diane","NA",""]
["Huronia",108241,"Cathy","Roelofson","F","2018-19","Roelofson, Cathy","NA",""]
["Huronia",108244,"Christine","Montgomery","F","2018-19","Montgomery, Christine","NA",""]
["Huronia",108257,"Cheryl","Campbell","F","2015-16","Campbell, Cheryl","NA",""]
["Huronia",108262,"Marianne","Templeman","F","2024-25","Templeman, Marianne",124,""]
["Niagara Peninsula",108275,"Helen","Biro","F","2013-14","Biro, Helen","NA",""]
["Niagara Peninsula",108282,"Eileen","Boccabella","F","2011-12","Boccabella, Eileen","NA",""]
["Niagara Peninsula",108289,"Anne","Flikkema","M","2015-16","Flikkema, Anne","NA",""]
["Niagara Peninsula",108300,"Noella","Bottenfield","F","2010-11","Bottenfield, Noella","NA",""]
["Huronia",108312,"Rebecca","Doyle","F","2018-19","Doyle, Rebecca","NA",""]
["Niagara Peninsula",108315,"Gloria","Braithwaite","F","2010-11","Braithwaite, Gloria","NA",""]
["Niagara Peninsula",108328,"Penny","Brown","F","2010-11","Brown, Penny","NA",""]
["Central Ontario",108333,"Luke","Abraham","M","2018-19","Abraham, Luke","NA",""]
["Ontario Durham",108349,"Cindy","Gamble","F","2020-21","Gamble, Cindy","NA",""]
["Niagara Peninsula",108352,"Sherry","Lutes","F","2015-16","Lutes, Sherry",186,""]
["Bay of Quinte",108359,"Cara","Tripp","F","2019-20","Tripp, Cara","NA",""]
["Niagara Peninsula",108370,"Barb","Chambers","F","2022-23","Chambers, Barb",120,""]
["Bay of Quinte",108383,"Jerica","Hawkins","F","2018-19","Hawkins, Jerica","NA",""]
["Niagara Peninsula",108386,"Fred","Ciantar","M","2023-24","Ciantar, Fred",143,""]
["Niagara Peninsula",108399,"Diane","Colquhoun","F","2010-11","Colquhoun, Diane","NA",""]
["Huronia",108404,"Don","Fleming","M","2014-15","Fleming, Don","NA",""]
["Ottawa Valley",108421,"Larry","Leblanc","M","2018-19","Leblanc, Larry","NA",""]
["Niagara Peninsula",108424,"Gerry","Cote","M","2011-12","Cote, Gerry","NA",""]
["Ontario Durham",108431,"Jack","Slyford","M","2024-25","Slyford, Jack",122,""]
["Niagara Peninsula",108442,"Tom","Cullen","M","2024-25","Cullen, Tom",244,""]
["Niagara Peninsula",108454,"Paul","D'archie","M","2011-12","D'archie, Paul","NA",""]
["York Simcoe",108461,"Anna maria","Cuoppolo","F","2015-16","Cuoppolo, Anna maria","NA",""]
["Ottawa Valley",108471,"Nathan","Gadde","M","2018-19","Gadde, Nathan","NA",""]
["Niagara Peninsula",108476,"Heidi","Detenbeck","F","2013-14","Detenbeck, Heidi","NA",""]
["Niagara Peninsula",108492,"Hugh","Donaldson","M","2013-14","Donaldson, Hugh","NA",""]
["York Simcoe",108495,"Harold","Froude","M","2018-19","Froude, Harold","NA",""]
["Kawartha Lakes",108502,"Ryan","Drinkwalter","M","2012-13","Drinkwalter, Ryan","NA",""]
["Niagara Peninsula",108513,"Laurie","Dutcher","F","2011-12","Dutcher, Laurie","NA",""]
["Grand River",108525,"Marlene","Knechtel","F","2014-15","Knechtel, Marlene","NA",""]
["Niagara Peninsula",108532,"Mike","Biewer","M","2018-19","Biewer, Mike","NA",""]
["Niagara Peninsula",108541,"Pauline","Falardeau","M","2011-12","Falardeau, Pauline","NA",""]
["Ottawa Valley",108546,"Michael","Stead","M","2015-16","Stead, Michael","NA",""]
["Niagara Peninsula",108562,"Jean-guy","Fontaine","M","2015-16","Fontaine, Jean-guy","NA",""]
["Niagara Peninsula",108565,"Julie","Frank","F","2021-22","Frank, Julie","NA",""]
["Niagara Peninsula",108572,"Andrea","Disher","F","2021-22","Disher, Andrea","NA",""]
["Niagara Peninsula",108584,"Huntleia","Gale","F","2010-11","Gale, Huntleia","NA",""]
["Niagara Peninsula",108599,"Cheryl","Giroux","F","2010-11","Giroux, Cheryl","NA",""]
["Middlesex Elgin",108606,"Carolyn","Breninck","F","2019-20","Breninck, Carolyn","NA",""]
["Niagara Peninsula",108615,"Shane","Gough","M","2011-12","Gough, Shane","NA",""]
["Niagara Peninsula",108620,"John","Grant","M","2010-11","Grant, John","NA",""]
["Niagara Peninsula",108636,"Joe","Brooker","M","2019-20","Brooker, Joe","NA",""]
["Niagara Peninsula",108644,"Tiffany","Miller","F","2019-20","Miller, Tiffany","NA",{"$f":"IF(G8776=G8775,\"Same\",\"\")","v":""}]
["Niagara Peninsula",108645,"Beryl","Guillemette","F","2022-23","Guillemette, Beryl","NA",""]
["Hamilton",108657,"Don","Harada","M","2019-20","Harada, Don","NA",""]
["Grand River",108670,"Jack","Ersman","M","2018-19","Ersman, Jack","NA",""]
["Niagara Peninsula",108676,"Carl","Hofstede","M","2013-14","Hofstede, Carl","NA",""]
["Central Ontario",108689,"Jasmine","Saroya","F","2019-20","Saroya, Jasmine","NA",""]
["Niagara Peninsula",108692,"Carol","Horton","F","2015-16","Horton, Carol","NA",""]
["Niagara Peninsula",108708,"Julia","Iannandrea","F","2013-14","Iannandrea, Julia","NA",""]
["Middlesex Elgin",108716,"Ron","Devos","M","2024-25","Devos, Ron",204,""]
["Middlesex Elgin",108717,"Josh","Labute","M","2019-20","Labute, Josh","NA",""]
["Niagara Peninsula",108730,"Jeanette","Kamendy","F","2012-13","Kamendy, Jeanette","NA",""]
["Western Ontario",108742,"Oleysha","Lozynska","F","2019-20","Lozynska, Oleysha","NA",""]
["Western Ontario",108748,"Nancy","Jankovic","F","2022-23","Jankovic, Nancy",159,""]
["Kawartha Lakes",108760,"John","Lyons","M","2018-19","Lyons, John","NA",""]
["Bay of Quinte",108763,"Mike","Campanaro","M","2021-22","Campanaro, Mike","NA",""]
["Middlesex Elgin",108779,"Rob","Mcdonald","M","2018-19","Mcdonald, Rob","NA",""]
["Niagara Peninsula",108787,"Marcel","Lecompte","M","2018-19","Lecompte, Marcel","NA",""]
["Niagara Peninsula",108788,"Dilys","Lees","M","2010-11","Lees, Dilys","NA",""]
["Grand River",108800,"Gary","Tripp","M","2022-23","Tripp, Gary",220,""]
["Bay of Quinte",108813,"Jim","Davis","M","2012-13","Davis, Jim","NA",""]
["Central Ontario",108819,"Brandon","Khan","M","2023-24","Khan, Brandon",166,""]
["Niagara Peninsula",108831,"Ryan","Dudley","M","2019-20","Dudley, Ryan","NA",""]
["York Simcoe",108838,"Dylan","Buchanan","M","2018-19","Buchanan, Dylan","NA",""]
["York Simcoe",108850,"Dave","Hannon","M","2023-24","Hannon, Dave",143,""]
["Niagara Peninsula",108858,"Terry","Mcconnell","M","2012-13","Mcconnell, Terry","NA",""]
["Central Ontario",108859,"David jr.","Blair","M","2019-20","Blair, David jr.","NA",""]
["Niagara Peninsula",108871,"Bill","Mcmanus","M","2011-12","Mcmanus, Bill","NA",""]
["Niagara Peninsula",108883,"Leo","Mercier","M","2012-13","Mercier, Leo","NA",""]
["Niagara Peninsula",108889,"David","Michael","M","2023-24","Michael, David",251,""]
["Niagara Peninsula",108901,"Steve","Mills","M","2013-14","Mills, Steve","NA",""]
["Niagara Peninsula",108908,"Maureen","Montovani","F","2022-23","Montovani, Maureen","NA",""]
["Central Ontario",108921,"Mason","Hartley","M","2017-18","Hartley, Mason","NA",""]
["Central Ontario",108929,"Grant","Hartley","M","2017-18","Hartley, Grant","NA",""]
["Niagara Peninsula",108930,"Phyllis","Murray","F","2010-11","Murray, Phyllis","NA",""]
["Niagara Peninsula",108942,"Ron","Nagel","M","2015-16","Nagel, Ron","NA",""]
["Grand River",108950,"Melissa","Quelch","F","2018-19","Quelch, Melissa","NA",""]
["Niagara Peninsula",108961,"Henry","Nieuwold","M","2023-24","Nieuwold, Henry",249,""]
["Ontario Durham",108973,"Carolyn","Merola","F","2024-25","Merola, Carolyn",141,""]
["Ontario Durham",108980,"Chyvone","Samis","F","2019-20","Samis, Chyvone","NA",""]
["Ontario Durham",108992,"Shelly","Magee","F","2019-20","Magee, Shelly","NA",""]
["Huronia",109000,"Matt","Rouleau","M","2018-19","Rouleau, Matt","NA",""]
["Ontario Durham",109001,"Kelly","Pritchard","F","2015-16","Pritchard, Kelly","NA",""]
["Niagara Peninsula",109013,"Frank","Pietrangelo","M","2011-12","Pietrangelo, Frank","NA",""]
["Huronia",109021,"Vaclav","Sova","M","2018-19","Sova, Vaclav","NA",""]
["Huronia",109032,"Keith","Fortney","M","2018-19","Fortney, Keith","NA",""]
["Niagara Peninsula",109044,"Audrey","Prosser","F","2011-12","Prosser, Audrey","NA",""]
["Niagara Peninsula",109051,"Jon","Quirt","M","2010-11","Quirt, Jon","NA",""]
["Niagara Peninsula",109061,"Janice","Hack","F","2022-23","Hack, Janice",123,""]
["Niagara Peninsula",109065,"Rob","Repovs","M","2023-24","Repovs, Rob",218,""]
["Hamilton",109073,"Sandy","Morrison","F","2018-19","Morrison, Sandy","NA",""]
["Niagara Peninsula",109085,"Chantal","Robins","F","2018-19","Robins, Chantal","NA",""]
["Hamilton",109093,"Bev","Olds","F","2024-25","Olds, Bev",152,""]
["York Simcoe",109103,"Christina","Coughlin","F","2018-19","Coughlin, Christina","NA",""]
["York Simcoe",109115,"Tim","Crowe","M","2019-20","Crowe, Tim","NA",""]
["York Simcoe",109122,"Jim","Bailey","M","2018-19","Bailey, Jim","NA",""]
["Niagara Peninsula",109132,"Kim","Tensen","F","2014-15","Tensen, Kim","NA",""]
["Niagara Peninsula",109140,"Arnold","Serfas","M","2011-12","Serfas, Arnold","NA",""]
["Niagara Peninsula",109143,"Terry","Sgambato","M","2018-19","Sgambato, Terry","NA",""]
["Kawartha Lakes",109155,"Lisa marie","Rennick","F","2024-25","Rennick, Lisa marie",165,""]
["Niagara Peninsula",109163,"Hector","Smith","M","2012-13","Smith, Hector","NA",""]
["Niagara Peninsula",109173,"Sandie","Snively","F","2015-16","Snively, Sandie","NA",""]
["Niagara Peninsula",109186,"Cheryl","Spiers","F","2010-11","Spiers, Cheryl","NA",""]
["Niagara Peninsula",109193,"Diane","St. laurent","M","2014-15","St. laurent, Diane","NA",""]
["Kawartha Lakes",109203,"Lori","Mcknight","F","2018-19","Mcknight, Lori","NA",""]
["Niagara Peninsula",109211,"Isabel","Storin","F","2010-11","Storin, Isabel","NA",""]
["Kawartha Lakes",109214,"Melissa","Flagler","F","2019-20","Flagler, Melissa","NA",""]
["Niagara Peninsula",109226,"Patti","Sutton","F","2018-19","Sutton, Patti","NA",""]
["Niagara Peninsula",109234,"Ru","Tauro","M","2013-14","Tauro, Ru","NA",""]
["Niagara Peninsula",109244,"Robert","Terryberry","M","2022-23","Terryberry, Robert","NA",""]
["Kawartha Lakes",109256,"Nathan","Perneroski","M","2024-25","Perneroski, Nathan",152,""]
["Kawartha Lakes",109263,"Barbara","Sheffield","F","2021-22","Sheffield, Barbara","NA",""]
["Niagara Peninsula",109273,"Sherry","Tukacs","F","2010-11","Tukacs, Sherry","NA",""]
["Grand River",109281,"Geoff","Drennan","M","2019-20","Drennan, Geoff","NA",""]
["Niagara Peninsula",109284,"Steven","Vanderzee","M","2012-13","Vanderzee, Steven","NA",""]
["Hamilton",109296,"Dale","Slater","M","2018-19","Slater, Dale","NA",""]
["Niagara Peninsula",109304,"Kira","Waghorn","F","2010-11","Waghorn, Kira","NA",""]
["Niagara Peninsula",109315,"Terri","Watson","F","2010-11","Watson, Terri","NA",""]
["Niagara Peninsula",109322,"Janice","Webb","F","2019-20","Webb, Janice","NA",""]
["Niagara Peninsula",109334,"Noella","White","F","2018-19","White, Noella","NA",""]
["Niagara Peninsula",109345,"Ricky","Williams","M","2023-24","Williams, Ricky",218,""]
["Kawartha Lakes",109353,"Albert","Calhoun","M","2024-25",{"$f":"D9474&\", \"&C9474","v":"Calhoun, Albert"},120,""]
["Kawartha Lakes",109356,"Edna","Calhoun","F","2024-25","Calhoun, Edna",104,""]
["Niagara Peninsula",109368,"Gary","Archambault","M","2016-17","Archambault, Gary","NA",""]
["Huronia",109376,"Henry","Dennis","M","2018-19","Dennis, Henry","NA",""]
["Huronia",109386,"Betty","David","F","2019-20","David, Betty","NA",""]
["Niagara Peninsula",109393,"Jamie","Collee","M","2019-20","Collee, Jamie","NA",""]
["Niagara Peninsula",109405,"Kevin","Davie","M","2014-15","Davie, Kevin","NA",""]
["Kawartha Lakes",109415,"Julie","Clarke","F","2018-19","Clarke, Julie","NA",""]
["Central Ontario",109425,"Diane","Monaco","F","2019-20","Monaco, Diane","NA",{"$f":"IF(G9544=G9543,\"Same\",\"\")","v":""}]
["Central Ontario",109428,"Jennifer","Mellon","F","2024-25","Mellon, Jennifer",167,""]
["Niagara Peninsula",109438,"Kathy","Garratt","F","2010-11","Garratt, Kathy","NA",""]
["Central Ontario",109446,"Kim","Chalk","F","2019-20","Chalk, Kim","NA",""]
["Central Ontario",109458,"Marisa","Vega","F","2019-20","Vega, Marisa","NA",""]
["Niagara Peninsula",109465,"Josie","Koros","F","2016-17","Koros, Josie","NA",""]
["Niagara Peninsula",109477,"Pearl","Leone","F","2010-11","Leone, Pearl","NA",""]
["Central Ontario",109488,"Patricia","Scaglione","F","2019-20","Scaglione, Patricia","NA",""]
["Central Ontario",109495,"Stephanie","Krar","F","2024-25","Krar, Stephanie",90,""]
["Niagara Peninsula",109498,"Bob","Mcquiggan","M","2010-11","Mcquiggan, Bob","NA",""]
["Central Ontario",109508,"Ashley","Hamilton","F","2024-25","Hamilton, Ashley",111,""]
["Central Ontario",109516,"Emilio","Paternostrom","M","2019-20","Paternostrom, Emilio","NA",""]
["Niagara Peninsula",109528,"Colette","Smyth","F","2014-15","Smyth, Colette","NA",""]
["Niagara Peninsula",109535,"Maria","Stevens","F","2011-12","Stevens, Maria","NA",""]
["Niagara Peninsula",109547,"David","Theoret","M","2010-11",{"$f":"D9666&\", \"&C9666","v":"Theoret, David"},"NA",""]
["Grand River",109558,"Terry","Ethier","M","2019-20","Ethier, Terry","NA",""]
["Niagara Peninsula",109565,"Connie","Zita","F","2012-13","Zita, Connie","NA",""]
["Hamilton",109568,"Rick","Adams","M","2014-15","Adams, Rick","NA",""]
["Kawartha Lakes",109578,"Bob","Grandy","M","2024-25","Grandy, Bob",259,""]
["Central Ontario",109586,"Matteo","Dinola","M","2019-20","Dinola, Matteo","NA",""]
["Hamilton",109598,"Matt","Bates","M","2010-11","Bates, Matt","NA",""]
["Hamilton",109605,"Rick","Bender","M","2018-19","Bender, Rick","NA",""]
["Ontario Durham",109618,"Rachel","Vienneau","F","2019-20","Vienneau, Rachel","NA",{"$f":"IF(G9736=G9735,\"Same\",\"\")","v":""}]
["Ontario Durham",109624,"Jerry","Lynch","M","2019-20","Lynch, Jerry","NA",""]
["Middlesex Elgin",109636,"Bryan","Nelson","M","2019-20","Nelson, Bryan","NA",""]
["Hamilton",109639,"Dave","Boult","M","2014-15","Boult, Dave","NA",""]
["York Simcoe",109649,"Marcel","Lapierre","M","2023-24","Lapierre, Marcel",155,""]
["Hamilton, O5PBA",109657,"Susan","Burns","F","2024-25","Burns, Susan",195,""]
["Hamilton",109670,"Al","Cardwell","M","2011-12","Cardwell, Al","NA",""]
["Central Ontario",109677,"Kellie","Ashton","F","2019-20",{"$f":"D9794&\", \"&C9794","v":"Ashton, Kellie"},"NA",""]
["Middlesex Elgin",109689,"Ernie","Thorn","M","2019-20","Thorn, Ernie","NA",""]
["Hamilton",109695,"Mijanou","Connor","M","2014-15","Connor, Mijanou","NA",""]
["Huronia",109707,"Kirk","Stubbington","M","2019-20","Stubbington, Kirk","NA",""]
["Hamilton",109710,"Tracey","Cowman","F","2010-11","Cowman, Tracey","NA",""]
["Huronia",109720,"Carolyn","Hart","F","2024-25","Hart, Carolyn",154,""]
["Huronia",109728,"Sharon","Rampersaud","F","2019-20","Rampersaud, Sharon","NA",""]
["Huronia",109744,"Amanda","Pendleton","F","2019-20","Pendleton, Amanda","NA",""]
["Huronia",109747,"Bob","Ruppel","M","2019-20","Ruppel, Bob","NA",{"$f":"IF(G9864=G9863,\"Same\",\"\")","v":""}]
["Huronia",109759,"Adam","Columbus","M","2024-25","Columbus, Adam",187,""]
["Huronia",109765,"Gary","Marshall","M","2020-21","Marshall, Gary","NA",""]
["Huronia",109777,"Nick","Lacroix","M","2019-20","Lacroix, Nick","NA",""]
["Huronia",109780,"Will","Watts","M","2019-20","Watts, Will","NA",""]
["Huronia",109790,"Brenda","Whyte","F","2019-20","Whyte, Brenda","NA",""]
["Huronia",109798,"Jean","Gorcsi","F","2019-20","Gorcsi, Jean","NA",""]
["Hamilton",109814,"Mike","Forester","M","2015-16","Forester, Mike","NA",""]
["Huronia",109817,"Glenda","Duddy","F","2024-25","Duddy, Glenda",152,""]
["Huronia",109829,"Jeremy","Peden","M","2022-23","Peden, Jeremy",215,""]
["Huronia",109835,"Naomi","Deering","F","2019-20","Deering, Naomi","NA",""]
["Hamilton",109848,"Ross sr.","Gowers","M","2011-12","Gowers, Ross sr.","NA",""]
["Huronia",109851,"Vickie","Kellar","F","2019-20","Kellar, Vickie","NA",""]
["Huronia",109866,"Tom","Risko","M","2019-20","Risko, Tom","NA",""]
["Huronia",109869,"Sandy","Boyd","F","2019-20","Boyd, Sandy","NA",""]
["Hamilton",109885,"Fred","Heath","M","2009-10","Heath, Fred","NA",""]
["Hamilton",109890,"Stephanie","Hillmer","F","2014-15","Hillmer, Stephanie","NA",""]
["Ontario Durham",109899,"Denny","Atanowski","M","2024-25","Atanowski, Denny",108,""]
["Hamilton",109906,"Kevin","Hunt","M","2010-11","Hunt, Kevin","NA",""]
["Ontario Durham",109918,"Karen","Mitchell","F","2019-20","Mitchell, Karen","NA",""]
["Bay of Quinte",109921,"Lynn","Taylor","F","2019-20","Taylor, Lynn","NA",""]
["Hamilton",109936,"John","Kempson","M","2010-11","Kempson, John","NA",""]
["Hamilton",109939,"Darren","Kenny","M","2012-13","Kenny, Darren","NA",""]
["Central Ontario",109955,"Greg","Kozak","M","2024-25","Kozak, Greg",93,""]
["Central Ontario",109960,"Ariam","Haile","M","2024-25","Haile, Ariam",125,""]
["Hamilton",109969,"Dave","Locke","M","2010-11","Locke, Dave","NA",""]
["York Simcoe",109976,"Anthony","Delplavignano","M","2016-17","Delplavignano, Anthony","NA",""]
["Kawartha Lakes",109988,"Christy","Tuchscherer","F","2019-20","Tuchscherer, Christy","NA",""]
["Hamilton",109991,"Doug","Marshall","M","2011-12","Marshall, Doug","NA",""]
["York Simcoe",110006,"Millie","Figliano","F","2019-20","Figliano, Millie","NA",""]
["York Simcoe",110009,"Josica","Novicki","F","2019-20","Novicki, Josica","NA",""]
["York Simcoe",110025,"Jayme","Fear","F","2019-20","Fear, Jayme","NA",""]
["Hamilton",110030,"Ray","Micheau","M","2010-11","Micheau, Ray","NA",""]
["Hamilton",110039,"Bill","Mleczko","M","2014-15","Mleczko, Bill","NA",""]
["York Simcoe",110046,"Steven","Rostron","M","2019-20","Rostron, Steven","NA",""]
["Hamilton",110058,"Andrew","Newitt","M","2015-16","Newitt, Andrew","NA",""]
["Metro Toronto",110061,"Steve","Zimmerman","M","2019-20","Zimmerman, Steve","NA",""]
["Hamilton",110076,"Jim","Osborne","M","2014-15","Osborne, Jim","NA",""]
["Ottawa Valley",110079,"Suzie","Langevin","F","2019-20","Langevin, Suzie","NA",""]
["Ottawa Valley",110095,"Natalie","Patrick","F","2024-25","Patrick, Natalie",172,""]
["Ottawa Valley",110100,"Wade","Stewart","M","2019-20","Stewart, Wade","NA",""]
["Ottawa Valley",110104,"Michael","Buell","M","2020-21","Buell, Michael","NA",""]
["Hamilton",110116,"Danny","Roache","M","2013-14","Roache, Danny","NA",""]
["Central Ontario",110129,"Caitlin","Beharry","F","2024-25","Beharry, Caitlin",194,""]
["Metro Toronto",110132,"Blake","Boudreault","M","2019-20","Boudreault, Blake","NA",""]
["Western Ontario",110148,"Shannon","Beaumont","F","2019-20","Beaumont, Shannon","NA",""]
["Western Ontario",110152,"Chris","Guindon","M","2022-23","Guindon, Chris",177,""]
["Niagara Peninsula",110168,"Allie","Hynes","F","2019-20","Hynes, Allie","NA",""]
["Niagara Peninsula",110173,"Eric","Wilcox","M","2019-20","Wilcox, Eric","NA",""]
["Central Ontario",110177,"Lindsay","Selby","F","2019-20","Selby, Lindsay","NA",""]
["York Simcoe",110189,"Angela","Everson","F","2014-15","Everson, Angela","NA",""]
["Grand River",110201,"Richard","Detweiler","M","2019-20","Detweiler, Richard","NA",""]
["Hamilton",110204,"Dave","Toth","M","2024-25","Toth, Dave",186,""]
["Kawartha Lakes",110220,"Cheryl","Maccannell","F","2019-20","Maccannell, Cheryl","NA",""]
["Kawartha Lakes",110227,"Mandy","Swinson","F","2019-20","Swinson, Mandy","NA",""]
["Hamilton",110234,"Guy","Vernon","M","2019-20","Vernon, Guy","NA",""]
["Hamilton",110241,"Chantelle","Walker","F","2010-11","Walker, Chantelle","NA",""]
["Huronia",110248,"Bill","Saunders","M","2024-25","Saunders, Bill",164,""]
["Grand River",110260,"Melanie","Withers","F","2019-20","Withers, Melanie","NA",""]
["Hamilton",110273,"Rob","Baskin","M","2019-20","Baskin, Rob","NA",""]
["Hamilton",110278,"Michelle","Wilson","F","2024-25","Wilson, Michelle",161,""]
["Hamilton",110290,"Justin","Mathewson","M","2019-20","Mathewson, Justin","NA",""]
["York Simcoe",110297,"Samantha","Gregory","F","2019-20","Gregory, Samantha","NA",""]
["Niagara Peninsula",110304,"Wanda","Gonyou","F","2022-23","Gonyou, Wanda",125,""]
["Central Ontario",110311,"Harry","Tideman","M","2019-20","Tideman, Harry","NA",""]
["Hamilton",110318,"David","Bentley","M","2022-23","Bentley, David",272,""]
["Niagara Peninsula",110331,"Rob","Hannah","M","2019-20","Hannah, Rob","NA",""]
["Hamilton",110345,"Christine","Ligtenberg","F","2014-15","Ligtenberg, Christine","NA",""]
["Hamilton",110350,"Loreigh","Mitges","M","2013-14","Mitges, Loreigh","NA",""]
["Central Ontario",110362,"Jack","Bucca","M","2024-25","Bucca, Jack",131,""]
["Niagara Peninsula",110369,"Stephanie","Thompson","F","2019-20","Thompson, Stephanie","NA",""]
["Ottawa Valley",110376,"Stephanie","Beaudoin","F","2024-25","Beaudoin, Stephanie",132,""]
["Ottawa Valley",110383,"Chris","White","M","2024-25","White, Chris",171,""]
["Bay of Quinte",110390,"Don","Ashford","M","2010-11","Ashford, Don","NA",""]
["Hamilton",110402,"Jason","Tuinstra","M","2019-20","Tuinstra, Jason","NA",""]
["Bay of Quinte",110415,"Cynthia","Barber","F","2010-11","Barber, Cynthia","NA",""]
["Huronia",110420,"Dave","Trotman","M","2021-22","Trotman, Dave","NA",""]
["Bay of Quinte",110432,"Eric","Bedard","M","2012-13","Bedard, Eric","NA",""]
["Niagara Peninsula",110439,"Payton","Peters","F","2024-25","Peters, Payton",218,""]
["York Simcoe",110446,"Linda","Curness","F","2022-23","Curness, Linda","NA",""]
["Huronia",110453,"Angela","Skinner","F","2024-25","Skinner, Angela",134,""]
["Central Ontario",110460,"Cody","Bartlett","M","2024-25","Bartlett, Cody",164,""]
["Central Ontario",110472,"Kyle","Tavares","M","2024-25","Tavares, Kyle",142,""]
["Central Ontario",110485,"Tom","Anderson","M","2024-25","Anderson, Tom",143,""]
["Bay of Quinte",110491,"Al","Brooks","M","2011-12","Brooks, Al","NA",""]
["Bay of Quinte",110503,"Lori","Buchan","F","2010-11","Buchan, Lori","NA",""]
["Bay of Quinte",110510,"Ron","Bunker","M","2010-11","Bunker, Ron","NA",""]
["Bay of Quinte",110517,"Glenn","Burley","M","2010-11",{"$f":"D10626&\", \"&C10626","v":"Burley, Glenn"},"NA",""]
["Huronia",110528,"Steve","Ackroyd","M","2024-25","Ackroyd, Steve",160,""]
["Bay of Quinte",110531,"Doreen","Calder","F","2019-20","Calder, Doreen","NA",""]
["Huronia",110543,"Rob","Clark","M","2020-21","Clark, Rob","NA",""]
["Bay of Quinte",110556,"Janice","Cassalman","F","2013-14","Cassalman, Janice","NA",""]
["Huronia",110561,"Ronnie","Murray","M","2024-25","Murray, Ronnie",213,""]
["Bay of Quinte",110573,"Barry","Chambers","M","2017-18","Chambers, Barry","NA",""]
["Bay of Quinte",110580,"Frank","Chard","M","2011-12","Chard, Frank","NA",""]
["Bay of Quinte",110587,"Gracelynn","Cheer","F","2010-11","Cheer, Gracelynn","NA",{"$f":"IF(G10696=G10695,\"Same\",\"\")","v":""}]
["Bay of Quinte",110598,"Ron","Pach","M","2023-24","Pach, Ron",169,""]
["Bay of Quinte",110601,"Glen","Cofield","M","2010-11","Cofield, Glen","NA",""]
["Bay of Quinte",110613,"Bill","Coltman","M","2010-11","Coltman, Bill","NA",""]
["Bay of Quinte",110626,"Lorne","Cooney","M","2015-16","Cooney, Lorne","NA",""]
["Western Ontario",110630,"Maureen","Alcott","F","2020-21","Alcott, Maureen","NA","Same"]
["Bay of Quinte",110641,"Suzanne","Cowan","F","2018-19","Cowan, Suzanne","NA",""]
["Bay of Quinte",110645,"Steve","Craig","M","2013-14","Craig, Steve","NA",""]
["Bay of Quinte",110659,"Cathy","Culver","F","2013-14","Culver, Cathy","NA",""]
["Bay of Quinte",110666,"Jamey","Curran","M","2012-13","Curran, Jamey","NA",""]
["Huronia",110669,"Thom","Wright","M","2022-23","Wright, Thom",141,""]
["Bay of Quinte",110684,"Yvonne","Davidson","F","2010-11","Davidson, Yvonne","NA",""]
["Bay of Quinte",110688,"Mitch","Garrah","M","2014-15","Garrah, Mitch","NA",""]
["Ottawa Valley",110700,"Christine","Lough","F","2020-21","Lough, Christine","NA",""]
["Bay of Quinte",110707,"John","Glenn","M","2014-15","Glenn, John","NA",""]
["Bay of Quinte",110716,"Sharon","Boyko","F","2024-25","Boyko, Sharon",137,""]
["Bay of Quinte",110730,"Jerry","Graham","M","2016-17","Graham, Jerry","NA",""]
["Bay of Quinte",110737,"Stan","Green","M","2014-15","Green, Stan","NA",""]
["Bay of Quinte",110740,"Lois","Greenlee","F","2016-17","Greenlee, Lois","NA",""]
["Western Ontario",110755,"Bill","Blake","M","2023-24","Blake, Bill",114,""]
["Ottawa Valley",110758,"Jacqueline","Dixon","F","2022-23","Dixon, Jacqueline","NA",""]
["Huronia",110771,"Jesse","Asselin","M","2023-24","Asselin, Jesse",158,""]
["Bay of Quinte",110778,"Henry","Faulkner","M","2010-11","Faulkner, Henry","NA",""]
["Huronia",110787,"Shane","Seney","M","2022-23","Seney, Shane",213,""]
["Middlesex Elgin",110801,"Jasmine","Dorie","F","2021-22","Dorie, Jasmine","NA",""]
["Middlesex Elgin",110808,"Matt","Currie","M","2022-23","Currie, Matt",196,""]
["Middlesex Elgin",110811,"John","Mcadam","M","2024-25","Mcadam, John",180,""]
["Middlesex Elgin",110826,"Brad","Schooley","M","2023-24","Schooley, Brad",172,""]
["Central Ontario",110829,"Jason","Armstrong","M","2024-25","Armstrong, Jason",108,""]
["Central Ontario",110841,"Yvonne","Van adrichem","F","2024-25","Van adrichem, Yvonne",114,""]
["Bay of Quinte",110848,"Luke","Hudson","M","2017-18","Hudson, Luke","NA",""]
["Bay of Quinte",110857,"Marilyn","Hunt","F","2015-16","Hunt, Marilyn","NA",""]
["Bay of Quinte",110871,"Kristie","Istead","F","2012-13","Istead, Kristie","NA",""]
["Huronia",110878,"Judy","Steele","F","2024-25","Steele, Judy",122,""]
["Bay of Quinte",110881,"Joanne","Janik","F","2014-15","Janik, Joanne","NA",""]
["Bay of Quinte",110896,"Daniel","Joy","M","2015-16","Joy, Daniel","NA",""]
["Huronia",110899,"Josh","Sheerin","M","2021-22","Sheerin, Josh","NA",""]
["Huronia",110911,"Cathy","Thorne","F","2021-22","Thorne, Cathy","NA",""]
["Bay of Quinte",110918,"Shirley","King","F","2013-14","King, Shirley","NA",""]
["Huronia",110927,"Rick","Darrell","M","2022-23","Darrell, Rick","NA",""]
["Metro Toronto",110941,"Garrett","Bertin","M","2023-24","Bertin, Garrett",219,""]
["Grand River",110948,"Jeremiah","Klassen","M","2021-22","Klassen, Jeremiah","NA",""]
["Bay of Quinte",110951,"Aline","Landry","F","2013-14","Landry, Aline","NA",""]
["Grand River",110966,"Ashley","Ferguson","F","2021-22","Ferguson, Ashley","NA",""]
["Bay of Quinte",110969,"Brenda","Lazarick","F","2012-13","Lazarick, Brenda","NA",""]
["Central Ontario",110981,"Maureen","Ryan","F","2022-23","Ryan, Maureen",120,""]
["Niagara Peninsula",110988,"William","Barns","M","2021-22","Barns, William","NA",""]
["Bay of Quinte",110997,"Elaine","Loos","F","2016-17","Loos, Elaine","NA",""]
["Niagara Peninsula",111006,"Elizabeth","Anderson","F","2021-22","Anderson, Elizabeth","NA",""]
["Bay of Quinte",111018,"Brian","Maccuaig","M","2010-11","Maccuaig, Brian","NA",""]
["Niagara Peninsula",111021,"Karen","Dobrint","F","2024-25","Dobrint, Karen",142,""]
["Bay of Quinte",111036,"Jason","Mackenzie","M","2024-25","Mackenzie, Jason",195,""]
["Niagara Peninsula",111039,"Anthony","Umbrico","M","2023-24","Umbrico, Anthony",160,""]
["Bay of Quinte",111051,"Hazel","Male","F","2010-11","Male, Hazel","NA",""]
["Bay of Quinte",111057,"Tammy","Maracle","F","2018-19","Maracle, Tammy","NA",""]
["Huronia",111069,"Stacee","Deufemia","F","2024-25","Deufemia, Stacee",134,""]
["Huronia",111076,"Kelsey","Vella","F","2023-24","Vella, Kelsey",111,""]
["Bay of Quinte",111088,"Doreen","Maybee","F","2010-11","Maybee, Doreen","NA",""]
["Kawartha Lakes",111096,"Don","Mccoll","M","2024-25","Mccoll, Don",174,""]
["Huronia",111106,"Dan","Taylor","M","2021-22","Taylor, Dan","NA",""]
["Huronia",111109,"Lois","O'shea","F","2024-25","O'shea, Lois",140,""]
["Bay of Quinte",111121,"Evelyn","Mcgowan","F","2019-20","Mcgowan, Evelyn","NA",""]
["York Simcoe",111127,"Andrew","D'elia","M","2021-22","D'elia, Andrew","NA",""]
["Bay of Quinte",111139,"Joanne","Mcneil","F","2012-13","Mcneil, Joanne","NA",""]
["Huronia",111146,"Donna","Stevens","F","2024-25","Stevens, Donna",157,""]
["Bay of Quinte",111158,"Mary","Merlin","F","2011-12","Merlin, Mary","NA",""]
["Bay of Quinte",111166,"Jeff","Midgley","M","2022-23","Midgley, Jeff",201,""]
["Bay of Quinte",111176,"Elgie","Mindell","M","2010-11","Mindell, Elgie","NA",""]
["Middlesex Elgin",111179,"Hailey","Mann","F","2024-25","Mann, Hailey",210,""]
["Bay of Quinte",111195,"Dave","Moreau","M","2011-12","Moreau, Dave","NA",""]
["Kawartha Lakes",111197,"Laurie","Lee","F","2022-23","Lee, Laurie",130,""]
["Bay of Quinte",111209,"Reed","Morton","M","2022-23","Morton, Reed",147,""]
["Kawartha Lakes",111216,"Lynn","Lewis","F","2022-23","Lewis, Lynn",165,""]
["Huronia",111228,"Kevin","Johnston","M","2021-22","Johnston, Kevin","NA",""]
["Bay of Quinte",111236,"Pete","Newbery","M","2010-11","Newbery, Pete","NA",""]
["Ontario Durham",111247,"Terry","Pirie","F","2024-25","Pirie, Terry",135,""]
["Bay of Quinte",111250,"Marg","O'grady","F","2010-11","O'grady, Marg","NA",""]
["Grand River",111266,"Shawna","Schultz","F","2024-25","Schultz, Shawna",160,""]
["Grand River",111268,"Dylan","Nafzinger","M","2021-22","Nafzinger, Dylan","NA",""]
["Central Ontario",111280,"Nicole","Gaspar","F","2021-22","Gaspar, Nicole","NA",""]
["Grand River",111287,"Cody","Pauli","M","2022-23","Pauli, Cody",154,""]
["Bay of Quinte",111299,"Roy","Perkins","M","2010-11","Perkins, Roy","NA",""]
["Niagara Peninsula",111307,"Rick","Wiley","M","2021-22","Wiley, Rick","NA",""]
["York Simcoe",111317,"Dylan","Furlong","M","2024-25","Furlong, Dylan",221,""]
["Bay of Quinte",111320,"Danny","Pichie","M","2019-20","Pichie, Danny","NA",""]
["Bay of Quinte",111336,"Doug","Plummer","M","2024-25","Plummer, Doug",238,""]
["Bay of Quinte",111338,"Seton","France","M","2021-22","France, Seton","NA",""]
["Bay of Quinte",111351,"Darlene","Potts","F","2010-11",{"$f":"D11458&\", \"&C11458","v":"Potts, Darlene"},"NA",""]
["York Simcoe",111358,"Stefanie","Romagnolo","F","2024-25","Romagnolo, Stefanie",98,""]
["Niagara Peninsula",111370,"Donna","Cargill","F","2022-23","Cargill, Donna",92,""]
["Niagara Peninsula",111378,"Barry","Greer","M","2023-24","Greer, Barry",190,""]
["Niagara Peninsula",111388,"Ron","Mcintyre","M","2022-23","Mcintyre, Ron",157,""]
["Niagara Peninsula",111391,"Leopold","Ouellet","M","2023-24","Ouellet, Leopold",151,""]
["Middlesex Elgin",111408,"Kyle","Douglas","M","2021-22","Douglas, Kyle","NA",""]
["Middlesex Elgin",111410,"Catherine","Macdonald","F","2023-24","Macdonald, Catherine",159,""]
["Bay of Quinte",111422,"Gerry","Rogers","F","2012-13","Rogers, Gerry","NA",{"$f":"IF(G11528=G11527,\"Same\",\"\")","v":""}]
["Bay of Quinte",111429,"Olive","Roushorn","F","2012-13","Roushorn, Olive","NA",""]
["Ottawa Valley",111439,"Anna-maria","D\\'angelo","F","2021-22","D\\'angelo, Anna-maria","NA",""]
["Ottawa Valley",111447,"Gwelda","O\\'shaughnessy","F","2024-25","O\\'shaughnessy, Gwelda",131,""]
["Huronia",111459,"Shayna","Jantzen","F","2021-22","Jantzen, Shayna","NA",""]
["Bay of Quinte",111462,"Dave","Schwartz","M","2010-11","Schwartz, Dave","NA",""]
["Middlesex Elgin",111470,"Devin","Oliver","M","2022-23","Oliver, Devin",138,""]
["Bay of Quinte",111480,"Gary","Sharp","M","2023-24",{"$f":"D11586&\", \"&C11586","v":"Sharp, Gary"},204,""]
["Western Ontario",111487,"Ryan","Oldridge","M","2023-24","Oldridge, Ryan",216,""]
["Bay of Quinte",111499,"Linda","Silver","F","2012-13","Silver, Linda","NA",""]
["Bay of Quinte",111509,"Betty","Slade","F","2014-15","Slade, Betty","NA",""]
["Niagara Peninsula",111517,"Jill","Brady","F","2022-23","Brady, Jill",129,""]
["Niagara Peninsula",111529,"Adrian","Tanguay","M","2021-22","Tanguay, Adrian","NA",""]
["Niagara Peninsula",111532,"Nicolas","Leduc","M","2022-23","Leduc, Nicolas","NA",""]
["Bay of Quinte",111540,"Steve","Stanley","M","2015-16","Stanley, Steve","NA",""]
["Bay of Quinte",111550,"Cathy","Stoddart","F","2023-24","Stoddart, Cathy","NA",{"$f":"IF(G11656=G11655,\"Same\",\"\")","v":""}]
["Bay of Quinte",111557,"Joe","Surina","M","2017-18","Surina, Joe","NA",""]
["Bay of Quinte",111569,"Craig","Taylor","M","2010-11","Taylor, Craig","NA",""]
["Bay of Quinte",111579,"Joseph","Thomas","M","2023-24","Thomas, Joseph",225,""]
["Bay of Quinte",111587,"Mario","Tomasich","M","2016-17","Tomasich, Mario","NA",""]
["Bay of Quinte",111600,"Joan","Turk","F","2010-11","Turk, Joan","NA",""]
["Kawartha Lakes",111603,"Lori","Smith","M","2021-22","Smith, Lori","NA",""]
["Kawartha Lakes",111610,"Lesli","Sanderson","F","2021-22","Sanderson, Lesli","NA",""]
["Kawartha Lakes",111620,"Jess","Stacheruk","F","2024-25","Stacheruk, Jess",127,""]
["Kawartha Lakes",111627,"Al","Mcwhirter","M","2022-23","Mcwhirter, Al",169,""]
["Kawartha Lakes",111639,"Dawn","Humphrey","F","2021-22","Humphrey, Dawn","NA",""]
["Kawartha Lakes",111649,"Kathy","Laidlaw","F","2024-25","Laidlaw, Kathy",116,""]
["Bay of Quinte",111657,"Rick","Watcher","M","2012-13","Watcher, Rick","NA",""]
["Huronia",111669,"Susie","Neske","F","2024-25","Neske, Susie",149,""]
["Bay of Quinte",111676,"Perry","West","M","2012-13","West, Perry","NA",""]
["Niagara Peninsula",111680,"Kim","Arbour","F","2022-23","Arbour, Kim",132,""]
["Bay of Quinte",111690,"Rick","White","M","2010-11","White, Rick","NA",""]
["Ottawa Valley",111697,"Tanner","Barnett","M","2021-22","Barnett, Tanner","NA",""]
["Bay of Quinte",111709,"Gayle","Williams","F","2010-11","Williams, Gayle","NA",""]
["Bay of Quinte",111719,"Ken","Wilson","M","2010-11","Wilson, Ken","NA",""]
["Huronia",111727,"Harry","Burgler","M","2023-24","Burgler, Harry",152,""]
["Huronia",111739,"Nicole","Dwyer","F","2022-23","Dwyer, Nicole",133,""]
["Bay of Quinte",111747,"Nick","Zadworny","M","2013-14","Zadworny, Nick","NA",""]
["Huronia",111751,"Kaden","Halliday","M","2023-24","Halliday, Kaden",129,""]
["Bay of Quinte",111761,"Dallas","Bentien","M","2010-11","Bentien, Dallas","NA",""]
["Bay of Quinte",111768,"Robert","Boomhour","M","2014-15","Boomhour, Robert","NA",""]
["Huronia",111780,"Dianne","Brulotte","F","2022-23","Brulotte, Dianne","NA",""]
["Huronia",111790,"Jonathan","Grootendorst","M","2022-23","Grootendorst, Jonathan","NA",""]
["Bay of Quinte",111798,"Tanya","Courtney","F","2010-11","Courtney, Tanya","NA",""]
["Huronia",111810,"Jeremiah","Grady","M","2022-23","Grady, Jeremiah",140,""]
["Huronia",111817,"Gwen","Robbins","F","2023-24","Robbins, Gwen",115,""]
["Bay of Quinte",111821,"John","Free","M","2011-12","Free, John","NA",""]
["Huronia",111831,"Deb","Wilson","F","2022-23","Wilson, Deb",103,""]
["Bay of Quinte",111838,"Barbara","Higgins","F","2012-13","Higgins, Barbara","NA",""]
["Bay of Quinte",111850,"Ralph","Jackson","M","2014-15","Jackson, Ralph","NA",""]
["Bay of Quinte",111856,"Holly","Kormann","F","2010-11","Kormann, Holly","NA",""]
["Bay of Quinte",111868,"Chris","Lynch","M","2018-19","Lynch, Chris","NA",""]
["Huronia",111880,"Mike","Whitley","M","2022-23","Whitley, Mike",115,""]
["Bay of Quinte",111889,"Randy","Miller","M","2013-14","Miller, Randy","NA",""]
["Huronia",111898,"Christina","Foster","F","2024-25","Foster, Christina",156,""]
["Bay of Quinte",111901,"Sean","O'connor","M","2015-16","O'connor, Sean","NA",""]
["Bay of Quinte",111908,"Dana","Petrillo","F","2010-11","Petrillo, Dana","NA",""]
["Huronia",111920,"Ken","Ringler","M","2022-23","Ringler, Ken",146,""]
["Bay of Quinte",111926,"Steve","Robinson","M","2010-11","Robinson, Steve","NA",""]
["Huronia",111938,"Mindy","Wang","F","2022-23","Wang, Mindy",140,""]
["Huronia",111950,"Jim","Parker","M","2022-23","Parker, Jim",116,""]
["Bay of Quinte",111959,"Ed","Wright","M","2010-11","Wright, Ed","NA",""]
["Bay of Quinte",111969,"Kay","Purves","F","2022-23","Purves, Kay",154,""]
["Bay of Quinte",111977,"Barb","Wright","F","2010-11","Wright, Barb","NA",""]
["Bay of Quinte",111980,"Larry","Stewart","M","2023-24","Stewart, Larry",131,""]
["Bay of Quinte",111992,"Charlotte","Sherwin","F","2022-23","Sherwin, Charlotte","NA",""]
["Grand River",111998,"Barb","Bailey","F","2024-25","Bailey, Barb",164,""]
["Grand River",112010,"Richard","Baril","M","2024-25","Baril, Richard",166,""]
["Grand River",112023,"Helen","Bauman","F","2012-13","Bauman, Helen","NA",""]
["Grand River",112032,"Doris","Bechtel","F","2011-12","Bechtel, Doris","NA",""]
["Grand River",112041,"Fred","Belliveau","M","2010-11","Belliveau, Fred","NA",""]
["Grand River",112048,"Jeff","Berg","M","2011-12","Berg, Jeff","NA",""]
["Grand River",112051,"Kevin","Berg","M","2024-25","Berg, Kevin",247,""]
["Bay of Quinte",112063,"Bob","Thickson","M","2022-23","Thickson, Bob",154,""]
["Grand River",112069,"Don","Bitschy","M","2015-16","Bitschy, Don","NA",""]
["Grand River",112081,"Eric","Bonn","M","2016-17","Bonn, Eric","NA",""]
["Grand River",112093,"Evelyn","Brophy","F","2018-19","Brophy, Evelyn","NA",""]
["Central Ontario",112103,"Josh","Johnson","M","2024-25","Johnson, Josh",162,""]
["Grand River",112112,"Brad","Butcher","M","2024-25","Butcher, Brad",173,""]
["Grand River",112119,"Joan","Campbell","F","2012-13","Campbell, Joan","NA",""]
["Grand River",112122,"Maurice","Carde","M","2024-25","Carde, Maurice",208,""]
["Central Ontario",112134,"Nancy","Collins","F","2024-25","Collins, Nancy",125,""]
["Grand River",112140,"Jason","Cates","M","2012-13","Cates, Jason","NA",""]
["Grand River",112152,"Dave","Christie","M","2011-12","Christie, Dave","NA",""]
["Grand River",112159,"Fred","Clark","M","2024-25","Clark, Fred",189,""]
["Grand River",112173,"Darlene","Brown","F","2011-12","Brown, Darlene","NA",""]
["Grand River",112182,"Simone","Procter","F","2022-23","Procter, Simone",170,""]
["Grand River",112189,"Chantelle","Watson","F","2022-23",{"$f":"D12290&\", \"&C12290","v":"Watson, Chantelle"},136,""]
["Grand River",112192,"Shane","Weber","M","2022-23","Weber, Shane",158,""]
["Grand River",112204,"Rosemary","Davidson","F","2024-25","Davidson, Rosemary","NA",""]
["Grand River",112210,"Pat","Debrusk","F","2018-19","Debrusk, Pat","NA",""]
["Grand River",112222,"Mike","Ormond","M","2024-25","Ormond, Mike",147,""]
["Huronia",112233,"Tim","Lalonde","M","2024-25","Lalonde, Tim",158,""]
["Grand River",112240,"Sonia","Drigo","F","2011-12","Drigo, Sonia","NA",""]
["Huronia",112252,"Andrew","Baker","M","2022-23","Baker, Andrew",158,""]
["Huronia",112259,"Yolanda","Sangiuliano","F","2023-24","Sangiuliano, Yolanda",123,{"$f":"IF(G12360=G12359,\"Same\",\"\")","v":""}]
["Huronia",112264,"Kathy","Beaupre","F","2023-24","Beaupre, Kathy",135,""]
["Huronia",112277,"Michelle","Fournier","F","2022-23","Fournier, Michelle",143,""]
["Huronia",112280,"Catherine","Marion","F","2024-25","Marion, Catherine",154,""]
["York Simcoe",112292,"Tony","Dedonato","M","2023-24","Dedonato, Tony",127,""]
["Grand River",112302,"Catherine","Fry","F","2012-13","Fry, Catherine","NA",""]
["York Simcoe",112309,"Tara","Robinson","F","2022-23","Robinson, Tara",156,""]
["Bay of Quinte",112321,"Brandon","Richardson","M","2022-23","Richardson, Brandon",189,""]
["Bay of Quinte",112328,"Bob","Kruger","M","2023-24","Kruger, Bob",184,""]
["Grand River",112333,"Jason","Gingrich","M","2024-25","Gingrich, Jason",224,""]
["Grand River",112346,"Janice","Green","F","2010-11","Green, Janice","NA",""]
["Grand River",112349,"Cathy","Grein","F","2012-13","Grein, Cathy","NA",""]
["Grand River",112361,"Steve","Hardman","M","2010-11","Hardman, Steve","NA",""]
["Grand River",112372,"Julie","Hatch","F","2012-13","Hatch, Julie","NA",""]
["Central Ontario",112379,"Christopher","Jackson","M","2024-25","Jackson, Christopher",116,""]
["Grand River",112391,"James","Hill","M","2010-11","Hill, James","NA",""]
["Grand River",112398,"Wayne","Himburg","M","2014-15","Himburg, Wayne","NA",""]
["Grand River",112404,"Joyce","Hodge","F","2019-20","Hodge, Joyce","NA",""]
["Grand River",112417,"Dean","Howie","M","2024-25","Howie, Dean",224,""]
["Central Ontario",112420,"Fiona","Kloppenburg","F","2022-23","Kloppenburg, Fiona",94,""]
["Central Ontario",112432,"Julie","Harris","F","2024-25","Harris, Julie",158,""]
["Central Ontario",112443,"Willson","Bartlett","M","2024-25","Bartlett, Willson",98,""]
["Grand River",112450,"Jay","Jezard","M","2011-12","Jezard, Jay","NA",""]
["Central Ontario",112457,"Chad","Ashford","M","2024-25","Ashford, Chad",146,""]
["Grand River",112469,"Elaine","Kehn","F","2011-12","Kehn, Elaine","NA",""]
["Grand River",112474,"Debbie","Kelly","F","2014-15","Kelly, Debbie","NA",""]
["Ottawa Valley",112487,"Amy","Turcotte","F","2024-25","Turcotte, Amy",136,""]
["Ottawa Valley",112490,"Hartley","Benfield","M","2024-25","Benfield, Hartley",155,""]
["Grand River",112502,"Alice","Koehn","F","2023-24","Koehn, Alice",164,""]
["Ottawa Valley",112513,"Brandy","Elliott","F","2024-25","Elliott, Brandy",174,""]
["Grand River",112520,"Helen","Lacey","F","2017-18","Lacey, Helen","NA",""]
["Grand River",112528,"Wendy","Lambert","F","2024-25","Lambert, Wendy",132,""]
["Niagara Peninsula",112540,"Clem","Raby","M","2023-24","Raby, Clem",131,""]
["Niagara Peninsula",112545,"Josh","Visser","M","2022-23","Visser, Josh",194,""]
["Grand River",112558,"Robyn","Leitch","F","2017-18","Leitch, Robyn","NA",""]
["Grand River",112561,"Barb","Lepard","F","2012-13","Lepard, Barb","NA",""]
["Grand River",112573,"Kay","Lobsinger","F","2012-13","Lobsinger, Kay","NA",""]
["Grand River",112584,"Rose","Lorentz","F","2010-11","Lorentz, Rose","NA",""]
["Grand River",112591,"Steve","Loyer","M","2016-17","Loyer, Steve","NA",""]
["Ottawa Valley",112598,"Raymond","Lacasse","M","2024-25","Lacasse, Raymond",166,""]
["Grand River",112611,"Sharon","Markson","F","2020-21","Markson, Sharon","NA",""]
["Grand River",112616,"Jeff","Martin","M","2010-11","Martin, Jeff","NA",""]
["Grand River",112629,"Cecil","Matt","M","2013-14","Matt, Cecil","NA",""]
["Grand River",112632,"Betty","Maurer","F","2016-17","Maurer, Betty","NA",""]
["Huronia",112645,"Gord","Brooks","M","2024-25","Brooks, Gord",169,{"$f":"IF(G12744=G12743,\"Same\",\"\")","v":""}]
["Grand River",112650,"Dave","Mcintosh","M","2013-14","Mcintosh, Dave","NA",""]
["Grand River",112662,"Kristy","Mcmahon","F","2015-16","Mcmahon, Kristy","NA",""]
["Ottawa Valley",112669,"Justin","Godin","M","2024-25","Godin, Justin",121,""]
["Bay of Quinte",112676,"Julio","Evenson","M","2022-23","Evenson, Julio",142,""]
["Grand River",112683,"Andy","Miller","M","2012-13","Miller, Andy","NA",""]
["Bay of Quinte",112699,"Suzanne","Evans","F","2024-25","Evans, Suzanne",210,""]
["Huronia",112702,"Carter","Beard","M","2022-23","Beard, Carter",125,""]
["Grand River",112715,"Doug","Mountain","M","2024-25","Mountain, Doug",187,""]
["Grand River",112720,"Paul","Murakami","M","2016-17","Murakami, Paul","NA",""]
["Grand River",112732,"Peter","Ney","M","2024-25","Ney, Peter",177,""]
["Huronia",112739,"Claude","Mikolainis","M","2024-25","Mikolainis, Claude",145,""]
["Grand River",112746,"Chris","O'neill","M","2024-25","O'neill, Chris",141,""]
["Grand River",112758,"Craig","Pallister","M","2024-25","Pallister, Craig",178,""]
["Metro Toronto",112770,"John sr.","Mackeigan","M","2023-24","Mackeigan, John sr.",193,""]
["Ottawa Valley",112773,"Brett","Bellamy","M","2023-24","Bellamy, Brett",204,""]
["Grand River",112787,"David","Phipps","M","2024-25","Phipps, David",236,""]
["Ottawa Valley",112792,"Robert","Plante","M","2022-23","Plante, Robert",137,""]
["Grand River",112804,"Donna","Powell","F","2012-13","Powell, Donna","NA",""]
["Middlesex Elgin",112811,"Jesse","Siple","M","2022-23","Siple, Jesse",212,""]
["Grand River",112818,"Deb","Rae","F","2012-13","Rae, Deb","NA",""]
["Grand River",112829,"Kevin","Reist","M","2011-12","Reist, Kevin","NA",""]
["Ottawa Valley",112841,"Marjorie","Morrison","F","2024-25","Morrison, Marjorie",115,""]
["Ottawa Valley",112844,"Lynn","Seabrook","F","2023-24","Seabrook, Lynn",138,""]
["Middlesex Elgin",112857,"Gerry","Roeder","M","2022-23","Roeder, Gerry",178,""]
["Huronia",112862,"April","Woodcock","F","2022-23","Woodcock, April",135,""]
["Middlesex Elgin",112875,"Leah","Coleman","F","2024-25","Coleman, Leah",145,""]
["Niagara Peninsula",112882,"Jane","Dejong","F","2023-24","Dejong, Jane",133,""]
["Grand River",112889,"Larry","Sayers","M","2018-19","Sayers, Larry","NA",""]
["Grand River",112900,"Jack","Schickler","M","2012-13","Schickler, Jack","NA",""]
["Grand River",112912,"Joe","Schoen","M","2016-17","Schoen, Joe","NA",""]
["Grand River",112915,"Barry","Schott","M","2010-11","Schott, Barry","NA",""]
["Central Ontario",112928,"Ryan","Cusi-kendlebacher","M","2024-25","Cusi-kendlebacher, Ryan",87,""]
["Grand River",112933,"Marcy","Seftel","F","2012-13","Seftel, Marcy","NA",""]
["Grand River",112940,"Jeff","Shantz","M","2012-13","Shantz, Jeff","NA",""]
["Grand River",112952,"Dave","Simons","M","2010-11","Simons, Dave","NA",""]
["Hamilton",112959,"Maxime","Talbot","M","2024-25","Talbot, Maxime",195,""]
["Grand River",112970,"Audrey","Snyder","F","2018-19","Snyder, Audrey","NA",""]
["Hamilton",112982,"Justin","Gills","M","2024-25","Gills, Justin",212,""]
["Grand River",112985,"Frances","Sproat","F","2023-24","Sproat, Frances",160,""]
["Grand River",112998,"Brent","Stevanus","M","2012-13","Stevanus, Brent","NA",""]
["Hamilton",113003,"James","Sutter","M","2022-23","Sutter, James",173,""]
["Niagara Peninsula",113010,"Joe","Bos","M","2023-24","Bos, Joe",203,""]
["Grand River",113022,"Shirley","Tebbutt","F","2012-13","Tebbutt, Shirley","NA",""]
["Grand River",113029,"Ryan","Thibeault","M","2023-24","Thibeault, Ryan",190,""]
["Huronia",113041,"Kyle","Adie","M","2024-25","Adie, Kyle",203,""]
["Grand River",113054,"Crystal","Turner","F","2017-18","Turner, Crystal","NA",""]
["Huronia",113060,"Kara","Groenevelt","F","2024-25","Groenevelt, Kara",120,""]
["Huronia",113073,"Rush","Nagoa","M","2022-23","Nagoa, Rush",128,""]
["Huronia",113076,"Amy","Pritchard","F","2024-25","Pritchard, Amy",127,""]
["Huronia",113083,"Jessica","Tonge","F","2022-23","Tonge, Jessica",110,""]
["Huronia",113093,"Ryan","Chilvers","M","2024-25","Chilvers, Ryan",155,""]
["Grand River",113108,"Hilda","Warrington","F","2012-13","Warrington, Hilda","NA",""]
["Grand River",113115,"Maury","Weigel","M","2024-25","Weigel, Maury",211,""]
["Huronia",113127,"Paul","Morrison","M","2024-25","Morrison, Paul",172,""]
["Grand River",113134,"Karyn","White","F","2012-13","White, Karyn","NA",""]
["Hamilton",113147,"Ryan","Luker","M","2022-23","Luker, Ryan",237,""]
["Grand River",113150,"Bruce","Harnock","M","2022-23","Harnock, Bruce",173,""]
["Grand River",113157,"Dolly","Winter","F","2012-13","Winter, Dolly","NA",""]
["Grand River",113166,"Rick","Wolf","M","2015-16","Wolf, Rick","NA",""]
["Grand River",113180,"Susan","Young","F","2011-12","Young, Susan","NA",""]
["Kawartha Lakes",113187,"Justin","Brown","M","2024-25","Brown, Justin",154,""]
["Grand River",113199,"Joanna","Bengart","F","2018-19","Bengart, Joanna","NA",""]
["Kawartha Lakes",113205,"Ashley","Simons","F","2022-23","Simons, Ashley",135,""]
["Grand River",113217,"Donna","Carney","F","2012-13","Carney, Donna","NA",""]
["Grand River",113220,"Joyce","Chapman","F","2013-14","Chapman, Joyce","NA",""]
["Grand River",113227,"Steve","Ciupa","M","2015-16","Ciupa, Steve","NA",""]
["Grand River",113236,"Roger","Croteau","M","2013-14","Croteau, Roger","NA",""]
["Kawartha Lakes",113245,"Emilia","Allison","F","2024-25","Allison, Emilia",128,""]
["Grand River",113257,"Steve","Fenz","M","2012-13","Fenz, Steve","NA",""]
["Grand River",113269,"Barb","Gaul","F","2011-12","Gaul, Barb","NA",""]
["Kawartha Lakes",113275,"Pam","Fallis","F","2022-23","Fallis, Pam",109,""]
["Kawartha Lakes",113287,"Terilyn","Grylls","F","2022-23","Grylls, Terilyn",101,""]
["Grand River",113290,"Eileen","Heard","F","2012-13","Heard, Eileen","NA",""]
["York Simcoe",113297,"Raine","Connelly","M","2022-23","Connelly, Raine","NA",""]
["Grand River",113307,"Scott","Kemp","M","2023-24","Kemp, Scott",180,""]
["Grand River",113316,"Shane","King","M","2023-24","King, Shane",197,""]
["Grand River",113328,"Joan","Lablance","F","2011-12","Lablance, Joan","NA",""]
["Grand River",113340,"Phyllis","Macneil","F","2011-12","Macneil, Phyllis","NA",""]
["Grand River",113346,"Cody","Mccormick","M","2012-13","Mccormick, Cody","NA",""]
["Huronia",113358,"Phil","Cox","M","2024-25","Cox, Phil",149,""]
["Grand River",113361,"Jim","Mills","M","2013-14","Mills, Jim","NA",""]
["Grand River",113368,"Marvin","Morrison","M","2012-13","Morrison, Marvin","NA",""]
["Grand River",113377,"Willy","Noecker","M","2010-11","Noecker, Willy","NA",""]
["Western Ontario",113386,"Andy","Solet","M","2023-24","Solet, Andy",130,""]
["Ontario Durham",113398,"Jane","Ferris","F","2024-25","Ferris, Jane",144,""]
["Grand River",113410,"Roma","Rolfe","F","2013-14","Rolfe, Roma","NA",""]
["Grand River",113416,"Shaun","Schedler","M","2012-13","Schedler, Shaun","NA",""]
["Western Ontario",113428,"Samantha","Rocheleau","F","2023-24","Rocheleau, Samantha",198,""]
["Grand River",113435,"Mary ellen","Squires","F","2013-14","Squires, Mary ellen","NA",""]
["Grand River",113445,"Lisa","Sullivan","F","2010-11","Sullivan, Lisa","NA",""]
["Grand River",113449,"Doug","Thirkettle","M","2010-11","Thirkettle, Doug","NA",""]
["Grand River",113456,"Christine","Usher","F","2014-15","Usher, Christine","NA",""]
["Grand River",113468,"Bryn","Walters","M","2013-14","Walters, Bryn","NA",""]
["Grand River",113476,"Pat","Worden","F","2012-13","Worden, Pat","NA",""]
["Niagara Peninsula",113486,"Eddie","Macneill","M","2022-23","Macneill, Eddie","NA",""]
["Grand River",113498,"Steve","Davis","M","2017-18","Davis, Steve","NA",""]
["York Simcoe",113505,"Joshua","Yeo","M","2022-23","Yeo, Joshua",81,""]
["York Simcoe",113515,"Gary","Stewart","M","2024-25","Stewart, Gary",110,""]
["Grand River",113519,"Neil","Mohr","M","2012-13","Mohr, Neil","NA",""]
["Ontario Durham",113526,"Chelsea","Clack","F","2022-23","Clack, Chelsea",194,""]
["Ontario Durham",113538,"Keith","Ludlow","M","2022-23","Ludlow, Keith",199,""]
["Ontario Durham",113546,"Susan","Foote","F","2023-24",{"$f":"D13634&\", \"&C13634","v":"Foote, Susan"},130,""]
["Niagara Peninsula",113556,"Jackie","Pahowski","F","2014-15","Pahowski, Jackie","NA",""]
["Ottawa Valley",113568,"Stephen","Meating","M","2024-25","Meating, Stephen",162,""]
["Ontario Durham",113575,"Don","Anderson","M","2013-14","Anderson, Don","NA",""]
["Ontario Durham",113585,"John","Antoniou","M","2014-15","Antoniou, John","NA",""]
["Kawartha Lakes",113589,"Abbi","Shier","F","2022-23","Shier, Abbi","NA",""]
["Ontario Durham",113596,"Tony","Babineau","M","2012-13","Babineau, Tony","NA",""]
["Ottawa Valley",113609,"Cathy","Barker","F","2024-25","Barker, Cathy","NA",""]
["Ontario Durham",113617,"Breanna","Sproul","F","2024-25","Sproul, Breanna",219,{"$f":"IF(G13704=G13703,\"Same\",\"\")","v":""}]
["Hamilton",113627,"Paul","Berthelot","M","2023-24","Berthelot, Paul",192,""]
["Central Ontario",113640,"Dave","Hamilton","M","2024-25","Hamilton, Dave",156,""]
["Central Ontario",113647,"Mike","Clarke","M","2023-24","Clarke, Mike",115,""]
["Ontario Durham",113657,"Shantee","Boyd","F","2015-16","Boyd, Shantee","NA",""]
["Central Ontario",113661,"Lise","Alves","F","2024-25","Alves, Lise",97,""]
["Ontario Durham",113668,"Roy","Braybon","M","2018-19","Braybon, Roy","NA",""]
["Ontario Durham",113680,"Clayton","Brown","M","2024-25","Brown, Clayton",164,""]
["Central Ontario",113688,"Alessia","Ursitti","F","2024-25","Ursitti, Alessia",98,""]
["Huronia",113698,"John","Oppeneer","M","2024-25","Oppeneer, John",146,""]
["Huronia",113710,"Darryl","Foy","M","2023-24","Foy, Darryl",133,""]
["Huronia",113717,"Brian","Hurcom","M","2023-24","Hurcom, Brian",131,""]
["Huronia",113727,"Ryan","Fyke","M","2024-25","Fyke, Ryan",148,""]
["Ontario Durham",113735,"Kevin","Chillman","M","2013-14","Chillman, Kevin","NA",""]
["Huronia",113738,"Michelle","Blackman","F","2024-25","Blackman, Michelle",125,""]
["Ontario Durham",113750,"Christine","Clarke","F","2010-11","Clarke, Christine","NA",""]
["Huronia",113758,"Marie","Carson","F","2024-25","Carson, Marie",138,""]
["Huronia",113768,"Megan","Ferri","F","2024-25","Ferri, Megan",136,""]
["Ontario Durham",113780,"Larry","Crook","M","2010-11","Crook, Larry","NA",""]
["Ottawa Valley",113787,"Maria","Gravelle","F","2024-25","Gravelle, Maria",120,""]
["Ontario Durham",113797,"Samantha","Davies","F","2024-25","Davies, Samantha",196,""]
["Ontario Durham",113805,"Blair","Desjardins","M","2014-15","Desjardins, Blair","NA",""]
["Ottawa Valley",113808,"Tim","Lalonde","M","2024-25","Lalonde, Tim",140,""]
["Ottawa Valley",113820,"Sarah","Fox","F","2023-24","Fox, Sarah",156,""]
["Bay of Quinte",113828,"Jeff","Mosco","M","2024-25","Mosco, Jeff",193,""]
["Ontario Durham",113838,"Rose","Ellis","F","2024-25","Ellis, Rose",112,""]
["Ontario Durham",113847,"Lisa","English","F","2010-11","English, Lisa","NA",""]
["Ontario Durham",113859,"Brenda","Field","F","2019-20","Field, Brenda","NA",""]
["Ontario Durham",113861,"Ryan","Fields","M","2013-14","Fields, Ryan","NA",""]
["Ontario Durham",113877,"Brian","Fortner","M","2016-17","Fortner, Brian","NA",""]
["Grand River",113880,"Warren","Dunlop","M","2024-25","Dunlop, Warren",172,""]
["Kawartha Lakes",113890,"Joe","Fusco","M","2016-17","Fusco, Joe","NA",""]
["Ontario Durham",113898,"Shelley","Gardner","F","2013-14","Gardner, Shelley","NA",""]
["York Simcoe",113910,"Sydnee","Vandenbroucke","F","2024-25","Vandenbroucke, Sydnee",142,""]
["York Simcoe",113917,"Holley","Atkinson","F","2024-25","Atkinson, Holley",90,""]
["York Simcoe",113929,"Kevin","Lablanc","M","2023-24","Lablanc, Kevin","NA",""]
["Ontario Durham",113931,"Andrea","Gould","F","2014-15","Gould, Andrea","NA",""]
["Ontario Durham",113947,"Dana","Green","F","2017-18","Green, Dana","NA",""]
["Ontario Durham",113950,"Amy","Rodrigues","F","2023-24","Rodrigues, Amy",106,""]
["Ontario Durham",113960,"Ben","Longley","M","2024-25","Longley, Ben",112,""]
["Ontario Durham",113968,"Drew","Wilson","M","2024-25","Wilson, Drew",168,""]
["Huronia",113980,"Jonathan","Larocque","M","2024-25","Larocque, Jonathan",151,""]
["Huronia",113987,"Shane","Sprayson","M","2024-25","Sprayson, Shane",151,""]
["Metro Toronto, Ontario Durham",113999,"Mike","Herbert","M","2023-24","Herbert, Mike",229,""]
["Huronia",114001,"Graham","Smith","M","2023-24","Smith, Graham",114,""]
["Ontario Durham",114017,"Shirley","Hone","F","2024-25","Hone, Shirley","NA",""]
["Ontario Durham",114020,"Dave","Hood","M","2011-12","Hood, Dave","NA",""]
["Huronia",114030,"Mike","Kors","M","2023-24","Kors, Mike",152,""]
["Huronia",114038,"Jessica","Stevenson","F","2024-25","Stevenson, Jessica",105,""]
["Bay of Quinte",114051,"Bob","Riches","M","2023-24","Riches, Bob",130,""]
["Ontario Durham",114058,"Richard","Johnston","M","2019-20","Johnston, Richard","NA",""]
["Western Ontario",114070,"Lindsay","Denomme","F","2023-24","Denomme, Lindsay",144,""]
["Western Ontario",114072,"Jeff","Denomme","M","2023-24","Denomme, Jeff",148,""]
["Ontario Durham",114088,"Linda","Kift","F","2010-11","Kift, Linda","NA",""]
["Ontario Durham",114091,"Jamie","Kinmond","M","2010-11","Kinmond, Jamie","NA",""]
["Niagara Peninsula",114102,"Diane","Bourque","F","2023-24","Bourque, Diane",140,""]
["Grand River",114110,"Paul","Edwards","M","2024-25","Edwards, Paul",169,""]
["Grand River",114122,"Dimitri","Schaaf","M","2024-25","Schaaf, Dimitri",213,""]
["Ontario Durham",114129,"John","Ledgerwood","M","2013-14","Ledgerwood, John","NA",""]
["Ontario Durham",114141,"Dennis","Leonard","M","2024-25","Leonard, Dennis",137,""]
["Ontario Durham",114143,"Margaret","Leonard","F","2022-23","Leonard, Margaret",126,""]
["Hamilton",114159,"Maurizio","Ruiu","M","2024-25","Ruiu, Maurizio",119,""]
["Hamilton",114162,"Sandi","Ouk","F","2023-24","Ouk, Sandi",122,""]
["Ontario Durham",114172,"Kyle","Lyman","M","2014-15","Lyman, Kyle","NA",""]
["Hamilton",114180,"Ronald","Darcy","M","2023-24","Darcy, Ronald",129,""]
["Hamilton",114192,"Bob","Morley","M","2023-24",{"$f":"D14274&\", \"&C14274","v":"Morley, Bob"},126,""]
["York Simcoe",114199,"Garry","Lander","M","2023-24","Lander, Garry",150,""]
["Ontario Durham",114211,"Brent","Martin","M","2024-25","Martin, Brent",210,""]
["Ontario Durham",114217,"Joe","Martorino","M","2019-20","Martorino, Joe","NA",""]
["Bay of Quinte",114229,"Calvin","Matthews","M","2010-11","Matthews, Calvin","NA",""]
["Central Ontario",114232,"Natalie","Groeger","F","2023-24","Groeger, Natalie",140,""]
["Ontario Durham",114242,"Bonnie","Mcdonald","F","2024-25","Mcdonald, Bonnie",168,""]
["Central Ontario",114250,"Janet","Roschuk","F","2024-25","Roschuk, Janet",101,""]
["Ontario Durham",114262,"Georgia","Mcnicoll","F","2019-20","Mcnicoll, Georgia","NA",{"$f":"IF(G14344=G14343,\"Same\",\"\")","v":""}]
["Hamilton",114271,"Damien","Brellisford","M","2023-24","Brellisford, Damien",218,""]
["Ontario Durham",114280,"Steve","Moore","M","2021-22","Moore, Steve","NA",""]
["Ontario Durham",114287,"Karen","Mowatt","F","2010-11","Mowatt, Karen","NA",""]
["Metro Toronto",114299,"Michelle","Carnrite","F","2024-25","Carnrite, Michelle",203,""]
["Metro Toronto",114302,"Brad","Logan","M","2024-25","Logan, Brad",179,""]
["Ontario Durham",114317,"Annette","Stewart","F","2024-25","Stewart, Annette",157,""]
["Grand River",114320,"Mike","Gregory","M","2024-25",{"$f":"D14402&\", \"&C14402","v":"Gregory, Mike"},205,""]
["Ontario Durham",114327,"Brenda","Panepinto","F","2018-19","Panepinto, Brenda","NA",""]
["Huronia",114341,"Jason","Volgmann","M","2023-24","Volgmann, Jason",168,""]
["Ottawa Valley",114350,"Mason","Felix","M","2024-25","Felix, Mason",153,""]
["Hamilton",114357,"Bob","Filey","M","2023-24","Filey, Bob",171,""]
["Ottawa Valley",114369,"Ambrose","Wattie","M","2023-24","Wattie, Ambrose",227,""]
["Huronia",114372,"Kevin","Plested","M","2024-25","Plested, Kevin",197,""]
["Ontario Durham",114387,"Irvin","Puckrin","M","2011-12","Puckrin, Irvin","NA",""]
["York Simcoe",114390,"Ashley","Gifford","F","2024-25","Gifford, Ashley",66,{"$f":"IF(G14472=G14471,\"Same\",\"\")","v":""}]
["Ontario Durham",114397,"Marge","Quinlin","F","2014-15","Quinlin, Marge","NA",""]
["Huronia",114411,"John","Potter","M","2024-25","Potter, John",136,""]
["Ontario Durham",114420,"Florence","Rickerby","F","2014-15","Rickerby, Florence","NA",""]
["Ontario Durham",114427,"Glenn","Robertson","M","2010-11","Robertson, Glenn","NA",""]
["Ontario Durham",114440,"Mike","Roy","M","2012-13","Roy, Mike","NA",""]
["Kawartha Lakes",114443,"Kateland","Wease","F","2024-25","Wease, Kateland",140,""]
["Ontario Durham",114458,"Daniel","Oliver","M","2023-24","Oliver, Daniel",187,""]
["Kawartha Lakes",114461,"Tim","Pearson","M","2023-24","Pearson, Tim","NA",""]
["Kawartha Lakes",114468,"Doug","Beer","M","2024-25","Beer, Doug",105,""]
["Ontario Durham",114482,"Graham","Sidaway","M","2023-24","Sidaway, Graham",168,""]
["Kawartha Lakes",114491,"Phil","Muscatello","M","2024-25","Muscatello, Phil",126,""]
["Ontario Durham",114498,"Connie","Skinner","F","2012-13","Skinner, Connie","NA",""]
["Kawartha Lakes",114510,"Heather","Ogle","F","2024-25","Ogle, Heather",128,""]
["Kawartha Lakes",114513,"Kimberley","Garton","F","2024-25",{"$f":"D14594&\", \"&C14594","v":"Garton, Kimberley"},120,""]
["Ontario Durham",114528,"Wayne","Somerville","M","2019-20","Somerville, Wayne","NA",""]
["Kawartha Lakes",114531,"Dave","Russell","M","2023-24","Russell, Dave",115,""]
["Ontario Durham",114540,"Helen","Stapley","F","2013-14","Stapley, Helen","NA",""]
["Kawartha Lakes",114554,"Gina","Collins","F","2024-25","Collins, Gina",120,""]
["Kawartha Lakes",114563,"Marcus","Morgan","M","2024-25","Morgan, Marcus",155,""]
["Ontario Durham",114571,"Dennis","Tester","M","2016-17","Tester, Dennis","NA",""]
["Kawartha Lakes",114583,"Terry","Simmons","M","2024-25","Simmons, Terry",140,""]
["Kawartha Lakes",114586,"Amanda","Bouchard","F","2024-25","Bouchard, Amanda",157,{"$f":"IF(G14664=G14663,\"Same\",\"\")","v":""}]
["Ontario Durham",114601,"Brenda","Vanderlinde","F","2010-11","Vanderlinde, Brenda","NA",""]
["Ontario Durham",114604,"Rick","Vanderlinde","M","2010-11","Vanderlinde, Rick","NA",""]
["Ontario Durham",114612,"Rocky","Cortis","M","2023-24","Cortis, Rocky",137,""]
["Ontario Durham",114626,"Anthony","Salmon","M","2023-24","Salmon, Anthony",111,""]
["Ontario Durham",114635,"Kim","Watts","F","2023-24","Watts, Kim",139,""]
["Middlesex Elgin",114642,"Tyler","Brintnell","M","2024-25","Brintnell, Tyler",135,""]
["Ontario Durham",114647,"Adam","West","M","2013-14","West, Adam","NA",""]
["Ontario Durham",114660,"Mike","Widdis","M","2019-20","Widdis, Mike","NA",""]
["Ontario Durham",114672,"Ashley","Willis","F","2011-12","Willis, Ashley","NA",""]
["Huronia",114675,"Will","Vibert","M","2023-24","Vibert, Will",127,""]
["Ontario Durham",114686,"Elizabeth","Winter","F","2024-25","Winter, Elizabeth",178,""]
["Metro Toronto",114693,"Sharon","Allison","F","2024-25","Allison, Sharon","NA",""]
["Ottawa Valley",114700,"Robert","Scrimshaw","M","2024-25","Scrimshaw, Robert",136,""]
["Middlesex Elgin",114712,"Jeremy","Elvins","M","2023-24","Elvins, Jeremy",77,""]
["Middlesex Elgin",114717,"Lukas","Mcdowall","M","2023-24","Mcdowall, Lukas",228,""]
["Ontario Durham",114730,"Sherry","Clymer","F","2010-11","Clymer, Sherry","NA",""]
["Ontario Durham",114742,"Linda","Ebert","F","2024-25","Ebert, Linda",178,""]
["Ontario Durham",114745,"Bess","Fellows","F","2017-18","Fellows, Bess","NA",""]
["Kawartha Lakes",114756,"Terry","Schilz","M","2023-24","Schilz, Terry",194,""]
["Metro Toronto",114764,"Sandra","Johnson","F","2019-20","Johnson, Sandra","NA",""]
["Central Ontario",114771,"Jax","Dodge","M","2024-25","Dodge, Jax",127,""]
["Central Ontario",114783,"Steve","Wald","M","2024-25","Wald, Steve",180,""]
["Huronia",114788,"Dianne","Campeau","F","2024-25","Campeau, Dianne",114,""]
["Ontario Durham",114801,"Dylan","Quesnel","M","2021-22","Quesnel, Dylan",224,""]
["Huronia",114813,"Mike","Carnovale sr.","M","2024-25","Carnovale sr., Mike","NA",""]
["Huronia",114820,"Melissa","Hobson","F","2024-25","Hobson, Melissa","NA",""]
["Huronia",114827,"Ed","Kilius","M","2024-25","Kilius, Ed","NA",""]
["Huronia",114834,"Jason b.","Whiteside","M","2024-25","Whiteside, Jason b.",115,""]
["Tri-County",114841,"Kevin","Asselstine","M","2015-16","Asselstine, Kevin","NA",""]
["Huronia",114853,"Diane","Cairns","F","2024-25","Cairns, Diane",116,""]
["Huronia",114858,"Elizabeth","Soteros","F","2024-25","Soteros, Elizabeth",117,""]
["Central Ontario",114871,"Quinn","Koutris","M","2024-25","Koutris, Quinn",154,""]
["Central Ontario",114883,"Francois","Aubin","M","2024-25","Aubin, Francois",193,""]
["Ottawa Valley",114890,"Dave","Ferrone","M","2024-25","Ferrone, Dave",149,""]
["Ottawa Valley",114897,"Augusta","Waddell","F","2024-25","Waddell, Augusta",155,""]
["Ontario Durham",114904,"Alexis","Davies","F","2024-25","Davies, Alexis",195,""]
["Tri-County",114911,"Kelly","Burns","F","2010-11","Burns, Kelly","NA",""]
["Ontario Durham",114923,"Sena","Snoddon","F","2024-25","Snoddon, Sena",148,""]
["Tri-County",114928,"Ermanno","Caroppo","M","2012-13","Caroppo, Ermanno","NA",""]
["Ottawa Valley",114941,"Amanda","Ingram","F","2024-25","Ingram, Amanda",168,""]
["Tri-County",114953,"Rick","Coppins","M","2012-13","Coppins, Rick","NA",""]
["Tri-County",114960,"Linda","Cromwell","F","2013-14","Cromwell, Linda","NA",""]
["Huronia",114967,"Dannette","Berard","F","2024-25","Berard, Dannette","NA",""]
["Huronia",114974,"Nick","Manuel","M","2024-25","Manuel, Nick",168,""]
["Huronia",114981,"Marisa","Dipucchio","F","2024-25","Dipucchio, Marisa",98,""]
["Central Ontario",114993,"Jessica","Dickson","F","2024-25","Dickson, Jessica","NA",""]
["Central Ontario",114998,"Gbenga","Akanbi","M","2024-25","Akanbi, Gbenga","NA",""]
["Tri-County",115011,"Kayla","Dougherty","F","2015-16","Dougherty, Kayla","NA",""]
["Grand River",115023,"Ray","Cook","M","2024-25","Cook, Ray",149,""]
["Tri-County",115030,"Vic","Faiella","M","2010-11",{"$f":"D15106&\", \"&C15106","v":"Faiella, Vic"},"NA",""]
["Grand River",115037,"Megan","Brown","F","2024-25","Brown, Megan",97,""]
["Grand River",115044,"Jeff","Cassidy","M","2024-25","Cassidy, Jeff",157,""]
["Tri-County",115051,"Teresa","Flanders","F","2016-17","Flanders, Teresa","NA",""]
["Tri-County",115066,"Wayne","Gagnon","M","2012-13","Gagnon, Wayne","NA",""]
["Middlesex Elgin",115069,"Mike","Galbraith","M","2022-23","Galbraith, Mike",238,""]
["Grand River",115081,"Rick","Gingrich","M","2018-19","Gingrich, Rick","NA",""]
["Ottawa Valley",115093,"Kory","Hamilton","M","2024-25","Hamilton, Kory",182,""]
["Ottawa Valley",115097,"Larry","Ings","M","2024-25","Ings, Larry",201,""]
["Ottawa Valley",115102,"Chris","Hewitt","M","2024-25","Hewitt, Chris",137,""]
["Hamilton",115118,"Keith","Jones","M","2024-25","Jones, Keith",174,""]
["Hamilton",115121,"Rick","Truszkowsla","M","2024-25","Truszkowsla, Rick",158,""]
["Hamilton",115136,"Vi-ann","Gross","F","2024-25","Gross, Vi-ann",107,""]
["Hamilton",115139,"Linda","Kirkwood","F","2024-25","Kirkwood, Linda",114,""]
["Tri-County",115151,"Alf","Izokaitis","M","2010-11","Izokaitis, Alf","NA",""]
["Hamilton",115163,"Antoinette","Walker","F","2024-25","Walker, Antoinette",81,""]
["O5PBA",115167,"Francis","Kelly","M","2022-23","Kelly, Francis","NA",""]
["Middlesex Elgin",115172,"Lynn","Kilbourne","F","2024-25","Kilbourne, Lynn",208,""]
["Kawartha Lakes",115189,"Kim","Lywood","F","2024-25","Lywood, Kim",112,""]
["Tri-County",115192,"Gary","Laird","M","2010-11","Laird, Gary","NA",""]
["York Simcoe",115207,"Ashley","Graham","F","2024-25","Graham, Ashley",185,""]
["Huronia",115210,"Barry","Gougeon","M","2024-25","Gougeon, Barry",128,""]
["Huronia",115222,"Joe","Belcourt","M","2024-25","Belcourt, Joe",142,""]
["Tri-County",115234,"Mary","Maclellan","F","2011-12","Maclellan, Mary","NA",""]
["Tri-County",115238,"Ron","Maich","M","2011-12","Maich, Ron","NA",""]
["Huronia",115243,"Sarah","Macdonald","F","2024-25","Macdonald, Sarah",150,""]
["Tri-County",115259,"Hector","Matte","M","2013-14","Matte, Hector","NA",""]
["Kawartha Lakes",115262,"Don","Gill","M","2024-25","Gill, Don",159,""]
["Kawartha Lakes",115277,"Marc","Sorenson","M","2024-25","Sorenson, Marc",153,""]
["Kawartha Lakes",115280,"Brad","Fraser","M","2024-25","Fraser, Brad",112,""]
["Kawartha Lakes",115292,"Todd","Stata","M","2024-25","Stata, Todd",134,""]
["Kawartha Lakes",115299,"Shawn","Grant","M","2024-25","Grant, Shawn",154,""]
["Kawartha Lakes",115308,"Jack","Toms","M","2024-25","Toms, Jack",140,""]
["Kawartha Lakes",115313,"Kimberly","Gartner","F","2024-25","Gartner, Kimberly",111,""]
["Kawartha Lakes",115329,"Bob","Field","M","2024-25","Field, Bob",136,""]
["Central Ontario",115332,"Paul","Lenathen","M","2024-25","Lenathen, Paul",134,""]
["Hamilton",115347,"Alexandra","Moore","F","2024-25","Moore, Alexandra",109,""]
["Middlesex Elgin",115350,"Hunter","Attewell","M","2024-25","Attewell, Hunter",211,""]
["Middlesex Elgin",115362,"Dustin","Howeling","M","2024-25","Howeling, Dustin",189,""]
["Middlesex Elgin",115369,"Mark","Slater","M","2024-25","Slater, Mark",226,""]
["Middlesex Elgin",115378,"Brian","Pye","M","2024-25","Pye, Brian",243,""]
["Tri-County",115383,"Helen","Redford","F","2010-11","Redford, Helen","NA",""]
["Tri-County",115399,"Nathan","Robdrup","M","2010-11","Robdrup, Nathan","NA",""]
["Metro Toronto",115402,"Mary","Ryder","F","2024-25","Ryder, Mary",126,""]
["Niagara Peninsula",115417,"Jacque","Faucher","M","2023-24","Faucher, Jacque",176,""]
["Tri-County",115420,"Jessica","Skinner","F","2010-11","Skinner, Jessica","NA",""]
["Middlesex Elgin",115432,"Steve","Sachs","M","2013-14","Sachs, Steve","NA",""]
["Huronia",115438,"Pauline","Laurin","F","2022-23","Laurin, Pauline",95,""]
[null,115450,"Susan","Dhillon","M",null,"Dhillon, Susan","NA",""]
["Grand River",115453,"Joseph","Hanniman","M","2024-25","Hanniman, Joseph",202,""]
["Kawartha Lakes",115470,"Joe","Finn","M","2022-23","Finn, Joe",132,""]
["Kawartha Lakes",115479,"Rob","Altvter","M","2024-25","Altvter, Rob",153,""]
["Kawartha Lakes",115489,"John","Sullivan","M","2022-23","Sullivan, John",97,""]
["Kawartha Lakes",115492,"Pam","Piercey","F","2024-25","Piercey, Pam",141,""]
["Kawartha Lakes",115504,"Jenny","Robertson","F","2023-24","Robertson, Jenny",132,""]
["Kawartha Lakes",115510,"Patti","Jones","F","2024-25","Jones, Patti",110,""]
["Grand River",115522,"Dave","Vere","M","2024-25","Vere, Dave",172,""]
["Tri-County",115525,"Gail","Versteeg","F","2014-15","Versteeg, Gail","NA",""]
["Huronia",115541,"Christine","Gondosch","F","2022-23","Gondosch, Christine",139,""]
["Metro Toronto",115549,"Becky","Molto","F","2023-24","Molto, Becky",140,""]
["Niagara Peninsula",115559,"Tracy","Mitchell","F","2023-24","Mitchell, Tracy",83,""]
["Middlesex Elgin",115562,"Steve","Williams","M","2019-20","Williams, Steve","NA",""]
["York Simcoe",115574,"Chris","Mayer","M","2023-24","Mayer, Chris",196,""]
["Tri-County",115580,"Brent","Campbell","M","2017-18","Campbell, Brent","NA",""]
["Huronia",115592,"Payton","Neil","M","2024-25","Neil, Payton",168,""]
["Huronia",115599,"Jerolyn","Lennox","F","2023-24","Lennox, Jerolyn",113,""]
["Grand River",115611,"Hannah","Good","F","2024-25","Good, Hannah",127,""]
["Grand River",115619,"Jarrett","Carneigie","M","2024-25","Carneigie, Jarrett",163,""]
["Grand River",115629,"Adam","Galbraith","M","2024-25","Galbraith, Adam",141,""]
["Grand River",115632,"Christine","Markle","F","2024-25","Markle, Christine",87,""]
["Middlesex Elgin",115644,"Patrick","Stuart","M","2024-25","Stuart, Patrick",242,""]
["Grand River",115650,"Autumn","Stabtlander","F","2024-25","Stabtlander, Autumn",186,""]
["Grand River",115662,"Fred","Tiffin","M","2024-25","Tiffin, Fred",195,""]
["Middlesex Elgin",115669,"Marina","Watson","F","2010-11","Watson, Marina","NA",""]
["Middlesex Elgin",115681,"Gary","Daubs","M","2013-14","Daubs, Gary","NA",""]
["Middlesex Elgin",115689,"Bill","Weir","M","2010-11","Weir, Bill","NA",""]
["Bay of Quinte",115699,"Brian","Lattanville","M","2023-24","Lattanville, Brian","NA",""]
["Ontario Durham",115702,"Brian","Macgillivray","M","2024-25","Macgillivray, Brian",156,""]
["Bay of Quinte",115714,"Rebecca","Moore","F","2023-24","Moore, Rebecca",159,""]
["Kawartha Lakes",115720,"Machaila","Dunham","F","2024-25","Dunham, Machaila",145,""]
["Bay of Quinte",115732,"Evelyn","Hazlewood","F","2010-11","Hazlewood, Evelyn","NA",""]
["Bay of Quinte",115739,"Phil","Gray","M","2010-11","Gray, Phil","NA",""]
["Bay of Quinte",115751,"Bryan","Gelineau","M","2010-11","Gelineau, Bryan","NA",""]
["Bay of Quinte",115759,"Mike","Greenlee","M","2024-25","Greenlee, Mike",239,""]
["Bay of Quinte",115769,"Bill","Hobbs","M","2024-25","Hobbs, Bill",148,""]
["Central Ontario",115772,"Michelle","Patterson-bruno","F","2024-25","Patterson-bruno, Michelle",133,""]
["Central Ontario",115779,"Serena","Lowe","F","2024-25","Lowe, Serena",78,""]
["Grand River",115790,"Jen","Longo","F","2016-17","Longo, Jen","NA",""]
["Grand River",115802,"Wayne","Kendry","M","2019-20","Kendry, Wayne","NA",""]
["Bay of Quinte",115809,"Eleanor","Erickson","F","2014-15","Erickson, Eleanor","NA",""]
["Bay of Quinte",115821,"Colleen","Hart","F","2011-12","Hart, Colleen","NA",""]
["Bay of Quinte",115829,"Patrick","Holmes","M","2014-15","Holmes, Patrick","NA",""]
["Bay of Quinte",115839,"Wendy","Toms","F","2015-16","Toms, Wendy","NA",""]
["Central Ontario",115842,"Kalin","Matheson","F","2014-15","Matheson, Kalin","NA",""]
["Bay of Quinte",115850,"Kristy","Henderson","F","2011-12","Henderson, Kristy","NA",""]
["Central Ontario",115860,"Don","Oliver","M","2014-15","Oliver, Don","NA",""]
["Kawartha Lakes",115877,"Ashley","Trollope","F","2011-12","Trollope, Ashley","NA",""]
["Central Ontario",115884,"Casey","Andrews","F","2024-25","Andrews, Casey",150,""]
["Kawartha Lakes",115894,"Simona","Appleton","F","2010-11","Appleton, Simona","NA",""]
["Kawartha Lakes",115898,"Mel","Lord","M","2010-11","Lord, Mel","NA",""]
["Kawartha Lakes",115914,"Wanda","Bannon","F","2010-11","Bannon, Wanda","NA",""]
["Kawartha Lakes",115917,"Patti","Hurren","F","2010-11","Hurren, Patti","NA",""]
["Kawartha Lakes",115925,"Bill","Kirkpatrick","M","2010-11","Kirkpatrick, Bill","NA",""]
["Kawartha Lakes",115935,"Ray","Taylor","M","2012-13","Taylor, Ray","NA",""]
["Kawartha Lakes",115947,"Shane","Burton","M","2010-11","Burton, Shane","NA",""]
["Kawartha Lakes",115954,"Holly","Bow","F","2010-11","Bow, Holly","NA",""]
["Kawartha Lakes",115964,"Paul","Franzen","M","2011-12","Franzen, Paul","NA",""]
["Kawartha Lakes",115972,"Carrie","Winters","F","2013-14","Winters, Carrie","NA",""]
["Central Ontario",115984,"Denise","Parker","F","2024-25","Parker, Denise",179,""]
["Central Ontario",115988,"Peter","Penman","M","2014-15","Penman, Peter","NA",""]
["Huronia",115996,"Jay","Seymour","M","2010-11","Seymour, Jay","NA",""]
["Bay of Quinte",116006,"Jeannie","Turner","F","2010-11","Turner, Jeannie","NA",""]
["Bay of Quinte",116018,"Nick","Wannamaker","M","2010-11","Wannamaker, Nick","NA",""]
["Western Ontario",116025,"Rick","Smith","M","2010-11","Smith, Rick","NA",""]
["Bay of Quinte",116035,"Christine","Makarchuk","F","2010-11","Makarchuk, Christine","NA",""]
["Bay of Quinte",116043,"Rhonda","Lafferty","F","2010-11","Lafferty, Rhonda","NA",""]
["Bay of Quinte",116055,"Harry","Keck","M","2010-11","Keck, Harry","NA",""]
["Grand River",116058,"Gus","Fraser","M","2010-11","Fraser, Gus","NA",""]
["Grand River",116066,"Dave","Truax","M","2016-17","Truax, Dave","NA",""]
["Grand River",116076,"Spencer","Mcdonald","M","2010-11","Mcdonald, Spencer","NA",""]
["Grand River",116083,"Ron","Shillolo","M","2010-11","Shillolo, Ron","NA",""]
["Tri-County",116095,"Gary","Farkas","M","2010-11","Farkas, Gary","NA",""]
["Tri-County",116105,"Collin","Tate","M","2018-19","Tate, Collin","NA",""]
["Huronia",116113,"Bernice","Mcginnis","F","2010-11","Mcginnis, Bernice","NA",""]
["Huronia",116125,"Terry","Graham","M","2012-13","Graham, Terry","NA",""]
["Huronia",116128,"Larry","Mccartney","M","2019-20","Mccartney, Larry","NA",""]
["Huronia",116136,"Bob","Blair","M","2010-11","Blair, Bob","NA",""]
["Huronia",116146,"Joe","Condotta","M","2017-18","Condotta, Joe","NA",""]
["Huronia",116153,"Dianne","Oakes","F","2010-11","Oakes, Dianne","NA",""]
["Central Ontario",116165,"Kevin","Williams","M","2011-12","Williams, Kevin","NA",""]
["Central Ontario",116175,"Grant","Mandarino","M","2016-17","Mandarino, Grant","NA",""]
["Bay of Quinte",116183,"Cyndal","Hawman","F","2010-11","Hawman, Cyndal","NA",""]
["Ontario Durham",116195,"Barb","Kelly","F","2011-12","Kelly, Barb","NA",""]
["Ontario Durham",116198,"Tabitha","Clark","F","2013-14","Clark, Tabitha","NA",""]
["Ontario Durham",116206,"Laurie","Coupland","F","2010-11","Coupland, Laurie","NA",""]
["Western Ontario",116216,"Courtney","Malette","F","2018-19","Malette, Courtney","NA",""]
["Western Ontario",116223,"Brittany","Forfitt","F","2023-24","Forfitt, Brittany",150,""]
["Ontario Durham",116235,"Kevin","Humphrey","M","2019-20","Humphrey, Kevin","NA",""]
["Ontario Durham",116245,"Kevin","Piercey","M","2011-12","Piercey, Kevin","NA",""]
["Ontario Durham",116253,"Jennifer","Alderman","F","2014-15","Alderman, Jennifer","NA",""]
["Ontario Durham",116265,"Fay","Robinson","F","2024-25","Robinson, Fay",160,""]
["Ontario Durham",116266,"Jason","Jones","M","2013-14","Jones, Jason","NA",""]
["Ontario Durham",116274,"Austin","Clark","M","2019-20","Clark, Austin","NA",""]
["Ontario Durham",116286,"Dan","Blake","M","2010-11","Blake, Dan","NA",""]
["Ontario Durham",116293,"John","Deacon","M","2017-18","Deacon, John","NA",""]
["York Simcoe",116305,"Janice","Hodgson","F","2012-13","Hodgson, Janice","NA",""]
["York Simcoe",116316,"Jeremy","Martin","M","2015-16","Martin, Jeremy","NA",""]
["York Simcoe",116323,"Sean","Graham","M","2011-12","Graham, Sean","NA",""]
["Huronia",116336,"John","Fiebrich","M","2018-19","Fiebrich, John","NA",""]
["Huronia",116337,"Therese","White","F","2010-11","White, Therese","NA",""]
["Huronia",116345,"Sheri","Robertson","F","2010-11","Robertson, Sheri","NA",""]
["Huronia",116357,"Theresa","Hentsridge","F","2011-12","Hentsridge, Theresa","NA",""]
["Huronia",116364,"Mike","Poitras","M","2010-11","Poitras, Mike","NA",""]
["Huronia",116376,"Bob","Mckellar","M","2010-11","Mckellar, Bob","NA",""]
["Huronia",116382,"Herb","Deyman","M","2012-13","Deyman, Herb","NA",""]
["Ottawa Valley",116394,"Todd","Potvin","M","2013-14","Potvin, Todd","NA",""]
["Ottawa Valley",116406,"Ryan","Mcgarry","M","2010-11","Mcgarry, Ryan","NA",""]
["Ottawa Valley",116407,"Kristina","Giaccone","F","2010-11","Giaccone, Kristina","NA",""]
["Ottawa Valley",116415,"Bliss","Buchanan","M","2015-16","Buchanan, Bliss","NA",""]
["Ottawa Valley",116428,"Barb","Tourigny","F","2010-11","Tourigny, Barb","NA",""]
["Ontario Durham",116435,"Jenn","Littleford","F","2010-11","Littleford, Jenn","NA",""]
["Central Ontario",116449,"Doreen","Doouss","F","2010-11","Doouss, Doreen","NA",""]
["Central Ontario",116455,"Jodi","Myers","F","2014-15","Myers, Jodi","NA",""]
["Huronia",116467,"Joanne","Antinori","F","2017-18","Antinori, Joanne","NA",""]
["Central Ontario",116479,"Brian","Lindsay","M","2024-25","Lindsay, Brian",133,""]
["Central Ontario",116480,"Douglas","Parker","M","2010-11","Parker, Douglas","NA",""]
["Niagara Peninsula",116488,"Marie","Chuckery","F","2013-14","Chuckery, Marie","NA",""]
["Niagara Peninsula",116500,"Mary frances","Penwarden","F","2010-11","Penwarden, Mary frances","NA",""]
["Niagara Peninsula",116507,"Brad","Coons","M","2010-11","Coons, Brad","NA",""]
["Grand River",116519,"Sandy","Debrusk","F","2010-11","Debrusk, Sandy","NA",""]
["Grand River",116525,"Dave","Braca","M","2010-11","Braca, Dave","NA",""]
["Grand River",116537,"Rosemarie","Gockel","F","2012-13","Gockel, Rosemarie","NA",""]
["Grand River",116549,"Daniel","St. onge","M","2013-14","St. onge, Daniel","NA",""]
["Grand River",116550,"Annie","Uffelmann","F","2014-15","Uffelmann, Annie","NA",""]
["Grand River",116558,"Tyler","Kane","M","2022-23","Kane, Tyler",189,""]
["Grand River",116574,"Margaret","White","F","2018-19","White, Margaret","NA",""]
["Grand River",116577,"Ron","Braun","M","2016-17","Braun, Ron","NA",""]
["Bay of Quinte",116590,"Real","Laflamme","M","2010-11","Laflamme, Real","NA",""]
["Middlesex Elgin",116596,"Crystal","Eberhardt-gwynne","F","2024-25","Eberhardt-gwynne, Crystal",204,""]
["Hamilton",116608,"Todd","Hill","M","2010-11","Hill, Todd","NA",""]
["Central Ontario",116621,"Jason","Graham","M","2010-11","Graham, Jason","NA",""]
["Central Ontario",116622,"Megan","Maine","F","2010-11","Maine, Megan","NA",""]
["York Simcoe",116630,"William","Winckuk","M","2011-12","Winckuk, William","NA",""]
["York Simcoe",116646,"Nina","Barone","F","2015-16","Barone, Nina","NA",""]
["York Simcoe",116651,"Eddie","Chiu","M","2013-14","Chiu, Eddie","NA",{"$f":"IF(G16712=G16711,\"Same\",\"\")","v":""}]
["Ontario Durham",116660,"Sue","Paddison","F","2011-12","Paddison, Sue","NA",""]
["Middlesex Elgin",116667,"Kevin","Larose","M","2010-11","Larose, Kevin","NA",""]
["Tri-County",116679,"John","Mccullough","M","2011-12","Mccullough, John","NA",""]
["Tri-County",116690,"James","Saunders","M","2016-17","Saunders, James","NA",""]
["Tri-County",116697,"Steve","Cable","M","2016-17","Cable, Steve","NA",""]
["Tri-County",116700,"Trudy","Paul","F","2013-14","Paul, Trudy","NA",""]
["Ottawa Valley",116716,"Adam","Diodati","M","2011-12","Diodati, Adam","NA",""]
["Ottawa Valley",116721,"Matthew","Gregory","M","2022-23","Gregory, Matthew",171,""]
["Ottawa Valley",116730,"Dan","Lavoie","M","2023-24","Lavoie, Dan",126,""]
["Ottawa Valley",116737,"Calum","Mackenzie","M","2011-12","Mackenzie, Calum","NA",""]
["Ottawa Valley",116749,"Ken","Pierce","M","2010-11","Pierce, Ken","NA",""]
["Ottawa Valley",116760,"Louise","Gagnier","F","2017-18","Gagnier, Louise","NA",""]
["Ottawa Valley",116767,"Joshua","Blanchard","M","2015-16","Blanchard, Joshua","NA",""]
["Ottawa Valley",116770,"Sharon","Rideout","F","2011-12","Rideout, Sharon","NA",""]
["Ottawa Valley",116786,"Vera","Finnigan","F","2016-17","Finnigan, Vera","NA",""]
["Ottawa Valley",116791,"Vic","Hudon","M","2013-14","Hudon, Vic","NA",""]
["Ottawa Valley",116800,"Emile","Trudeau","M","2010-11","Trudeau, Emile","NA",""]
["Ottawa Valley",116807,"Louise","Wood","F","2010-11","Wood, Louise","NA",""]
["York Simcoe",116819,"Evelyn","Tracey","F","2010-11","Tracey, Evelyn","NA",""]
["York Simcoe",116830,"Fred","Manuel","M","2010-11","Manuel, Fred","NA",""]
["Niagara Peninsula",116837,"Mike","Bisson","M","2011-12",{"$f":"D16898&\", \"&C16898","v":"Bisson, Mike"},"NA",""]
["Niagara Peninsula",116841,"Alex","Lukacs","M","2010-11","Lukacs, Alex","NA",""]
["Niagara Peninsula",116858,"Joe","Labbe","M","2011-12","Labbe, Joe","NA",""]
["Niagara Peninsula",116863,"Jean","Huneault","F","2011-12","Huneault, Jean","NA",""]
["Bay of Quinte",116876,"Kendra","Hudson","F","2017-18","Hudson, Kendra","NA",""]
["Bay of Quinte",116879,"Tammy","Nezezon","F","2011-12","Nezezon, Tammy","NA",""]
["Bay of Quinte",116891,"Cindy","Mcgriskin","F","2015-16","Mcgriskin, Cindy","NA",""]
["Bay of Quinte",116902,"Gary","Sturch","M","2015-16","Sturch, Gary","NA",""]
["Bay of Quinte",116909,"Caryl","Parnall","F","2013-14","Parnall, Caryl","NA",{"$f":"IF(G16968=G16967,\"Same\",\"\")","v":""}]
["Bay of Quinte",116912,"Jeanette","Charity","F","2010-11","Charity, Jeanette","NA",""]
["York Simcoe",116928,"Michael","Hrekchka","M","2012-13","Hrekchka, Michael","NA",""]
["York Simcoe",116934,"Sean","Nesbitt","M","2013-14","Nesbitt, Sean","NA",""]
["York Simcoe",116947,"Susan","Ahmed","F","2010-11","Ahmed, Susan","NA",""]
["York Simcoe",116950,"Marion","Shannon","F","2012-13","Shannon, Marion","NA",""]
["Huronia",116962,"Barb","Cunningham","F","2011-12","Cunningham, Barb","NA",""]
["Grand River",116974,"Krista","Martin","F","2010-11","Martin, Krista","NA",""]
["Central Ontario",116981,"Mitch","Holmes","M","2011-12","Holmes, Mitch","NA",""]
["Grand River",116984,"Sue","Coveny","F","2012-13","Coveny, Sue","NA",""]
["Grand River",117000,"Kelvin","Chambers","M","2012-13","Chambers, Kelvin","NA",""]
["Hamilton",117005,"Thomas","Climie","M","2012-13","Climie, Thomas","NA",""]
["Hamilton",117018,"Don","Tweedle","M","2014-15","Tweedle, Don","NA",""]
["Hamilton",117021,"David","Muir","M","2021-22","Muir, David","NA",""]
["Ontario Durham",117033,"Dan","Knox","M","2011-12",{"$f":"D17090&\", \"&C17090","v":"Knox, Dan"},"NA",""]
["Middlesex Elgin",117044,"Bob","Morland","M","2022-23","Morland, Bob","NA",""]
["Grand River",117051,"Howard","Pettit","M","2010-11","Pettit, Howard","NA",""]
["Middlesex Elgin",117058,"Nicole","Vandenwolf","F","2010-11","Vandenwolf, Nicole","NA",""]
["Huronia",117065,"Morgan","Glover","F","2024-25","Glover, Morgan",218,""]
["York Simcoe",117072,"Karen","Mclennan","F","2010-11","Mclennan, Karen","NA",""]
["Metro Toronto",117089,"Tina","Jauvin","F","2012-13","Jauvin, Tina","NA",""]
["Niagara Peninsula",117093,"Michelle","Pinnance","F","2012-13","Pinnance, Michelle","NA",""]
["Niagara Peninsula",117106,"Lew","Sheldrick","M","2014-15","Sheldrick, Lew","NA",""]
["Niagara Peninsula",117111,"Rose","Calcagni","F","2010-11","Calcagni, Rose","NA",""]
["Huronia",117123,"Steve","Jones","M","2010-11","Jones, Steve","NA",""]
["Huronia",117130,"Lynn","Bockus","F","2020-21","Bockus, Lynn","NA",""]
["Metro Toronto",117137,"Tammy","Mackenzie","F","2011-12","Mackenzie, Tammy","NA",""]
["Bay of Quinte",117144,"Becky","Brown","F","2021-22","Brown, Becky","NA",""]
["Bay of Quinte",117160,"Daniel","Rondeau","M","2010-11","Rondeau, Daniel","NA",""]
["Bay of Quinte",117163,"Pat","Doyle","F","2011-12",{"$f":"D17218&\", \"&C17218","v":"Doyle, Pat"},"NA",""]
["Bay of Quinte",117176,"Dianne","Battams","F","2010-11","Battams, Dianne","NA",""]
["Niagara Peninsula",117181,"Dean","Diplock","M","2010-11","Diplock, Dean","NA",""]
["Niagara Peninsula",117193,"Michael","Goodman","M","2011-12","Goodman, Michael","NA",""]
["Niagara Peninsula",117200,"Pauline","Barnes","F","2010-11","Barnes, Pauline","NA",""]
["Niagara Peninsula",117207,"Dennis","Maracle","M","2010-11","Maracle, Dennis","NA",""]
["Niagara Peninsula",117214,"Steve","Kramer","M","2011-12","Kramer, Steve","NA",""]
["Hamilton",117230,"Harry","Hikida","M","2022-23","Hikida, Harry",91,""]
["Hamilton",117233,"Kristin","Robertson","F","2011-12","Robertson, Kristin","NA",{"$f":"IF(G17288=G17287,\"Same\",\"\")","v":""}]
["Niagara Peninsula",117246,"Hector","Macallum","M","2010-11","Macallum, Hector","NA",""]
["Niagara Peninsula",117251,"Jason","Stevens","M","2011-12","Stevens, Jason","NA",""]
["Huronia",117264,"Laird","Shaughnessy","M","2010-11","Shaughnessy, Laird","NA",""]
["York Simcoe",117271,"Claudette","Wintjes","F","2010-11","Wintjes, Claudette","NA",""]
["York Simcoe",117278,"Lucy","Jenkins","F","2012-13","Jenkins, Lucy","NA",""]
["Ontario Durham",117285,"Debbie","Quesnel","F","2020-21","Quesnel, Debbie","NA",""]
["Bay of Quinte",117301,"Paul","Turner","M","2016-17","Turner, Paul","NA",""]
["Bay of Quinte",117304,"Bruce","Brown","M","2014-15","Brown, Bruce","NA",""]
["York Simcoe",117317,"Susan","Maltese","F","2012-13","Maltese, Susan","NA",""]
["Huronia",117322,"Carissa","Buckmiller","F","2010-11","Buckmiller, Carissa","NA",""]
["Ontario Durham",117334,"John","Martin","M","2010-11","Martin, John","NA",""]
["Grand River",117341,"Sarah","Muntean","F","2015-16","Muntean, Sarah","NA",""]
["Tri-County",117348,"Sandra","Goodwin","F","2012-13","Goodwin, Sandra","NA",""]
["Grand River",117359,"Kim","Utley","F","2023-24","Utley, Kim",174,""]
["Bay of Quinte",117371,"Judy","Mercer","F","2014-15","Mercer, Judy","NA",""]
["Huronia",117374,"Alfie","Twa","M","2012-13","Twa, Alfie","NA",""]
["Western Ontario",117387,"Grace","Sylvester","F","2011-12","Sylvester, Grace","NA",""]
["York Simcoe",117392,"Morley","Peplinskie","M","2011-12","Peplinskie, Morley","NA",""]
["Kawartha Lakes",117404,"Sue","Holiday","F","2018-19","Holiday, Sue","NA",""]
["Kawartha Lakes",117411,"Damian","Gosse","M","2011-12","Gosse, Damian","NA",""]
["Kawartha Lakes",117418,"Kirni","Gill","F","2011-12","Gill, Kirni","NA",""]
["Kawartha Lakes",117431,"Elijah","Charles","M","2024-25","Charles, Elijah",191,""]
["Central Ontario",117443,"Nicole","Beauchemin","F","2019-20","Beauchemin, Nicole","NA",""]
["Central Ontario",117449,"Steven","Chrisikopoulos","M","2019-20","Chrisikopoulos, Steven","NA",""]
["Central Ontario",117452,"Bobby","Cote","M","2021-22","Cote, Bobby","NA",""]
["Central Ontario",117464,"Robert","Hall","M","2016-17","Hall, Robert","NA",""]
["Central Ontario",117476,"Chris","Murray","M","2011-12","Murray, Chris","NA",""]
["Central Ontario",117480,"Joshua","Newton","M","2014-15","Newton, Joshua","NA",""]
["Huronia",117494,"Bill","Ellerington","M","2022-23","Ellerington, Bill",137,""]
["Ottawa Valley",117501,"Lidwina","Levesque","F","2012-13","Levesque, Lidwina","NA",""]
["Central Ontario",117513,"Sylvain","Rollin","M","2011-12","Rollin, Sylvain","NA",""]
["Central Ontario",117519,"Kathy","Dasilva","F","2011-12","Dasilva, Kathy","NA",""]
["Central Ontario",117522,"Barb","Macdonald","F","2011-12","Macdonald, Barb","NA",""]
["Central Ontario",117534,"Eric","Bas","M","2017-18","Bas, Eric","NA",""]
["Central Ontario",117541,"Bradley","Thompson","M","2023-24","Thompson, Bradley",118,""]
["Central Ontario",117550,"Aaron","Lindsay","M","2011-12",{"$f":"D17602&\", \"&C17602","v":"Lindsay, Aaron"},"NA",""]
["Central Ontario",117564,"Simon","Clennett","M","2024-25","Clennett, Simon",76,""]
["Central Ontario",117572,"David","Graham","M","2013-14","Graham, David","NA",""]
["Central Ontario",117585,"Michael","Lessels","M","2021-22","Lessels, Michael","NA",""]
["Central Ontario",117592,"Andrew","Nairouz","M","2024-25","Nairouz, Andrew",116,""]
["Central Ontario",117595,"Dawn","Richardson","F","2011-12","Richardson, Dawn","NA",""]
["Central Ontario",117607,"Mathieu","Rocca","M","2011-12","Rocca, Mathieu","NA",""]
["Central Ontario",117614,"Susan","Asselin","F","2012-13","Asselin, Susan","NA",""]
["Central Ontario",117623,"Geoffrey","Hetherington","M","2019-20","Hetherington, Geoffrey","NA",{"$f":"IF(G17672=G17671,\"Same\",\"\")","v":""}]
["Central Ontario",117637,"Andrew","Schamerhorn","M","2017-18","Schamerhorn, Andrew","NA",""]
["Central Ontario",117644,"Tracy","Zottarelli","F","2016-17","Zottarelli, Tracy","NA",""]
["York Simcoe",117656,"Bruce","Archibald","M","2011-12","Archibald, Bruce","NA",""]
["York Simcoe",117662,"Paul","Macmillan","M","2011-12","Macmillan, Paul","NA",""]
["York Simcoe",117666,"Tom","Reynolds","M","2019-20","Reynolds, Tom","NA",""]
["Grand River",117678,"Jodi","Mcnaughton","F","2011-12","Mcnaughton, Jodi","NA",""]
["Grand River",117685,"Mark","Labranche","M","2023-24","Labranche, Mark",184,""]
["Bay of Quinte",117694,"Becky","Bourgoin","F","2011-12","Bourgoin, Becky","NA",""]
["Bay of Quinte",117708,"Jen","Hughes","F","2011-12","Hughes, Jen","NA",""]
["Bay of Quinte",117715,"Judy","Vineff","F","2012-13","Vineff, Judy","NA",""]
["Central Ontario",117727,"Char","Reekie","F","2011-12","Reekie, Char","NA",""]
["Central Ontario",117733,"Helen","Ballengee","F","2011-12","Ballengee, Helen","NA",""]
["Central Ontario",117738,"Rob","Crowe","M","2011-12","Crowe, Rob","NA",""]
["Huronia",117750,"Rob","Brown","M","2012-13","Brown, Rob","NA",""]
["Huronia",117757,"Diane","Draginda","F","2012-13","Draginda, Diane","NA",""]
["Huronia",117766,"Judy","Jasmin","F","2016-17","Jasmin, Judy","NA",""]
["Middlesex Elgin",117781,"Tiffany","Hunt","F","2022-23","Hunt, Tiffany",186,""]
["Tri-County",117788,"Mike","Jamieson","M","2011-12","Jamieson, Mike","NA",""]
["Western Ontario",117800,"Rob","Lachapelle","M","2013-14","Lachapelle, Rob","NA",""]
["Middlesex Elgin",117806,"Karen","Anseeuw","F","2009-10","Anseeuw, Karen","NA",""]
["Ottawa Valley",117811,"Ginger","Tillman","F","2011-12","Tillman, Ginger","NA",""]
["Kawartha Lakes",117823,"Dave","King","M","2011-12","King, Dave","NA",""]
["Kawartha Lakes",117830,"Pat","Edwards","F","2011-12","Edwards, Pat","NA",""]
["Kawartha Lakes",117839,"Darcy","Hardy","M","2011-12","Hardy, Darcy","NA",""]
["Kawartha Lakes",117848,"Dan","Chaisson","M","2019-20","Chaisson, Dan","NA",""]
["Kawartha Lakes",117860,"Missi","Franzen","F","2011-12","Franzen, Missi","NA",""]
["Kawartha Lakes",117868,"Rick","Foster","M","2011-12","Foster, Rick","NA",""]
["Kawartha Lakes",117879,"Cindy","Porter","F","2011-12","Porter, Cindy","NA",""]
["Kawartha Lakes",117882,"Margie","Brasier","F","2019-20","Brasier, Margie","NA",""]
["Kawartha Lakes",117894,"Mary","Malakoff","F","2024-25","Malakoff, Mary",113,""]
["Kawartha Lakes",117900,"Adam","Patterson","M","2012-13","Patterson, Adam","NA",""]
["Metro Toronto",117912,"Barbara","Langille","F","2012-13","Langille, Barbara","NA",""]
["Metro Toronto",117919,"Virginia","Rimas","F","2011-12","Rimas, Virginia","NA",""]
["Huronia",117932,"Lisa","Miller","F","2011-12","Miller, Lisa","NA",""]
["Huronia",117940,"Kate","David","F","2011-12","David, Kate","NA",""]
["Western Ontario",117950,"Noel","Beaule","M","2012-13","Beaule, Noel","NA",""]
["Western Ontario",117953,"Pam","Parent","F","2013-14","Parent, Pam","NA",""]
["Western Ontario",117965,"Kit","Sylvestre","M","2011-12","Sylvestre, Kit","NA",""]
["Western Ontario",117971,"Kathy","Recchia","F","2016-17","Recchia, Kathy","NA",""]
["Ontario Durham",117983,"Dave","Hand","M","2013-14","Hand, Dave","NA",""]
["Ontario Durham",117990,"Mark","Hall","M","2022-23","Hall, Mark",109,""]
["Western Ontario",118002,"Tyler","Goodison","M","2019-20","Goodison, Tyler","NA",""]
["York Simcoe",118010,"Robert","Stevens","M","2012-13","Stevens, Robert","NA",""]
["Ottawa Valley",118020,"Dennis","Broad","M","2011-12","Broad, Dennis","NA",""]
["Ottawa Valley",118023,"Chris","Smith","M","2011-12","Smith, Chris","NA",""]
["Huronia",118039,"Wilf","Rose","M","2011-12","Rose, Wilf","NA",""]
["Huronia",118041,"Charles","Cooper","M","2024-25","Cooper, Charles",180,""]
["Ontario Durham",118053,"Lena","Hollyer","F","2011-12","Hollyer, Lena","NA",""]
["Ontario Durham",118061,"Bev","Childs","F","2013-14","Childs, Bev","NA",""]
["Ontario Durham",118073,"Marc","Deladurantaye","M","2011-12","Deladurantaye, Marc","NA",""]
["Ontario Durham",118081,"Bruce","Fowler","M","2011-12","Fowler, Bruce","NA",""]
["Ontario Durham",118091,"Chris","Wilson","F","2012-13","Wilson, Chris",242,""]
["Niagara Peninsula",118094,"Maria","Belcastro","F","2011-12","Belcastro, Maria","NA",""]
["Tri-County",118110,"Chris","Labelle","M","2012-13","Labelle, Chris","NA",""]
["Tri-County",118112,"Shawn","Menzies","M","2011-12","Menzies, Shawn","NA",""]
["Western Ontario",118125,"Bob","Bishop","M","2011-12","Bishop, Bob","NA",""]
["Niagara Peninsula",118133,"Robin","Beasley","M","2012-13","Beasley, Robin","NA",""]
["Niagara Peninsula",118145,"Arthur","Ord","M","2011-12","Ord, Arthur","NA",""]
["Niagara Peninsula",118153,"Craig","Mol","M","2011-12","Mol, Craig","NA",""]
["Niagara Peninsula",118163,"Cheryl","Miclette","F","2013-14","Miclette, Cheryl","NA",""]
["Ottawa Valley",118166,"Leila","Constable","F","2011-12","Constable, Leila","NA",""]
["York Simcoe",118182,"Glen","Cusack","M","2011-12","Cusack, Glen","NA",""]
["York Simcoe",118184,"Shawn","Slattery","M","2011-12","Slattery, Shawn","NA",""]
["York Simcoe",118196,"Kyle","French","M","2014-15","French, Kyle","NA",""]
["York Simcoe",118203,"Joanne","Kennedy","F","2012-13","Kennedy, Joanne","NA",""]
["York Simcoe",118215,"Paul","Tobin","M","2012-13","Tobin, Paul","NA",""]
["Ottawa Valley",118223,"Mike","Csontos","M","2016-17","Csontos, Mike","NA",""]
["Ottawa Valley",118233,"Roger","Despatie","M","2017-18","Despatie, Roger","NA",""]
["Ottawa Valley",118236,"Jennifer","Robinson","F","2014-15","Robinson, Jennifer","NA",""]
["Ottawa Valley",118252,"Andrea","Jones","F","2015-16","Jones, Andrea","NA",""]
["Ottawa Valley",118254,"Annick","Myette","F","2014-15","Myette, Annick","NA",""]
["Ottawa Valley",118266,"Chris","Dunlevie","M","2011-12","Dunlevie, Chris","NA",""]
["Ottawa Valley",118273,"Ronald","Breau","M","2011-12","Breau, Ronald","NA",""]
["Ottawa Valley",118283,"Andre","Lagroix","M","2011-12","Lagroix, Andre","NA",""]
["Ottawa Valley",118291,"Lucille","Milette","F","2011-12","Milette, Lucille","NA",""]
["Ottawa Valley",118303,"Fleurette","Vinette","F","2011-12","Vinette, Fleurette","NA",""]
["Ottawa Valley",118306,"Rick","Laker","M","2011-12","Laker, Rick","NA",""]
["Ottawa Valley",118322,"Ryan","Bruneau","M","2013-14","Bruneau, Ryan","NA",""]
["Ottawa Valley",118324,"Adam","O'hara","M","2024-25","O'hara, Adam",169,""]
["Niagara Peninsula",118340,"Chris","Fazekas","M","2013-14","Fazekas, Chris","NA",""]
["Niagara Peninsula",118343,"Jesse","Roepke","M","2011-12","Roepke, Jesse","NA",""]
["Niagara Peninsula",118354,"Hayley","Gaudet","F","2011-12","Gaudet, Hayley","NA",""]
["Grand River",118362,"Kurtis","Bromley","M","2012-13","Bromley, Kurtis","NA",""]
["York Simcoe",118374,"Dave","Ego","M","2019-20","Ego, Dave","NA",""]
["York Simcoe",118377,"Russ","Jones","M","2011-12","Jones, Russ","NA",""]
["Bay of Quinte",118394,"Jennifer","Huffman","F","2011-12","Huffman, Jennifer","NA",""]
["Bay of Quinte",118396,"Carrie","Amodeo","F","2011-12","Amodeo, Carrie","NA",""]
["Hamilton",118412,"Ken","Caron","M","2012-13","Caron, Ken","NA",""]
["Hamilton",118415,"David","Climie","M","2012-13","Climie, David","NA",""]
["Hamilton",118426,"Ashley","Worron","F","2012-13","Worron, Ashley","NA",""]
["Hamilton",118434,"Laura","Gibson","F","2019-20","Gibson, Laura","NA",""]
["Hamilton",118446,"Lisa","Ellis","F","2011-12","Ellis, Lisa","NA",""]
["Ottawa Valley",118453,"Andrew","Urie","M","2015-16","Urie, Andrew","NA",""]
["Grand River",118471,"John","Caldwell","M","2015-16","Caldwell, John","NA",""]
["Grand River",118473,"Sheila","Bohnert","F","2011-12","Bohnert, Sheila","NA",""]
["Grand River",118489,"Marg","Hribar","F","2012-13","Hribar, Marg","NA",""]
["Grand River",118492,"Ken","Snider","M","2011-12","Snider, Ken","NA",""]
["Huronia",118502,"Carole","Ivany","F","2011-12","Ivany, Carole","NA",""]
["York Simcoe",118510,"Jennifer","Munro","F","2011-12","Munro, Jennifer","NA",""]
["York Simcoe",118522,"Brad","Butler","M","2011-12","Butler, Brad","NA",""]
["York Simcoe",118530,"Stephanie","Lisser","F","2015-16","Lisser, Stephanie","NA",""]
["York Simcoe",118542,"Sean","Blezard","M","2011-12","Blezard, Sean","NA",""]
["York Simcoe",118544,"Michael","Durvic","M","2012-13","Durvic, Michael","NA",""]
["Grand River",118560,"Duane","Cook","M","2012-13","Cook, Duane","NA",""]
["Grand River",118563,"Marion","Jones","F","2018-19","Jones, Marion","NA",""]
["Grand River",118573,"Sandy","Rennick","F","2011-12","Rennick, Sandy","NA",""]
["Hamilton",118581,"Matt","Woods","M","2012-13","Woods, Matt","NA",""]
["Western Ontario",118593,"Shawn","Macfarlane","M","2013-14","Macfarlane, Shawn","NA",""]
["Bay of Quinte",118600,"Jim","Hale","M","2020-21","Hale, Jim","NA",""]
["Kawartha Lakes",118612,"Joan","Macphail","F","2024-25","Macphail, Joan",135,""]
["Bay of Quinte",118614,"Chris","Garden","F","2011-12","Garden, Chris","NA",""]
["Bay of Quinte",118631,"Wendy","Mcdonald","F","2013-14","Mcdonald, Wendy","NA",""]
["Middlesex Elgin",118634,"Stuart","Nelson","M","2011-12","Nelson, Stuart","NA",""]
["Middlesex Elgin",118644,"Laurie","Kraftcheck","M","2022-23","Kraftcheck, Laurie",156,""]
["Middlesex Elgin",118652,"Bruce","Ungarian","M","2014-15","Ungarian, Bruce","NA",""]
["Grand River",118664,"Chris","Miller","M","2011-12","Miller, Chris","NA",""]
["Grand River",118673,"Chris","Wolf","M","2011-12","Wolf, Chris","NA",""]
["Metro Toronto",118683,"Ernie","Tataryn","M","2016-17","Tataryn, Ernie","NA",""]
["Metro Toronto",118690,"George","Newton","M","2018-19","Newton, George","NA",""]
["Hamilton",118707,"Aeisha","Hurst","F","2016-17","Hurst, Aeisha","NA",""]
["Bay of Quinte",118710,"Avery","Hamilton","M","2012-13","Hamilton, Avery","NA",""]
["Central Ontario",118717,"Kelly","Laporte","F","2019-20","Laporte, Kelly","NA",""]
["Bay of Quinte",118732,"Yettie","Tukker","F","2017-18","Tukker, Yettie","NA",""]
["Niagara Peninsula",118744,"Mike","Flikkema","M","2015-16","Flikkema, Mike","NA",""]
["Huronia",118753,"Jim","Mcfarland","M","2011-12","Mcfarland, Jim","NA",""]
["Grand River",118762,"Jeff","Mcclutcheon","M","2012-13","Mcclutcheon, Jeff","NA",""]
["Grand River",118765,"Kenneth","Hutton","M","2023-24","Hutton, Kenneth",175,""]
["Niagara Peninsula",118781,"Devon","Leonard","M","2011-12","Leonard, Devon","NA",""]
["Grand River",118784,"Joyce","Cunningham","F","2011-12","Cunningham, Joyce","NA",""]
["Grand River",118790,"Ann marie","Schildroth","F","2011-12","Schildroth, Ann marie","NA",""]
["Grand River",118802,"Carleton","Kennedy","M","2013-14","Kennedy, Carleton","NA",""]
["Grand River",118814,"Amy","Robinson","F","2013-14","Robinson, Amy","NA",""]
["Grand River",118823,"Kris","Wist","M","2011-12","Wist, Kris","NA",""]
["Huronia",118832,"Linda","Palumbo","F","2014-15","Palumbo, Linda","NA",""]
["Middlesex Elgin",118839,"Nicole","Spruyt","F","2024-25","Spruyt, Nicole",226,""]
["Kawartha Lakes",118851,"Marty","Overwijk","M","2011-12","Overwijk, Marty","NA",""]
["Kawartha Lakes",118854,"Bob","Cole","M","2011-12","Cole, Bob","NA",""]
["Kawartha Lakes",118860,"Darlene","Butler","F","2018-19","Butler, Darlene","NA",""]
["Metro Toronto",118872,"John","Sarino","M","2011-12","Sarino, John","NA",""]
["Huronia",118884,"Kim","Patterson","F","2014-15","Patterson, Kim","NA",""]
["Huronia",118893,"Mike","French","M","2013-14","French, Mike","NA",""]
["Huronia",118902,"Ashlie","Kennedy","F","2012-13","Kennedy, Ashlie","NA",""]
["Huronia",118909,"Lynn","Wazny","F","2017-18","Wazny, Lynn","NA",""]
["Huronia",118921,"Bernie","Wabie","F","2015-16","Wabie, Bernie","NA",""]
["Huronia",118925,"Brandon","Corbeau","M","2023-24","Corbeau, Brandon",162,""]
["Huronia",118931,"Kevin","Strachen","M","2012-13","Strachen, Kevin","NA",""]
["Huronia",118943,"Pat","Lawson","F","2012-13","Lawson, Pat","NA",""]
["Huronia",118950,"Bev","Nadjiwon","M","2020-21","Nadjiwon, Bev","NA",""]
["Central Ontario",118964,"Rob","Routcliffe","M","2014-15","Routcliffe, Rob","NA",""]
["Central Ontario",118973,"Kevin","Driscoll","M","2015-16","Driscoll, Kevin","NA",""]
["Central Ontario",118980,"Kim","Odbert","F","2024-25","Odbert, Kim",163,""]
["Central Ontario",118992,"Robert","Edmonds","M","2024-25","Edmonds, Robert",133,""]
["Central Ontario",118995,"Laura","Meneguzzi","F","2019-20","Meneguzzi, Laura","NA",""]
["Huronia",119001,"Aidan","Brown","M","2022-23","Brown, Aidan",220,""]
["Western Ontario",119013,"Tina","Cole","F","2012-13","Cole, Tina","NA",""]
["Bay of Quinte",119020,"Darlene","Cassalman","F","2013-14","Cassalman, Darlene","NA",""]
["Bay of Quinte",119034,"Ena","Watson","F","2012-13","Watson, Ena","NA",""]
["Bay of Quinte",119043,"Pat","Cormier","F","2012-13","Cormier, Pat","NA",""]
["Bay of Quinte",119050,"Marlene","Leblanc","F","2012-13","Leblanc, Marlene","NA",""]
["Ottawa Valley",119062,"Stacy","Best","F","2024-25","Best, Stacy",209,""]
["Ottawa Valley",119065,"Colleen","Domenico","F","2012-13","Domenico, Colleen","NA",""]
["York Simcoe",119071,"Livio","Dirubbo","M","2012-13","Dirubbo, Livio","NA",""]
["Grand River",119083,"Michael","Chrusz","M","2013-14","Chrusz, Michael","NA",""]
["Grand River",119094,"Scott","Krampien","M","2012-13","Krampien, Scott","NA",""]
["Grand River",119101,"Ashley","Franklin","F","2012-13","Franklin, Ashley","NA",""]
["Niagara Peninsula",119113,"Mike","Miller","M","2014-15","Miller, Mike","NA",""]
["Huronia",119120,"Cole","Barnes","M","2012-13","Barnes, Cole","NA",""]
["Huronia",119125,"Chelsea","Evans","F","2012-13","Evans, Chelsea","NA",""]
["Huronia",119139,"Ken","Long","M","2012-13","Long, Ken","NA",""]
["Huronia",119142,"Josh","Moore","M","2012-13","Moore, Josh","NA",""]
["Western Ontario",119154,"Chris","Couture","M","2013-14","Couture, Chris","NA",""]
["Western Ontario",119166,"Joane","Daudlin","F","2015-16","Daudlin, Joane","NA",""]
["Western Ontario",119173,"Sue","Petrevan","F","2023-24","Petrevan, Sue",112,""]
["Western Ontario",119185,"John","Overholt","M","2012-13","Overholt, John","NA",""]
["Middlesex Elgin",119192,"Melanie","Girard","F","2024-25","Girard, Melanie",164,""]
["Western Ontario",119197,"Marc","Lachance","M","2023-24","Lachance, Marc",200,""]
["Huronia",119216,"Tony","Mcquillan","M","2012-13","Mcquillan, Tony","NA",""]
["Huronia",119219,"Evelyn","Badley","F","2019-20","Badley, Evelyn","NA",""]
["Bay of Quinte",119231,"Amber","Perrault","F","2016-17","Perrault, Amber","NA",""]
["Ontario Durham",119242,"Ralph","Paschkowiak","M","2024-25","Paschkowiak, Ralph",181,""]
["Kawartha Lakes",119249,"Jenn","Arundell","F","2013-14","Arundell, Jenn","NA",""]
["Kawartha Lakes",119257,"Logan","Tompkins","M","2018-19","Tompkins, Logan","NA",""]
["Hamilton",119269,"Jason","Marik","M","2024-25","Marik, Jason",179,""]
["Hamilton",119274,"Joe","Ivanco","M","2012-13","Ivanco, Joe","NA",""]
["Ontario Durham",119287,"Jacqui","Chynoweth","F","2012-13","Chynoweth, Jacqui","NA",""]
["Ontario Durham",119290,"Geoff","Yates","M","2013-14","Yates, Geoff","NA",""]
["Ontario Durham",119302,"Rick","Thorne","M","2014-15","Thorne, Rick","NA",""]
["Ontario Durham",119313,"Maggie","Grozelle","F","2016-17","Grozelle, Maggie","NA"]
["Ontario Durham",119320,"John","Marchand","M","2014-15","Marchand, John","NA"]
["Ontario Durham",119327,"Rod","Harrison","M","2015-16","Harrison, Rod","NA"]
["Ontario Durham",119339,"Vikki","Bryers","F","2012-13","Bryers, Vikki","NA"]
["Ontario Durham",119344,"William","Mitchell","M","2024-25","Mitchell, William",172]
["Grand River",119359,"Richard","Zellman","M","2012-13","Zellman, Richard","NA"]
["Grand River",119362,"Tyler","Bauer","M","2012-13","Bauer, Tyler","NA"]
["Grand River",119374,"Ian","Haight","M","2012-13","Haight, Ian","NA"]
["Grand River",119385,"Pete","Herzing","M","2012-13","Herzing, Pete","NA"]
["Grand River",119392,"Rich","Wagner","M","2012-13","Wagner, Rich","NA"]
["Ottawa Valley",119400,"Margo","Sury","F","2017-18","Sury, Margo","NA"]
["Kawartha Lakes",119412,"Bev","Minnie","F","2024-25","Minnie, Bev",163]
["Kawartha Lakes",119417,"Annette","Cameron","F","2023-24","Cameron, Annette",124]
["Kawartha Lakes",119430,"Lori","Munro","F","2012-13","Munro, Lori","NA"]
["Kawartha Lakes",119433,"Betty","Heaslip","F","2014-15","Heaslip, Betty","NA"]
["Kawartha Lakes",119450,"Evans","Ferdinand","M","2012-13","Ferdinand, Evans","NA"]
["Kawartha Lakes",119457,"Anna marie","Geary-thompson","F","2018-19","Geary-thompson, Anna marie","NA"]
["Bay of Quinte",119465,"Bev","Fife","F","2018-19","Fife, Bev","NA"]
["Middlesex Elgin",119473,"Joe","Vanbommel","M","2013-14","Vanbommel, Joe","NA"]
["York Simcoe",119486,"Jennie","Davidson","F","2015-16","Davidson, Jennie","NA"]
["York Simcoe",119490,"Kaitlyn","Storton","F","2012-13","Storton, Kaitlyn","NA"]
["York Simcoe",119491,"Chris","Swinburne","M","2022-23","Swinburne, Chris",179]
["York Simcoe",119492,"James","Wright","M","2023-24","Wright, James",191]
["York Simcoe",119493,"Anne","Porter","F","2013-14","Porter, Anne","NA"]
["Huronia",119494,"Trena","Ferrier","F","2024-25","Ferrier, Trena","NA"]
["Ontario Durham",119495,"Johnny","Coulton","M","2024-25","Coulton, Johnny",189]
["Huronia",119496,"Bruce b.","Bowman","M","2013-14","Bowman, Bruce b.","NA"]
["Huronia",119497,"Mark","Mcknight","M","2012-13","Mcknight, Mark","NA"]
["Central Ontario",119498,"Alex","Cangemi","M","2012-13","Cangemi, Alex","NA"]
["Central Ontario",119499,"Alyssa","Cangemi","F","2013-14","Cangemi, Alyssa","NA"]
["Central Ontario",119500,"Josh","Lee","M","2013-14","Lee, Josh","NA"]
["Central Ontario",119501,"Lauren","Petersen","F","2013-14","Petersen, Lauren","NA"]
["Central Ontario",119502,"Rachelle","Holden","F","2013-14","Holden, Rachelle","NA"]
["Central Ontario",119503,"Mark","Holden","M","2013-14","Holden, Mark","NA"]
["Central Ontario",119504,"Denise","Crawford","F","2013-14","Crawford, Denise","NA"]
["Central Ontario",119505,"Heather","Hannah","F","2012-13","Hannah, Heather","NA"]
["Central Ontario",119506,"Heather","Taylor","F","2012-13","Taylor, Heather","NA"]
["Central Ontario",119507,"Carol","Jordan","F","2018-19","Jordan, Carol","NA"]
["Central Ontario",119508,"Chris","Jordan","M","2018-19","Jordan, Chris","NA"]
["Central Ontario",119509,"Gwen","Gleave","F","2019-20","Gleave, Gwen","NA"]
["Central Ontario",119510,"Kathy","Butson","F","2012-13","Butson, Kathy","NA"]
["Central Ontario",119511,"Hardy","Rohn","M","2014-15","Rohn, Hardy","NA"]
["Central Ontario",119512,"Denise","Wallace","F","2012-13","Wallace, Denise","NA"]
["Central Ontario",119513,"Steve","Fournier","M","2012-13","Fournier, Steve","NA"]
["Central Ontario",119514,"Christine","Ingham","F","2013-14","Ingham, Christine","NA"]
["Central Ontario",119515,"Mary","Rohn","F","2015-16","Rohn, Mary","NA"]
["Central Ontario",119516,"Bill","Davis","M","2014-15","Davis, Bill","NA"]
["Central Ontario",119517,"Steve","Benning","M","2016-17","Benning, Steve","NA"]
["Central Ontario",119518,"Jonathan","Donald","M","2012-13","Donald, Jonathan","NA"]
["Central Ontario",119519,"Hugh","Brake","M","2015-16","Brake, Hugh","NA"]
["Central Ontario",119520,"Dale","Baldock","M","2012-13","Baldock, Dale","NA"]
["Bay of Quinte",119521,"Jewel","Baldock","F","2019-20","Baldock, Jewel","NA"]
["Central Ontario",119523,"Alan","Burnell","M","2012-13",{"$f":"D19522&\", \"&C19522","v":"Burnell, Alan"},"NA"]
["Central Ontario",119524,"Irene","Carter","F","2012-13","Carter, Irene","NA"]
["Central Ontario",119525,"Loretta","Lahey","F","2012-13","Lahey, Loretta","NA"]
["York Simcoe",119526,"Scott","Lahey","M","2019-20","Lahey, Scott","NA"]
["Central Ontario",119527,"Adam","Leblanc","M","2012-13","Leblanc, Adam","NA"]
["Central Ontario",119528,"Jessica","Leblanc","F","2012-13","Leblanc, Jessica","NA"]
["Central Ontario",119529,"Chris","Pastura","M","2012-13","Pastura, Chris","NA"]
["Central Ontario",119530,"Debby","Pastura","F","2012-13","Pastura, Debby","NA"]
["Central Ontario",119531,"Nick","Sampath","M","2012-13","Sampath, Nick","NA"]
["Central Ontario",119532,"Frank","Vataloro","M","2012-13","Vataloro, Frank","NA"]
["Central Ontario",119533,"Stephen","Elias","M","2012-13","Elias, Stephen","NA"]
["Central Ontario",119534,"Richard","Butt","M","2016-17","Butt, Richard","NA"]
["Central Ontario",119535,"Dwiate","Sutton","M","2012-13","Sutton, Dwiate","NA"]
["Central Ontario",119536,"Shawn","Mcdonald","M","2022-23","Mcdonald, Shawn",120]
["Central Ontario",119537,"Liam","Edwards","M","2023-24","Edwards, Liam",157]
["Central Ontario",119538,"Kyle","Madgett","M","2017-18","Madgett, Kyle","NA"]
["Central Ontario",119539,"Andrew","Heightington","M","2021-22","Heightington, Andrew","NA"]
["Central Ontario",119540,"Joanne","Asselin","F","2012-13","Asselin, Joanne","NA"]
["Grand River",119541,"Wendy","Kuepfer","F","2012-13","Kuepfer, Wendy","NA"]
["Niagara Peninsula",119542,"Becky","Dixon-magee","F","2023-24","Dixon-magee, Becky",150]
["Niagara Peninsula",119543,"Kaitlyn","Dixon","F","2012-13","Dixon, Kaitlyn","NA"]
["Niagara Peninsula",119544,"Deb","Knight","F","2013-14","Knight, Deb","NA"]
["Niagara Peninsula",119545,"Deb","Scully","F","2012-13","Scully, Deb","NA"]
["Niagara Peninsula",119546,"Gale","Meek","F","2014-15","Meek, Gale","NA"]
["Niagara Peninsula",119547,"Julie","Parent","F","2012-13","Parent, Julie","NA"]
["Niagara Peninsula",119548,"Rosina","Popp","F","2012-13","Popp, Rosina","NA"]
["Niagara Peninsula",119549,"Don","Groves","M","2022-23","Groves, Don","NA"]
["Niagara Peninsula",119550,"Shelley","Fisher","F","2012-13","Fisher, Shelley","NA"]
["Niagara Peninsula",119551,"Annie","Robins-dionne","F","2012-13","Robins-dionne, Annie","NA"]
["Niagara Peninsula",119552,"Jean","Kish","F","2012-13","Kish, Jean","NA"]
["Niagara Peninsula",119553,"Karen","Wall","F","2023-24","Wall, Karen",178]
["Niagara Peninsula",119554,"Pat","Paladino","M","2012-13","Paladino, Pat","NA"]
["Niagara Peninsula",119555,"Shirley","Cowell","F","2012-13","Cowell, Shirley","NA"]
["Niagara Peninsula",119556,"Judy","Snyder","F","2012-13","Snyder, Judy","NA"]
["Niagara Peninsula",119557,"Jonathon","Duclos","M","2012-13","Duclos, Jonathon","NA"]
["Niagara Peninsula",119558,"Jen","Adkins","F","2012-13","Adkins, Jen","NA"]
["Niagara Peninsula",119559,"Curtis","Sentinel","M","2012-13","Sentinel, Curtis","NA"]
["Niagara Peninsula",119560,"Teresa","Citrigno","F","2016-17","Citrigno, Teresa","NA"]
["Ottawa Valley",119561,"Christina","Chavez","F","2013-14","Chavez, Christina","NA"]
["Ottawa Valley",119562,"Ely","Aresda","F","2012-13","Aresda, Ely","NA"]
["Ottawa Valley",119563,"Tina","Belland","F","2013-14","Belland, Tina","NA"]
["Ottawa Valley",119564,"Glenn","Thomson","M","2012-13","Thomson, Glenn","NA"]
["Ottawa Valley",119565,"Jack jr.","Barnabe","M","2013-14","Barnabe, Jack jr.","NA"]
["Ottawa Valley",119566,"Jack sr.","Barnabe","M","2013-14","Barnabe, Jack sr.","NA"]
["Ottawa Valley",119567,"Bonita","O'jaick","F","2016-17","O'jaick, Bonita","NA"]
["Ottawa Valley",119568,"Colin","Skene","M","2014-15","Skene, Colin","NA"]
["Ottawa Valley",119569,"Sandy","Bonacci","F","2024-25","Bonacci, Sandy",177]
["Ottawa Valley",119570,"Josh","Mccabe","M","2015-16","Mccabe, Josh","NA"]
["Ottawa Valley",119571,"Troy","Bronzan","M","2016-17","Bronzan, Troy","NA"]
["Ottawa Valley",119572,"Scott","Dickson","M","2012-13","Dickson, Scott","NA"]
["Ottawa Valley",119573,"Brody","Fleming","M","2012-13","Fleming, Brody","NA"]
["Ottawa Valley",119574,"Brandon","Rombough","M","2012-13","Rombough, Brandon","NA"]
["Ottawa Valley",119575,"Troy","Templeton","M","2024-25","Templeton, Troy",199]
["Ottawa Valley",119576,"Jon","Meabry","M","2012-13","Meabry, Jon","NA"]
["Ottawa Valley",119577,"Kristel","Arcand","F","2013-14","Arcand, Kristel","NA"]
["Ottawa Valley",119578,"Vicky","Argue","F","2012-13","Argue, Vicky","NA"]
["Ottawa Valley",119579,"Maggie","Bush-mindle","F","2017-18","Bush-mindle, Maggie","NA"]
["Ottawa Valley",119580,"Taran","L'ecuyer","M","2012-13","L'ecuyer, Taran","NA"]
["Ottawa Valley",119581,"Julia","Luther","F","2024-25","Luther, Julia",155]
["Ottawa Valley",119582,"Pat","Luther","M","2024-25","Luther, Pat",175]
["Ottawa Valley",119583,"Dave","Mcinnes","M","2018-19","Mcinnes, Dave","NA"]
["Ottawa Valley",119584,"Kelly","Wiman","F","2012-13","Wiman, Kelly","NA"]
["Ottawa Valley",119585,"Richard","Blanchfield","M","2014-15","Blanchfield, Richard","NA"]
["Ottawa Valley",119586,"Penny","Chattaway","F","2012-13","Chattaway, Penny","NA"]
["Ottawa Valley",119587,"Victor","Chattaway","M","2012-13",{"$f":"D19586&\", \"&C19586","v":"Chattaway, Victor"},"NA"]
["Ottawa Valley",119588,"Peter","Schneider","M","2015-16","Schneider, Peter","NA"]
["Western Ontario",119589,"Ann","Taranto","F","2012-13","Taranto, Ann","NA"]
["Tri-County",119590,"Tiffanee","Brown","F","2012-13","Brown, Tiffanee","NA"]
["Tri-County",119591,"Jessica","Paradis","F","2013-14","Paradis, Jessica","NA"]
["Tri-County",119592,"Allen","Paradis","M","2013-14","Paradis, Allen","NA"]
["Tri-County",119593,"Cathy","Paradis","F","2013-14","Paradis, Cathy","NA"]
["Huronia",119594,"Julian","Cohan","M","2012-13","Cohan, Julian","NA"]
["Tri-County",119595,"Traci","Cook","F","2014-15","Cook, Traci","NA"]
["Tri-County",119596,"Maurice","Lisi","M","2016-17","Lisi, Maurice","NA"]
["Tri-County",119597,"Curtis","Mccarty","M","2014-15","Mccarty, Curtis","NA"]
["Tri-County",119598,"Dennis","Gallow","M","2012-13","Gallow, Dennis","NA"]
["Tri-County",119599,"Ceh","Ryan","M","2012-13","Ryan, Ceh","NA"]
["Tri-County",119600,"Jacey","Bridges","F","2013-14","Bridges, Jacey","NA"]
["Tri-County",119601,"William","Chandler","M","2012-13","Chandler, William","NA"]
["Central Ontario",119602,"Nicole","Villeneuve","F","2024-25","Villeneuve, Nicole",209]
["Tri-County",119603,"Michelle","Weber","F","2012-13","Weber, Michelle","NA"]
["Tri-County",119604,"Kelly","Dobos","F","2012-13","Dobos, Kelly","NA"]
["Tri-County",119605,"Kendra","Keels","F","2012-13","Keels, Kendra","NA"]
["Tri-County",119606,"Carolanne","Bell","F","2012-13","Bell, Carolanne","NA"]
["Tri-County",119607,"Yvonne","Vangeutselaar","F","2012-13","Vangeutselaar, Yvonne","NA"]
["Tri-County",119608,"Jodi","Kerr","F","2012-13","Kerr, Jodi","NA"]
["Tri-County",119609,"Margie","Pinkerton","F","2012-13","Pinkerton, Margie","NA"]
["Tri-County",119610,"Bev","Mccarroll","F","2012-13","Mccarroll, Bev","NA"]
["Ottawa Valley",119611,"Kimberly","Gorin","F","2024-25","Gorin, Kimberly",144]
["Ottawa Valley",119612,"Eric","Clement","M","2012-13","Clement, Eric","NA"]
["Ottawa Valley",119613,"Shelagh","Rostek","F","2018-19","Rostek, Shelagh","NA"]
["Ottawa Valley",119614,"Henry","Lapage","M","2012-13","Lapage, Henry","NA"]
["Ottawa Valley",119615,"Judy","Rousson","F","2014-15","Rousson, Judy","NA"]
["Ottawa Valley",119616,"Lesley","Joly","F","2015-16","Joly, Lesley","NA"]
["Ottawa Valley",119617,"Allen","Rogoza","M","2016-17","Rogoza, Allen","NA"]
["Ottawa Valley",119618,"Ray","Michel","M","2012-13","Michel, Ray","NA"]
["Ottawa Valley",119619,"Helene","Michel","F","2012-13","Michel, Helene","NA"]
["Ottawa Valley",119620,"Mercedes","Smith","F","2012-13","Smith, Mercedes","NA"]
["Ottawa Valley",119621,"Johanne","Bellefeuille","F","2012-13","Bellefeuille, Johanne","NA"]
["Ottawa Valley",119622,"Stefan","Jones","M","2015-16","Jones, Stefan","NA"]
["Ottawa Valley",119623,"Robbie","Tremblay","M","2012-13","Tremblay, Robbie","NA"]
["Ottawa Valley",119624,"John","Tremblay","M","2012-13","Tremblay, John","NA"]
["Ottawa Valley",119625,"Carol","Cousineau","F","2012-13","Cousineau, Carol","NA"]
["Ottawa Valley",119626,"Roger","Cousineau","M","2012-13","Cousineau, Roger","NA"]
["Ottawa Valley",119627,"Anthony","Pharo","M","2014-15","Pharo, Anthony","NA"]
["Ottawa Valley",119628,"Michelene","Ducharme","F","2013-14","Ducharme, Michelene","NA"]
["Ottawa Valley",119629,"Julie","Lachapelle","F","2012-13","Lachapelle, Julie","NA"]
["Ottawa Valley",119631,"Gerry","Pitre","M","2013-14","Pitre, Gerry","NA"]
["Ottawa Valley",119632,"Anita","Springer","F","2013-14","Springer, Anita","NA"]
["Ottawa Valley",119633,"Brandon","Bernique","M","2024-25","Bernique, Brandon",212]
["Ottawa Valley",119634,"Steve","Shouldice","M","2012-13","Shouldice, Steve","NA"]
["Ottawa Valley",119635,"Brian","Edwards","M","2014-15","Edwards, Brian","NA"]
["Ottawa Valley",119636,"Daryl","Bergeron","M","2024-25","Bergeron, Daryl",196]
["Ottawa Valley",119637,"Vivianne","Slade","F","2012-13","Slade, Vivianne","NA"]
["Ottawa Valley",119640,"Dorian","Paulson","M","2012-13","Paulson, Dorian","NA"]
["Ottawa Valley",119642,"Nicole","Fortin","F","2019-20","Fortin, Nicole","NA"]
["Ottawa Valley",119643,"Jean","Davignon","M","2012-13","Davignon, Jean","NA"]
["Ottawa Valley",119645,"Sue","Daoust","F","2018-19","Daoust, Sue","NA"]
["Western Ontario",119646,"Judy","Miles","F","2017-18","Miles, Judy","NA"]
["Western Ontario",119647,"Laura","Gillett","F","2012-13","Gillett, Laura","NA"]
["Niagara Peninsula",119648,"Larry","Welsh","M","2013-14","Welsh, Larry","NA"]
["Central Ontario",119649,"Wayne","Dupuis","M","2013-14","Dupuis, Wayne","NA"]
["Central Ontario",119650,"Kelly","Hickey","F","2013-14","Hickey, Kelly","NA"]
["Central Ontario",119651,"Sharon","Bemister","F","2019-20","Bemister, Sharon","NA"]
["Central Ontario",119652,"Bruce","Curry","M","2016-17","Curry, Bruce","NA"]
["Central Ontario",119653,"Amanda","Bemister","F","2019-20","Bemister, Amanda","NA"]
["Central Ontario",119654,"Gary","Patterson","M","2013-14","Patterson, Gary","NA"]
["Central Ontario",119655,"Rosalee","Laurin","F","2013-14","Laurin, Rosalee","NA"]
["Central Ontario",119656,"Mike","Brace","M","2019-20",{"$f":"D19650&\", \"&C19650","v":"Brace, Mike"},"NA"]
["Central Ontario",119657,"Tyler","Brace","M","2016-17","Brace, Tyler","NA"]
["Central Ontario",119658,"Andrea","Busse","F","2013-14","Busse, Andrea","NA"]
["Central Ontario",119659,"Dan","Blake","M","2014-15","Blake, Dan","NA"]
["Central Ontario",119660,"Kyle","Bemister","M","2019-20","Bemister, Kyle","NA"]
["Central Ontario",119661,"Jaime","Bemister","F","2014-15","Bemister, Jaime","NA"]
["Central Ontario",119662,"Linda","Scott","F","2016-17","Scott, Linda","NA"]
["Central Ontario",119663,"Trudy","Baxtor","F","2013-14","Baxtor, Trudy","NA"]
["Ottawa Valley",119664,"Tina","Mckenzie","F","2016-17","Mckenzie, Tina","NA"]
["Ottawa Valley",119665,"Ryan","Kerr","M","2012-13","Kerr, Ryan","NA"]
["Ottawa Valley",119666,"Joan","Newton","F","2012-13","Newton, Joan","NA"]
["Middlesex Elgin",119667,"Dan","Richards","M","2013-14","Richards, Dan","NA"]
["Middlesex Elgin",119668,"Jonathan","Richards","M","2019-20","Richards, Jonathan","NA"]
["Middlesex Elgin",119670,"Jason","Boss","M","2024-25","Boss, Jason",238]
["Middlesex Elgin",119671,"Jerry","Mcnight","M","2015-16","Mcnight, Jerry","NA"]
["Middlesex Elgin",119672,"Richie","Sipple","M","2013-14","Sipple, Richie","NA"]
["Middlesex Elgin",119673,"Jamie","Wray","M","2013-14","Wray, Jamie","NA"]
["Kawartha Lakes",119674,"Bonnie","Emmorey","F","2015-16","Emmorey, Bonnie","NA"]
["Huronia",119675,"Deborah","Besser","F","2014-15","Besser, Deborah","NA"]
["Huronia",119676,"Aaron","Buist","M","2012-13","Buist, Aaron","NA"]
["Huronia",119677,"Mark","Gulley","M","2015-16","Gulley, Mark","NA"]
["Huronia",119678,"Natalie","Lemieux","F","2012-13","Lemieux, Natalie","NA"]
["Huronia",119679,"Elaine","Matthews","F","2012-13","Matthews, Elaine","NA"]
["Huronia",119680,"Lindsay","Murray","F","2024-25","Murray, Lindsay",180]
["Huronia",119681,"Derek","Sabean","M","2012-13","Sabean, Derek","NA"]
["York Simcoe",119682,"Terry","Russell","M","2013-14","Russell, Terry","NA"]
["York Simcoe",119683,"Sam","Caddick","M","2012-13","Caddick, Sam","NA"]
["York Simcoe",119684,"Rezea","Mehinda","M","2013-14","Mehinda, Rezea","NA"]
["York Simcoe",119685,"Mike","Himes","M","2012-13","Himes, Mike","NA"]
["York Simcoe",119686,"Hayley","Minogue","F","2012-13","Minogue, Hayley","NA"]
["York Simcoe",119687,"Eleyesse","Vandergken","F","2012-13","Vandergken, Eleyesse","NA"]
["York Simcoe",119688,"Garnett","Banks","M","2012-13","Banks, Garnett","NA"]
["York Simcoe",119689,"Nicole","Main","F","2012-13","Main, Nicole","NA"]
["York Simcoe",119690,"Tony","Burdo","M","2012-13","Burdo, Tony","NA"]
["York Simcoe",119691,"Jon","Strocken","M","2024-25","Strocken, Jon",202]
["Western Ontario",119692,"Steve","Rowe","M","2014-15","Rowe, Steve","NA"]
["Western Ontario",119693,"Dave","Wasson","M","2012-13","Wasson, Dave","NA"]
["Western Ontario",119694,"Coty","Cammidge","F","2013-14","Cammidge, Coty","NA"]
["Western Ontario",119695,"Steve","Hopwood","M","2017-18","Hopwood, Steve","NA"]
["Western Ontario",119696,"Karin","Pennington","F","2013-14","Pennington, Karin","NA"]
["Western Ontario",119697,"Melissa","Henry","F","2018-19","Henry, Melissa","NA"]
["Western Ontario",119698,"Brett","St. jean","M","2012-13","St. jean, Brett","NA"]
["Western Ontario",119699,"Jason","Vandenberghe","M","2012-13","Vandenberghe, Jason","NA"]
["Western Ontario",119700,"Helen","Wall","F","2012-13","Wall, Helen","NA"]
["Western Ontario",119701,"Violet","Gross","F","2013-14","Gross, Violet","NA"]
["Western Ontario",119702,"Jennifer","Hache","F","2012-13","Hache, Jennifer","NA"]
["York Simcoe",119703,"Jenn","Bertuello","F","2015-16","Bertuello, Jenn","NA"]
["York Simcoe",119704,"Tom","Counter","M","2015-16","Counter, Tom","NA"]
["York Simcoe",119705,"Glenda","Counter","F","2015-16","Counter, Glenda","NA"]
["York Simcoe",119707,"Stewart","Hanley","M","2013-14","Hanley, Stewart","NA"]
["York Simcoe",119708,"Allan","Hawley","M","2024-25","Hawley, Allan",155]
["York Simcoe",119709,"Heather","Hawley","F","2024-25","Hawley, Heather","NA"]
[null,119710,"Greg","Loeb","M",null,"Loeb, Greg","NA"]
["York Simcoe",119711,"Doug","Mongeon","M","2012-13","Mongeon, Doug","NA"]
["York Simcoe",119712,"Dale","Palmer","M","2012-13","Palmer, Dale","NA"]
["York Simcoe",119713,"Jaquie","Palmer","F","2013-14","Palmer, Jaquie","NA"]
["York Simcoe",119714,"Steve","Brace","M","2012-13","Brace, Steve","NA"]
["York Simcoe",119715,"Meredith","Cook","F","2016-17","Cook, Meredith","NA"]
["York Simcoe",119716,"Tim","Cook","M","2023-24","Cook, Tim",197]
["York Simcoe",119717,"Adam","Difore","M","2012-13","Difore, Adam","NA"]
["York Simcoe",119718,"Chris","Gerow","M","2017-18","Gerow, Chris","NA"]
["York Simcoe",119719,"Betty","Mundy","F","2012-13","Mundy, Betty","NA"]
["York Simcoe",119720,"Sarah","Rainey","F","2012-13","Rainey, Sarah","NA"]
["York Simcoe",119721,"Sharon","Ryan","F","2012-13","Ryan, Sharon","NA"]
["Huronia",119722,"Eric","Thomson","M","2013-14",{"$f":"D19714&\", \"&C19714","v":"Thomson, Eric"},"NA"]
["Bay of Quinte",119723,"Dave","Bahlieda","M","2023-24","Bahlieda, Dave",198]
["Metro Toronto",119724,"Pauline","Tardio","F","2012-13","Tardio, Pauline","NA"]
["Metro Toronto",119725,"Vince","Dominelli","M","2012-13","Dominelli, Vince","NA"]
["Metro Toronto",119726,"Joe","Macneall","M","2012-13","Macneall, Joe","NA"]
["Metro Toronto",119727,"Linda","Stevenson","F","2013-14","Stevenson, Linda","NA"]
["Metro Toronto",119728,"Doug","Smith","M","2013-14","Smith, Doug","NA"]
["Metro Toronto",119729,"Robbie","Callaghan","M","2012-13","Callaghan, Robbie","NA"]
["Metro Toronto",119730,"Cathy","Lauzon","F","2012-13","Lauzon, Cathy","NA"]
["Metro Toronto",119731,"Stephanie","Morris","F","2015-16","Morris, Stephanie","NA"]
["Metro Toronto",119732,"Nelia","Dasilva","F","2013-14","Dasilva, Nelia","NA"]
["Metro Toronto",119733,"Jack","Croucher","M","2014-15","Croucher, Jack","NA"]
["Ontario Durham",119734,"Doug","Caldwell","M","2013-14","Caldwell, Doug","NA"]
["Metro Toronto",119735,"Jim","Bates","M","2015-16","Bates, Jim","NA"]
["Metro Toronto",119736,"Paul","Haon","M","2012-13","Haon, Paul","NA"]
["Metro Toronto",119737,"Robin","Bates","F","2019-20","Bates, Robin","NA"]
["Metro Toronto",119738,"Diane","Widawski","F","2012-13","Widawski, Diane","NA"]
["Metro Toronto",119739,"Corky","Rumsam","M","2017-18","Rumsam, Corky","NA"]
["Metro Toronto",119740,"Ryan","Houston","M","2012-13","Houston, Ryan","NA"]
[null,119741,"Joseph","Greencorn","M",null,"Greencorn, Joseph","NA"]
["Metro Toronto",119742,"Mark","Lewis","M","2012-13","Lewis, Mark","NA"]
["Metro Toronto",119743,"Kathy","Lyon","F","2018-19","Lyon, Kathy","NA"]
["Ontario Durham",119744,"Ryan","Cowen","M","2022-23","Cowen, Ryan",247]
["Tri-County",119745,"Jennifer","Luck","F","2013-14","Luck, Jennifer","NA"]
["Grand River",119746,"Val","Bailey","F","2012-13","Bailey, Val","NA"]
["Ottawa Valley",119747,"Matt","Baker","M","2024-25","Baker, Matt",254]
["Grand River",119748,"Chad","Morrissey","M","2012-13","Morrissey, Chad","NA"]
["Grand River",119749,"Oscar","Rivera","M","2013-14","Rivera, Oscar","NA"]
["Grand River",119750,"Sheila","Schoenfeld","F","2013-14","Schoenfeld, Sheila","NA"]
["Grand River",119751,"Aleasha","Shyhinskys","F","2013-14","Shyhinskys, Aleasha","NA"]
["Grand River",119752,"Rachael","Trask","F","2019-20","Trask, Rachael","NA"]
["Grand River",119753,"Bob","Veale","M","2012-13","Veale, Bob","NA"]
["Grand River",119754,"Tabitha","Weatherley","F","2013-14","Weatherley, Tabitha","NA"]
["Grand River",119755,"Nelda","Horst","F","2018-19","Horst, Nelda","NA"]
["Grand River",119756,"Carmel","Chippior","F","2018-19","Chippior, Carmel","NA"]
["Grand River",119757,"Eleanor","Dixon","F","2018-19","Dixon, Eleanor","NA"]
["Grand River",119758,"Tony","Mazza","M","2018-19","Mazza, Tony","NA"]
["Grand River",119759,"Harvey","Mcdougall","M","2018-19","Mcdougall, Harvey","NA"]
["Grand River",119760,"Mary","Mcdougall","F","2018-19","Mcdougall, Mary","NA"]
["Grand River",119761,"Don","Rueffer","M","2012-13","Rueffer, Don","NA"]
["Grand River",119762,"Ross","Stephenson","M","2018-19","Stephenson, Ross","NA"]
["Grand River",119763,"Jenn","Audette","F","2012-13","Audette, Jenn","NA"]
["Grand River",119764,"Ashley","Campbell","F","2012-13","Campbell, Ashley","NA"]
["Grand River",119765,"Maurice","Campbell","M","2018-19","Campbell, Maurice","NA"]
["Grand River",119766,"Christine","Mcquabbie","F","2012-13","Mcquabbie, Christine","NA"]
["Grand River",119767,"Melissa","Schneider","F","2024-25","Schneider, Melissa",222]
["Grand River",119768,"Riley","Sipes","M","2012-13","Sipes, Riley","NA"]
["Grand River",119769,"Tyler","Stevenson","M","2012-13","Stevenson, Tyler","NA"]
["Grand River",119770,"Isaac","Thorpe","M","2014-15","Thorpe, Isaac","NA"]
["Grand River",119771,"Alice","Wagner","F","2013-14","Wagner, Alice","NA"]
["Grand River",119772,"Josh","Eldridge","M","2023-24","Eldridge, Josh",229]
["Hamilton",119773,"Tim","Forbes","M","2017-18","Forbes, Tim","NA"]
["Hamilton",119774,"Nicole","Howard","F","2012-13","Howard, Nicole","NA"]
["Hamilton",119775,"Maxwell","Goodwin","M","2014-15","Goodwin, Maxwell","NA"]
["Hamilton",119776,"Dave","Griffiths","M","2012-13","Griffiths, Dave","NA"]
["Hamilton",119777,"Peter","Atkinson","F","2018-19","Atkinson, Peter","NA"]
["Hamilton",119778,"Anna","Ientile","F","2018-19","Ientile, Anna","NA"]
["Hamilton",119779,"Bill","Robinson","F","2012-13","Robinson, Bill","NA"]
["Hamilton",119780,"Denise","Dupuis","F","2023-24","Dupuis, Denise",111]
["Hamilton",119781,"Catrina","Newport","F","2015-16","Newport, Catrina","NA"]
["Hamilton",119782,"Darlene","Bird","F","2014-15","Bird, Darlene","NA"]
["Hamilton",119783,"Gail","Campbell","F","2012-13","Campbell, Gail","NA"]
["Hamilton",119784,"Antoinette","Spinosa","F","2012-13","Spinosa, Antoinette","NA"]
["Hamilton",119785,"Chris","Priest","M","2012-13","Priest, Chris","NA"]
["Hamilton",119786,"Steve","Marshall","M","2017-18",{"$f":"D19778&\", \"&C19778","v":"Marshall, Steve"},"NA"]
["Hamilton",119787,"Russ","Fletcher","M","2012-13","Fletcher, Russ","NA"]
["Hamilton",119788,"Marita","Hunt","F","2024-25","Hunt, Marita",163]
["York Simcoe",119789,"Michael","Henry","M","2019-20","Henry, Michael","NA"]
["York Simcoe",119790,"Shawn","Hinchley","M","2012-13","Hinchley, Shawn","NA"]
["York Simcoe",119791,"Jason","Murphy","M","2019-20","Murphy, Jason","NA"]
["Middlesex Elgin",119792,"Barb","Robinson","F","2019-20","Robinson, Barb","NA"]
["Huronia",119793,"Tracey","Ormiston","F","2022-23","Ormiston, Tracey",243]
["Huronia",119794,"Zachary","Zummach","M","2021-22","Zummach, Zachary","NA"]
["Huronia",119795,"Gary","Smith","M","2012-13","Smith, Gary","NA"]
["Huronia",119796,"Mike","Gray","M","2015-16","Gray, Mike","NA"]
["Huronia",119797,"Sarah","Gray","F","2024-25","Gray, Sarah","NA"]
["Huronia",119798,"Luke","Freeman","F","2012-13","Freeman, Luke","NA"]
["Huronia",119799,"Shawn","Gallea","F","2012-13","Gallea, Shawn","NA"]
["Huronia",119800,"Ryan","Carroll","M","2022-23","Carroll, Ryan",164]
["Huronia",119801,"Mike","Sears","M","2012-13","Sears, Mike","NA"]
["Huronia",119802,"Sandra","Scott","F","2014-15","Scott, Sandra","NA"]
["Huronia",119803,"Warren","Wicks","M","2019-20","Wicks, Warren","NA"]
["Tri-County",119804,"Jennifer","Lavalle","F","2013-14","Lavalle, Jennifer","NA"]
["Grand River",119805,"Dave","Stock","M","2012-13","Stock, Dave","NA"]
["Central Ontario",119806,"Shannon","Hannah","F","2012-13","Hannah, Shannon","NA"]
["Central Ontario",119807,"Mike","Brown","M","2013-14","Brown, Mike","NA"]
["Kawartha Lakes",119808,"Pat","Strickland","F","2024-25","Strickland, Pat",116]
["Kawartha Lakes",119809,"Les","Miner","M","2024-25","Miner, Les",155]
["Kawartha Lakes",119810,"Tracy","Richardson","F","2012-13","Richardson, Tracy","NA"]
["Kawartha Lakes",119811,"Blake","Sweetland","M","2012-13","Sweetland, Blake","NA"]
["York Simcoe",119812,"Mark","Kozinski","M","2012-13","Kozinski, Mark","NA"]
["Ontario Durham",119813,"Mitch","Johnston","M","2024-25","Johnston, Mitch",219]
["Ontario Durham",119814,"Lauren","Perkins","F","2012-13","Perkins, Lauren","NA"]
["Tri-County",119815,"Linda m.","Smith","F","2012-13","Smith, Linda m.","NA"]
["Western Ontario",119816,"Georgette","Portelance","F","2012-13","Portelance, Georgette","NA"]
["York Simcoe",119817,"Tim","Cordeiro","M","2012-13","Cordeiro, Tim","NA"]
["York Simcoe",119818,"Philip","Coutts","M","2014-15","Coutts, Philip","NA"]
["York Simcoe",119819,"Lynn","Crymble","F","2019-20","Crymble, Lynn","NA"]
["York Simcoe",119820,"Gehans","Peduru","M","2012-13","Peduru, Gehans","NA"]
["York Simcoe",119821,"Kakirththan","Thevakumar","M","2019-20","Thevakumar, Kakirththan","NA"]
["York Simcoe",119822,"Brittney","Hall","F","2013-14","Hall, Brittney","NA"]
["York Simcoe",119824,"Fern","Rose","F","2013-14","Rose, Fern","NA"]
["York Simcoe",119826,"Anne","Smith","F","2019-20","Smith, Anne","NA"]
["York Simcoe",119827,"Alex","Weick","M","2017-18","Weick, Alex","NA"]
["York Simcoe",119828,"Justin","Weick","M","2017-18","Weick, Justin","NA"]
["Huronia",119829,"Emmerly","Gosselin","F","2013-14","Gosselin, Emmerly","NA"]
["Huronia",119830,"Glenn","Wallingford","M","2012-13","Wallingford, Glenn","NA"]
["Huronia",119831,"Mark","Macdonald","M","2012-13","Macdonald, Mark","NA"]
["Huronia",119832,"Jim","Brown","M","2012-13","Brown, Jim","NA"]
["Huronia",119833,"Gary","Leppard","M","2018-19","Leppard, Gary","NA"]
["Niagara Peninsula",119834,"Paul","Holmes","M","2021-22","Holmes, Paul","NA"]
["Niagara Peninsula",119835,"David","Holmes","M","2022-23","Holmes, David","NA"]
["Ontario Durham",119836,"Tom","Hepditch","M","2012-13","Hepditch, Tom","NA"]
["Ontario Durham",119837,"Edith","Hepditch","F","2012-13","Hepditch, Edith","NA"]
["Bay of Quinte",119838,"Darren","Nicholls","M","2012-13","Nicholls, Darren","NA"]
["York Simcoe",119839,"Frank","Daigle","M","2013-14","Daigle, Frank","NA"]
["Grand River",119840,"Paul","Bowden","M","2021-22","Bowden, Paul","NA"]
["Grand River",119841,"Sharon","Collins","F","2013-14","Collins, Sharon","NA"]
["Grand River",119842,"Teresa","Eagles","F","2013-14","Eagles, Teresa","NA"]
["Grand River",119843,"Jessica","Keller","F","2013-14","Keller, Jessica","NA"]
["Grand River",119844,"Justin","Leblanc","M","2013-14","Leblanc, Justin","NA"]
["Grand River",119845,"Peter","Losiak","M","2013-14","Losiak, Peter","NA"]
["Grand River",119846,"Deanna","Mcgillivray","F","2013-14","Mcgillivray, Deanna","NA"]
["Grand River",119847,"Carly","Underwood","F","2023-24","Underwood, Carly",167]
["Bay of Quinte",119848,"Ross","Akins","M","2016-17","Akins, Ross","NA"]
["Bay of Quinte",119849,"Scott","West","M","2023-24","West, Scott",187]
["Ontario Durham",119850,"Joe","Panepinto","M","2014-15","Panepinto, Joe","NA"]
["Bay of Quinte",119851,"Maurice","Boivin","M","2012-13","Boivin, Maurice","NA"]
["Bay of Quinte",119852,"Matt","Crawford","M","2014-15",{"$f":"D19842&\", \"&C19842","v":"Crawford, Matt"},"NA"]
["Bay of Quinte",119853,"Gerald","Finch","M","2012-13","Finch, Gerald","NA"]
["Bay of Quinte",119854,"Crystal","Boivin","F","2012-13","Boivin, Crystal","NA"]
["Bay of Quinte",119855,"Paul","Embury","M","2013-14","Embury, Paul","NA"]
["Bay of Quinte",119857,"Greg","Riddell","M","2015-16","Riddell, Greg","NA"]
["Bay of Quinte",119858,"Heather","Durocher","F","2020-21","Durocher, Heather","NA"]
["Ontario Durham",119859,"Jason","Bisset","M","2012-13","Bisset, Jason","NA"]
["Ottawa Valley",119860,"Trevor","Cormier","M","2024-25","Cormier, Trevor",194]
["Central Ontario",119861,"Dj","Villeneuve","M","2024-25","Villeneuve, Dj",249]
["Ottawa Valley",119862,"Chantal","Renaud","F","2024-25","Renaud, Chantal",214]
["Ottawa Valley",119863,"Meagan","Cuerrier","F","2012-13","Cuerrier, Meagan","NA"]
["Central Ontario",119864,"Katie","Pratt","F","2024-25","Pratt, Katie",214]
["Ottawa Valley",119865,"Rob","Rennie","M","2012-13","Rennie, Rob","NA"]
["Ottawa Valley",119866,"Anik","Lavigne","F","2015-16","Lavigne, Anik","NA"]
["Niagara Peninsula",119867,"Felicia","Dracz","F","2013-14","Dracz, Felicia","NA"]
["Ottawa Valley",119868,"Chad","Hocquard","M","2012-13","Hocquard, Chad","NA"]
["Ottawa Valley",119869,"Ushe","Kuchell","F","2012-13","Kuchell, Ushe","NA"]
["Ottawa Valley",119870,"Elaine","Bucknell","F","2012-13","Bucknell, Elaine","NA"]
["Kawartha Lakes",119871,"Matthew","Sedgwick","M","2015-16","Sedgwick, Matthew","NA"]
["Bay of Quinte",119872,"Marjorie","Martin","F","2014-15","Martin, Marjorie","NA"]
["Grand River",119873,"Noretta","Henderson","F","2012-13","Henderson, Noretta","NA"]
["Grand River",119874,"Sandra","Mclellan","F","2012-13","Mclellan, Sandra","NA"]
["Grand River",119875,"Kelly","Heard","F","2012-13","Heard, Kelly","NA"]
["Grand River",119876,"Rob","Heard","M","2012-13","Heard, Rob","NA"]
["Grand River",119877,"Christine","Palmer","F","2012-13","Palmer, Christine","NA"]
["Grand River",119878,"Sue","Reashore","F","2012-13","Reashore, Sue","NA"]
["Grand River",119879,"Matt","Barber","M","2012-13","Barber, Matt","NA"]
["Grand River",119880,"Chuck","Firman","M","2012-13","Firman, Chuck","NA"]
["Grand River",119881,"Claude","Mcdonald","M","2012-13","Mcdonald, Claude","NA"]
["Grand River",119882,"Daryl","Golz","M","2012-13","Golz, Daryl","NA"]
["Grand River",119883,"Daniel","Klomp","M","2023-24","Klomp, Daniel",207]
["Grand River",119884,"Bob","Mills","M","2012-13","Mills, Bob","NA"]
["Grand River",119885,"Jordan","Fenz","M","2012-13","Fenz, Jordan","NA"]
["Grand River",119886,"Josh","Drinkwalter","M","2020-21","Drinkwalter, Josh","NA"]
["Grand River",119887,"Wilfred","Blackler","M","2012-13","Blackler, Wilfred","NA"]
["Grand River",119889,"Kelly","Dixon","F","2012-13","Dixon, Kelly","NA"]
["Grand River",119890,"Amber","Harrett","F","2012-13","Harrett, Amber","NA"]
["Grand River",119891,"Ounla","Rousom","F","2012-13","Rousom, Ounla","NA"]
["Grand River",119892,"Melissa","Riehl","F","2012-13","Riehl, Melissa","NA"]
["Ottawa Valley",119893,"Denis","Cadieux","M","2015-16","Cadieux, Denis","NA"]
["Niagara Peninsula",119894,"Matt","Vendittelli","M","2024-25","Vendittelli, Matt",176]
["Ottawa Valley",119895,"Leo","Levesque","M","2024-25","Levesque, Leo",181]
["Middlesex Elgin",119896,"Cody","Dibiasi","M","2024-25","Dibiasi, Cody",229]
["Middlesex Elgin",119897,"Brandon","Dibiasi","M","2012-13","Dibiasi, Brandon","NA"]
["Middlesex Elgin",119898,"Fay","Rath","F","2012-13","Rath, Fay","NA"]
["Ottawa Valley",119899,"Dianne","Beck","F","2018-19","Beck, Dianne","NA"]
["Ottawa Valley",119900,"Louise","Nother","F","2019-20","Nother, Louise","NA"]
["Ottawa Valley",119901,"Steve","Nother","M","2019-20","Nother, Steve","NA"]
["Niagara Peninsula",119902,"Bernice","Royer","F","2024-25","Royer, Bernice",138]
["Niagara Peninsula",119903,"Josie","Couture","F","2015-16","Couture, Josie","NA"]
["Niagara Peninsula",119904,"Rene","Lauzon","F","2023-24","Lauzon, Rene",158]
["Niagara Peninsula",119905,"Jeannine","Eecklor","F","2023-24","Eecklor, Jeannine",115]
["Niagara Peninsula",119906,"Jacques","Mailloux","M","2013-14","Mailloux, Jacques","NA"]
["Niagara Peninsula",119907,"Janet","Borg","F","2012-13","Borg, Janet","NA"]
["Niagara Peninsula",119908,"Brian","Getty","M","2012-13","Getty, Brian","NA"]
["Niagara Peninsula",119909,"Dolly","Getty","F","2012-13","Getty, Dolly","NA"]
["Niagara Peninsula",119910,"Darryl","Devilliersschut","M","2013-14","Devilliersschut, Darryl","NA"]
["Niagara Peninsula",119911,"Heather","Devillersshut","F","2013-14","Devillersshut, Heather","NA"]
["Niagara Peninsula",119912,"Shawna","Gutcher","F","2012-13","Gutcher, Shawna","NA"]
["Niagara Peninsula",119913,"Leigh","Morningstar","F","2012-13","Morningstar, Leigh","NA"]
["Niagara Peninsula",119914,"Jay","Morningstar","M","2012-13","Morningstar, Jay","NA"]
["Niagara Peninsula",119915,"Carole","Jareb","F","2012-13","Jareb, Carole","NA"]
["Niagara Peninsula",119916,"Annie","Greaves","F","2012-13","Greaves, Annie","NA"]
["Niagara Peninsula",119917,"Tammy","Puttick","F","2012-13","Puttick, Tammy","NA"]
["Niagara Peninsula",119918,"Donaven","Puttick","M","2012-13",{"$f":"D19906&\", \"&C19906","v":"Puttick, Donaven"},"NA"]
["Niagara Peninsula",119919,"Tina","Ethier","F","2012-13","Ethier, Tina","NA"]
["Niagara Peninsula",119920,"Andre","Senecal","M","2012-13","Senecal, Andre","NA"]
["Niagara Peninsula",119921,"Shane","Therrien","M","2012-13","Therrien, Shane","NA"]
["Hamilton",119922,"Bryan","Mcfarlane","M","2012-13","Mcfarlane, Bryan","NA"]
["Niagara Peninsula",119923,"Bill","Mackeigan","M","2015-16","Mackeigan, Bill","NA"]
["Niagara Peninsula",119924,"Deb","Case","F","2015-16","Case, Deb","NA"]
["Niagara Peninsula",119925,"Elaina","Marr","F","2015-16","Marr, Elaina","NA"]
["Niagara Peninsula",119926,"Ken","Wade","M","2012-13","Wade, Ken","NA"]
["Niagara Peninsula",119927,"Al","Forrester","M","2012-13","Forrester, Al","NA"]
["Niagara Peninsula",119928,"Teresa","Meyering","F","2013-14","Meyering, Teresa","NA"]
["Niagara Peninsula",119929,"Gerald","Meyering","M","2013-14","Meyering, Gerald","NA"]
["Niagara Peninsula",119930,"Tina","Vos","F","2012-13","Vos, Tina","NA"]
["Niagara Peninsula",119931,"Art","Vos","M","2012-13","Vos, Art","NA"]
["Niagara Peninsula",119932,"Alice","Evers","F","2015-16","Evers, Alice","NA"]
["Niagara Peninsula",119933,"Pete","Langeraap","M","2013-14","Langeraap, Pete","NA"]
["Niagara Peninsula",119934,"Sandra","Buchanan","F","2015-16","Buchanan, Sandra","NA"]
["Niagara Peninsula",119935,"Ashley","Corey","F","2015-16","Corey, Ashley","NA"]
["Niagara Peninsula",119936,"Aaron","Desrochers","M","2015-16","Desrochers, Aaron","NA"]
["Niagara Peninsula",119937,"Lynn","Desrochers","F","2015-16","Desrochers, Lynn","NA"]
["Niagara Peninsula",119938,"Frank","Hill","M","2012-13","Hill, Frank","NA"]
["Niagara Peninsula",119939,"Susan","Hildebrandt","F","2012-13","Hildebrandt, Susan","NA"]
["Niagara Peninsula",119940,"Mary","Burden","F","2012-13","Burden, Mary","NA"]
["Niagara Peninsula",119941,"Lisa","Ironside","F","2012-13","Ironside, Lisa","NA"]
["Niagara Peninsula",119942,"Tammy","Norton","F","2012-13","Norton, Tammy","NA"]
["Niagara Peninsula",119943,"Susan","Juhlke","F","2015-16","Juhlke, Susan","NA"]
["Niagara Peninsula",119944,"Isaac","Lipson","M","2013-14","Lipson, Isaac","NA"]
["Niagara Peninsula",119945,"Jan","Boyer","F","2012-13","Boyer, Jan","NA"]
["Bay of Quinte",119946,"Joy","Fiset","F","2012-13","Fiset, Joy","NA"]
["Niagara Peninsula",119947,"Darrick","Ellis","M","2016-17","Ellis, Darrick","NA"]
["York Simcoe",119949,"Dave","Simms","M","2012-13","Simms, Dave","NA"]
["York Simcoe",119950,"Brenda","Allen","F","2012-13","Allen, Brenda","NA"]
["Tri-County",119951,"Gary","Brownlee","M","2014-15","Brownlee, Gary","NA"]
["York Simcoe",119953,"Urvish","Shah","M","2024-25","Shah, Urvish",114]
["Kawartha Lakes",119954,"John","Fisher","M","2012-13","Fisher, John","NA"]
["Grand River",119955,"Sheri","Gilliland","F","2012-13","Gilliland, Sheri","NA"]
["Ottawa Valley",119956,"James a.d.","Mcdonald","M","2013-14","Mcdonald, James a.d.","NA"]
["Huronia",119957,"Marie","Buss","F","2012-13","Buss, Marie","NA"]
["Huronia",119958,"Tammy","La belle","F","2012-13","La belle, Tammy","NA"]
["Huronia",119959,"Willard","Marshall","M","2012-13","Marshall, Willard","NA"]
["York Simcoe",119960,"Ed","Matias","M","2014-15","Matias, Ed","NA"]
["Kawartha Lakes",119962,"Alex","Munro","M","2012-13","Munro, Alex","NA"]
["Kawartha Lakes",119963,"Matt","Shipman","M","2012-13","Shipman, Matt","NA"]
["Kawartha Lakes",119964,"Dylan","Fegan","M","2015-16","Fegan, Dylan","NA"]
["Niagara Peninsula",119965,"Tyler","Lundy","M","2013-14","Lundy, Tyler","NA"]
["Niagara Peninsula",119966,"Greg","Webb","M","2017-18","Webb, Greg","NA"]
["Niagara Peninsula",119967,"Rollande","Bradley","F","2017-18","Bradley, Rollande","NA"]
["Niagara Peninsula",119968,"Suzanne","Morin","F","2013-14","Morin, Suzanne","NA"]
["Ottawa Valley",119970,"Eleanor","Lecavalier","F","2014-15","Lecavalier, Eleanor","NA"]
["Ottawa Valley",119971,"Paul","Rivard","M","2013-14","Rivard, Paul","NA"]
["Ottawa Valley",119972,"Ray","Lecavalier","F","2014-15","Lecavalier, Ray","NA"]
["Ottawa Valley",119973,"Sandra","Moran","M","2013-14","Moran, Sandra","NA"]
["Ottawa Valley",119974,"Rick","Beardsley","M","2015-16","Beardsley, Rick","NA"]
["Ottawa Valley",119975,"Diane","Murray","F","2015-16","Murray, Diane","NA"]
["Ottawa Valley",119976,"Herman","Murray","F","2015-16","Murray, Herman","NA"]
["Ottawa Valley",119977,"Danielle","Butt","F","2014-15","Butt, Danielle","NA"]
["Western Ontario",119978,"Tracy","Chalcraft","F","2017-18","Chalcraft, Tracy","NA"]
["Bay of Quinte",119979,"Gerry","Moriarty","M","2013-14","Moriarty, Gerry","NA"]
["Bay of Quinte",119980,"Doug","Parkin","M","2013-14","Parkin, Doug","NA"]
["Bay of Quinte",119981,"Diana","Parkin","F","2013-14","Parkin, Diana","NA"]
["Bay of Quinte",119982,"Lewis","Billen","M","2022-23","Billen, Lewis",166]
["Bay of Quinte",119983,"Nancy","Bell","F","2013-14","Bell, Nancy","NA"]
["Bay of Quinte",119984,"Angie","Beniot","F","2014-15","Beniot, Angie","NA"]
["Bay of Quinte",119985,"Katherine","Mcconnell","F","2013-14","Mcconnell, Katherine","NA"]
["Bay of Quinte",119986,"Eric","Meyers","M","2013-14",{"$f":"D19970&\", \"&C19970","v":"Meyers, Eric"},"NA"]
["Bay of Quinte",119987,"Marlene","Taylor","F","2013-14","Taylor, Marlene","NA"]
["Bay of Quinte",119988,"Rob","Wilmshurst","M","2016-17","Wilmshurst, Rob","NA"]
["Bay of Quinte",119989,"Trevor","Bowman","M","2014-15","Bowman, Trevor","NA"]
["Bay of Quinte",119990,"Bob","West","M","2013-14","West, Bob","NA"]
["Bay of Quinte",119991,"Justin","Partridge","M","2015-16","Partridge, Justin","NA"]
["Bay of Quinte",119992,"Allison","Rivett","F","2013-14","Rivett, Allison","NA"]
["Western Ontario",119993,"Bev","Bownes","F","2019-20","Bownes, Bev","NA"]
["Western Ontario",119994,"Ruth","Kaye","F","2014-15","Kaye, Ruth","NA"]
["Western Ontario",119995,"Joan","Lauzon","F","2023-24","Lauzon, Joan",146]
["Western Ontario",119996,"Carol","Bishop","F","2017-18","Bishop, Carol","NA"]
["Western Ontario",119997,"Pat","St. jean","F","2017-18","St. jean, Pat","NA"]
["Western Ontario",119998,"Mary","Rubinek","F","2016-17","Rubinek, Mary","NA"]
["Western Ontario",119999,"Roger","Dorion","M","2019-20","Dorion, Roger","NA"]
["Western Ontario",120000,"Dawn","Wheeler","F","2014-15","Wheeler, Dawn","NA"]
["Huronia",777777,"Check3","Error","M","2012-13","Error, Check3","NA"]
["York Simcoe",999999,"Zack","Zachery","M","2011-12","Zachery, Zack","NA"]
["Kawartha Lakes",1019759,"Jamie","Graham","M","2013-14","Graham, Jamie","NA"]
["Middlesex Elgin",1026300,"Colin","Bisschop","M","2020-21","Bisschop, Colin","NA"]
["York Simcoe",9999999,"Cindy e","Elliott","F","2016-17","Elliott, Cindy e","NA"]

{"sheet":"Average Book","index":5,"n_rows":286,"n_cols":25,"rows_kept":286,"cut":false,"hidden":true,"merged":[]}
["NO.","TYPE","DC ASSOCIATION","ZONE","LEAGUE CODE","TOURNAMENT NAME","LAST NAME","FIRST NAME","C5\nREG. #","BOARD OF DIRECTORS \"D\"","LIFE","TOURN.\n\"T\"","REG.\n\"R\"","SR.\n\"S\"","SOO/\nBLIND\n\"S\"","YBC\nUNDER\n18\n\"S\"","YBC\nGRAD","DUP.\n\"X\"","M","F","PINFALL","GAMES","SEASON","NEW MEMBER","COMMENTS/Changes required"]
[1,"SANCTIONED TOURNAMENTS",{"$f":"IF(ISBLANK('Data Entry'!C6),\"\",'Data Entry'!C6)","v":""},{"$f":"IF('Data Entry'!D6=\"Pick a Zone\",\"\",'Data Entry'!D6)","v":"SANCTIONED EVENT"},{"$f":"IF('Data Entry'!E6=\"pick a tournament\",\"\",'Data Entry'!E6)","v":""},{"$f":"IF('Data Entry'!F6=\"pick a tournament\",\"\",'Data Entry'!F6)","v":""},{"$f":"IF('Data Entry'!G6=\"Enter C5#\",\"\",'Data Entry'!G6)","v":""},{"$f":"IF('Data Entry'!H6=\"Enter C5#\",\"\",'Data Entry'!H6)","v":""},{"$f":"IF(ISBLANK('Data Entry'!I6),\"\",'Data Entry'!I6)","v":""},{"$f":"IF(ISBLANK('Data Entry'!J6),\"\",'Data Entry'!J6)","v":""},{"$f":"IF(ISBLANK('Data Entry'!K6),\"\",'Data Entry'!K6)","v":""},{"$f":"IF(ISBLANK('Data Entry'!L6),\"\",'Data Entry'!L6)","v":""},{"$f":"IF(ISBLANK('Data Entry'!M6),\"\",'Data Entry'!M6)","v":""},{"$f":"IF(ISBLANK('Data Entry'!N6),\"\",'Data Entry'!N6)","v":""},{"$f":"IF(ISBLANK('Data Entry'!O6),\"\",'Data Entry'!O6)","v":""},{"$f":"IF(ISBLANK('Data Entry'!P6),\"\",'Data Entry'!P6)","v":""},{"$f":"IF(ISBLANK('Data Entry'!Q6),\"\",'Data Entry'!Q6)","v":""},{"$f":"IF(ISBLANK('Data Entry'!R6),\"\",'Data Entry'!R6)","v":""},{"$f":"IF(ISBLANK('Data Entry'!S6),\"\",'Data Entry'!S6)","v":""},{"$f":"IF(ISBLANK('Data Entry'!T6),\"\",'Data Entry'!T6)","v":""},{"$f":"IF(ISBLANK('Data Entry'!U6),\"\",'Data Entry'!U6)","v":""},{"$f":"IF(ISBLANK('Data Entry'!V6),\"\",'Data Entry'!V6)","v":""},{"$f":"IF(ISBLANK('Data Entry'!W6),\"\",'Data Entry'!W6)","v":"2025-26"},{"$f":"IF(ISBLANK('Data Entry'!X6),\"\",'Data Entry'!X6)","v":""},{"$f":"IF(ISBLANK('Data Entry'!Y6),\"\",'Data Entry'!Y6)","v":""}]
[2,"SANCTIONED TOURNAMENTS",{"$f":"IF(ISBLANK('Data Entry'!C7),\"\",'Data Entry'!C7)","v":""},{"$f":"IF('Data Entry'!D7=\"Pick a Zone\",\"\",'Data Entry'!D7)","v":"SANCTIONED EVENT"},{"$f":"IF('Data Entry'!E7=\"pick a tournament\",\"\",'Data Entry'!E7)","v":""},{"$f":"IF('Data Entry'!F7=\"pick a tournament\",\"\",'Data Entry'!F7)","v":""},{"$f":"IF('Data Entry'!G7=\"Enter C5#\",\"\",'Data Entry'!G7)","v":""},{"$f":"IF('Data Entry'!H7=\"Enter C5#\",\"\",'Data Entry'!H7)","v":""},{"$f":"IF(ISBLANK('Data Entry'!I7),\"\",'Data Entry'!I7)","v":""},{"$f":"IF(ISBLANK('Data Entry'!J7),\"\",'Data Entry'!J7)","v":""},{"$f":"IF(ISBLANK('Data Entry'!K7),\"\",'Data Entry'!K7)","v":""},{"$f":"IF(ISBLANK('Data Entry'!L7),\"\",'Data Entry'!L7)","v":""},{"$f":"IF(ISBLANK('Data Entry'!M7),\"\",'Data Entry'!M7)","v":""},{"$f":"IF(ISBLANK('Data Entry'!N7),\"\",'Data Entry'!N7)","v":""},{"$f":"IF(ISBLANK('Data Entry'!O7),\"\",'Data Entry'!O7)","v":""},{"$f":"IF(ISBLANK('Data Entry'!P7),\"\",'Data Entry'!P7)","v":""},{"$f":"IF(ISBLANK('Data Entry'!Q7),\"\",'Data Entry'!Q7)","v":""},{"$f":"IF(ISBLANK('Data Entry'!R7),\"\",'Data Entry'!R7)","v":""},"M",{"$f":"IF(ISBLANK('Data Entry'!T7),\"\",'Data Entry'!T7)","v":""},{"$f":"IF(ISBLANK('Data Entry'!U7),\"\",'Data Entry'!U7)","v":""},{"$f":"IF(ISBLANK('Data Entry'!V7),\"\",'Data Entry'!V7)","v":""},{"$f":"IF(ISBLANK('Data Entry'!W7),\"\",'Data Entry'!W7)","v":"2025-26"},{"$f":"IF(ISBLANK('Data Entry'!X7),\"\",'Data Entry'!X7)","v":""},{"$f":"IF(ISBLANK('Data Entry'!Y7),\"\",'Data Entry'!Y7)","v":""}]
[3,"SANCTIONED TOURNAMENTS",{"$f":"IF(ISBLANK('Data Entry'!C8),\"\",'Data Entry'!C8)","v":""},{"$f":"IF('Data Entry'!D8=\"Pick a Zone\",\"\",'Data Entry'!D8)","v":"SANCTIONED EVENT"},{"$f":"IF('Data Entry'!E8=\"pick a tournament\",\"\",'Data Entry'!E8)","v":""},{"$f":"IF('Data Entry'!F8=\"pick a tournament\",\"\",'Data Entry'!F8)","v":""},{"$f":"IF('Data Entry'!G8=\"Enter C5#\",\"\",'Data Entry'!G8)","v":""},{"$f":"IF('Data Entry'!H8=\"Enter C5#\",\"\",'Data Entry'!H8)","v":""},{"$f":"IF(ISBLANK('Data Entry'!I8),\"\",'Data Entry'!I8)","v":""},{"$f":"IF(ISBLANK('Data Entry'!J8),\"\",'Data Entry'!J8)","v":""},{"$f":"IF(ISBLANK('Data Entry'!K8),\"\",'Data Entry'!K8)","v":""},{"$f":"IF(ISBLANK('Data Entry'!L8),\"\",'Data Entry'!L8)","v":""},{"$f":"IF(ISBLANK('Data Entry'!M8),\"\",'Data Entry'!M8)","v":""},{"$f":"IF(ISBLANK('Data Entry'!N8),\"\",'Data Entry'!N8)","v":""},{"$f":"IF(ISBLANK('Data Entry'!O8),\"\",'Data Entry'!O8)","v":""},{"$f":"IF(ISBLANK('Data Entry'!P8),\"\",'Data Entry'!P8)","v":""},{"$f":"IF(ISBLANK('Data Entry'!Q8),\"\",'Data Entry'!Q8)","v":""},{"$f":"IF(ISBLANK('Data Entry'!R8),\"\",'Data Entry'!R8)","v":""},{"$f":"IF(ISBLANK('Data Entry'!S8),\"\",'Data Entry'!S8)","v":""},{"$f":"IF(ISBLANK('Data Entry'!T8),\"\",'Data Entry'!T8)","v":""},{"$f":"IF(ISBLANK('Data Entry'!U8),\"\",'Data Entry'!U8)","v":""},{"$f":"IF(ISBLANK('Data Entry'!V8),\"\",'Data Entry'!V8)","v":""},{"$f":"IF(ISBLANK('Data Entry'!W8),\"\",'Data Entry'!W8)","v":"2025-26"},{"$f":"IF(ISBLANK('Data Entry'!X8),\"\",'Data Entry'!X8)","v":""},{"$f":"IF(ISBLANK('Data Entry'!Y8),\"\",'Data Entry'!Y8)","v":""}]
[4,"SANCTIONED TOURNAMENTS",{"$f":"IF(ISBLANK('Data Entry'!C9),\"\",'Data Entry'!C9)","v":""},{"$f":"IF('Data Entry'!D9=\"Pick a Zone\",\"\",'Data Entry'!D9)","v":"SANCTIONED EVENT"},{"$f":"IF('Data Entry'!E9=\"pick a tournament\",\"\",'Data Entry'!E9)","v":""},{"$f":"IF('Data Entry'!F9=\"pick a tournament\",\"\",'Data Entry'!F9)","v":""},{"$f":"IF('Data Entry'!G9=\"Enter C5#\",\"\",'Data Entry'!G9)","v":""},{"$f":"IF('Data Entry'!H9=\"Enter C5#\",\"\",'Data Entry'!H9)","v":""},{"$f":"IF(ISBLANK('Data Entry'!I9),\"\",'Data Entry'!I9)","v":""},{"$f":"IF(ISBLANK('Data Entry'!J9),\"\",'Data Entry'!J9)","v":""},{"$f":"IF(ISBLANK('Data Entry'!K9),\"\",'Data Entry'!K9)","v":""},{"$f":"IF(ISBLANK('Data Entry'!L9),\"\",'Data Entry'!L9)","v":""},{"$f":"IF(ISBLANK('Data Entry'!M9),\"\",'Data Entry'!M9)","v":""},{"$f":"IF(ISBLANK('Data Entry'!N9),\"\",'Data Entry'!N9)","v":""},{"$f":"IF(ISBLANK('Data Entry'!O9),\"\",'Data Entry'!O9)","v":""},{"$f":"IF(ISBLANK('Data Entry'!P9),\"\",'Data Entry'!P9)","v":""},{"$f":"IF(ISBLANK('Data Entry'!Q9),\"\",'Data Entry'!Q9)","v":""},{"$f":"IF(ISBLANK('Data Entry'!R9),\"\",'Data Entry'!R9)","v":""},{"$f":"IF(ISBLANK('Data Entry'!S9),\"\",'Data Entry'!S9)","v":""},{"$f":"IF(ISBLANK('Data Entry'!T9),\"\",'Data Entry'!T9)","v":""},{"$f":"IF(ISBLANK('Data Entry'!U9),\"\",'Data Entry'!U9)","v":""},{"$f":"IF(ISBLANK('Data Entry'!V9),\"\",'Data Entry'!V9)","v":""},{"$f":"IF(ISBLANK('Data Entry'!W9),\"\",'Data Entry'!W9)","v":"2025-26"},{"$f":"IF(ISBLANK('Data Entry'!X9),\"\",'Data Entry'!X9)","v":""},{"$f":"IF(ISBLANK('Data Entry'!Y9),\"\",'Data Entry'!Y9)","v":""}]
[5,"SANCTIONED TOURNAMENTS",{"$f":"IF(ISBLANK('Data Entry'!C10),\"\",'Data Entry'!C10)","v":""},{"$f":"IF('Data Entry'!D10=\"Pick a Zone\",\"\",'Data Entry'!D10)","v":"SANCTIONED EVENT"},{"$f":"IF('Data Entry'!E10=\"pick a tournament\",\"\",'Data Entry'!E10)","v":""},{"$f":"IF('Data Entry'!F10=\"pick a tournament\",\"\",'Data Entry'!F10)","v":""},{"$f":"IF('Data Entry'!G10=\"Enter C5#\",\"\",'Data Entry'!G10)","v":""},{"$f":"IF('Data Entry'!H10=\"Enter C5#\",\"\",'Data Entry'!H10)","v":""},{"$f":"IF(ISBLANK('Data Entry'!I10),\"\",'Data Entry'!I10)","v":""},{"$f":"IF(ISBLANK('Data Entry'!J10),\"\",'Data Entry'!J10)","v":""},{"$f":"IF(ISBLANK('Data Entry'!K10),\"\",'Data Entry'!K10)","v":""},{"$f":"IF(ISBLANK('Data Entry'!L10),\"\",'Data Entry'!L10)","v":""},{"$f":"IF(ISBLANK('Data Entry'!M10),\"\",'Data Entry'!M10)","v":""},{"$f":"IF(ISBLANK('Data Entry'!N10),\"\",'Data Entry'!N10)","v":""},{"$f":"IF(ISBLANK('Data Entry'!O10),\"\",'Data Entry'!O10)","v":""},{"$f":"IF(ISBLANK('Data Entry'!P10),\"\",'Data Entry'!P10)","v":""},{"$f":"IF(ISBLANK('Data Entry'!Q10),\"\",'Data Entry'!Q10)","v":""},{"$f":"IF(ISBLANK('Data Entry'!R10),\"\",'Data Entry'!R10)","v":""},{"$f":"IF(ISBLANK('Data Entry'!S10),\"\",'Data Entry'!S10)","v":""},{"$f":"IF(ISBLANK('Data Entry'!T10),\"\",'Data Entry'!T10)","v":""},{"$f":"IF(ISBLANK('Data Entry'!U10),\"\",'Data Entry'!U10)","v":""},{"$f":"IF(ISBLANK('Data Entry'!V10),\"\",'Data Entry'!V10)","v":""},{"$f":"IF(ISBLANK('Data Entry'!W10),\"\",'Data Entry'!W10)","v":"2025-26"},{"$f":"IF(ISBLANK('Data Entry'!X10),\"\",'Data Entry'!X10)","v":""},{"$f":"IF(ISBLANK('Data Entry'!Y10),\"\",'Data Entry'!Y10)","v":""}]
[6,"SANCTIONED TOURNAMENTS",{"$f":"IF(ISBLANK('Data Entry'!C11),\"\",'Data Entry'!C11)","v":""},{"$f":"IF('Data Entry'!D11=\"Pick a Zone\",\"\",'Data Entry'!D11)","v":"SANCTIONED EVENT"},{"$f":"IF('Data Entry'!E11=\"pick a tournament\",\"\",'Data Entry'!E11)","v":""},{"$f":"IF('Data Entry'!F11=\"pick a tournament\",\"\",'Data Entry'!F11)","v":""},{"$f":"IF('Data Entry'!G11=\"Enter C5#\",\"\",'Data Entry'!G11)","v":""},{"$f":"IF('Data Entry'!H11=\"Enter C5#\",\"\",'Data Entry'!H11)","v":""},{"$f":"IF(ISBLANK('Data Entry'!I11),\"\",'Data Entry'!I11)","v":""},{"$f":"IF(ISBLANK('Data Entry'!J11),\"\",'Data Entry'!J11)","v":""},{"$f":"IF(ISBLANK('Data Entry'!K11),\"\",'Data Entry'!K11)","v":""},{"$f":"IF(ISBLANK('Data Entry'!L11),\"\",'Data Entry'!L11)","v":""},{"$f":"IF(ISBLANK('Data Entry'!M11),\"\",'Data Entry'!M11)","v":""},{"$f":"IF(ISBLANK('Data Entry'!N11),\"\",'Data Entry'!N11)","v":""},{"$f":"IF(ISBLANK('Data Entry'!O11),\"\",'Data Entry'!O11)","v":""},{"$f":"IF(ISBLANK('Data Entry'!P11),\"\",'Data Entry'!P11)","v":""},{"$f":"IF(ISBLANK('Data Entry'!Q11),\"\",'Data Entry'!Q11)","v":""},{"$f":"IF(ISBLANK('Data Entry'!R11),\"\",'Data Entry'!R11)","v":""},{"$f":"IF(ISBLANK('Data Entry'!S11),\"\",'Data Entry'!S11)","v":""},{"$f":"IF(ISBLANK('Data Entry'!T11),\"\",'Data Entry'!T11)","v":""},{"$f":"IF(ISBLANK('Data Entry'!U11),\"\",'Data Entry'!U11)","v":""},{"$f":"IF(ISBLANK('Data Entry'!V11),\"\",'Data Entry'!V11)","v":""},{"$f":"IF(ISBLANK('Data Entry'!W11),\"\",'Data Entry'!W11)","v":"2025-26"},{"$f":"IF(ISBLANK('Data Entry'!X11),\"\",'Data Entry'!X11)","v":""},{"$f":"IF(ISBLANK('Data Entry'!Y11),\"\",'Data Entry'!Y11)","v":""}]
[7,"SANCTIONED TOURNAMENTS",{"$f":"IF(ISBLANK('Data Entry'!C12),\"\",'Data Entry'!C12)","v":""},{"$f":"IF('Data Entry'!D12=\"Pick a Zone\",\"\",'Data Entry'!D12)","v":"SANCTIONED EVENT"},{"$f":"IF('Data Entry'!E12=\"pick a tournament\",\"\",'Data Entry'!E12)","v":""},{"$f":"IF('Data Entry'!F12=\"pick a tournament\",\"\",'Data Entry'!F12)","v":""},{"$f":"IF('Data Entry'!G12=\"Enter C5#\",\"\",'Data Entry'!G12)","v":""},{"$f":"IF('Data Entry'!H12=\"Enter C5#\",\"\",'Data Entry'!H12)","v":""},{"$f":"IF(ISBLANK('Data Entry'!I12),\"\",'Data Entry'!I12)","v":""},{"$f":"IF(ISBLANK('Data Entry'!J12),\"\",'Data Entry'!J12)","v":""},{"$f":"IF(ISBLANK('Data Entry'!K12),\"\",'Data Entry'!K12)","v":""},{"$f":"IF(ISBLANK('Data Entry'!L12),\"\",'Data Entry'!L12)","v":""},{"$f":"IF(ISBLANK('Data Entry'!M12),\"\",'Data Entry'!M12)","v":""},{"$f":"IF(ISBLANK('Data Entry'!N12),\"\",'Data Entry'!N12)","v":""},{"$f":"IF(ISBLANK('Data Entry'!O12),\"\",'Data Entry'!O12)","v":""},{"$f":"IF(ISBLANK('Data Entry'!P12),\"\",'Data Entry'!P12)","v":""},{"$f":"IF(ISBLANK('Data Entry'!Q12),\"\",'Data Entry'!Q12)","v":""},{"$f":"IF(ISBLANK('Data Entry'!R12),\"\",'Data Entry'!R12)","v":""},{"$f":"IF(ISBLANK('Data Entry'!S12),\"\",'Data Entry'!S12)","v":""},{"$f":"IF(ISBLANK('Data Entry'!T12),\"\",'Data Entry'!T12)","v":""},{"$f":"IF(ISBLANK('Data Entry'!U12),\"\",'Data Entry'!U12)","v":""},{"$f":"IF(ISBLANK('Data Entry'!V12),\"\",'Data Entry'!V12)","v":""},{"$f":"IF(ISBLANK('Data Entry'!W12),\"\",'Data Entry'!W12)","v":"2025-26"},{"$f":"IF(ISBLANK('Data Entry'!X12),\"\",'Data Entry'!X12)","v":""},{"$f":"IF(ISBLANK('Data Entry'!Y12),\"\",'Data Entry'!Y12)","v":""}]
[8,"SANCTIONED TOURNAMENTS",{"$f":"IF(ISBLANK('Data Entry'!C13),\"\",'Data Entry'!C13)","v":""},{"$f":"IF('Data Entry'!D13=\"Pick a Zone\",\"\",'Data Entry'!D13)","v":"SANCTIONED EVENT"},{"$f":"IF('Data Entry'!E13=\"pick a tournament\",\"\",'Data Entry'!E13)","v":""},{"$f":"IF('Data Entry'!F13=\"pick a tournament\",\"\",'Data Entry'!F13)","v":""},{"$f":"IF('Data Entry'!G13=\"Enter C5#\",\"\",'Data Entry'!G13)","v":""},{"$f":"IF('Data Entry'!H13=\"Enter C5#\",\"\",'Data Entry'!H13)","v":""},{"$f":"IF(ISBLANK('Data Entry'!I13),\"\",'Data Entry'!I13)","v":""},{"$f":"IF(ISBLANK('Data Entry'!J13),\"\",'Data Entry'!J13)","v":""},{"$f":"IF(ISBLANK('Data Entry'!K13),\"\",'Data Entry'!K13)","v":""},{"$f":"IF(ISBLANK('Data Entry'!L13),\"\",'Data Entry'!L13)","v":""},{"$f":"IF(ISBLANK('Data Entry'!M13),\"\",'Data Entry'!M13)","v":""},{"$f":"IF(ISBLANK('Data Entry'!N13),\"\",'Data Entry'!N13)","v":""},{"$f":"IF(ISBLANK('Data Entry'!O13),\"\",'Data Entry'!O13)","v":""},{"$f":"IF(ISBLANK('Data Entry'!P13),\"\",'Data Entry'!P13)","v":""},{"$f":"IF(ISBLANK('Data Entry'!Q13),\"\",'Data Entry'!Q13)","v":""},{"$f":"IF(ISBLANK('Data Entry'!R13),\"\",'Data Entry'!R13)","v":""},{"$f":"IF(ISBLANK('Data Entry'!S13),\"\",'Data Entry'!S13)","v":""},{"$f":"IF(ISBLANK('Data Entry'!T13),\"\",'Data Entry'!T13)","v":""},{"$f":"IF(ISBLANK('Data Entry'!U13),\"\",'Data Entry'!U13)","v":""},{"$f":"IF(ISBLANK('Data Entry'!V13),\"\",'Data Entry'!V13)","v":""},{"$f":"IF(ISBLANK('Data Entry'!W13),\"\",'Data Entry'!W13)","v":"2025-26"},{"$f":"IF(ISBLANK('Data Entry'!X13),\"\",'Data Entry'!X13)","v":""},{"$f":"IF(ISBLANK('Data Entry'!Y13),\"\",'Data Entry'!Y13)","v":""}]
[9,"SANCTIONED TOURNAMENTS",{"$f":"IF(ISBLANK('Data Entry'!C14),\"\",'Data Entry'!C14)","v":""},{"$f":"IF('Data Entry'!D14=\"Pick a Zone\",\"\",'Data Entry'!D14)","v":"SANCTIONED EVENT"},{"$f":"IF('Data Entry'!E14=\"pick a tournament\",\"\",'Data Entry'!E14)","v":""},{"$f":"IF('Data Entry'!F14=\"pick a tournament\",\"\",'Data Entry'!F14)","v":""},{"$f":"IF('Data Entry'!G14=\"Enter C5#\",\"\",'Data Entry'!G14)","v":""},{"$f":"IF('Data Entry'!H14=\"Enter C5#\",\"\",'Data Entry'!H14)","v":""},{"$f":"IF(ISBLANK('Data Entry'!I14),\"\",'Data Entry'!I14)","v":""},{"$f":"IF(ISBLANK('Data Entry'!J14),\"\",'Data Entry'!J14)","v":""},{"$f":"IF(ISBLANK('Data Entry'!K14),\"\",'Data Entry'!K14)","v":""},{"$f":"IF(ISBLANK('Data Entry'!L14),\"\",'Data Entry'!L14)","v":""},{"$f":"IF(ISBLANK('Data Entry'!M14),\"\",'Data Entry'!M14)","v":""},{"$f":"IF(ISBLANK('Data Entry'!N14),\"\",'Data Entry'!N14)","v":""},{"$f":"IF(ISBLANK('Data Entry'!O14),\"\",'Data Entry'!O14)","v":""},{"$f":"IF(ISBLANK('Data Entry'!P14),\"\",'Data Entry'!P14)","v":""},{"$f":"IF(ISBLANK('Data Entry'!Q14),\"\",'Data Entry'!Q14)","v":""},{"$f":"IF(ISBLANK('Data Entry'!R14),\"\",'Data Entry'!R14)","v":""},{"$f":"IF(ISBLANK('Data Entry'!S14),\"\",'Data Entry'!S14)","v":""},{"$f":"IF(ISBLANK('Data Entry'!T14),\"\",'Data Entry'!T14)","v":""},{"$f":"IF(ISBLANK('Data Entry'!U14),\"\",'Data Entry'!U14)","v":""},{"$f":"IF(ISBLANK('Data Entry'!V14),\"\",'Data Entry'!V14)","v":""},{"$f":"IF(ISBLANK('Data Entry'!W14),\"\",'Data Entry'!W14)","v":"2025-26"},{"$f":"IF(ISBLANK('Data Entry'!X14),\"\",'Data Entry'!X14)","v":""},{"$f":"IF(ISBLANK('Data Entry'!Y14),\"\",'Data Entry'!Y14)","v":""}]
[10,"SANCTIONED TOURNAMENTS",{"$f":"IF(ISBLANK('Data Entry'!C15),\"\",'Data Entry'!C15)","v":""},{"$f":"IF('Data Entry'!D15=\"Pick a Zone\",\"\",'Data Entry'!D15)","v":"SANCTIONED EVENT"},{"$f":"IF('Data Entry'!E15=\"pick a tournament\",\"\",'Data Entry'!E15)","v":""},{"$f":"IF('Data Entry'!F15=\"pick a tournament\",\"\",'Data Entry'!F15)","v":""},{"$f":"IF('Data Entry'!G15=\"Enter C5#\",\"\",'Data Entry'!G15)","v":""},{"$f":"IF('Data Entry'!H15=\"Enter C5#\",\"\",'Data Entry'!H15)","v":""},{"$f":"IF(ISBLANK('Data Entry'!I15),\"\",'Data Entry'!I15)","v":""},{"$f":"IF(ISBLANK('Data Entry'!J15),\"\",'Data Entry'!J15)","v":""},{"$f":"IF(ISBLANK('Data Entry'!K15),\"\",'Data Entry'!K15)","v":""},{"$f":"IF(ISBLANK('Data Entry'!L15),\"\",'Data Entry'!L15)","v":""},{"$f":"IF(ISBLANK('Data Entry'!M15),\"\",'Data Entry'!M15)","v":""},{"$f":"IF(ISBLANK('Data Entry'!N15),\"\",'Data Entry'!N15)","v":""},{"$f":"IF(ISBLANK('Data Entry'!O15),\"\",'Data Entry'!O15)","v":""},{"$f":"IF(ISBLANK('Data Entry'!P15),\"\",'Data Entry'!P15)","v":""},{"$f":"IF(ISBLANK('Data Entry'!Q15),\"\",'Data Entry'!Q15)","v":""},{"$f":"IF(ISBLANK('Data Entry'!R15),\"\",'Data Entry'!R15)","v":""},{"$f":"IF(ISBLANK('Data Entry'!S15),\"\",'Data Entry'!S15)","v":""},{"$f":"IF(ISBLANK('Data Entry'!T15),\"\",'Data Entry'!T15)","v":""},{"$f":"IF(ISBLANK('Data Entry'!U15),\"\",'Data Entry'!U15)","v":""},{"$f":"IF(ISBLANK('Data Entry'!V15),\"\",'Data Entry'!V15)","v":""},{"$f":"IF(ISBLANK('Data Entry'!W15),\"\",'Data Entry'!W15)","v":"2025-26"},{"$f":"IF(ISBLANK('Data Entry'!X15),\"\",'Data Entry'!X15)","v":""},{"$f":"IF(ISBLANK('Data Entry'!Y15),\"\",'Data Entry'!Y15)","v":""}]
[11,"SANCTIONED TOURNAMENTS",{"$f":"IF(ISBLANK('Data Entry'!C16),\"\",'Data Entry'!C16)","v":""},{"$f":"IF('Data Entry'!D16=\"Pick a Zone\",\"\",'Data Entry'!D16)","v":"SANCTIONED EVENT"},{"$f":"IF('Data Entry'!E16=\"pick a tournament\",\"\",'Data Entry'!E16)","v":""},{"$f":"IF('Data Entry'!F16=\"pick a tournament\",\"\",'Data Entry'!F16)","v":""},{"$f":"IF('Data Entry'!G16=\"Enter C5#\",\"\",'Data Entry'!G16)","v":""},{"$f":"IF('Data Entry'!H16=\"Enter C5#\",\"\",'Data Entry'!H16)","v":""},{"$f":"IF(ISBLANK('Data Entry'!I16),\"\",'Data Entry'!I16)","v":""},{"$f":"IF(ISBLANK('Data Entry'!J16),\"\",'Data Entry'!J16)","v":""},{"$f":"IF(ISBLANK('Data Entry'!K16),\"\",'Data Entry'!K16)","v":""},{"$f":"IF(ISBLANK('Data Entry'!L16),\"\",'Data Entry'!L16)","v":""},{"$f":"IF(ISBLANK('Data Entry'!M16),\"\",'Data Entry'!M16)","v":""},{"$f":"IF(ISBLANK('Data Entry'!N16),\"\",'Data Entry'!N16)","v":""},{"$f":"IF(ISBLANK('Data Entry'!O16),\"\",'Data Entry'!O16)","v":""},{"$f":"IF(ISBLANK('Data Entry'!P16),\"\",'Data Entry'!P16)","v":""},{"$f":"IF(ISBLANK('Data Entry'!Q16),\"\",'Data Entry'!Q16)","v":""},{"$f":"IF(ISBLANK('Data Entry'!R16),\"\",'Data Entry'!R16)","v":""},{"$f":"IF(ISBLANK('Data Entry'!S16),\"\",'Data Entry'!S16)","v":""},{"$f":"IF(ISBLANK('Data Entry'!T16),\"\",'Data Entry'!T16)","v":""},{"$f":"IF(ISBLANK('Data Entry'!U16),\"\",'Data Entry'!U16)","v":""},{"$f":"IF(ISBLANK('Data Entry'!V16),\"\",'Data Entry'!V16)","v":""},{"$f":"IF(ISBLANK('Data Entry'!W16),\"\",'Data Entry'!W16)","v":"2025-26"},{"$f":"IF(ISBLANK('Data Entry'!X16),\"\",'Data Entry'!X16)","v":""},{"$f":"IF(ISBLANK('Data Entry'!Y16),\"\",'Data Entry'!Y16)","v":""}]
[12,"SANCTIONED TOURNAMENTS",{"$f":"IF(ISBLANK('Data Entry'!C17),\"\",'Data Entry'!C17)","v":""},{"$f":"IF('Data Entry'!D17=\"Pick a Zone\",\"\",'Data Entry'!D17)","v":"SANCTIONED EVENT"},{"$f":"IF('Data Entry'!E17=\"pick a tournament\",\"\",'Data Entry'!E17)","v":""},{"$f":"IF('Data Entry'!F17=\"pick a tournament\",\"\",'Data Entry'!F17)","v":""},{"$f":"IF('Data Entry'!G17=\"Enter C5#\",\"\",'Data Entry'!G17)","v":""},{"$f":"IF('Data Entry'!H17=\"Enter C5#\",\"\",'Data Entry'!H17)","v":""},{"$f":"IF(ISBLANK('Data Entry'!I17),\"\",'Data Entry'!I17)","v":""},{"$f":"IF(ISBLANK('Data Entry'!J17),\"\",'Data Entry'!J17)","v":""},{"$f":"IF(ISBLANK('Data Entry'!K17),\"\",'Data Entry'!K17)","v":""},{"$f":"IF(ISBLANK('Data Entry'!L17),\"\",'Data Entry'!L17)","v":""},{"$f":"IF(ISBLANK('Data Entry'!M17),\"\",'Data Entry'!M17)","v":""},{"$f":"IF(ISBLANK('Data Entry'!N17),\"\",'Data Entry'!N17)","v":""},{"$f":"IF(ISBLANK('Data Entry'!O17),\"\",'Data Entry'!O17)","v":""},{"$f":"IF(ISBLANK('Data Entry'!P17),\"\",'Data Entry'!P17)","v":""},{"$f":"IF(ISBLANK('Data Entry'!Q17),\"\",'Data Entry'!Q17)","v":""},{"$f":"IF(ISBLANK('Data Entry'!R17),\"\",'Data Entry'!R17)","v":""},{"$f":"IF(ISBLANK('Data Entry'!S17),\"\",'Data Entry'!S17)","v":""},{"$f":"IF(ISBLANK('Data Entry'!T17),\"\",'Data Entry'!T17)","v":""},{"$f":"IF(ISBLANK('Data Entry'!U17),\"\",'Data Entry'!U17)","v":""},{"$f":"IF(ISBLANK('Data Entry'!V17),\"\",'Data Entry'!V17)","v":""},{"$f":"IF(ISBLANK('Data Entry'!W17),\"\",'Data Entry'!W17)","v":"2025-26"},{"$f":"IF(ISBLANK('Data Entry'!X17),\"\",'Data Entry'!X17)","v":""},{"$f":"IF(ISBLANK('Data Entry'!Y17),\"\",'Data Entry'!Y17)","v":""}]
[13,"SANCTIONED TOURNAMENTS",{"$f":"IF(ISBLANK('Data Entry'!C18),\"\",'Data Entry'!C18)","v":""},{"$f":"IF('Data Entry'!D18=\"Pick a Zone\",\"\",'Data Entry'!D18)","v":"SANCTIONED EVENT"},{"$f":"IF('Data Entry'!E18=\"pick a tournament\",\"\",'Data Entry'!E18)","v":""},{"$f":"IF('Data Entry'!F18=\"pick a tournament\",\"\",'Data Entry'!F18)","v":""},{"$f":"IF('Data Entry'!G18=\"Enter C5#\",\"\",'Data Entry'!G18)","v":""},{"$f":"IF('Data Entry'!H18=\"Enter C5#\",\"\",'Data Entry'!H18)","v":""},{"$f":"IF(ISBLANK('Data Entry'!I18),\"\",'Data Entry'!I18)","v":""},{"$f":"IF(ISBLANK('Data Entry'!J18),\"\",'Data Entry'!J18)","v":""},{"$f":"IF(ISBLANK('Data Entry'!K18),\"\",'Data Entry'!K18)","v":""},{"$f":"IF(ISBLANK('Data Entry'!L18),\"\",'Data Entry'!L18)","v":""},{"$f":"IF(ISBLANK('Data Entry'!M18),\"\",'Data Entry'!M18)","v":""},{"$f":"IF(ISBLANK('Data Entry'!N18),\"\",'Data Entry'!N18)","v":""},{"$f":"IF(ISBLANK('Data Entry'!O18),\"\",'Data Entry'!O18)","v":""},{"$f":"IF(ISBLANK('Data Entry'!P18),\"\",'Data Entry'!P18)","v":""},{"$f":"IF(ISBLANK('Data Entry'!Q18),\"\",'Data Entry'!Q18)","v":""},{"$f":"IF(ISBLANK('Data Entry'!R18),\"\",'Data Entry'!R18)","v":""},{"$f":"IF(ISBLANK('Data Entry'!S18),\"\",'Data Entry'!S18)","v":""},{"$f":"IF(ISBLANK('Data Entry'!T18),\"\",'Data Entry'!T18)","v":""},{"$f":"IF(ISBLANK('Data Entry'!U18),\"\",'Data Entry'!U18)","v":""},{"$f":"IF(ISBLANK('Data Entry'!V18),\"\",'Data Entry'!V18)","v":""},{"$f":"IF(ISBLANK('Data Entry'!W18),\"\",'Data Entry'!W18)","v":"2025-26"},{"$f":"IF(ISBLANK('Data Entry'!X18),\"\",'Data Entry'!X18)","v":""},{"$f":"IF(ISBLANK('Data Entry'!Y18),\"\",'Data Entry'!Y18)","v":""}]
[14,"SANCTIONED TOURNAMENTS",{"$f":"IF(ISBLANK('Data Entry'!C19),\"\",'Data Entry'!C19)","v":""},{"$f":"IF('Data Entry'!D19=\"Pick a Zone\",\"\",'Data Entry'!D19)","v":"SANCTIONED EVENT"},{"$f":"IF('Data Entry'!E19=\"pick a tournament\",\"\",'Data Entry'!E19)","v":""},{"$f":"IF('Data Entry'!F19=\"pick a tournament\",\"\",'Data Entry'!F19)","v":""},{"$f":"IF('Data Entry'!G19=\"Enter C5#\",\"\",'Data Entry'!G19)","v":""},{"$f":"IF('Data Entry'!H19=\"Enter C5#\",\"\",'Data Entry'!H19)","v":""},{"$f":"IF(ISBLANK('Data Entry'!I19),\"\",'Data Entry'!I19)","v":""},{"$f":"IF(ISBLANK('Data Entry'!J19),\"\",'Data Entry'!J19)","v":""},{"$f":"IF(ISBLANK('Data Entry'!K19),\"\",'Data Entry'!K19)","v":""},{"$f":"IF(ISBLANK('Data Entry'!L19),\"\",'Data Entry'!L19)","v":""},{"$f":"IF(ISBLANK('Data Entry'!M19),\"\",'Data Entry'!M19)","v":""},{"$f":"IF(ISBLANK('Data Entry'!N19),\"\",'Data Entry'!N19)","v":""},{"$f":"IF(ISBLANK('Data Entry'!O19),\"\",'Data Entry'!O19)","v":""},{"$f":"IF(ISBLANK('Data Entry'!P19),\"\",'Data Entry'!P19)","v":""},{"$f":"IF(ISBLANK('Data Entry'!Q19),\"\",'Data Entry'!Q19)","v":""},{"$f":"IF(ISBLANK('Data Entry'!R19),\"\",'Data Entry'!R19)","v":""},{"$f":"IF(ISBLANK('Data Entry'!S19),\"\",'Data Entry'!S19)","v":""},{"$f":"IF(ISBLANK('Data Entry'!T19),\"\",'Data Entry'!T19)","v":""},{"$f":"IF(ISBLANK('Data Entry'!U19),\"\",'Data Entry'!U19)","v":""},{"$f":"IF(ISBLANK('Data Entry'!V19),\"\",'Data Entry'!V19)","v":""},{"$f":"IF(ISBLANK('Data Entry'!W19),\"\",'Data Entry'!W19)","v":"2025-26"},{"$f":"IF(ISBLANK('Data Entry'!X19),\"\",'Data Entry'!X19)","v":""},{"$f":"IF(ISBLANK('Data Entry'!Y19),\"\",'Data Entry'!Y19)","v":""}]
[15,"SANCTIONED TOURNAMENTS",{"$f":"IF(ISBLANK('Data Entry'!C20),\"\",'Data Entry'!C20)","v":""},{"$f":"IF('Data Entry'!D20=\"Pick a Zone\",\"\",'Data Entry'!D20)","v":"SANCTIONED EVENT"},{"$f":"IF('Data Entry'!E20=\"pick a tournament\",\"\",'Data Entry'!E20)","v":""},{"$f":"IF('Data Entry'!F20=\"pick a tournament\",\"\",'Data Entry'!F20)","v":""},{"$f":"IF('Data Entry'!G20=\"Enter C5#\",\"\",'Data Entry'!G20)","v":""},{"$f":"IF('Data Entry'!H20=\"Enter C5#\",\"\",'Data Entry'!H20)","v":""},{"$f":"IF(ISBLANK('Data Entry'!I20),\"\",'Data Entry'!I20)","v":""},{"$f":"IF(ISBLANK('Data Entry'!J20),\"\",'Data Entry'!J20)","v":""},{"$f":"IF(ISBLANK('Data Entry'!K20),\"\",'Data Entry'!K20)","v":""},{"$f":"IF(ISBLANK('Data Entry'!L20),\"\",'Data Entry'!L20)","v":""},{"$f":"IF(ISBLANK('Data Entry'!M20),\"\",'Data Entry'!M20)","v":""},{"$f":"IF(ISBLANK('Data Entry'!N20),\"\",'Data Entry'!N20)","v":""},{"$f":"IF(ISBLANK('Data Entry'!O20),\"\",'Data Entry'!O20)","v":""},{"$f":"IF(ISBLANK('Data Entry'!P20),\"\",'Data Entry'!P20)","v":""},{"$f":"IF(ISBLANK('Data Entry'!Q20),\"\",'Data Entry'!Q20)","v":""},{"$f":"IF(ISBLANK('Data Entry'!R20),\"\",'Data Entry'!R20)","v":""},{"$f":"IF(ISBLANK('Data Entry'!S20),\"\",'Data Entry'!S20)","v":""},{"$f":"IF(ISBLANK('Data Entry'!T20),\"\",'Data Entry'!T20)","v":""},{"$f":"IF(ISBLANK('Data Entry'!U20),\"\",'Data Entry'!U20)","v":""},{"$f":"IF(ISBLANK('Data Entry'!V20),\"\",'Data Entry'!V20)","v":""},{"$f":"IF(ISBLANK('Data Entry'!W20),\"\",'Data Entry'!W20)","v":"2025-26"},{"$f":"IF(ISBLANK('Data Entry'!X20),\"\",'Data Entry'!X20)","v":""},{"$f":"IF(ISBLANK('Data Entry'!Y20),\"\",'Data Entry'!Y20)","v":""}]
[16,"SANCTIONED TOURNAMENTS",{"$f":"IF(ISBLANK('Data Entry'!C21),\"\",'Data Entry'!C21)","v":""},{"$f":"IF('Data Entry'!D21=\"Pick a Zone\",\"\",'Data Entry'!D21)","v":"SANCTIONED EVENT"},{"$f":"IF('Data Entry'!E21=\"pick a tournament\",\"\",'Data Entry'!E21)","v":""},{"$f":"IF('Data Entry'!F21=\"pick a tournament\",\"\",'Data Entry'!F21)","v":""},{"$f":"IF('Data Entry'!G21=\"Enter C5#\",\"\",'Data Entry'!G21)","v":""},{"$f":"IF('Data Entry'!H21=\"Enter C5#\",\"\",'Data Entry'!H21)","v":""},{"$f":"IF(ISBLANK('Data Entry'!I21),\"\",'Data Entry'!I21)","v":""},{"$f":"IF(ISBLANK('Data Entry'!J21),\"\",'Data Entry'!J21)","v":""},{"$f":"IF(ISBLANK('Data Entry'!K21),\"\",'Data Entry'!K21)","v":""},{"$f":"IF(ISBLANK('Data Entry'!L21),\"\",'Data Entry'!L21)","v":""},{"$f":"IF(ISBLANK('Data Entry'!M21),\"\",'Data Entry'!M21)","v":""},{"$f":"IF(ISBLANK('Data Entry'!N21),\"\",'Data Entry'!N21)","v":""},{"$f":"IF(ISBLANK('Data Entry'!O21),\"\",'Data Entry'!O21)","v":""},{"$f":"IF(ISBLANK('Data Entry'!P21),\"\",'Data Entry'!P21)","v":""},{"$f":"IF(ISBLANK('Data Entry'!Q21),\"\",'Data Entry'!Q21)","v":""},{"$f":"IF(ISBLANK('Data Entry'!R21),\"\",'Data Entry'!R21)","v":""},{"$f":"IF(ISBLANK('Data Entry'!S21),\"\",'Data Entry'!S21)","v":""},{"$f":"IF(ISBLANK('Data Entry'!T21),\"\",'Data Entry'!T21)","v":""},{"$f":"IF(ISBLANK('Data Entry'!U21),\"\",'Data Entry'!U21)","v":""},{"$f":"IF(ISBLANK('Data Entry'!V21),\"\",'Data Entry'!V21)","v":""},{"$f":"IF(ISBLANK('Data Entry'!W21),\"\",'Data Entry'!W21)","v":"2025-26"},{"$f":"IF(ISBLANK('Data Entry'!X21),\"\",'Data Entry'!X21)","v":""},{"$f":"IF(ISBLANK('Data Entry'!Y21),\"\",'Data Entry'!Y21)","v":""}]
[17,"SANCTIONED TOURNAMENTS",{"$f":"IF(ISBLANK('Data Entry'!C22),\"\",'Data Entry'!C22)","v":""},{"$f":"IF('Data Entry'!D22=\"Pick a Zone\",\"\",'Data Entry'!D22)","v":"SANCTIONED EVENT"},{"$f":"IF('Data Entry'!E22=\"pick a tournament\",\"\",'Data Entry'!E22)","v":""},{"$f":"IF('Data Entry'!F22=\"pick a tournament\",\"\",'Data Entry'!F22)","v":""},{"$f":"IF('Data Entry'!G22=\"Enter C5#\",\"\",'Data Entry'!G22)","v":""},{"$f":"IF('Data Entry'!H22=\"Enter C5#\",\"\",'Data Entry'!H22)","v":""},{"$f":"IF(ISBLANK('Data Entry'!I22),\"\",'Data Entry'!I22)","v":""},{"$f":"IF(ISBLANK('Data Entry'!J22),\"\",'Data Entry'!J22)","v":""},{"$f":"IF(ISBLANK('Data Entry'!K22),\"\",'Data Entry'!K22)","v":""},{"$f":"IF(ISBLANK('Data Entry'!L22),\"\",'Data Entry'!L22)","v":""},{"$f":"IF(ISBLANK('Data Entry'!M22),\"\",'Data Entry'!M22)","v":""},{"$f":"IF(ISBLANK('Data Entry'!N22),\"\",'Data Entry'!N22)","v":""},{"$f":"IF(ISBLANK('Data Entry'!O22),\"\",'Data Entry'!O22)","v":""},{"$f":"IF(ISBLANK('Data Entry'!P22),\"\",'Data Entry'!P22)","v":""},{"$f":"IF(ISBLANK('Data Entry'!Q22),\"\",'Data Entry'!Q22)","v":""},{"$f":"IF(ISBLANK('Data Entry'!R22),\"\",'Data Entry'!R22)","v":""},{"$f":"IF(ISBLANK('Data Entry'!S22),\"\",'Data Entry'!S22)","v":""},{"$f":"IF(ISBLANK('Data Entry'!T22),\"\",'Data Entry'!T22)","v":""},{"$f":"IF(ISBLANK('Data Entry'!U22),\"\",'Data Entry'!U22)","v":""},{"$f":"IF(ISBLANK('Data Entry'!V22),\"\",'Data Entry'!V22)","v":""},{"$f":"IF(ISBLANK('Data Entry'!W22),\"\",'Data Entry'!W22)","v":"2025-26"},{"$f":"IF(ISBLANK('Data Entry'!X22),\"\",'Data Entry'!X22)","v":""},{"$f":"IF(ISBLANK('Data Entry'!Y22),\"\",'Data Entry'!Y22)","v":""}]
[18,"SANCTIONED TOURNAMENTS",{"$f":"IF(ISBLANK('Data Entry'!C23),\"\",'Data Entry'!C23)","v":""},{"$f":"IF('Data Entry'!D23=\"Pick a Zone\",\"\",'Data Entry'!D23)","v":"SANCTIONED EVENT"},{"$f":"IF('Data Entry'!E23=\"pick a tournament\",\"\",'Data Entry'!E23)","v":""},{"$f":"IF('Data Entry'!F23=\"pick a tournament\",\"\",'Data Entry'!F23)","v":""},{"$f":"IF('Data Entry'!G23=\"Enter C5#\",\"\",'Data Entry'!G23)","v":""},{"$f":"IF('Data Entry'!H23=\"Enter C5#\",\"\",'Data Entry'!H23)","v":""},{"$f":"IF(ISBLANK('Data Entry'!I23),\"\",'Data Entry'!I23)","v":""},{"$f":"IF(ISBLANK('Data Entry'!J23),\"\",'Data Entry'!J23)","v":""},{"$f":"IF(ISBLANK('Data Entry'!K23),\"\",'Data Entry'!K23)","v":""},{"$f":"IF(ISBLANK('Data Entry'!L23),\"\",'Data Entry'!L23)","v":""},{"$f":"IF(ISBLANK('Data Entry'!M23),\"\",'Data Entry'!M23)","v":""},{"$f":"IF(ISBLANK('Data Entry'!N23),\"\",'Data Entry'!N23)","v":""},{"$f":"IF(ISBLANK('Data Entry'!O23),\"\",'Data Entry'!O23)","v":""},{"$f":"IF(ISBLANK('Data Entry'!P23),\"\",'Data Entry'!P23)","v":""},{"$f":"IF(ISBLANK('Data Entry'!Q23),\"\",'Data Entry'!Q23)","v":""},{"$f":"IF(ISBLANK('Data Entry'!R23),\"\",'Data Entry'!R23)","v":""},{"$f":"IF(ISBLANK('Data Entry'!S23),\"\",'Data Entry'!S23)","v":""},{"$f":"IF(ISBLANK('Data Entry'!T23),\"\",'Data Entry'!T23)","v":""},{"$f":"IF(ISBLANK('Data Entry'!U23),\"\",'Data Entry'!U23)","v":""},{"$f":"IF(ISBLANK('Data Entry'!V23),\"\",'Data Entry'!V23)","v":""},{"$f":"IF(ISBLANK('Data Entry'!W23),\"\",'Data Entry'!W23)","v":"2025-26"},{"$f":"IF(ISBLANK('Data Entry'!X23),\"\",'Data Entry'!X23)","v":""},{"$f":"IF(ISBLANK('Data Entry'!Y23),\"\",'Data Entry'!Y23)","v":""}]
[19,"SANCTIONED TOURNAMENTS",{"$f":"IF(ISBLANK('Data Entry'!C24),\"\",'Data Entry'!C24)","v":""},{"$f":"IF('Data Entry'!D24=\"Pick a Zone\",\"\",'Data Entry'!D24)","v":"SANCTIONED EVENT"},{"$f":"IF('Data Entry'!E24=\"pick a tournament\",\"\",'Data Entry'!E24)","v":""},{"$f":"IF('Data Entry'!F24=\"pick a tournament\",\"\",'Data Entry'!F24)","v":""},{"$f":"IF('Data Entry'!G24=\"Enter C5#\",\"\",'Data Entry'!G24)","v":""},{"$f":"IF('Data Entry'!H24=\"Enter C5#\",\"\",'Data Entry'!H24)","v":""},{"$f":"IF(ISBLANK('Data Entry'!I24),\"\",'Data Entry'!I24)","v":""},{"$f":"IF(ISBLANK('Data Entry'!J24),\"\",'Data Entry'!J24)","v":""},{"$f":"IF(ISBLANK('Data Entry'!K24),\"\",'Data Entry'!K24)","v":""},{"$f":"IF(ISBLANK('Data Entry'!L24),\"\",'Data Entry'!L24)","v":""},{"$f":"IF(ISBLANK('Data Entry'!M24),\"\",'Data Entry'!M24)","v":""},{"$f":"IF(ISBLANK('Data Entry'!N24),\"\",'Data Entry'!N24)","v":""},{"$f":"IF(ISBLANK('Data Entry'!O24),\"\",'Data Entry'!O24)","v":""},{"$f":"IF(ISBLANK('Data Entry'!P24),\"\",'Data Entry'!P24)","v":""},{"$f":"IF(ISBLANK('Data Entry'!Q24),\"\",'Data Entry'!Q24)","v":""},{"$f":"IF(ISBLANK('Data Entry'!R24),\"\",'Data Entry'!R24)","v":""},{"$f":"IF(ISBLANK('Data Entry'!S24),\"\",'Data Entry'!S24)","v":""},{"$f":"IF(ISBLANK('Data Entry'!T24),\"\",'Data Entry'!T24)","v":""},{"$f":"IF(ISBLANK('Data Entry'!U24),\"\",'Data Entry'!U24)","v":""},{"$f":"IF(ISBLANK('Data Entry'!V24),\"\",'Data Entry'!V24)","v":""},{"$f":"IF(ISBLANK('Data Entry'!W24),\"\",'Data Entry'!W24)","v":"2025-26"},{"$f":"IF(ISBLANK('Data Entry'!X24),\"\",'Data Entry'!X24)","v":""},{"$f":"IF(ISBLANK('Data Entry'!Y24),\"\",'Data Entry'!Y24)","v":""}]
[20,"SANCTIONED TOURNAMENTS",{"$f":"IF(ISBLANK('Data Entry'!C25),\"\",'Data Entry'!C25)","v":""},{"$f":"IF('Data Entry'!D25=\"Pick a Zone\",\"\",'Data Entry'!D25)","v":"SANCTIONED EVENT"},{"$f":"IF('Data Entry'!E25=\"pick a tournament\",\"\",'Data Entry'!E25)","v":""},{"$f":"IF('Data Entry'!F25=\"pick a tournament\",\"\",'Data Entry'!F25)","v":""},{"$f":"IF('Data Entry'!G25=\"Enter C5#\",\"\",'Data Entry'!G25)","v":""},{"$f":"IF('Data Entry'!H25=\"Enter C5#\",\"\",'Data Entry'!H25)","v":""},{"$f":"IF(ISBLANK('Data Entry'!I25),\"\",'Data Entry'!I25)","v":""},{"$f":"IF(ISBLANK('Data Entry'!J25),\"\",'Data Entry'!J25)","v":""},{"$f":"IF(ISBLANK('Data Entry'!K25),\"\",'Data Entry'!K25)","v":""},{"$f":"IF(ISBLANK('Data Entry'!L25),\"\",'Data Entry'!L25)","v":""},{"$f":"IF(ISBLANK('Data Entry'!M25),\"\",'Data Entry'!M25)","v":""},{"$f":"IF(ISBLANK('Data Entry'!N25),\"\",'Data Entry'!N25)","v":""},{"$f":"IF(ISBLANK('Data Entry'!O25),\"\",'Data Entry'!O25)","v":""},{"$f":"IF(ISBLANK('Data Entry'!P25),\"\",'Data Entry'!P25)","v":""},{"$f":"IF(ISBLANK('Data Entry'!Q25),\"\",'Data Entry'!Q25)","v":""},{"$f":"IF(ISBLANK('Data Entry'!R25),\"\",'Data Entry'!R25)","v":""},{"$f":"IF(ISBLANK('Data Entry'!S25),\"\",'Data Entry'!S25)","v":""},{"$f":"IF(ISBLANK('Data Entry'!T25),\"\",'Data Entry'!T25)","v":""},{"$f":"IF(ISBLANK('Data Entry'!U25),\"\",'Data Entry'!U25)","v":""},{"$f":"IF(ISBLANK('Data Entry'!V25),\"\",'Data Entry'!V25)","v":""},{"$f":"IF(ISBLANK('Data Entry'!W25),\"\",'Data Entry'!W25)","v":"2025-26"},{"$f":"IF(ISBLANK('Data Entry'!X25),\"\",'Data Entry'!X25)","v":""},{"$f":"IF(ISBLANK('Data Entry'!Y25),\"\",'Data Entry'!Y25)","v":""}]
[21,"SANCTIONED TOURNAMENTS",{"$f":"IF(ISBLANK('Data Entry'!C26),\"\",'Data Entry'!C26)","v":""},{"$f":"IF('Data Entry'!D26=\"Pick a Zone\",\"\",'Data Entry'!D26)","v":"SANCTIONED EVENT"},{"$f":"IF('Data Entry'!E26=\"pick a tournament\",\"\",'Data Entry'!E26)","v":""},{"$f":"IF('Data Entry'!F26=\"pick a tournament\",\"\",'Data Entry'!F26)","v":""},{"$f":"IF('Data Entry'!G26=\"Enter C5#\",\"\",'Data Entry'!G26)","v":""},{"$f":"IF('Data Entry'!H26=\"Enter C5#\",\"\",'Data Entry'!H26)","v":""},{"$f":"IF(ISBLANK('Data Entry'!I26),\"\",'Data Entry'!I26)","v":""},{"$f":"IF(ISBLANK('Data Entry'!J26),\"\",'Data Entry'!J26)","v":""},{"$f":"IF(ISBLANK('Data Entry'!K26),\"\",'Data Entry'!K26)","v":""},{"$f":"IF(ISBLANK('Data Entry'!L26),\"\",'Data Entry'!L26)","v":""},{"$f":"IF(ISBLANK('Data Entry'!M26),\"\",'Data Entry'!M26)","v":""},{"$f":"IF(ISBLANK('Data Entry'!N26),\"\",'Data Entry'!N26)","v":""},{"$f":"IF(ISBLANK('Data Entry'!O26),\"\",'Data Entry'!O26)","v":""},{"$f":"IF(ISBLANK('Data Entry'!P26),\"\",'Data Entry'!P26)","v":""},{"$f":"IF(ISBLANK('Data Entry'!Q26),\"\",'Data Entry'!Q26)","v":""},{"$f":"IF(ISBLANK('Data Entry'!R26),\"\",'Data Entry'!R26)","v":""},{"$f":"IF(ISBLANK('Data Entry'!S26),\"\",'Data Entry'!S26)","v":""},{"$f":"IF(ISBLANK('Data Entry'!T26),\"\",'Data Entry'!T26)","v":""},{"$f":"IF(ISBLANK('Data Entry'!U26),\"\",'Data Entry'!U26)","v":""},{"$f":"IF(ISBLANK('Data Entry'!V26),\"\",'Data Entry'!V26)","v":""},{"$f":"IF(ISBLANK('Data Entry'!W26),\"\",'Data Entry'!W26)","v":"2025-26"},{"$f":"IF(ISBLANK('Data Entry'!X26),\"\",'Data Entry'!X26)","v":""},{"$f":"IF(ISBLANK('Data Entry'!Y26),\"\",'Data Entry'!Y26)","v":""}]
[22,"SANCTIONED TOURNAMENTS",{"$f":"IF(ISBLANK('Data Entry'!C27),\"\",'Data Entry'!C27)","v":""},{"$f":"IF('Data Entry'!D27=\"Pick a Zone\",\"\",'Data Entry'!D27)","v":"SANCTIONED EVENT"},{"$f":"IF('Data Entry'!E27=\"pick a tournament\",\"\",'Data Entry'!E27)","v":""},{"$f":"IF('Data Entry'!F27=\"pick a tournament\",\"\",'Data Entry'!F27)","v":""},{"$f":"IF('Data Entry'!G27=\"Enter C5#\",\"\",'Data Entry'!G27)","v":""},{"$f":"IF('Data Entry'!H27=\"Enter C5#\",\"\",'Data Entry'!H27)","v":""},{"$f":"IF(ISBLANK('Data Entry'!I27),\"\",'Data Entry'!I27)","v":""},{"$f":"IF(ISBLANK('Data Entry'!J27),\"\",'Data Entry'!J27)","v":""},{"$f":"IF(ISBLANK('Data Entry'!K27),\"\",'Data Entry'!K27)","v":""},{"$f":"IF(ISBLANK('Data Entry'!L27),\"\",'Data Entry'!L27)","v":""},{"$f":"IF(ISBLANK('Data Entry'!M27),\"\",'Data Entry'!M27)","v":""},{"$f":"IF(ISBLANK('Data Entry'!N27),\"\",'Data Entry'!N27)","v":""},{"$f":"IF(ISBLANK('Data Entry'!O27),\"\",'Data Entry'!O27)","v":""},{"$f":"IF(ISBLANK('Data Entry'!P27),\"\",'Data Entry'!P27)","v":""},{"$f":"IF(ISBLANK('Data Entry'!Q27),\"\",'Data Entry'!Q27)","v":""},{"$f":"IF(ISBLANK('Data Entry'!R27),\"\",'Data Entry'!R27)","v":""},{"$f":"IF(ISBLANK('Data Entry'!S27),\"\",'Data Entry'!S27)","v":""},{"$f":"IF(ISBLANK('Data Entry'!T27),\"\",'Data Entry'!T27)","v":""},{"$f":"IF(ISBLANK('Data Entry'!U27),\"\",'Data Entry'!U27)","v":""},{"$f":"IF(ISBLANK('Data Entry'!V27),\"\",'Data Entry'!V27)","v":""},{"$f":"IF(ISBLANK('Data Entry'!W27),\"\",'Data Entry'!W27)","v":"2025-26"},{"$f":"IF(ISBLANK('Data Entry'!X27),\"\",'Data Entry'!X27)","v":""},{"$f":"IF(ISBLANK('Data Entry'!Y27),\"\",'Data Entry'!Y27)","v":""}]
[23,"SANCTIONED TOURNAMENTS",{"$f":"IF(ISBLANK('Data Entry'!C28),\"\",'Data Entry'!C28)","v":""},{"$f":"IF('Data Entry'!D28=\"Pick a Zone\",\"\",'Data Entry'!D28)","v":"SANCTIONED EVENT"},{"$f":"IF('Data Entry'!E28=\"pick a tournament\",\"\",'Data Entry'!E28)","v":""},{"$f":"IF('Data Entry'!F28=\"pick a tournament\",\"\",'Data Entry'!F28)","v":""},{"$f":"IF('Data Entry'!G28=\"Enter C5#\",\"\",'Data Entry'!G28)","v":""},{"$f":"IF('Data Entry'!H28=\"Enter C5#\",\"\",'Data Entry'!H28)","v":""},{"$f":"IF(ISBLANK('Data Entry'!I28),\"\",'Data Entry'!I28)","v":""},{"$f":"IF(ISBLANK('Data Entry'!J28),\"\",'Data Entry'!J28)","v":""},{"$f":"IF(ISBLANK('Data Entry'!K28),\"\",'Data Entry'!K28)","v":""},{"$f":"IF(ISBLANK('Data Entry'!L28),\"\",'Data Entry'!L28)","v":""},{"$f":"IF(ISBLANK('Data Entry'!M28),\"\",'Data Entry'!M28)","v":""},{"$f":"IF(ISBLANK('Data Entry'!N28),\"\",'Data Entry'!N28)","v":""},{"$f":"IF(ISBLANK('Data Entry'!O28),\"\",'Data Entry'!O28)","v":""},{"$f":"IF(ISBLANK('Data Entry'!P28),\"\",'Data Entry'!P28)","v":""},{"$f":"IF(ISBLANK('Data Entry'!Q28),\"\",'Data Entry'!Q28)","v":""},{"$f":"IF(ISBLANK('Data Entry'!R28),\"\",'Data Entry'!R28)","v":""},{"$f":"IF(ISBLANK('Data Entry'!S28),\"\",'Data Entry'!S28)","v":""},{"$f":"IF(ISBLANK('Data Entry'!T28),\"\",'Data Entry'!T28)","v":""},{"$f":"IF(ISBLANK('Data Entry'!U28),\"\",'Data Entry'!U28)","v":""},{"$f":"IF(ISBLANK('Data Entry'!V28),\"\",'Data Entry'!V28)","v":""},{"$f":"IF(ISBLANK('Data Entry'!W28),\"\",'Data Entry'!W28)","v":"2025-26"},{"$f":"IF(ISBLANK('Data Entry'!X28),\"\",'Data Entry'!X28)","v":""},{"$f":"IF(ISBLANK('Data Entry'!Y28),\"\",'Data Entry'!Y28)","v":""}]
[24,"SANCTIONED TOURNAMENTS",{"$f":"IF(ISBLANK('Data Entry'!C29),\"\",'Data Entry'!C29)","v":""},{"$f":"IF('Data Entry'!D29=\"Pick a Zone\",\"\",'Data Entry'!D29)","v":"SANCTIONED EVENT"},{"$f":"IF('Data Entry'!E29=\"pick a tournament\",\"\",'Data Entry'!E29)","v":""},{"$f":"IF('Data Entry'!F29=\"pick a tournament\",\"\",'Data Entry'!F29)","v":""},{"$f":"IF('Data Entry'!G29=\"Enter C5#\",\"\",'Data Entry'!G29)","v":""},{"$f":"IF('Data Entry'!H29=\"Enter C5#\",\"\",'Data Entry'!H29)","v":""},{"$f":"IF(ISBLANK('Data Entry'!I29),\"\",'Data Entry'!I29)","v":""},{"$f":"IF(ISBLANK('Data Entry'!J29),\"\",'Data Entry'!J29)","v":""},{"$f":"IF(ISBLANK('Data Entry'!K29),\"\",'Data Entry'!K29)","v":""},{"$f":"IF(ISBLANK('Data Entry'!L29),\"\",'Data Entry'!L29)","v":""},{"$f":"IF(ISBLANK('Data Entry'!M29),\"\",'Data Entry'!M29)","v":""},{"$f":"IF(ISBLANK('Data Entry'!N29),\"\",'Data Entry'!N29)","v":""},{"$f":"IF(ISBLANK('Data Entry'!O29),\"\",'Data Entry'!O29)","v":""},{"$f":"IF(ISBLANK('Data Entry'!P29),\"\",'Data Entry'!P29)","v":""},{"$f":"IF(ISBLANK('Data Entry'!Q29),\"\",'Data Entry'!Q29)","v":""},{"$f":"IF(ISBLANK('Data Entry'!R29),\"\",'Data Entry'!R29)","v":""},{"$f":"IF(ISBLANK('Data Entry'!S29),\"\",'Data Entry'!S29)","v":""},{"$f":"IF(ISBLANK('Data Entry'!T29),\"\",'Data Entry'!T29)","v":""},{"$f":"IF(ISBLANK('Data Entry'!U29),\"\",'Data Entry'!U29)","v":""},{"$f":"IF(ISBLANK('Data Entry'!V29),\"\",'Data Entry'!V29)","v":""},{"$f":"IF(ISBLANK('Data Entry'!W29),\"\",'Data Entry'!W29)","v":"2025-26"},{"$f":"IF(ISBLANK('Data Entry'!X29),\"\",'Data Entry'!X29)","v":""},{"$f":"IF(ISBLANK('Data Entry'!Y29),\"\",'Data Entry'!Y29)","v":""}]
[25,"SANCTIONED TOURNAMENTS",{"$f":"IF(ISBLANK('Data Entry'!C30),\"\",'Data Entry'!C30)","v":""},{"$f":"IF('Data Entry'!D30=\"Pick a Zone\",\"\",'Data Entry'!D30)","v":"SANCTIONED EVENT"},{"$f":"IF('Data Entry'!E30=\"pick a tournament\",\"\",'Data Entry'!E30)","v":""},{"$f":"IF('Data Entry'!F30=\"pick a tournament\",\"\",'Data Entry'!F30)","v":""},{"$f":"IF('Data Entry'!G30=\"Enter C5#\",\"\",'Data Entry'!G30)","v":""},{"$f":"IF('Data Entry'!H30=\"Enter C5#\",\"\",'Data Entry'!H30)","v":""},{"$f":"IF(ISBLANK('Data Entry'!I30),\"\",'Data Entry'!I30)","v":""},{"$f":"IF(ISBLANK('Data Entry'!J30),\"\",'Data Entry'!J30)","v":""},{"$f":"IF(ISBLANK('Data Entry'!K30),\"\",'Data Entry'!K30)","v":""},{"$f":"IF(ISBLANK('Data Entry'!L30),\"\",'Data Entry'!L30)","v":""},{"$f":"IF(ISBLANK('Data Entry'!M30),\"\",'Data Entry'!M30)","v":""},{"$f":"IF(ISBLANK('Data Entry'!N30),\"\",'Data Entry'!N30)","v":""},{"$f":"IF(ISBLANK('Data Entry'!O30),\"\",'Data Entry'!O30)","v":""},{"$f":"IF(ISBLANK('Data Entry'!P30),\"\",'Data Entry'!P30)","v":""},{"$f":"IF(ISBLANK('Data Entry'!Q30),\"\",'Data Entry'!Q30)","v":""},{"$f":"IF(ISBLANK('Data Entry'!R30),\"\",'Data Entry'!R30)","v":""},{"$f":"IF(ISBLANK('Data Entry'!S30),\"\",'Data Entry'!S30)","v":""},{"$f":"IF(ISBLANK('Data Entry'!T30),\"\",'Data Entry'!T30)","v":""},{"$f":"IF(ISBLANK('Data Entry'!U30),\"\",'Data Entry'!U30)","v":""},{"$f":"IF(ISBLANK('Data Entry'!V30),\"\",'Data Entry'!V30)","v":""},{"$f":"IF(ISBLANK('Data Entry'!W30),\"\",'Data Entry'!W30)","v":"2025-26"},{"$f":"IF(ISBLANK('Data Entry'!X30),\"\",'Data Entry'!X30)","v":""},{"$f":"IF(ISBLANK('Data Entry'!Y30),\"\",'Data Entry'!Y30)","v":""}]
[26,"SANCTIONED TOURNAMENTS",{"$f":"IF(ISBLANK('Data Entry'!C31),\"\",'Data Entry'!C31)","v":""},{"$f":"IF('Data Entry'!D31=\"Pick a Zone\",\"\",'Data Entry'!D31)","v":"SANCTIONED EVENT"},{"$f":"IF('Data Entry'!E31=\"pick a tournament\",\"\",'Data Entry'!E31)","v":""},{"$f":"IF('Data Entry'!F31=\"pick a tournament\",\"\",'Data Entry'!F31)","v":""},{"$f":"IF('Data Entry'!G31=\"Enter C5#\",\"\",'Data Entry'!G31)","v":""},{"$f":"IF('Data Entry'!H31=\"Enter C5#\",\"\",'Data Entry'!H31)","v":""},{"$f":"IF(ISBLANK('Data Entry'!I31),\"\",'Data Entry'!I31)","v":""},{"$f":"IF(ISBLANK('Data Entry'!J31),\"\",'Data Entry'!J31)","v":""},{"$f":"IF(ISBLANK('Data Entry'!K31),\"\",'Data Entry'!K31)","v":""},{"$f":"IF(ISBLANK('Data Entry'!L31),\"\",'Data Entry'!L31)","v":""},{"$f":"IF(ISBLANK('Data Entry'!M31),\"\",'Data Entry'!M31)","v":""},{"$f":"IF(ISBLANK('Data Entry'!N31),\"\",'Data Entry'!N31)","v":""},{"$f":"IF(ISBLANK('Data Entry'!O31),\"\",'Data Entry'!O31)","v":""},{"$f":"IF(ISBLANK('Data Entry'!P31),\"\",'Data Entry'!P31)","v":""},{"$f":"IF(ISBLANK('Data Entry'!Q31),\"\",'Data Entry'!Q31)","v":""},{"$f":"IF(ISBLANK('Data Entry'!R31),\"\",'Data Entry'!R31)","v":""},{"$f":"IF(ISBLANK('Data Entry'!S31),\"\",'Data Entry'!S31)","v":""},{"$f":"IF(ISBLANK('Data Entry'!T31),\"\",'Data Entry'!T31)","v":""},{"$f":"IF(ISBLANK('Data Entry'!U31),\"\",'Data Entry'!U31)","v":""},{"$f":"IF(ISBLANK('Data Entry'!V31),\"\",'Data Entry'!V31)","v":""},{"$f":"IF(ISBLANK('Data Entry'!W31),\"\",'Data Entry'!W31)","v":"2025-26"},{"$f":"IF(ISBLANK('Data Entry'!X31),\"\",'Data Entry'!X31)","v":""},{"$f":"IF(ISBLANK('Data Entry'!Y31),\"\",'Data Entry'!Y31)","v":""}]
[27,"SANCTIONED TOURNAMENTS",{"$f":"IF(ISBLANK('Data Entry'!C32),\"\",'Data Entry'!C32)","v":""},{"$f":"IF('Data Entry'!D32=\"Pick a Zone\",\"\",'Data Entry'!D32)","v":"SANCTIONED EVENT"},{"$f":"IF('Data Entry'!E32=\"pick a tournament\",\"\",'Data Entry'!E32)","v":""},{"$f":"IF('Data Entry'!F32=\"pick a tournament\",\"\",'Data Entry'!F32)","v":""},{"$f":"IF('Data Entry'!G32=\"Enter C5#\",\"\",'Data Entry'!G32)","v":""},{"$f":"IF('Data Entry'!H32=\"Enter C5#\",\"\",'Data Entry'!H32)","v":""},{"$f":"IF(ISBLANK('Data Entry'!I32),\"\",'Data Entry'!I32)","v":""},{"$f":"IF(ISBLANK('Data Entry'!J32),\"\",'Data Entry'!J32)","v":""},{"$f":"IF(ISBLANK('Data Entry'!K32),\"\",'Data Entry'!K32)","v":""},{"$f":"IF(ISBLANK('Data Entry'!L32),\"\",'Data Entry'!L32)","v":""},{"$f":"IF(ISBLANK('Data Entry'!M32),\"\",'Data Entry'!M32)","v":""},{"$f":"IF(ISBLANK('Data Entry'!N32),\"\",'Data Entry'!N32)","v":""},{"$f":"IF(ISBLANK('Data Entry'!O32),\"\",'Data Entry'!O32)","v":""},{"$f":"IF(ISBLANK('Data Entry'!P32),\"\",'Data Entry'!P32)","v":""},{"$f":"IF(ISBLANK('Data Entry'!Q32),\"\",'Data Entry'!Q32)","v":""},{"$f":"IF(ISBLANK('Data Entry'!R32),\"\",'Data Entry'!R32)","v":""},{"$f":"IF(ISBLANK('Data Entry'!S32),\"\",'Data Entry'!S32)","v":""},{"$f":"IF(ISBLANK('Data Entry'!T32),\"\",'Data Entry'!T32)","v":""},{"$f":"IF(ISBLANK('Data Entry'!U32),\"\",'Data Entry'!U32)","v":""},{"$f":"IF(ISBLANK('Data Entry'!V32),\"\",'Data Entry'!V32)","v":""},{"$f":"IF(ISBLANK('Data Entry'!W32),\"\",'Data Entry'!W32)","v":"2025-26"},{"$f":"IF(ISBLANK('Data Entry'!X32),\"\",'Data Entry'!X32)","v":""},{"$f":"IF(ISBLANK('Data Entry'!Y32),\"\",'Data Entry'!Y32)","v":""}]
[28,"SANCTIONED TOURNAMENTS",{"$f":"IF(ISBLANK('Data Entry'!C33),\"\",'Data Entry'!C33)","v":""},{"$f":"IF('Data Entry'!D33=\"Pick a Zone\",\"\",'Data Entry'!D33)","v":"SANCTIONED EVENT"},{"$f":"IF('Data Entry'!E33=\"pick a tournament\",\"\",'Data Entry'!E33)","v":""},{"$f":"IF('Data Entry'!F33=\"pick a tournament\",\"\",'Data Entry'!F33)","v":""},{"$f":"IF('Data Entry'!G33=\"Enter C5#\",\"\",'Data Entry'!G33)","v":""},{"$f":"IF('Data Entry'!H33=\"Enter C5#\",\"\",'Data Entry'!H33)","v":""},{"$f":"IF(ISBLANK('Data Entry'!I33),\"\",'Data Entry'!I33)","v":""},{"$f":"IF(ISBLANK('Data Entry'!J33),\"\",'Data Entry'!J33)","v":""},{"$f":"IF(ISBLANK('Data Entry'!K33),\"\",'Data Entry'!K33)","v":""},{"$f":"IF(ISBLANK('Data Entry'!L33),\"\",'Data Entry'!L33)","v":""},{"$f":"IF(ISBLANK('Data Entry'!M33),\"\",'Data Entry'!M33)","v":""},{"$f":"IF(ISBLANK('Data Entry'!N33),\"\",'Data Entry'!N33)","v":""},{"$f":"IF(ISBLANK('Data Entry'!O33),\"\",'Data Entry'!O33)","v":""},{"$f":"IF(ISBLANK('Data Entry'!P33),\"\",'Data Entry'!P33)","v":""},{"$f":"IF(ISBLANK('Data Entry'!Q33),\"\",'Data Entry'!Q33)","v":""},{"$f":"IF(ISBLANK('Data Entry'!R33),\"\",'Data Entry'!R33)","v":""},{"$f":"IF(ISBLANK('Data Entry'!S33),\"\",'Data Entry'!S33)","v":""},{"$f":"IF(ISBLANK('Data Entry'!T33),\"\",'Data Entry'!T33)","v":""},{"$f":"IF(ISBLANK('Data Entry'!U33),\"\",'Data Entry'!U33)","v":""},{"$f":"IF(ISBLANK('Data Entry'!V33),\"\",'Data Entry'!V33)","v":""},{"$f":"IF(ISBLANK('Data Entry'!W33),\"\",'Data Entry'!W33)","v":"2025-26"},{"$f":"IF(ISBLANK('Data Entry'!X33),\"\",'Data Entry'!X33)","v":""},{"$f":"IF(ISBLANK('Data Entry'!Y33),\"\",'Data Entry'!Y33)","v":""}]
[29,"SANCTIONED TOURNAMENTS",{"$f":"IF(ISBLANK('Data Entry'!C34),\"\",'Data Entry'!C34)","v":""},{"$f":"IF('Data Entry'!D34=\"Pick a Zone\",\"\",'Data Entry'!D34)","v":"SANCTIONED EVENT"},{"$f":"IF('Data Entry'!E34=\"pick a tournament\",\"\",'Data Entry'!E34)","v":""},{"$f":"IF('Data Entry'!F34=\"pick a tournament\",\"\",'Data Entry'!F34)","v":""},{"$f":"IF('Data Entry'!G34=\"Enter C5#\",\"\",'Data Entry'!G34)","v":""},{"$f":"IF('Data Entry'!H34=\"Enter C5#\",\"\",'Data Entry'!H34)","v":""},{"$f":"IF(ISBLANK('Data Entry'!I34),\"\",'Data Entry'!I34)","v":""},{"$f":"IF(ISBLANK('Data Entry'!J34),\"\",'Data Entry'!J34)","v":""},{"$f":"IF(ISBLANK('Data Entry'!K34),\"\",'Data Entry'!K34)","v":""},{"$f":"IF(ISBLANK('Data Entry'!L34),\"\",'Data Entry'!L34)","v":""},{"$f":"IF(ISBLANK('Data Entry'!M34),\"\",'Data Entry'!M34)","v":""},{"$f":"IF(ISBLANK('Data Entry'!N34),\"\",'Data Entry'!N34)","v":""},{"$f":"IF(ISBLANK('Data Entry'!O34),\"\",'Data Entry'!O34)","v":""},{"$f":"IF(ISBLANK('Data Entry'!P34),\"\",'Data Entry'!P34)","v":""},{"$f":"IF(ISBLANK('Data Entry'!Q34),\"\",'Data Entry'!Q34)","v":""},{"$f":"IF(ISBLANK('Data Entry'!R34),\"\",'Data Entry'!R34)","v":""},{"$f":"IF(ISBLANK('Data Entry'!S34),\"\",'Data Entry'!S34)","v":""},{"$f":"IF(ISBLANK('Data Entry'!T34),\"\",'Data Entry'!T34)","v":""},{"$f":"IF(ISBLANK('Data Entry'!U34),\"\",'Data Entry'!U34)","v":""},{"$f":"IF(ISBLANK('Data Entry'!V34),\"\",'Data Entry'!V34)","v":""},{"$f":"IF(ISBLANK('Data Entry'!W34),\"\",'Data Entry'!W34)","v":"2025-26"},{"$f":"IF(ISBLANK('Data Entry'!X34),\"\",'Data Entry'!X34)","v":""},{"$f":"IF(ISBLANK('Data Entry'!Y34),\"\",'Data Entry'!Y34)","v":""}]
[30,"SANCTIONED TOURNAMENTS",{"$f":"IF(ISBLANK('Data Entry'!C35),\"\",'Data Entry'!C35)","v":""},{"$f":"IF('Data Entry'!D35=\"Pick a Zone\",\"\",'Data Entry'!D35)","v":"SANCTIONED EVENT"},{"$f":"IF('Data Entry'!E35=\"pick a tournament\",\"\",'Data Entry'!E35)","v":""},{"$f":"IF('Data Entry'!F35=\"pick a tournament\",\"\",'Data Entry'!F35)","v":""},{"$f":"IF('Data Entry'!G35=\"Enter C5#\",\"\",'Data Entry'!G35)","v":""},{"$f":"IF('Data Entry'!H35=\"Enter C5#\",\"\",'Data Entry'!H35)","v":""},{"$f":"IF(ISBLANK('Data Entry'!I35),\"\",'Data Entry'!I35)","v":""},{"$f":"IF(ISBLANK('Data Entry'!J35),\"\",'Data Entry'!J35)","v":""},{"$f":"IF(ISBLANK('Data Entry'!K35),\"\",'Data Entry'!K35)","v":""},{"$f":"IF(ISBLANK('Data Entry'!L35),\"\",'Data Entry'!L35)","v":""},{"$f":"IF(ISBLANK('Data Entry'!M35),\"\",'Data Entry'!M35)","v":""},{"$f":"IF(ISBLANK('Data Entry'!N35),\"\",'Data Entry'!N35)","v":""},{"$f":"IF(ISBLANK('Data Entry'!O35),\"\",'Data Entry'!O35)","v":""},{"$f":"IF(ISBLANK('Data Entry'!P35),\"\",'Data Entry'!P35)","v":""},{"$f":"IF(ISBLANK('Data Entry'!Q35),\"\",'Data Entry'!Q35)","v":""},{"$f":"IF(ISBLANK('Data Entry'!R35),\"\",'Data Entry'!R35)","v":""},{"$f":"IF(ISBLANK('Data Entry'!S35),\"\",'Data Entry'!S35)","v":""},{"$f":"IF(ISBLANK('Data Entry'!T35),\"\",'Data Entry'!T35)","v":""},{"$f":"IF(ISBLANK('Data Entry'!U35),\"\",'Data Entry'!U35)","v":""},{"$f":"IF(ISBLANK('Data Entry'!V35),\"\",'Data Entry'!V35)","v":""},{"$f":"IF(ISBLANK('Data Entry'!W35),\"\",'Data Entry'!W35)","v":"2025-26"},{"$f":"IF(ISBLANK('Data Entry'!X35),\"\",'Data Entry'!X35)","v":""},{"$f":"IF(ISBLANK('Data Entry'!Y35),\"\",'Data Entry'!Y35)","v":""}]
[31,"SANCTIONED TOURNAMENTS",{"$f":"IF(ISBLANK('Data Entry'!C36),\"\",'Data Entry'!C36)","v":""},{"$f":"IF('Data Entry'!D36=\"Pick a Zone\",\"\",'Data Entry'!D36)","v":"SANCTIONED EVENT"},{"$f":"IF('Data Entry'!E36=\"pick a tournament\",\"\",'Data Entry'!E36)","v":""},{"$f":"IF('Data Entry'!F36=\"pick a tournament\",\"\",'Data Entry'!F36)","v":""},{"$f":"IF('Data Entry'!G36=\"Enter C5#\",\"\",'Data Entry'!G36)","v":""},{"$f":"IF('Data Entry'!H36=\"Enter C5#\",\"\",'Data Entry'!H36)","v":""},{"$f":"IF(ISBLANK('Data Entry'!I36),\"\",'Data Entry'!I36)","v":""},{"$f":"IF(ISBLANK('Data Entry'!J36),\"\",'Data Entry'!J36)","v":""},{"$f":"IF(ISBLANK('Data Entry'!K36),\"\",'Data Entry'!K36)","v":""},{"$f":"IF(ISBLANK('Data Entry'!L36),\"\",'Data Entry'!L36)","v":""},{"$f":"IF(ISBLANK('Data Entry'!M36),\"\",'Data Entry'!M36)","v":""},{"$f":"IF(ISBLANK('Data Entry'!N36),\"\",'Data Entry'!N36)","v":""},{"$f":"IF(ISBLANK('Data Entry'!O36),\"\",'Data Entry'!O36)","v":""},{"$f":"IF(ISBLANK('Data Entry'!P36),\"\",'Data Entry'!P36)","v":""},{"$f":"IF(ISBLANK('Data Entry'!Q36),\"\",'Data Entry'!Q36)","v":""},{"$f":"IF(ISBLANK('Data Entry'!R36),\"\",'Data Entry'!R36)","v":""},{"$f":"IF(ISBLANK('Data Entry'!S36),\"\",'Data Entry'!S36)","v":""},{"$f":"IF(ISBLANK('Data Entry'!T36),\"\",'Data Entry'!T36)","v":""},{"$f":"IF(ISBLANK('Data Entry'!U36),\"\",'Data Entry'!U36)","v":""},{"$f":"IF(ISBLANK('Data Entry'!V36),\"\",'Data Entry'!V36)","v":""},{"$f":"IF(ISBLANK('Data Entry'!W36),\"\",'Data Entry'!W36)","v":"2025-26"},{"$f":"IF(ISBLANK('Data Entry'!X36),\"\",'Data Entry'!X36)","v":""},{"$f":"IF(ISBLANK('Data Entry'!Y36),\"\",'Data Entry'!Y36)","v":""}]
[32,"SANCTIONED TOURNAMENTS",{"$f":"IF(ISBLANK('Data Entry'!C37),\"\",'Data Entry'!C37)","v":""},{"$f":"IF('Data Entry'!D37=\"Pick a Zone\",\"\",'Data Entry'!D37)","v":"SANCTIONED EVENT"},{"$f":"IF('Data Entry'!E37=\"pick a tournament\",\"\",'Data Entry'!E37)","v":""},{"$f":"IF('Data Entry'!F37=\"pick a tournament\",\"\",'Data Entry'!F37)","v":""},{"$f":"IF('Data Entry'!G37=\"Enter C5#\",\"\",'Data Entry'!G37)","v":""},{"$f":"IF('Data Entry'!H37=\"Enter C5#\",\"\",'Data Entry'!H37)","v":""},{"$f":"IF(ISBLANK('Data Entry'!I37),\"\",'Data Entry'!I37)","v":""},{"$f":"IF(ISBLANK('Data Entry'!J37),\"\",'Data Entry'!J37)","v":""},{"$f":"IF(ISBLANK('Data Entry'!K37),\"\",'Data Entry'!K37)","v":""},{"$f":"IF(ISBLANK('Data Entry'!L37),\"\",'Data Entry'!L37)","v":""},{"$f":"IF(ISBLANK('Data Entry'!M37),\"\",'Data Entry'!M37)","v":""},{"$f":"IF(ISBLANK('Data Entry'!N37),\"\",'Data Entry'!N37)","v":""},{"$f":"IF(ISBLANK('Data Entry'!O37),\"\",'Data Entry'!O37)","v":""},{"$f":"IF(ISBLANK('Data Entry'!P37),\"\",'Data Entry'!P37)","v":""},{"$f":"IF(ISBLANK('Data Entry'!Q37),\"\",'Data Entry'!Q37)","v":""},{"$f":"IF(ISBLANK('Data Entry'!R37),\"\",'Data Entry'!R37)","v":""},{"$f":"IF(ISBLANK('Data Entry'!S37),\"\",'Data Entry'!S37)","v":""},{"$f":"IF(ISBLANK('Data Entry'!T37),\"\",'Data Entry'!T37)","v":""},{"$f":"IF(ISBLANK('Data Entry'!U37),\"\",'Data Entry'!U37)","v":""},{"$f":"IF(ISBLANK('Data Entry'!V37),\"\",'Data Entry'!V37)","v":""},{"$f":"IF(ISBLANK('Data Entry'!W37),\"\",'Data Entry'!W37)","v":"2025-26"},{"$f":"IF(ISBLANK('Data Entry'!X37),\"\",'Data Entry'!X37)","v":""},{"$f":"IF(ISBLANK('Data Entry'!Y37),\"\",'Data Entry'!Y37)","v":""}]
[33,"SANCTIONED TOURNAMENTS",{"$f":"IF(ISBLANK('Data Entry'!C38),\"\",'Data Entry'!C38)","v":""},{"$f":"IF('Data Entry'!D38=\"Pick a Zone\",\"\",'Data Entry'!D38)","v":"SANCTIONED EVENT"},{"$f":"IF('Data Entry'!E38=\"pick a tournament\",\"\",'Data Entry'!E38)","v":""},{"$f":"IF('Data Entry'!F38=\"pick a tournament\",\"\",'Data Entry'!F38)","v":""},{"$f":"IF('Data Entry'!G38=\"Enter C5#\",\"\",'Data Entry'!G38)","v":""},{"$f":"IF('Data Entry'!H38=\"Enter C5#\",\"\",'Data Entry'!H38)","v":""},{"$f":"IF(ISBLANK('Data Entry'!I38),\"\",'Data Entry'!I38)","v":""},{"$f":"IF(ISBLANK('Data Entry'!J38),\"\",'Data Entry'!J38)","v":""},{"$f":"IF(ISBLANK('Data Entry'!K38),\"\",'Data Entry'!K38)","v":""},{"$f":"IF(ISBLANK('Data Entry'!L38),\"\",'Data Entry'!L38)","v":""},{"$f":"IF(ISBLANK('Data Entry'!M38),\"\",'Data Entry'!M38)","v":""},{"$f":"IF(ISBLANK('Data Entry'!N38),\"\",'Data Entry'!N38)","v":""},{"$f":"IF(ISBLANK('Data Entry'!O38),\"\",'Data Entry'!O38)","v":""},{"$f":"IF(ISBLANK('Data Entry'!P38),\"\",'Data Entry'!P38)","v":""},{"$f":"IF(ISBLANK('Data Entry'!Q38),\"\",'Data Entry'!Q38)","v":""},{"$f":"IF(ISBLANK('Data Entry'!R38),\"\",'Data Entry'!R38)","v":""},{"$f":"IF(ISBLANK('Data Entry'!S38),\"\",'Data Entry'!S38)","v":""},{"$f":"IF(ISBLANK('Data Entry'!T38),\"\",'Data Entry'!T38)","v":""},{"$f":"IF(ISBLANK('Data Entry'!U38),\"\",'Data Entry'!U38)","v":""},{"$f":"IF(ISBLANK('Data Entry'!V38),\"\",'Data Entry'!V38)","v":""},{"$f":"IF(ISBLANK('Data Entry'!W38),\"\",'Data Entry'!W38)","v":"2025-26"},{"$f":"IF(ISBLANK('Data Entry'!X38),\"\",'Data Entry'!X38)","v":""},{"$f":"IF(ISBLANK('Data Entry'!Y38),\"\",'Data Entry'!Y38)","v":""}]
[34,"SANCTIONED TOURNAMENTS",{"$f":"IF(ISBLANK('Data Entry'!C39),\"\",'Data Entry'!C39)","v":""},{"$f":"IF('Data Entry'!D39=\"Pick a Zone\",\"\",'Data Entry'!D39)","v":"SANCTIONED EVENT"},{"$f":"IF('Data Entry'!E39=\"pick a tournament\",\"\",'Data Entry'!E39)","v":""},{"$f":"IF('Data Entry'!F39=\"pick a tournament\",\"\",'Data Entry'!F39)","v":""},{"$f":"IF('Data Entry'!G39=\"Enter C5#\",\"\",'Data Entry'!G39)","v":""},{"$f":"IF('Data Entry'!H39=\"Enter C5#\",\"\",'Data Entry'!H39)","v":""},{"$f":"IF(ISBLANK('Data Entry'!I39),\"\",'Data Entry'!I39)","v":""},{"$f":"IF(ISBLANK('Data Entry'!J39),\"\",'Data Entry'!J39)","v":""},{"$f":"IF(ISBLANK('Data Entry'!K39),\"\",'Data Entry'!K39)","v":""},{"$f":"IF(ISBLANK('Data Entry'!L39),\"\",'Data Entry'!L39)","v":""},{"$f":"IF(ISBLANK('Data Entry'!M39),\"\",'Data Entry'!M39)","v":""},{"$f":"IF(ISBLANK('Data Entry'!N39),\"\",'Data Entry'!N39)","v":""},{"$f":"IF(ISBLANK('Data Entry'!O39),\"\",'Data Entry'!O39)","v":""},{"$f":"IF(ISBLANK('Data Entry'!P39),\"\",'Data Entry'!P39)","v":""},{"$f":"IF(ISBLANK('Data Entry'!Q39),\"\",'Data Entry'!Q39)","v":""},{"$f":"IF(ISBLANK('Data Entry'!R39),\"\",'Data Entry'!R39)","v":""},{"$f":"IF(ISBLANK('Data Entry'!S39),\"\",'Data Entry'!S39)","v":""},{"$f":"IF(ISBLANK('Data Entry'!T39),\"\",'Data Entry'!T39)","v":""},{"$f":"IF(ISBLANK('Data Entry'!U39),\"\",'Data Entry'!U39)","v":""},{"$f":"IF(ISBLANK('Data Entry'!V39),\"\",'Data Entry'!V39)","v":""},{"$f":"IF(ISBLANK('Data Entry'!W39),\"\",'Data Entry'!W39)","v":"2025-26"},{"$f":"IF(ISBLANK('Data Entry'!X39),\"\",'Data Entry'!X39)","v":""},{"$f":"IF(ISBLANK('Data Entry'!Y39),\"\",'Data Entry'!Y39)","v":""}]
[35,"SANCTIONED TOURNAMENTS",{"$f":"IF(ISBLANK('Data Entry'!C40),\"\",'Data Entry'!C40)","v":""},{"$f":"IF('Data Entry'!D40=\"Pick a Zone\",\"\",'Data Entry'!D40)","v":"SANCTIONED EVENT"},{"$f":"IF('Data Entry'!E40=\"pick a tournament\",\"\",'Data Entry'!E40)","v":""},{"$f":"IF('Data Entry'!F40=\"pick a tournament\",\"\",'Data Entry'!F40)","v":""},{"$f":"IF('Data Entry'!G40=\"Enter C5#\",\"\",'Data Entry'!G40)","v":""},{"$f":"IF('Data Entry'!H40=\"Enter C5#\",\"\",'Data Entry'!H40)","v":""},{"$f":"IF(ISBLANK('Data Entry'!I40),\"\",'Data Entry'!I40)","v":""},{"$f":"IF(ISBLANK('Data Entry'!J40),\"\",'Data Entry'!J40)","v":""},{"$f":"IF(ISBLANK('Data Entry'!K40),\"\",'Data Entry'!K40)","v":""},{"$f":"IF(ISBLANK('Data Entry'!L40),\"\",'Data Entry'!L40)","v":""},{"$f":"IF(ISBLANK('Data Entry'!M40),\"\",'Data Entry'!M40)","v":""},{"$f":"IF(ISBLANK('Data Entry'!N40),\"\",'Data Entry'!N40)","v":""},{"$f":"IF(ISBLANK('Data Entry'!O40),\"\",'Data Entry'!O40)","v":""},{"$f":"IF(ISBLANK('Data Entry'!P40),\"\",'Data Entry'!P40)","v":""},{"$f":"IF(ISBLANK('Data Entry'!Q40),\"\",'Data Entry'!Q40)","v":""},{"$f":"IF(ISBLANK('Data Entry'!R40),\"\",'Data Entry'!R40)","v":""},{"$f":"IF(ISBLANK('Data Entry'!S40),\"\",'Data Entry'!S40)","v":""},{"$f":"IF(ISBLANK('Data Entry'!T40),\"\",'Data Entry'!T40)","v":""},{"$f":"IF(ISBLANK('Data Entry'!U40),\"\",'Data Entry'!U40)","v":""},{"$f":"IF(ISBLANK('Data Entry'!V40),\"\",'Data Entry'!V40)","v":""},{"$f":"IF(ISBLANK('Data Entry'!W40),\"\",'Data Entry'!W40)","v":"2025-26"},{"$f":"IF(ISBLANK('Data Entry'!X40),\"\",'Data Entry'!X40)","v":""},{"$f":"IF(ISBLANK('Data Entry'!Y40),\"\",'Data Entry'!Y40)","v":""}]
[36,"SANCTIONED TOURNAMENTS",{"$f":"IF(ISBLANK('Data Entry'!C41),\"\",'Data Entry'!C41)","v":""},{"$f":"IF('Data Entry'!D41=\"Pick a Zone\",\"\",'Data Entry'!D41)","v":"SANCTIONED EVENT"},{"$f":"IF('Data Entry'!E41=\"pick a tournament\",\"\",'Data Entry'!E41)","v":""},{"$f":"IF('Data Entry'!F41=\"pick a tournament\",\"\",'Data Entry'!F41)","v":""},{"$f":"IF('Data Entry'!G41=\"Enter C5#\",\"\",'Data Entry'!G41)","v":""},{"$f":"IF('Data Entry'!H41=\"Enter C5#\",\"\",'Data Entry'!H41)","v":""},{"$f":"IF(ISBLANK('Data Entry'!I41),\"\",'Data Entry'!I41)","v":""},{"$f":"IF(ISBLANK('Data Entry'!J41),\"\",'Data Entry'!J41)","v":""},{"$f":"IF(ISBLANK('Data Entry'!K41),\"\",'Data Entry'!K41)","v":""},{"$f":"IF(ISBLANK('Data Entry'!L41),\"\",'Data Entry'!L41)","v":""},{"$f":"IF(ISBLANK('Data Entry'!M41),\"\",'Data Entry'!M41)","v":""},{"$f":"IF(ISBLANK('Data Entry'!N41),\"\",'Data Entry'!N41)","v":""},{"$f":"IF(ISBLANK('Data Entry'!O41),\"\",'Data Entry'!O41)","v":""},{"$f":"IF(ISBLANK('Data Entry'!P41),\"\",'Data Entry'!P41)","v":""},{"$f":"IF(ISBLANK('Data Entry'!Q41),\"\",'Data Entry'!Q41)","v":""},{"$f":"IF(ISBLANK('Data Entry'!R41),\"\",'Data Entry'!R41)","v":""},{"$f":"IF(ISBLANK('Data Entry'!S41),\"\",'Data Entry'!S41)","v":""},{"$f":"IF(ISBLANK('Data Entry'!T41),\"\",'Data Entry'!T41)","v":""},{"$f":"IF(ISBLANK('Data Entry'!U41),\"\",'Data Entry'!U41)","v":""},{"$f":"IF(ISBLANK('Data Entry'!V41),\"\",'Data Entry'!V41)","v":""},{"$f":"IF(ISBLANK('Data Entry'!W41),\"\",'Data Entry'!W41)","v":"2025-26"},{"$f":"IF(ISBLANK('Data Entry'!X41),\"\",'Data Entry'!X41)","v":""},{"$f":"IF(ISBLANK('Data Entry'!Y41),\"\",'Data Entry'!Y41)","v":""}]
[37,"SANCTIONED TOURNAMENTS",{"$f":"IF(ISBLANK('Data Entry'!C42),\"\",'Data Entry'!C42)","v":""},{"$f":"IF('Data Entry'!D42=\"Pick a Zone\",\"\",'Data Entry'!D42)","v":"SANCTIONED EVENT"},{"$f":"IF('Data Entry'!E42=\"pick a tournament\",\"\",'Data Entry'!E42)","v":""},{"$f":"IF('Data Entry'!F42=\"pick a tournament\",\"\",'Data Entry'!F42)","v":""},{"$f":"IF('Data Entry'!G42=\"Enter C5#\",\"\",'Data Entry'!G42)","v":""},{"$f":"IF('Data Entry'!H42=\"Enter C5#\",\"\",'Data Entry'!H42)","v":""},{"$f":"IF(ISBLANK('Data Entry'!I42),\"\",'Data Entry'!I42)","v":""},{"$f":"IF(ISBLANK('Data Entry'!J42),\"\",'Data Entry'!J42)","v":""},{"$f":"IF(ISBLANK('Data Entry'!K42),\"\",'Data Entry'!K42)","v":""},{"$f":"IF(ISBLANK('Data Entry'!L42),\"\",'Data Entry'!L42)","v":""},{"$f":"IF(ISBLANK('Data Entry'!M42),\"\",'Data Entry'!M42)","v":""},{"$f":"IF(ISBLANK('Data Entry'!N42),\"\",'Data Entry'!N42)","v":""},{"$f":"IF(ISBLANK('Data Entry'!O42),\"\",'Data Entry'!O42)","v":""},{"$f":"IF(ISBLANK('Data Entry'!P42),\"\",'Data Entry'!P42)","v":""},{"$f":"IF(ISBLANK('Data Entry'!Q42),\"\",'Data Entry'!Q42)","v":""},{"$f":"IF(ISBLANK('Data Entry'!R42),\"\",'Data Entry'!R42)","v":""},{"$f":"IF(ISBLANK('Data Entry'!S42),\"\",'Data Entry'!S42)","v":""},{"$f":"IF(ISBLANK('Data Entry'!T42),\"\",'Data Entry'!T42)","v":""},{"$f":"IF(ISBLANK('Data Entry'!U42),\"\",'Data Entry'!U42)","v":""},{"$f":"IF(ISBLANK('Data Entry'!V42),\"\",'Data Entry'!V42)","v":""},{"$f":"IF(ISBLANK('Data Entry'!W42),\"\",'Data Entry'!W42)","v":"2025-26"},{"$f":"IF(ISBLANK('Data Entry'!X42),\"\",'Data Entry'!X42)","v":""},{"$f":"IF(ISBLANK('Data Entry'!Y42),\"\",'Data Entry'!Y42)","v":""}]
[38,"SANCTIONED TOURNAMENTS",{"$f":"IF(ISBLANK('Data Entry'!C43),\"\",'Data Entry'!C43)","v":""},{"$f":"IF('Data Entry'!D43=\"Pick a Zone\",\"\",'Data Entry'!D43)","v":"SANCTIONED EVENT"},{"$f":"IF('Data Entry'!E43=\"pick a tournament\",\"\",'Data Entry'!E43)","v":""},{"$f":"IF('Data Entry'!F43=\"pick a tournament\",\"\",'Data Entry'!F43)","v":""},{"$f":"IF('Data Entry'!G43=\"Enter C5#\",\"\",'Data Entry'!G43)","v":""},{"$f":"IF('Data Entry'!H43=\"Enter C5#\",\"\",'Data Entry'!H43)","v":""},{"$f":"IF(ISBLANK('Data Entry'!I43),\"\",'Data Entry'!I43)","v":""},{"$f":"IF(ISBLANK('Data Entry'!J43),\"\",'Data Entry'!J43)","v":""},{"$f":"IF(ISBLANK('Data Entry'!K43),\"\",'Data Entry'!K43)","v":""},{"$f":"IF(ISBLANK('Data Entry'!L43),\"\",'Data Entry'!L43)","v":""},{"$f":"IF(ISBLANK('Data Entry'!M43),\"\",'Data Entry'!M43)","v":""},{"$f":"IF(ISBLANK('Data Entry'!N43),\"\",'Data Entry'!N43)","v":""},{"$f":"IF(ISBLANK('Data Entry'!O43),\"\",'Data Entry'!O43)","v":""},{"$f":"IF(ISBLANK('Data Entry'!P43),\"\",'Data Entry'!P43)","v":""},{"$f":"IF(ISBLANK('Data Entry'!Q43),\"\",'Data Entry'!Q43)","v":""},{"$f":"IF(ISBLANK('Data Entry'!R43),\"\",'Data Entry'!R43)","v":""},{"$f":"IF(ISBLANK('Data Entry'!S43),\"\",'Data Entry'!S43)","v":""},{"$f":"IF(ISBLANK('Data Entry'!T43),\"\",'Data Entry'!T43)","v":""},{"$f":"IF(ISBLANK('Data Entry'!U43),\"\",'Data Entry'!U43)","v":""},{"$f":"IF(ISBLANK('Data Entry'!V43),\"\",'Data Entry'!V43)","v":""},{"$f":"IF(ISBLANK('Data Entry'!W43),\"\",'Data Entry'!W43)","v":"2025-26"},{"$f":"IF(ISBLANK('Data Entry'!X43),\"\",'Data Entry'!X43)","v":""},{"$f":"IF(ISBLANK('Data Entry'!Y43),\"\",'Data Entry'!Y43)","v":""}]
[39,"SANCTIONED TOURNAMENTS",{"$f":"IF(ISBLANK('Data Entry'!C44),\"\",'Data Entry'!C44)","v":""},{"$f":"IF('Data Entry'!D44=\"Pick a Zone\",\"\",'Data Entry'!D44)","v":"SANCTIONED EVENT"},{"$f":"IF('Data Entry'!E44=\"pick a tournament\",\"\",'Data Entry'!E44)","v":""},{"$f":"IF('Data Entry'!F44=\"pick a tournament\",\"\",'Data Entry'!F44)","v":""},{"$f":"IF('Data Entry'!G44=\"Enter C5#\",\"\",'Data Entry'!G44)","v":""},{"$f":"IF('Data Entry'!H44=\"Enter C5#\",\"\",'Data Entry'!H44)","v":""},{"$f":"IF(ISBLANK('Data Entry'!I44),\"\",'Data Entry'!I44)","v":""},{"$f":"IF(ISBLANK('Data Entry'!J44),\"\",'Data Entry'!J44)","v":""},{"$f":"IF(ISBLANK('Data Entry'!K44),\"\",'Data Entry'!K44)","v":""},{"$f":"IF(ISBLANK('Data Entry'!L44),\"\",'Data Entry'!L44)","v":""},{"$f":"IF(ISBLANK('Data Entry'!M44),\"\",'Data Entry'!M44)","v":""},{"$f":"IF(ISBLANK('Data Entry'!N44),\"\",'Data Entry'!N44)","v":""},{"$f":"IF(ISBLANK('Data Entry'!O44),\"\",'Data Entry'!O44)","v":""},{"$f":"IF(ISBLANK('Data Entry'!P44),\"\",'Data Entry'!P44)","v":""},{"$f":"IF(ISBLANK('Data Entry'!Q44),\"\",'Data Entry'!Q44)","v":""},{"$f":"IF(ISBLANK('Data Entry'!R44),\"\",'Data Entry'!R44)","v":""},{"$f":"IF(ISBLANK('Data Entry'!S44),\"\",'Data Entry'!S44)","v":""},{"$f":"IF(ISBLANK('Data Entry'!T44),\"\",'Data Entry'!T44)","v":""},{"$f":"IF(ISBLANK('Data Entry'!U44),\"\",'Data Entry'!U44)","v":""},{"$f":"IF(ISBLANK('Data Entry'!V44),\"\",'Data Entry'!V44)","v":""},{"$f":"IF(ISBLANK('Data Entry'!W44),\"\",'Data Entry'!W44)","v":"2025-26"},{"$f":"IF(ISBLANK('Data Entry'!X44),\"\",'Data Entry'!X44)","v":""},{"$f":"IF(ISBLANK('Data Entry'!Y44),\"\",'Data Entry'!Y44)","v":""}]
[40,"SANCTIONED TOURNAMENTS",{"$f":"IF(ISBLANK('Data Entry'!C45),\"\",'Data Entry'!C45)","v":""},{"$f":"IF('Data Entry'!D45=\"Pick a Zone\",\"\",'Data Entry'!D45)","v":"SANCTIONED EVENT"},{"$f":"IF('Data Entry'!E45=\"pick a tournament\",\"\",'Data Entry'!E45)","v":""},{"$f":"IF('Data Entry'!F45=\"pick a tournament\",\"\",'Data Entry'!F45)","v":""},{"$f":"IF('Data Entry'!G45=\"Enter C5#\",\"\",'Data Entry'!G45)","v":""},{"$f":"IF('Data Entry'!H45=\"Enter C5#\",\"\",'Data Entry'!H45)","v":""},{"$f":"IF(ISBLANK('Data Entry'!I45),\"\",'Data Entry'!I45)","v":""},{"$f":"IF(ISBLANK('Data Entry'!J45),\"\",'Data Entry'!J45)","v":""},{"$f":"IF(ISBLANK('Data Entry'!K45),\"\",'Data Entry'!K45)","v":""},{"$f":"IF(ISBLANK('Data Entry'!L45),\"\",'Data Entry'!L45)","v":""},{"$f":"IF(ISBLANK('Data Entry'!M45),\"\",'Data Entry'!M45)","v":""},{"$f":"IF(ISBLANK('Data Entry'!N45),\"\",'Data Entry'!N45)","v":""},{"$f":"IF(ISBLANK('Data Entry'!O45),\"\",'Data Entry'!O45)","v":""},{"$f":"IF(ISBLANK('Data Entry'!P45),\"\",'Data Entry'!P45)","v":""},{"$f":"IF(ISBLANK('Data Entry'!Q45),\"\",'Data Entry'!Q45)","v":""},{"$f":"IF(ISBLANK('Data Entry'!R45),\"\",'Data Entry'!R45)","v":""},{"$f":"IF(ISBLANK('Data Entry'!S45),\"\",'Data Entry'!S45)","v":""},{"$f":"IF(ISBLANK('Data Entry'!T45),\"\",'Data Entry'!T45)","v":""},{"$f":"IF(ISBLANK('Data Entry'!U45),\"\",'Data Entry'!U45)","v":""},{"$f":"IF(ISBLANK('Data Entry'!V45),\"\",'Data Entry'!V45)","v":""},{"$f":"IF(ISBLANK('Data Entry'!W45),\"\",'Data Entry'!W45)","v":"2025-26"},{"$f":"IF(ISBLANK('Data Entry'!X45),\"\",'Data Entry'!X45)","v":""},{"$f":"IF(ISBLANK('Data Entry'!Y45),\"\",'Data Entry'!Y45)","v":""}]
[41,"SANCTIONED TOURNAMENTS",{"$f":"IF(ISBLANK('Data Entry'!C46),\"\",'Data Entry'!C46)","v":""},{"$f":"IF('Data Entry'!D46=\"Pick a Zone\",\"\",'Data Entry'!D46)","v":"SANCTIONED EVENT"},{"$f":"IF('Data Entry'!E46=\"pick a tournament\",\"\",'Data Entry'!E46)","v":""},{"$f":"IF('Data Entry'!F46=\"pick a tournament\",\"\",'Data Entry'!F46)","v":""},{"$f":"IF('Data Entry'!G46=\"Enter C5#\",\"\",'Data Entry'!G46)","v":""},{"$f":"IF('Data Entry'!H46=\"Enter C5#\",\"\",'Data Entry'!H46)","v":""},{"$f":"IF(ISBLANK('Data Entry'!I46),\"\",'Data Entry'!I46)","v":""},{"$f":"IF(ISBLANK('Data Entry'!J46),\"\",'Data Entry'!J46)","v":""},{"$f":"IF(ISBLANK('Data Entry'!K46),\"\",'Data Entry'!K46)","v":""},{"$f":"IF(ISBLANK('Data Entry'!L46),\"\",'Data Entry'!L46)","v":""},{"$f":"IF(ISBLANK('Data Entry'!M46),\"\",'Data Entry'!M46)","v":""},{"$f":"IF(ISBLANK('Data Entry'!N46),\"\",'Data Entry'!N46)","v":""},{"$f":"IF(ISBLANK('Data Entry'!O46),\"\",'Data Entry'!O46)","v":""},{"$f":"IF(ISBLANK('Data Entry'!P46),\"\",'Data Entry'!P46)","v":""},{"$f":"IF(ISBLANK('Data Entry'!Q46),\"\",'Data Entry'!Q46)","v":""},{"$f":"IF(ISBLANK('Data Entry'!R46),\"\",'Data Entry'!R46)","v":""},{"$f":"IF(ISBLANK('Data Entry'!S46),\"\",'Data Entry'!S46)","v":""},{"$f":"IF(ISBLANK('Data Entry'!T46),\"\",'Data Entry'!T46)","v":""},{"$f":"IF(ISBLANK('Data Entry'!U46),\"\",'Data Entry'!U46)","v":""},{"$f":"IF(ISBLANK('Data Entry'!V46),\"\",'Data Entry'!V46)","v":""},{"$f":"IF(ISBLANK('Data Entry'!W46),\"\",'Data Entry'!W46)","v":"2025-26"},{"$f":"IF(ISBLANK('Data Entry'!X46),\"\",'Data Entry'!X46)","v":""},{"$f":"IF(ISBLANK('Data Entry'!Y46),\"\",'Data Entry'!Y46)","v":""}]
[42,"SANCTIONED TOURNAMENTS",{"$f":"IF(ISBLANK('Data Entry'!C47),\"\",'Data Entry'!C47)","v":""},{"$f":"IF('Data Entry'!D47=\"Pick a Zone\",\"\",'Data Entry'!D47)","v":"SANCTIONED EVENT"},{"$f":"IF('Data Entry'!E47=\"pick a tournament\",\"\",'Data Entry'!E47)","v":""},{"$f":"IF('Data Entry'!F47=\"pick a tournament\",\"\",'Data Entry'!F47)","v":""},{"$f":"IF('Data Entry'!G47=\"Enter C5#\",\"\",'Data Entry'!G47)","v":""},{"$f":"IF('Data Entry'!H47=\"Enter C5#\",\"\",'Data Entry'!H47)","v":""},{"$f":"IF(ISBLANK('Data Entry'!I47),\"\",'Data Entry'!I47)","v":""},{"$f":"IF(ISBLANK('Data Entry'!J47),\"\",'Data Entry'!J47)","v":""},{"$f":"IF(ISBLANK('Data Entry'!K47),\"\",'Data Entry'!K47)","v":""},{"$f":"IF(ISBLANK('Data Entry'!L47),\"\",'Data Entry'!L47)","v":""},{"$f":"IF(ISBLANK('Data Entry'!M47),\"\",'Data Entry'!M47)","v":""},{"$f":"IF(ISBLANK('Data Entry'!N47),\"\",'Data Entry'!N47)","v":""},{"$f":"IF(ISBLANK('Data Entry'!O47),\"\",'Data Entry'!O47)","v":""},{"$f":"IF(ISBLANK('Data Entry'!P47),\"\",'Data Entry'!P47)","v":""},{"$f":"IF(ISBLANK('Data Entry'!Q47),\"\",'Data Entry'!Q47)","v":""},{"$f":"IF(ISBLANK('Data Entry'!R47),\"\",'Data Entry'!R47)","v":""},{"$f":"IF(ISBLANK('Data Entry'!S47),\"\",'Data Entry'!S47)","v":""},{"$f":"IF(ISBLANK('Data Entry'!T47),\"\",'Data Entry'!T47)","v":""},{"$f":"IF(ISBLANK('Data Entry'!U47),\"\",'Data Entry'!U47)","v":""},{"$f":"IF(ISBLANK('Data Entry'!V47),\"\",'Data Entry'!V47)","v":""},{"$f":"IF(ISBLANK('Data Entry'!W47),\"\",'Data Entry'!W47)","v":"2025-26"},{"$f":"IF(ISBLANK('Data Entry'!X47),\"\",'Data Entry'!X47)","v":""},{"$f":"IF(ISBLANK('Data Entry'!Y47),\"\",'Data Entry'!Y47)","v":""}]
[43,"SANCTIONED TOURNAMENTS",{"$f":"IF(ISBLANK('Data Entry'!C48),\"\",'Data Entry'!C48)","v":""},{"$f":"IF('Data Entry'!D48=\"Pick a Zone\",\"\",'Data Entry'!D48)","v":"SANCTIONED EVENT"},{"$f":"IF('Data Entry'!E48=\"pick a tournament\",\"\",'Data Entry'!E48)","v":""},{"$f":"IF('Data Entry'!F48=\"pick a tournament\",\"\",'Data Entry'!F48)","v":""},{"$f":"IF('Data Entry'!G48=\"Enter C5#\",\"\",'Data Entry'!G48)","v":""},{"$f":"IF('Data Entry'!H48=\"Enter C5#\",\"\",'Data Entry'!H48)","v":""},{"$f":"IF(ISBLANK('Data Entry'!I48),\"\",'Data Entry'!I48)","v":""},{"$f":"IF(ISBLANK('Data Entry'!J48),\"\",'Data Entry'!J48)","v":""},{"$f":"IF(ISBLANK('Data Entry'!K48),\"\",'Data Entry'!K48)","v":""},{"$f":"IF(ISBLANK('Data Entry'!L48),\"\",'Data Entry'!L48)","v":""},{"$f":"IF(ISBLANK('Data Entry'!M48),\"\",'Data Entry'!M48)","v":""},{"$f":"IF(ISBLANK('Data Entry'!N48),\"\",'Data Entry'!N48)","v":""},{"$f":"IF(ISBLANK('Data Entry'!O48),\"\",'Data Entry'!O48)","v":""},{"$f":"IF(ISBLANK('Data Entry'!P48),\"\",'Data Entry'!P48)","v":""},{"$f":"IF(ISBLANK('Data Entry'!Q48),\"\",'Data Entry'!Q48)","v":""},{"$f":"IF(ISBLANK('Data Entry'!R48),\"\",'Data Entry'!R48)","v":""},{"$f":"IF(ISBLANK('Data Entry'!S48),\"\",'Data Entry'!S48)","v":""},{"$f":"IF(ISBLANK('Data Entry'!T48),\"\",'Data Entry'!T48)","v":""},{"$f":"IF(ISBLANK('Data Entry'!U48),\"\",'Data Entry'!U48)","v":""},{"$f":"IF(ISBLANK('Data Entry'!V48),\"\",'Data Entry'!V48)","v":""},{"$f":"IF(ISBLANK('Data Entry'!W48),\"\",'Data Entry'!W48)","v":"2025-26"},{"$f":"IF(ISBLANK('Data Entry'!X48),\"\",'Data Entry'!X48)","v":""},{"$f":"IF(ISBLANK('Data Entry'!Y48),\"\",'Data Entry'!Y48)","v":""}]
[44,"SANCTIONED TOURNAMENTS",{"$f":"IF(ISBLANK('Data Entry'!C49),\"\",'Data Entry'!C49)","v":""},{"$f":"IF('Data Entry'!D49=\"Pick a Zone\",\"\",'Data Entry'!D49)","v":"SANCTIONED EVENT"},{"$f":"IF('Data Entry'!E49=\"pick a tournament\",\"\",'Data Entry'!E49)","v":""},{"$f":"IF('Data Entry'!F49=\"pick a tournament\",\"\",'Data Entry'!F49)","v":""},{"$f":"IF('Data Entry'!G49=\"Enter C5#\",\"\",'Data Entry'!G49)","v":""},{"$f":"IF('Data Entry'!H49=\"Enter C5#\",\"\",'Data Entry'!H49)","v":""},{"$f":"IF(ISBLANK('Data Entry'!I49),\"\",'Data Entry'!I49)","v":""},{"$f":"IF(ISBLANK('Data Entry'!J49),\"\",'Data Entry'!J49)","v":""},{"$f":"IF(ISBLANK('Data Entry'!K49),\"\",'Data Entry'!K49)","v":""},{"$f":"IF(ISBLANK('Data Entry'!L49),\"\",'Data Entry'!L49)","v":""},{"$f":"IF(ISBLANK('Data Entry'!M49),\"\",'Data Entry'!M49)","v":""},{"$f":"IF(ISBLANK('Data Entry'!N49),\"\",'Data Entry'!N49)","v":""},{"$f":"IF(ISBLANK('Data Entry'!O49),\"\",'Data Entry'!O49)","v":""},{"$f":"IF(ISBLANK('Data Entry'!P49),\"\",'Data Entry'!P49)","v":""},{"$f":"IF(ISBLANK('Data Entry'!Q49),\"\",'Data Entry'!Q49)","v":""},{"$f":"IF(ISBLANK('Data Entry'!R49),\"\",'Data Entry'!R49)","v":""},{"$f":"IF(ISBLANK('Data Entry'!S49),\"\",'Data Entry'!S49)","v":""},{"$f":"IF(ISBLANK('Data Entry'!T49),\"\",'Data Entry'!T49)","v":""},{"$f":"IF(ISBLANK('Data Entry'!U49),\"\",'Data Entry'!U49)","v":""},{"$f":"IF(ISBLANK('Data Entry'!V49),\"\",'Data Entry'!V49)","v":""},{"$f":"IF(ISBLANK('Data Entry'!W49),\"\",'Data Entry'!W49)","v":"2025-26"},{"$f":"IF(ISBLANK('Data Entry'!X49),\"\",'Data Entry'!X49)","v":""},{"$f":"IF(ISBLANK('Data Entry'!Y49),\"\",'Data Entry'!Y49)","v":""}]
[45,"SANCTIONED TOURNAMENTS",{"$f":"IF(ISBLANK('Data Entry'!C50),\"\",'Data Entry'!C50)","v":""},{"$f":"IF('Data Entry'!D50=\"Pick a Zone\",\"\",'Data Entry'!D50)","v":"SANCTIONED EVENT"},{"$f":"IF('Data Entry'!E50=\"pick a tournament\",\"\",'Data Entry'!E50)","v":""},{"$f":"IF('Data Entry'!F50=\"pick a tournament\",\"\",'Data Entry'!F50)","v":""},{"$f":"IF('Data Entry'!G50=\"Enter C5#\",\"\",'Data Entry'!G50)","v":""},{"$f":"IF('Data Entry'!H50=\"Enter C5#\",\"\",'Data Entry'!H50)","v":""},{"$f":"IF(ISBLANK('Data Entry'!I50),\"\",'Data Entry'!I50)","v":""},{"$f":"IF(ISBLANK('Data Entry'!J50),\"\",'Data Entry'!J50)","v":""},{"$f":"IF(ISBLANK('Data Entry'!K50),\"\",'Data Entry'!K50)","v":""},{"$f":"IF(ISBLANK('Data Entry'!L50),\"\",'Data Entry'!L50)","v":""},{"$f":"IF(ISBLANK('Data Entry'!M50),\"\",'Data Entry'!M50)","v":""},{"$f":"IF(ISBLANK('Data Entry'!N50),\"\",'Data Entry'!N50)","v":""},{"$f":"IF(ISBLANK('Data Entry'!O50),\"\",'Data Entry'!O50)","v":""},{"$f":"IF(ISBLANK('Data Entry'!P50),\"\",'Data Entry'!P50)","v":""},{"$f":"IF(ISBLANK('Data Entry'!Q50),\"\",'Data Entry'!Q50)","v":""},{"$f":"IF(ISBLANK('Data Entry'!R50),\"\",'Data Entry'!R50)","v":""},{"$f":"IF(ISBLANK('Data Entry'!S50),\"\",'Data Entry'!S50)","v":""},{"$f":"IF(ISBLANK('Data Entry'!T50),\"\",'Data Entry'!T50)","v":""},{"$f":"IF(ISBLANK('Data Entry'!U50),\"\",'Data Entry'!U50)","v":""},{"$f":"IF(ISBLANK('Data Entry'!V50),\"\",'Data Entry'!V50)","v":""},{"$f":"IF(ISBLANK('Data Entry'!W50),\"\",'Data Entry'!W50)","v":"2025-26"},{"$f":"IF(ISBLANK('Data Entry'!X50),\"\",'Data Entry'!X50)","v":""},{"$f":"IF(ISBLANK('Data Entry'!Y50),\"\",'Data Entry'!Y50)","v":""}]
[46,"SANCTIONED TOURNAMENTS",{"$f":"IF(ISBLANK('Data Entry'!C51),\"\",'Data Entry'!C51)","v":""},{"$f":"IF('Data Entry'!D51=\"Pick a Zone\",\"\",'Data Entry'!D51)","v":"SANCTIONED EVENT"},{"$f":"IF('Data Entry'!E51=\"pick a tournament\",\"\",'Data Entry'!E51)","v":""},{"$f":"IF('Data Entry'!F51=\"pick a tournament\",\"\",'Data Entry'!F51)","v":""},{"$f":"IF('Data Entry'!G51=\"Enter C5#\",\"\",'Data Entry'!G51)","v":""},{"$f":"IF('Data Entry'!H51=\"Enter C5#\",\"\",'Data Entry'!H51)","v":""},{"$f":"IF(ISBLANK('Data Entry'!I51),\"\",'Data Entry'!I51)","v":""},{"$f":"IF(ISBLANK('Data Entry'!J51),\"\",'Data Entry'!J51)","v":""},{"$f":"IF(ISBLANK('Data Entry'!K51),\"\",'Data Entry'!K51)","v":""},{"$f":"IF(ISBLANK('Data Entry'!L51),\"\",'Data Entry'!L51)","v":""},{"$f":"IF(ISBLANK('Data Entry'!M51),\"\",'Data Entry'!M51)","v":""},{"$f":"IF(ISBLANK('Data Entry'!N51),\"\",'Data Entry'!N51)","v":""},{"$f":"IF(ISBLANK('Data Entry'!O51),\"\",'Data Entry'!O51)","v":""},{"$f":"IF(ISBLANK('Data Entry'!P51),\"\",'Data Entry'!P51)","v":""},{"$f":"IF(ISBLANK('Data Entry'!Q51),\"\",'Data Entry'!Q51)","v":""},{"$f":"IF(ISBLANK('Data Entry'!R51),\"\",'Data Entry'!R51)","v":""},{"$f":"IF(ISBLANK('Data Entry'!S51),\"\",'Data Entry'!S51)","v":""},{"$f":"IF(ISBLANK('Data Entry'!T51),\"\",'Data Entry'!T51)","v":""},{"$f":"IF(ISBLANK('Data Entry'!U51),\"\",'Data Entry'!U51)","v":""},{"$f":"IF(ISBLANK('Data Entry'!V51),\"\",'Data Entry'!V51)","v":""},{"$f":"IF(ISBLANK('Data Entry'!W51),\"\",'Data Entry'!W51)","v":"2025-26"},{"$f":"IF(ISBLANK('Data Entry'!X51),\"\",'Data Entry'!X51)","v":""},{"$f":"IF(ISBLANK('Data Entry'!Y51),\"\",'Data Entry'!Y51)","v":""}]
[47,"SANCTIONED TOURNAMENTS",{"$f":"IF(ISBLANK('Data Entry'!C52),\"\",'Data Entry'!C52)","v":""},{"$f":"IF('Data Entry'!D52=\"Pick a Zone\",\"\",'Data Entry'!D52)","v":"SANCTIONED EVENT"},{"$f":"IF('Data Entry'!E52=\"pick a tournament\",\"\",'Data Entry'!E52)","v":""},{"$f":"IF('Data Entry'!F52=\"pick a tournament\",\"\",'Data Entry'!F52)","v":""},{"$f":"IF('Data Entry'!G52=\"Enter C5#\",\"\",'Data Entry'!G52)","v":""},{"$f":"IF('Data Entry'!H52=\"Enter C5#\",\"\",'Data Entry'!H52)","v":""},{"$f":"IF(ISBLANK('Data Entry'!I52),\"\",'Data Entry'!I52)","v":""},{"$f":"IF(ISBLANK('Data Entry'!J52),\"\",'Data Entry'!J52)","v":""},{"$f":"IF(ISBLANK('Data Entry'!K52),\"\",'Data Entry'!K52)","v":""},{"$f":"IF(ISBLANK('Data Entry'!L52),\"\",'Data Entry'!L52)","v":""},{"$f":"IF(ISBLANK('Data Entry'!M52),\"\",'Data Entry'!M52)","v":""},{"$f":"IF(ISBLANK('Data Entry'!N52),\"\",'Data Entry'!N52)","v":""},{"$f":"IF(ISBLANK('Data Entry'!O52),\"\",'Data Entry'!O52)","v":""},{"$f":"IF(ISBLANK('Data Entry'!P52),\"\",'Data Entry'!P52)","v":""},{"$f":"IF(ISBLANK('Data Entry'!Q52),\"\",'Data Entry'!Q52)","v":""},{"$f":"IF(ISBLANK('Data Entry'!R52),\"\",'Data Entry'!R52)","v":""},{"$f":"IF(ISBLANK('Data Entry'!S52),\"\",'Data Entry'!S52)","v":""},{"$f":"IF(ISBLANK('Data Entry'!T52),\"\",'Data Entry'!T52)","v":""},{"$f":"IF(ISBLANK('Data Entry'!U52),\"\",'Data Entry'!U52)","v":""},{"$f":"IF(ISBLANK('Data Entry'!V52),\"\",'Data Entry'!V52)","v":""},{"$f":"IF(ISBLANK('Data Entry'!W52),\"\",'Data Entry'!W52)","v":"2025-26"},{"$f":"IF(ISBLANK('Data Entry'!X52),\"\",'Data Entry'!X52)","v":""},{"$f":"IF(ISBLANK('Data Entry'!Y52),\"\",'Data Entry'!Y52)","v":""}]
[48,"SANCTIONED TOURNAMENTS",{"$f":"IF(ISBLANK('Data Entry'!C53),\"\",'Data Entry'!C53)","v":""},{"$f":"IF('Data Entry'!D53=\"Pick a Zone\",\"\",'Data Entry'!D53)","v":"SANCTIONED EVENT"},{"$f":"IF('Data Entry'!E53=\"pick a tournament\",\"\",'Data Entry'!E53)","v":""},{"$f":"IF('Data Entry'!F53=\"pick a tournament\",\"\",'Data Entry'!F53)","v":""},{"$f":"IF('Data Entry'!G53=\"Enter C5#\",\"\",'Data Entry'!G53)","v":""},{"$f":"IF('Data Entry'!H53=\"Enter C5#\",\"\",'Data Entry'!H53)","v":""},{"$f":"IF(ISBLANK('Data Entry'!I53),\"\",'Data Entry'!I53)","v":""},{"$f":"IF(ISBLANK('Data Entry'!J53),\"\",'Data Entry'!J53)","v":""},{"$f":"IF(ISBLANK('Data Entry'!K53),\"\",'Data Entry'!K53)","v":""},{"$f":"IF(ISBLANK('Data Entry'!L53),\"\",'Data Entry'!L53)","v":""},{"$f":"IF(ISBLANK('Data Entry'!M53),\"\",'Data Entry'!M53)","v":""},{"$f":"IF(ISBLANK('Data Entry'!N53),\"\",'Data Entry'!N53)","v":""},{"$f":"IF(ISBLANK('Data Entry'!O53),\"\",'Data Entry'!O53)","v":""},{"$f":"IF(ISBLANK('Data Entry'!P53),\"\",'Data Entry'!P53)","v":""},{"$f":"IF(ISBLANK('Data Entry'!Q53),\"\",'Data Entry'!Q53)","v":""},{"$f":"IF(ISBLANK('Data Entry'!R53),\"\",'Data Entry'!R53)","v":""},{"$f":"IF(ISBLANK('Data Entry'!S53),\"\",'Data Entry'!S53)","v":""},{"$f":"IF(ISBLANK('Data Entry'!T53),\"\",'Data Entry'!T53)","v":""},{"$f":"IF(ISBLANK('Data Entry'!U53),\"\",'Data Entry'!U53)","v":""},{"$f":"IF(ISBLANK('Data Entry'!V53),\"\",'Data Entry'!V53)","v":""},{"$f":"IF(ISBLANK('Data Entry'!W53),\"\",'Data Entry'!W53)","v":"2025-26"},{"$f":"IF(ISBLANK('Data Entry'!X53),\"\",'Data Entry'!X53)","v":""},{"$f":"IF(ISBLANK('Data Entry'!Y53),\"\",'Data Entry'!Y53)","v":""}]
[49,"SANCTIONED TOURNAMENTS",{"$f":"IF(ISBLANK('Data Entry'!C54),\"\",'Data Entry'!C54)","v":""},{"$f":"IF('Data Entry'!D54=\"Pick a Zone\",\"\",'Data Entry'!D54)","v":"SANCTIONED EVENT"},{"$f":"IF('Data Entry'!E54=\"pick a tournament\",\"\",'Data Entry'!E54)","v":""},{"$f":"IF('Data Entry'!F54=\"pick a tournament\",\"\",'Data Entry'!F54)","v":""},{"$f":"IF('Data Entry'!G54=\"Enter C5#\",\"\",'Data Entry'!G54)","v":""},{"$f":"IF('Data Entry'!H54=\"Enter C5#\",\"\",'Data Entry'!H54)","v":""},{"$f":"IF(ISBLANK('Data Entry'!I54),\"\",'Data Entry'!I54)","v":""},{"$f":"IF(ISBLANK('Data Entry'!J54),\"\",'Data Entry'!J54)","v":""},{"$f":"IF(ISBLANK('Data Entry'!K54),\"\",'Data Entry'!K54)","v":""},{"$f":"IF(ISBLANK('Data Entry'!L54),\"\",'Data Entry'!L54)","v":""},{"$f":"IF(ISBLANK('Data Entry'!M54),\"\",'Data Entry'!M54)","v":""},{"$f":"IF(ISBLANK('Data Entry'!N54),\"\",'Data Entry'!N54)","v":""},{"$f":"IF(ISBLANK('Data Entry'!O54),\"\",'Data Entry'!O54)","v":""},{"$f":"IF(ISBLANK('Data Entry'!P54),\"\",'Data Entry'!P54)","v":""},{"$f":"IF(ISBLANK('Data Entry'!Q54),\"\",'Data Entry'!Q54)","v":""},{"$f":"IF(ISBLANK('Data Entry'!R54),\"\",'Data Entry'!R54)","v":""},{"$f":"IF(ISBLANK('Data Entry'!S54),\"\",'Data Entry'!S54)","v":""},{"$f":"IF(ISBLANK('Data Entry'!T54),\"\",'Data Entry'!T54)","v":""},{"$f":"IF(ISBLANK('Data Entry'!U54),\"\",'Data Entry'!U54)","v":""},{"$f":"IF(ISBLANK('Data Entry'!V54),\"\",'Data Entry'!V54)","v":""},{"$f":"IF(ISBLANK('Data Entry'!W54),\"\",'Data Entry'!W54)","v":"2025-26"},{"$f":"IF(ISBLANK('Data Entry'!X54),\"\",'Data Entry'!X54)","v":""},{"$f":"IF(ISBLANK('Data Entry'!Y54),\"\",'Data Entry'!Y54)","v":""}]
[50,"SANCTIONED TOURNAMENTS",{"$f":"IF(ISBLANK('Data Entry'!C55),\"\",'Data Entry'!C55)","v":""},{"$f":"IF('Data Entry'!D55=\"Pick a Zone\",\"\",'Data Entry'!D55)","v":"SANCTIONED EVENT"},{"$f":"IF('Data Entry'!E55=\"pick a tournament\",\"\",'Data Entry'!E55)","v":""},{"$f":"IF('Data Entry'!F55=\"pick a tournament\",\"\",'Data Entry'!F55)","v":""},{"$f":"IF('Data Entry'!G55=\"Enter C5#\",\"\",'Data Entry'!G55)","v":""},{"$f":"IF('Data Entry'!H55=\"Enter C5#\",\"\",'Data Entry'!H55)","v":""},{"$f":"IF(ISBLANK('Data Entry'!I55),\"\",'Data Entry'!I55)","v":""},{"$f":"IF(ISBLANK('Data Entry'!J55),\"\",'Data Entry'!J55)","v":""},{"$f":"IF(ISBLANK('Data Entry'!K55),\"\",'Data Entry'!K55)","v":""},{"$f":"IF(ISBLANK('Data Entry'!L55),\"\",'Data Entry'!L55)","v":""},{"$f":"IF(ISBLANK('Data Entry'!M55),\"\",'Data Entry'!M55)","v":""},{"$f":"IF(ISBLANK('Data Entry'!N55),\"\",'Data Entry'!N55)","v":""},{"$f":"IF(ISBLANK('Data Entry'!O55),\"\",'Data Entry'!O55)","v":""},{"$f":"IF(ISBLANK('Data Entry'!P55),\"\",'Data Entry'!P55)","v":""},{"$f":"IF(ISBLANK('Data Entry'!Q55),\"\",'Data Entry'!Q55)","v":""},{"$f":"IF(ISBLANK('Data Entry'!R55),\"\",'Data Entry'!R55)","v":""},{"$f":"IF(ISBLANK('Data Entry'!S55),\"\",'Data Entry'!S55)","v":""},{"$f":"IF(ISBLANK('Data Entry'!T55),\"\",'Data Entry'!T55)","v":""},{"$f":"IF(ISBLANK('Data Entry'!U55),\"\",'Data Entry'!U55)","v":""},{"$f":"IF(ISBLANK('Data Entry'!V55),\"\",'Data Entry'!V55)","v":""},{"$f":"IF(ISBLANK('Data Entry'!W55),\"\",'Data Entry'!W55)","v":"2025-26"},{"$f":"IF(ISBLANK('Data Entry'!X55),\"\",'Data Entry'!X55)","v":""},{"$f":"IF(ISBLANK('Data Entry'!Y55),\"\",'Data Entry'!Y55)","v":""}]
[51,"SANCTIONED TOURNAMENTS",{"$f":"IF(ISBLANK('Data Entry'!C56),\"\",'Data Entry'!C56)","v":""},{"$f":"IF('Data Entry'!D56=\"Pick a Zone\",\"\",'Data Entry'!D56)","v":"SANCTIONED EVENT"},{"$f":"IF('Data Entry'!E56=\"pick a tournament\",\"\",'Data Entry'!E56)","v":""},{"$f":"IF('Data Entry'!F56=\"pick a tournament\",\"\",'Data Entry'!F56)","v":""},{"$f":"IF('Data Entry'!G56=\"Enter C5#\",\"\",'Data Entry'!G56)","v":""},{"$f":"IF('Data Entry'!H56=\"Enter C5#\",\"\",'Data Entry'!H56)","v":""},{"$f":"IF(ISBLANK('Data Entry'!I56),\"\",'Data Entry'!I56)","v":""},{"$f":"IF(ISBLANK('Data Entry'!J56),\"\",'Data Entry'!J56)","v":""},{"$f":"IF(ISBLANK('Data Entry'!K56),\"\",'Data Entry'!K56)","v":""},{"$f":"IF(ISBLANK('Data Entry'!L56),\"\",'Data Entry'!L56)","v":""},{"$f":"IF(ISBLANK('Data Entry'!M56),\"\",'Data Entry'!M56)","v":""},{"$f":"IF(ISBLANK('Data Entry'!N56),\"\",'Data Entry'!N56)","v":""},{"$f":"IF(ISBLANK('Data Entry'!O56),\"\",'Data Entry'!O56)","v":""},{"$f":"IF(ISBLANK('Data Entry'!P56),\"\",'Data Entry'!P56)","v":""},{"$f":"IF(ISBLANK('Data Entry'!Q56),\"\",'Data Entry'!Q56)","v":""},{"$f":"IF(ISBLANK('Data Entry'!R56),\"\",'Data Entry'!R56)","v":""},{"$f":"IF(ISBLANK('Data Entry'!S56),\"\",'Data Entry'!S56)","v":""},{"$f":"IF(ISBLANK('Data Entry'!T56),\"\",'Data Entry'!T56)","v":""},{"$f":"IF(ISBLANK('Data Entry'!U56),\"\",'Data Entry'!U56)","v":""},{"$f":"IF(ISBLANK('Data Entry'!V56),\"\",'Data Entry'!V56)","v":""},{"$f":"IF(ISBLANK('Data Entry'!W56),\"\",'Data Entry'!W56)","v":"2025-26"},{"$f":"IF(ISBLANK('Data Entry'!X56),\"\",'Data Entry'!X56)","v":""},{"$f":"IF(ISBLANK('Data Entry'!Y56),\"\",'Data Entry'!Y56)","v":""}]
[52,"SANCTIONED TOURNAMENTS",{"$f":"IF(ISBLANK('Data Entry'!C57),\"\",'Data Entry'!C57)","v":""},{"$f":"IF('Data Entry'!D57=\"Pick a Zone\",\"\",'Data Entry'!D57)","v":"SANCTIONED EVENT"},{"$f":"IF('Data Entry'!E57=\"pick a tournament\",\"\",'Data Entry'!E57)","v":""},{"$f":"IF('Data Entry'!F57=\"pick a tournament\",\"\",'Data Entry'!F57)","v":""},{"$f":"IF('Data Entry'!G57=\"Enter C5#\",\"\",'Data Entry'!G57)","v":""},{"$f":"IF('Data Entry'!H57=\"Enter C5#\",\"\",'Data Entry'!H57)","v":""},{"$f":"IF(ISBLANK('Data Entry'!I57),\"\",'Data Entry'!I57)","v":""},{"$f":"IF(ISBLANK('Data Entry'!J57),\"\",'Data Entry'!J57)","v":""},{"$f":"IF(ISBLANK('Data Entry'!K57),\"\",'Data Entry'!K57)","v":""},{"$f":"IF(ISBLANK('Data Entry'!L57),\"\",'Data Entry'!L57)","v":""},{"$f":"IF(ISBLANK('Data Entry'!M57),\"\",'Data Entry'!M57)","v":""},{"$f":"IF(ISBLANK('Data Entry'!N57),\"\",'Data Entry'!N57)","v":""},{"$f":"IF(ISBLANK('Data Entry'!O57),\"\",'Data Entry'!O57)","v":""},{"$f":"IF(ISBLANK('Data Entry'!P57),\"\",'Data Entry'!P57)","v":""},{"$f":"IF(ISBLANK('Data Entry'!Q57),\"\",'Data Entry'!Q57)","v":""},{"$f":"IF(ISBLANK('Data Entry'!R57),\"\",'Data Entry'!R57)","v":""},{"$f":"IF(ISBLANK('Data Entry'!S57),\"\",'Data Entry'!S57)","v":""},{"$f":"IF(ISBLANK('Data Entry'!T57),\"\",'Data Entry'!T57)","v":""},{"$f":"IF(ISBLANK('Data Entry'!U57),\"\",'Data Entry'!U57)","v":""},{"$f":"IF(ISBLANK('Data Entry'!V57),\"\",'Data Entry'!V57)","v":""},{"$f":"IF(ISBLANK('Data Entry'!W57),\"\",'Data Entry'!W57)","v":"2025-26"},{"$f":"IF(ISBLANK('Data Entry'!X57),\"\",'Data Entry'!X57)","v":""},{"$f":"IF(ISBLANK('Data Entry'!Y57),\"\",'Data Entry'!Y57)","v":""}]
[53,"SANCTIONED TOURNAMENTS",{"$f":"IF(ISBLANK('Data Entry'!C58),\"\",'Data Entry'!C58)","v":""},{"$f":"IF('Data Entry'!D58=\"Pick a Zone\",\"\",'Data Entry'!D58)","v":"SANCTIONED EVENT"},{"$f":"IF('Data Entry'!E58=\"pick a tournament\",\"\",'Data Entry'!E58)","v":""},{"$f":"IF('Data Entry'!F58=\"pick a tournament\",\"\",'Data Entry'!F58)","v":""},{"$f":"IF('Data Entry'!G58=\"Enter C5#\",\"\",'Data Entry'!G58)","v":""},{"$f":"IF('Data Entry'!H58=\"Enter C5#\",\"\",'Data Entry'!H58)","v":""},{"$f":"IF(ISBLANK('Data Entry'!I58),\"\",'Data Entry'!I58)","v":""},{"$f":"IF(ISBLANK('Data Entry'!J58),\"\",'Data Entry'!J58)","v":""},{"$f":"IF(ISBLANK('Data Entry'!K58),\"\",'Data Entry'!K58)","v":""},{"$f":"IF(ISBLANK('Data Entry'!L58),\"\",'Data Entry'!L58)","v":""},{"$f":"IF(ISBLANK('Data Entry'!M58),\"\",'Data Entry'!M58)","v":""},{"$f":"IF(ISBLANK('Data Entry'!N58),\"\",'Data Entry'!N58)","v":""},{"$f":"IF(ISBLANK('Data Entry'!O58),\"\",'Data Entry'!O58)","v":""},{"$f":"IF(ISBLANK('Data Entry'!P58),\"\",'Data Entry'!P58)","v":""},{"$f":"IF(ISBLANK('Data Entry'!Q58),\"\",'Data Entry'!Q58)","v":""},{"$f":"IF(ISBLANK('Data Entry'!R58),\"\",'Data Entry'!R58)","v":""},{"$f":"IF(ISBLANK('Data Entry'!S58),\"\",'Data Entry'!S58)","v":""},{"$f":"IF(ISBLANK('Data Entry'!T58),\"\",'Data Entry'!T58)","v":""},{"$f":"IF(ISBLANK('Data Entry'!U58),\"\",'Data Entry'!U58)","v":""},{"$f":"IF(ISBLANK('Data Entry'!V58),\"\",'Data Entry'!V58)","v":""},{"$f":"IF(ISBLANK('Data Entry'!W58),\"\",'Data Entry'!W58)","v":"2025-26"},{"$f":"IF(ISBLANK('Data Entry'!X58),\"\",'Data Entry'!X58)","v":""},{"$f":"IF(ISBLANK('Data Entry'!Y58),\"\",'Data Entry'!Y58)","v":""}]
[54,"SANCTIONED TOURNAMENTS",{"$f":"IF(ISBLANK('Data Entry'!C59),\"\",'Data Entry'!C59)","v":""},{"$f":"IF('Data Entry'!D59=\"Pick a Zone\",\"\",'Data Entry'!D59)","v":"SANCTIONED EVENT"},{"$f":"IF('Data Entry'!E59=\"pick a tournament\",\"\",'Data Entry'!E59)","v":""},{"$f":"IF('Data Entry'!F59=\"pick a tournament\",\"\",'Data Entry'!F59)","v":""},{"$f":"IF('Data Entry'!G59=\"Enter C5#\",\"\",'Data Entry'!G59)","v":""},{"$f":"IF('Data Entry'!H59=\"Enter C5#\",\"\",'Data Entry'!H59)","v":""},{"$f":"IF(ISBLANK('Data Entry'!I59),\"\",'Data Entry'!I59)","v":""},{"$f":"IF(ISBLANK('Data Entry'!J59),\"\",'Data Entry'!J59)","v":""},{"$f":"IF(ISBLANK('Data Entry'!K59),\"\",'Data Entry'!K59)","v":""},{"$f":"IF(ISBLANK('Data Entry'!L59),\"\",'Data Entry'!L59)","v":""},{"$f":"IF(ISBLANK('Data Entry'!M59),\"\",'Data Entry'!M59)","v":""},{"$f":"IF(ISBLANK('Data Entry'!N59),\"\",'Data Entry'!N59)","v":""},{"$f":"IF(ISBLANK('Data Entry'!O59),\"\",'Data Entry'!O59)","v":""},{"$f":"IF(ISBLANK('Data Entry'!P59),\"\",'Data Entry'!P59)","v":""},{"$f":"IF(ISBLANK('Data Entry'!Q59),\"\",'Data Entry'!Q59)","v":""},{"$f":"IF(ISBLANK('Data Entry'!R59),\"\",'Data Entry'!R59)","v":""},{"$f":"IF(ISBLANK('Data Entry'!S59),\"\",'Data Entry'!S59)","v":""},{"$f":"IF(ISBLANK('Data Entry'!T59),\"\",'Data Entry'!T59)","v":""},{"$f":"IF(ISBLANK('Data Entry'!U59),\"\",'Data Entry'!U59)","v":""},{"$f":"IF(ISBLANK('Data Entry'!V59),\"\",'Data Entry'!V59)","v":""},{"$f":"IF(ISBLANK('Data Entry'!W59),\"\",'Data Entry'!W59)","v":"2025-26"},{"$f":"IF(ISBLANK('Data Entry'!X59),\"\",'Data Entry'!X59)","v":""},{"$f":"IF(ISBLANK('Data Entry'!Y59),\"\",'Data Entry'!Y59)","v":""}]
[55,"SANCTIONED TOURNAMENTS",{"$f":"IF(ISBLANK('Data Entry'!C60),\"\",'Data Entry'!C60)","v":""},{"$f":"IF('Data Entry'!D60=\"Pick a Zone\",\"\",'Data Entry'!D60)","v":"SANCTIONED EVENT"},{"$f":"IF('Data Entry'!E60=\"pick a tournament\",\"\",'Data Entry'!E60)","v":""},{"$f":"IF('Data Entry'!F60=\"pick a tournament\",\"\",'Data Entry'!F60)","v":""},{"$f":"IF('Data Entry'!G60=\"Enter C5#\",\"\",'Data Entry'!G60)","v":""},{"$f":"IF('Data Entry'!H60=\"Enter C5#\",\"\",'Data Entry'!H60)","v":""},{"$f":"IF(ISBLANK('Data Entry'!I60),\"\",'Data Entry'!I60)","v":""},{"$f":"IF(ISBLANK('Data Entry'!J60),\"\",'Data Entry'!J60)","v":""},{"$f":"IF(ISBLANK('Data Entry'!K60),\"\",'Data Entry'!K60)","v":""},{"$f":"IF(ISBLANK('Data Entry'!L60),\"\",'Data Entry'!L60)","v":""},{"$f":"IF(ISBLANK('Data Entry'!M60),\"\",'Data Entry'!M60)","v":""},{"$f":"IF(ISBLANK('Data Entry'!N60),\"\",'Data Entry'!N60)","v":""},{"$f":"IF(ISBLANK('Data Entry'!O60),\"\",'Data Entry'!O60)","v":""},{"$f":"IF(ISBLANK('Data Entry'!P60),\"\",'Data Entry'!P60)","v":""},{"$f":"IF(ISBLANK('Data Entry'!Q60),\"\",'Data Entry'!Q60)","v":""},{"$f":"IF(ISBLANK('Data Entry'!R60),\"\",'Data Entry'!R60)","v":""},{"$f":"IF(ISBLANK('Data Entry'!S60),\"\",'Data Entry'!S60)","v":""},{"$f":"IF(ISBLANK('Data Entry'!T60),\"\",'Data Entry'!T60)","v":""},{"$f":"IF(ISBLANK('Data Entry'!U60),\"\",'Data Entry'!U60)","v":""},{"$f":"IF(ISBLANK('Data Entry'!V60),\"\",'Data Entry'!V60)","v":""},{"$f":"IF(ISBLANK('Data Entry'!W60),\"\",'Data Entry'!W60)","v":"2025-26"},{"$f":"IF(ISBLANK('Data Entry'!X60),\"\",'Data Entry'!X60)","v":""},{"$f":"IF(ISBLANK('Data Entry'!Y60),\"\",'Data Entry'!Y60)","v":""}]
[56,"SANCTIONED TOURNAMENTS",{"$f":"IF(ISBLANK('Data Entry'!C61),\"\",'Data Entry'!C61)","v":""},{"$f":"IF('Data Entry'!D61=\"Pick a Zone\",\"\",'Data Entry'!D61)","v":"SANCTIONED EVENT"},{"$f":"IF('Data Entry'!E61=\"pick a tournament\",\"\",'Data Entry'!E61)","v":""},{"$f":"IF('Data Entry'!F61=\"pick a tournament\",\"\",'Data Entry'!F61)","v":""},{"$f":"IF('Data Entry'!G61=\"Enter C5#\",\"\",'Data Entry'!G61)","v":""},{"$f":"IF('Data Entry'!H61=\"Enter C5#\",\"\",'Data Entry'!H61)","v":""},{"$f":"IF(ISBLANK('Data Entry'!I61),\"\",'Data Entry'!I61)","v":""},{"$f":"IF(ISBLANK('Data Entry'!J61),\"\",'Data Entry'!J61)","v":""},{"$f":"IF(ISBLANK('Data Entry'!K61),\"\",'Data Entry'!K61)","v":""},{"$f":"IF(ISBLANK('Data Entry'!L61),\"\",'Data Entry'!L61)","v":""},{"$f":"IF(ISBLANK('Data Entry'!M61),\"\",'Data Entry'!M61)","v":""},{"$f":"IF(ISBLANK('Data Entry'!N61),\"\",'Data Entry'!N61)","v":""},{"$f":"IF(ISBLANK('Data Entry'!O61),\"\",'Data Entry'!O61)","v":""},{"$f":"IF(ISBLANK('Data Entry'!P61),\"\",'Data Entry'!P61)","v":""},{"$f":"IF(ISBLANK('Data Entry'!Q61),\"\",'Data Entry'!Q61)","v":""},{"$f":"IF(ISBLANK('Data Entry'!R61),\"\",'Data Entry'!R61)","v":""},{"$f":"IF(ISBLANK('Data Entry'!S61),\"\",'Data Entry'!S61)","v":""},{"$f":"IF(ISBLANK('Data Entry'!T61),\"\",'Data Entry'!T61)","v":""},{"$f":"IF(ISBLANK('Data Entry'!U61),\"\",'Data Entry'!U61)","v":""},{"$f":"IF(ISBLANK('Data Entry'!V61),\"\",'Data Entry'!V61)","v":""},{"$f":"IF(ISBLANK('Data Entry'!W61),\"\",'Data Entry'!W61)","v":"2025-26"},{"$f":"IF(ISBLANK('Data Entry'!X61),\"\",'Data Entry'!X61)","v":""},{"$f":"IF(ISBLANK('Data Entry'!Y61),\"\",'Data Entry'!Y61)","v":""}]
[57,"SANCTIONED TOURNAMENTS",{"$f":"IF(ISBLANK('Data Entry'!C62),\"\",'Data Entry'!C62)","v":""},{"$f":"IF('Data Entry'!D62=\"Pick a Zone\",\"\",'Data Entry'!D62)","v":"SANCTIONED EVENT"},{"$f":"IF('Data Entry'!E62=\"pick a tournament\",\"\",'Data Entry'!E62)","v":""},{"$f":"IF('Data Entry'!F62=\"pick a tournament\",\"\",'Data Entry'!F62)","v":""},{"$f":"IF('Data Entry'!G62=\"Enter C5#\",\"\",'Data Entry'!G62)","v":""},{"$f":"IF('Data Entry'!H62=\"Enter C5#\",\"\",'Data Entry'!H62)","v":""},{"$f":"IF(ISBLANK('Data Entry'!I62),\"\",'Data Entry'!I62)","v":""},{"$f":"IF(ISBLANK('Data Entry'!J62),\"\",'Data Entry'!J62)","v":""},{"$f":"IF(ISBLANK('Data Entry'!K62),\"\",'Data Entry'!K62)","v":""},{"$f":"IF(ISBLANK('Data Entry'!L62),\"\",'Data Entry'!L62)","v":""},{"$f":"IF(ISBLANK('Data Entry'!M62),\"\",'Data Entry'!M62)","v":""},{"$f":"IF(ISBLANK('Data Entry'!N62),\"\",'Data Entry'!N62)","v":""},{"$f":"IF(ISBLANK('Data Entry'!O62),\"\",'Data Entry'!O62)","v":""},{"$f":"IF(ISBLANK('Data Entry'!P62),\"\",'Data Entry'!P62)","v":""},{"$f":"IF(ISBLANK('Data Entry'!Q62),\"\",'Data Entry'!Q62)","v":""},{"$f":"IF(ISBLANK('Data Entry'!R62),\"\",'Data Entry'!R62)","v":""},{"$f":"IF(ISBLANK('Data Entry'!S62),\"\",'Data Entry'!S62)","v":""},{"$f":"IF(ISBLANK('Data Entry'!T62),\"\",'Data Entry'!T62)","v":""},{"$f":"IF(ISBLANK('Data Entry'!U62),\"\",'Data Entry'!U62)","v":""},{"$f":"IF(ISBLANK('Data Entry'!V62),\"\",'Data Entry'!V62)","v":""},{"$f":"IF(ISBLANK('Data Entry'!W62),\"\",'Data Entry'!W62)","v":"2025-26"},{"$f":"IF(ISBLANK('Data Entry'!X62),\"\",'Data Entry'!X62)","v":""},{"$f":"IF(ISBLANK('Data Entry'!Y62),\"\",'Data Entry'!Y62)","v":""}]
[58,"SANCTIONED TOURNAMENTS",{"$f":"IF(ISBLANK('Data Entry'!C63),\"\",'Data Entry'!C63)","v":""},{"$f":"IF('Data Entry'!D63=\"Pick a Zone\",\"\",'Data Entry'!D63)","v":"SANCTIONED EVENT"},{"$f":"IF('Data Entry'!E63=\"pick a tournament\",\"\",'Data Entry'!E63)","v":""},{"$f":"IF('Data Entry'!F63=\"pick a tournament\",\"\",'Data Entry'!F63)","v":""},{"$f":"IF('Data Entry'!G63=\"Enter C5#\",\"\",'Data Entry'!G63)","v":""},{"$f":"IF('Data Entry'!H63=\"Enter C5#\",\"\",'Data Entry'!H63)","v":""},{"$f":"IF(ISBLANK('Data Entry'!I63),\"\",'Data Entry'!I63)","v":""},{"$f":"IF(ISBLANK('Data Entry'!J63),\"\",'Data Entry'!J63)","v":""},{"$f":"IF(ISBLANK('Data Entry'!K63),\"\",'Data Entry'!K63)","v":""},{"$f":"IF(ISBLANK('Data Entry'!L63),\"\",'Data Entry'!L63)","v":""},{"$f":"IF(ISBLANK('Data Entry'!M63),\"\",'Data Entry'!M63)","v":""},{"$f":"IF(ISBLANK('Data Entry'!N63),\"\",'Data Entry'!N63)","v":""},{"$f":"IF(ISBLANK('Data Entry'!O63),\"\",'Data Entry'!O63)","v":""},{"$f":"IF(ISBLANK('Data Entry'!P63),\"\",'Data Entry'!P63)","v":""},{"$f":"IF(ISBLANK('Data Entry'!Q63),\"\",'Data Entry'!Q63)","v":""},{"$f":"IF(ISBLANK('Data Entry'!R63),\"\",'Data Entry'!R63)","v":""},{"$f":"IF(ISBLANK('Data Entry'!S63),\"\",'Data Entry'!S63)","v":""},{"$f":"IF(ISBLANK('Data Entry'!T63),\"\",'Data Entry'!T63)","v":""},{"$f":"IF(ISBLANK('Data Entry'!U63),\"\",'Data Entry'!U63)","v":""},{"$f":"IF(ISBLANK('Data Entry'!V63),\"\",'Data Entry'!V63)","v":""},{"$f":"IF(ISBLANK('Data Entry'!W63),\"\",'Data Entry'!W63)","v":"2025-26"},{"$f":"IF(ISBLANK('Data Entry'!X63),\"\",'Data Entry'!X63)","v":""},{"$f":"IF(ISBLANK('Data Entry'!Y63),\"\",'Data Entry'!Y63)","v":""}]
[59,"SANCTIONED TOURNAMENTS",{"$f":"IF(ISBLANK('Data Entry'!C64),\"\",'Data Entry'!C64)","v":""},{"$f":"IF('Data Entry'!D64=\"Pick a Zone\",\"\",'Data Entry'!D64)","v":"SANCTIONED EVENT"},{"$f":"IF('Data Entry'!E64=\"pick a tournament\",\"\",'Data Entry'!E64)","v":""},{"$f":"IF('Data Entry'!F64=\"pick a tournament\",\"\",'Data Entry'!F64)","v":""},{"$f":"IF('Data Entry'!G64=\"Enter C5#\",\"\",'Data Entry'!G64)","v":""},{"$f":"IF('Data Entry'!H64=\"Enter C5#\",\"\",'Data Entry'!H64)","v":""},{"$f":"IF(ISBLANK('Data Entry'!I64),\"\",'Data Entry'!I64)","v":""},{"$f":"IF(ISBLANK('Data Entry'!J64),\"\",'Data Entry'!J64)","v":""},{"$f":"IF(ISBLANK('Data Entry'!K64),\"\",'Data Entry'!K64)","v":""},{"$f":"IF(ISBLANK('Data Entry'!L64),\"\",'Data Entry'!L64)","v":""},{"$f":"IF(ISBLANK('Data Entry'!M64),\"\",'Data Entry'!M64)","v":""},{"$f":"IF(ISBLANK('Data Entry'!N64),\"\",'Data Entry'!N64)","v":""},{"$f":"IF(ISBLANK('Data Entry'!O64),\"\",'Data Entry'!O64)","v":""},{"$f":"IF(ISBLANK('Data Entry'!P64),\"\",'Data Entry'!P64)","v":""},{"$f":"IF(ISBLANK('Data Entry'!Q64),\"\",'Data Entry'!Q64)","v":""},{"$f":"IF(ISBLANK('Data Entry'!R64),\"\",'Data Entry'!R64)","v":""},{"$f":"IF(ISBLANK('Data Entry'!S64),\"\",'Data Entry'!S64)","v":""},{"$f":"IF(ISBLANK('Data Entry'!T64),\"\",'Data Entry'!T64)","v":""},{"$f":"IF(ISBLANK('Data Entry'!U64),\"\",'Data Entry'!U64)","v":""},{"$f":"IF(ISBLANK('Data Entry'!V64),\"\",'Data Entry'!V64)","v":""},{"$f":"IF(ISBLANK('Data Entry'!W64),\"\",'Data Entry'!W64)","v":"2025-26"},{"$f":"IF(ISBLANK('Data Entry'!X64),\"\",'Data Entry'!X64)","v":""},{"$f":"IF(ISBLANK('Data Entry'!Y64),\"\",'Data Entry'!Y64)","v":""}]
[60,"SANCTIONED TOURNAMENTS",{"$f":"IF(ISBLANK('Data Entry'!C65),\"\",'Data Entry'!C65)","v":""},{"$f":"IF('Data Entry'!D65=\"Pick a Zone\",\"\",'Data Entry'!D65)","v":"SANCTIONED EVENT"},{"$f":"IF('Data Entry'!E65=\"pick a tournament\",\"\",'Data Entry'!E65)","v":""},{"$f":"IF('Data Entry'!F65=\"pick a tournament\",\"\",'Data Entry'!F65)","v":""},{"$f":"IF('Data Entry'!G65=\"Enter C5#\",\"\",'Data Entry'!G65)","v":""},{"$f":"IF('Data Entry'!H65=\"Enter C5#\",\"\",'Data Entry'!H65)","v":""},{"$f":"IF(ISBLANK('Data Entry'!I65),\"\",'Data Entry'!I65)","v":""},{"$f":"IF(ISBLANK('Data Entry'!J65),\"\",'Data Entry'!J65)","v":""},{"$f":"IF(ISBLANK('Data Entry'!K65),\"\",'Data Entry'!K65)","v":""},{"$f":"IF(ISBLANK('Data Entry'!L65),\"\",'Data Entry'!L65)","v":""},{"$f":"IF(ISBLANK('Data Entry'!M65),\"\",'Data Entry'!M65)","v":""},{"$f":"IF(ISBLANK('Data Entry'!N65),\"\",'Data Entry'!N65)","v":""},{"$f":"IF(ISBLANK('Data Entry'!O65),\"\",'Data Entry'!O65)","v":""},{"$f":"IF(ISBLANK('Data Entry'!P65),\"\",'Data Entry'!P65)","v":""},{"$f":"IF(ISBLANK('Data Entry'!Q65),\"\",'Data Entry'!Q65)","v":""},{"$f":"IF(ISBLANK('Data Entry'!R65),\"\",'Data Entry'!R65)","v":""},{"$f":"IF(ISBLANK('Data Entry'!S65),\"\",'Data Entry'!S65)","v":""},{"$f":"IF(ISBLANK('Data Entry'!T65),\"\",'Data Entry'!T65)","v":""},{"$f":"IF(ISBLANK('Data Entry'!U65),\"\",'Data Entry'!U65)","v":""},{"$f":"IF(ISBLANK('Data Entry'!V65),\"\",'Data Entry'!V65)","v":""},{"$f":"IF(ISBLANK('Data Entry'!W65),\"\",'Data Entry'!W65)","v":"2025-26"},{"$f":"IF(ISBLANK('Data Entry'!X65),\"\",'Data Entry'!X65)","v":""},{"$f":"IF(ISBLANK('Data Entry'!Y65),\"\",'Data Entry'!Y65)","v":""}]
[61,"SANCTIONED TOURNAMENTS",{"$f":"IF(ISBLANK('Data Entry'!C66),\"\",'Data Entry'!C66)","v":""},{"$f":"IF('Data Entry'!D66=\"Pick a Zone\",\"\",'Data Entry'!D66)","v":"SANCTIONED EVENT"},{"$f":"IF('Data Entry'!E66=\"pick a tournament\",\"\",'Data Entry'!E66)","v":""},{"$f":"IF('Data Entry'!F66=\"pick a tournament\",\"\",'Data Entry'!F66)","v":""},{"$f":"IF('Data Entry'!G66=\"Enter C5#\",\"\",'Data Entry'!G66)","v":""},{"$f":"IF('Data Entry'!H66=\"Enter C5#\",\"\",'Data Entry'!H66)","v":""},{"$f":"IF(ISBLANK('Data Entry'!I66),\"\",'Data Entry'!I66)","v":""},{"$f":"IF(ISBLANK('Data Entry'!J66),\"\",'Data Entry'!J66)","v":""},{"$f":"IF(ISBLANK('Data Entry'!K66),\"\",'Data Entry'!K66)","v":""},{"$f":"IF(ISBLANK('Data Entry'!L66),\"\",'Data Entry'!L66)","v":""},{"$f":"IF(ISBLANK('Data Entry'!M66),\"\",'Data Entry'!M66)","v":""},{"$f":"IF(ISBLANK('Data Entry'!N66),\"\",'Data Entry'!N66)","v":""},{"$f":"IF(ISBLANK('Data Entry'!O66),\"\",'Data Entry'!O66)","v":""},{"$f":"IF(ISBLANK('Data Entry'!P66),\"\",'Data Entry'!P66)","v":""},{"$f":"IF(ISBLANK('Data Entry'!Q66),\"\",'Data Entry'!Q66)","v":""},{"$f":"IF(ISBLANK('Data Entry'!R66),\"\",'Data Entry'!R66)","v":""},{"$f":"IF(ISBLANK('Data Entry'!S66),\"\",'Data Entry'!S66)","v":""},{"$f":"IF(ISBLANK('Data Entry'!T66),\"\",'Data Entry'!T66)","v":""},{"$f":"IF(ISBLANK('Data Entry'!U66),\"\",'Data Entry'!U66)","v":""},{"$f":"IF(ISBLANK('Data Entry'!V66),\"\",'Data Entry'!V66)","v":""},{"$f":"IF(ISBLANK('Data Entry'!W66),\"\",'Data Entry'!W66)","v":"2025-26"},{"$f":"IF(ISBLANK('Data Entry'!X66),\"\",'Data Entry'!X66)","v":""},{"$f":"IF(ISBLANK('Data Entry'!Y66),\"\",'Data Entry'!Y66)","v":""}]
[62,"SANCTIONED TOURNAMENTS",{"$f":"IF(ISBLANK('Data Entry'!C67),\"\",'Data Entry'!C67)","v":""},{"$f":"IF('Data Entry'!D67=\"Pick a Zone\",\"\",'Data Entry'!D67)","v":"SANCTIONED EVENT"},{"$f":"IF('Data Entry'!E67=\"pick a tournament\",\"\",'Data Entry'!E67)","v":""},{"$f":"IF('Data Entry'!F67=\"pick a tournament\",\"\",'Data Entry'!F67)","v":""},{"$f":"IF('Data Entry'!G67=\"Enter C5#\",\"\",'Data Entry'!G67)","v":""},{"$f":"IF('Data Entry'!H67=\"Enter C5#\",\"\",'Data Entry'!H67)","v":""},{"$f":"IF(ISBLANK('Data Entry'!I67),\"\",'Data Entry'!I67)","v":""},{"$f":"IF(ISBLANK('Data Entry'!J67),\"\",'Data Entry'!J67)","v":""},{"$f":"IF(ISBLANK('Data Entry'!K67),\"\",'Data Entry'!K67)","v":""},{"$f":"IF(ISBLANK('Data Entry'!L67),\"\",'Data Entry'!L67)","v":""},{"$f":"IF(ISBLANK('Data Entry'!M67),\"\",'Data Entry'!M67)","v":""},{"$f":"IF(ISBLANK('Data Entry'!N67),\"\",'Data Entry'!N67)","v":""},{"$f":"IF(ISBLANK('Data Entry'!O67),\"\",'Data Entry'!O67)","v":""},{"$f":"IF(ISBLANK('Data Entry'!P67),\"\",'Data Entry'!P67)","v":""},{"$f":"IF(ISBLANK('Data Entry'!Q67),\"\",'Data Entry'!Q67)","v":""},{"$f":"IF(ISBLANK('Data Entry'!R67),\"\",'Data Entry'!R67)","v":""},{"$f":"IF(ISBLANK('Data Entry'!S67),\"\",'Data Entry'!S67)","v":""},{"$f":"IF(ISBLANK('Data Entry'!T67),\"\",'Data Entry'!T67)","v":""},{"$f":"IF(ISBLANK('Data Entry'!U67),\"\",'Data Entry'!U67)","v":""},{"$f":"IF(ISBLANK('Data Entry'!V67),\"\",'Data Entry'!V67)","v":""},{"$f":"IF(ISBLANK('Data Entry'!W67),\"\",'Data Entry'!W67)","v":"2025-26"},{"$f":"IF(ISBLANK('Data Entry'!X67),\"\",'Data Entry'!X67)","v":""},{"$f":"IF(ISBLANK('Data Entry'!Y67),\"\",'Data Entry'!Y67)","v":""}]
[63,"SANCTIONED TOURNAMENTS",{"$f":"IF(ISBLANK('Data Entry'!C68),\"\",'Data Entry'!C68)","v":""},{"$f":"IF('Data Entry'!D68=\"Pick a Zone\",\"\",'Data Entry'!D68)","v":"SANCTIONED EVENT"},{"$f":"IF('Data Entry'!E68=\"pick a tournament\",\"\",'Data Entry'!E68)","v":""},{"$f":"IF('Data Entry'!F68=\"pick a tournament\",\"\",'Data Entry'!F68)","v":""},{"$f":"IF('Data Entry'!G68=\"Enter C5#\",\"\",'Data Entry'!G68)","v":""},{"$f":"IF('Data Entry'!H68=\"Enter C5#\",\"\",'Data Entry'!H68)","v":""},{"$f":"IF(ISBLANK('Data Entry'!I68),\"\",'Data Entry'!I68)","v":""},{"$f":"IF(ISBLANK('Data Entry'!J68),\"\",'Data Entry'!J68)","v":""},{"$f":"IF(ISBLANK('Data Entry'!K68),\"\",'Data Entry'!K68)","v":""},{"$f":"IF(ISBLANK('Data Entry'!L68),\"\",'Data Entry'!L68)","v":""},{"$f":"IF(ISBLANK('Data Entry'!M68),\"\",'Data Entry'!M68)","v":""},{"$f":"IF(ISBLANK('Data Entry'!N68),\"\",'Data Entry'!N68)","v":""},{"$f":"IF(ISBLANK('Data Entry'!O68),\"\",'Data Entry'!O68)","v":""},{"$f":"IF(ISBLANK('Data Entry'!P68),\"\",'Data Entry'!P68)","v":""},{"$f":"IF(ISBLANK('Data Entry'!Q68),\"\",'Data Entry'!Q68)","v":""},{"$f":"IF(ISBLANK('Data Entry'!R68),\"\",'Data Entry'!R68)","v":""},{"$f":"IF(ISBLANK('Data Entry'!S68),\"\",'Data Entry'!S68)","v":""},{"$f":"IF(ISBLANK('Data Entry'!T68),\"\",'Data Entry'!T68)","v":""},{"$f":"IF(ISBLANK('Data Entry'!U68),\"\",'Data Entry'!U68)","v":""},{"$f":"IF(ISBLANK('Data Entry'!V68),\"\",'Data Entry'!V68)","v":""},{"$f":"IF(ISBLANK('Data Entry'!W68),\"\",'Data Entry'!W68)","v":"2025-26"},{"$f":"IF(ISBLANK('Data Entry'!X68),\"\",'Data Entry'!X68)","v":""},{"$f":"IF(ISBLANK('Data Entry'!Y68),\"\",'Data Entry'!Y68)","v":""}]
[64,"SANCTIONED TOURNAMENTS",{"$f":"IF(ISBLANK('Data Entry'!C69),\"\",'Data Entry'!C69)","v":""},{"$f":"IF('Data Entry'!D69=\"Pick a Zone\",\"\",'Data Entry'!D69)","v":"SANCTIONED EVENT"},{"$f":"IF('Data Entry'!E69=\"pick a tournament\",\"\",'Data Entry'!E69)","v":""},{"$f":"IF('Data Entry'!F69=\"pick a tournament\",\"\",'Data Entry'!F69)","v":""},{"$f":"IF('Data Entry'!G69=\"Enter C5#\",\"\",'Data Entry'!G69)","v":""},{"$f":"IF('Data Entry'!H69=\"Enter C5#\",\"\",'Data Entry'!H69)","v":""},{"$f":"IF(ISBLANK('Data Entry'!I69),\"\",'Data Entry'!I69)","v":""},{"$f":"IF(ISBLANK('Data Entry'!J69),\"\",'Data Entry'!J69)","v":""},{"$f":"IF(ISBLANK('Data Entry'!K69),\"\",'Data Entry'!K69)","v":""},{"$f":"IF(ISBLANK('Data Entry'!L69),\"\",'Data Entry'!L69)","v":""},{"$f":"IF(ISBLANK('Data Entry'!M69),\"\",'Data Entry'!M69)","v":""},{"$f":"IF(ISBLANK('Data Entry'!N69),\"\",'Data Entry'!N69)","v":""},{"$f":"IF(ISBLANK('Data Entry'!O69),\"\",'Data Entry'!O69)","v":""},{"$f":"IF(ISBLANK('Data Entry'!P69),\"\",'Data Entry'!P69)","v":""},{"$f":"IF(ISBLANK('Data Entry'!Q69),\"\",'Data Entry'!Q69)","v":""},{"$f":"IF(ISBLANK('Data Entry'!R69),\"\",'Data Entry'!R69)","v":""},{"$f":"IF(ISBLANK('Data Entry'!S69),\"\",'Data Entry'!S69)","v":""},{"$f":"IF(ISBLANK('Data Entry'!T69),\"\",'Data Entry'!T69)","v":""},{"$f":"IF(ISBLANK('Data Entry'!U69),\"\",'Data Entry'!U69)","v":""},{"$f":"IF(ISBLANK('Data Entry'!V69),\"\",'Data Entry'!V69)","v":""},{"$f":"IF(ISBLANK('Data Entry'!W69),\"\",'Data Entry'!W69)","v":"2025-26"},{"$f":"IF(ISBLANK('Data Entry'!X69),\"\",'Data Entry'!X69)","v":""},{"$f":"IF(ISBLANK('Data Entry'!Y69),\"\",'Data Entry'!Y69)","v":""}]
[65,"SANCTIONED TOURNAMENTS",{"$f":"IF(ISBLANK('Data Entry'!C70),\"\",'Data Entry'!C70)","v":""},{"$f":"IF('Data Entry'!D70=\"Pick a Zone\",\"\",'Data Entry'!D70)","v":"SANCTIONED EVENT"},{"$f":"IF('Data Entry'!E70=\"pick a tournament\",\"\",'Data Entry'!E70)","v":""},{"$f":"IF('Data Entry'!F70=\"pick a tournament\",\"\",'Data Entry'!F70)","v":""},{"$f":"IF('Data Entry'!G70=\"Enter C5#\",\"\",'Data Entry'!G70)","v":""},{"$f":"IF('Data Entry'!H70=\"Enter C5#\",\"\",'Data Entry'!H70)","v":""},{"$f":"IF(ISBLANK('Data Entry'!I70),\"\",'Data Entry'!I70)","v":""},{"$f":"IF(ISBLANK('Data Entry'!J70),\"\",'Data Entry'!J70)","v":""},{"$f":"IF(ISBLANK('Data Entry'!K70),\"\",'Data Entry'!K70)","v":""},{"$f":"IF(ISBLANK('Data Entry'!L70),\"\",'Data Entry'!L70)","v":""},{"$f":"IF(ISBLANK('Data Entry'!M70),\"\",'Data Entry'!M70)","v":""},{"$f":"IF(ISBLANK('Data Entry'!N70),\"\",'Data Entry'!N70)","v":""},{"$f":"IF(ISBLANK('Data Entry'!O70),\"\",'Data Entry'!O70)","v":""},{"$f":"IF(ISBLANK('Data Entry'!P70),\"\",'Data Entry'!P70)","v":""},{"$f":"IF(ISBLANK('Data Entry'!Q70),\"\",'Data Entry'!Q70)","v":""},{"$f":"IF(ISBLANK('Data Entry'!R70),\"\",'Data Entry'!R70)","v":""},{"$f":"IF(ISBLANK('Data Entry'!S70),\"\",'Data Entry'!S70)","v":""},{"$f":"IF(ISBLANK('Data Entry'!T70),\"\",'Data Entry'!T70)","v":""},{"$f":"IF(ISBLANK('Data Entry'!U70),\"\",'Data Entry'!U70)","v":""},{"$f":"IF(ISBLANK('Data Entry'!V70),\"\",'Data Entry'!V70)","v":""},{"$f":"IF(ISBLANK('Data Entry'!W70),\"\",'Data Entry'!W70)","v":"2025-26"},{"$f":"IF(ISBLANK('Data Entry'!X70),\"\",'Data Entry'!X70)","v":""},{"$f":"IF(ISBLANK('Data Entry'!Y70),\"\",'Data Entry'!Y70)","v":""}]
[66,"SANCTIONED TOURNAMENTS",{"$f":"IF(ISBLANK('Data Entry'!C71),\"\",'Data Entry'!C71)","v":""},{"$f":"IF('Data Entry'!D71=\"Pick a Zone\",\"\",'Data Entry'!D71)","v":"SANCTIONED EVENT"},{"$f":"IF('Data Entry'!E71=\"pick a tournament\",\"\",'Data Entry'!E71)","v":""},{"$f":"IF('Data Entry'!F71=\"pick a tournament\",\"\",'Data Entry'!F71)","v":""},{"$f":"IF('Data Entry'!G71=\"Enter C5#\",\"\",'Data Entry'!G71)","v":""},{"$f":"IF('Data Entry'!H71=\"Enter C5#\",\"\",'Data Entry'!H71)","v":""},{"$f":"IF(ISBLANK('Data Entry'!I71),\"\",'Data Entry'!I71)","v":""},{"$f":"IF(ISBLANK('Data Entry'!J71),\"\",'Data Entry'!J71)","v":""},{"$f":"IF(ISBLANK('Data Entry'!K71),\"\",'Data Entry'!K71)","v":""},{"$f":"IF(ISBLANK('Data Entry'!L71),\"\",'Data Entry'!L71)","v":""},{"$f":"IF(ISBLANK('Data Entry'!M71),\"\",'Data Entry'!M71)","v":""},{"$f":"IF(ISBLANK('Data Entry'!N71),\"\",'Data Entry'!N71)","v":""},{"$f":"IF(ISBLANK('Data Entry'!O71),\"\",'Data Entry'!O71)","v":""},{"$f":"IF(ISBLANK('Data Entry'!P71),\"\",'Data Entry'!P71)","v":""},{"$f":"IF(ISBLANK('Data Entry'!Q71),\"\",'Data Entry'!Q71)","v":""},{"$f":"IF(ISBLANK('Data Entry'!R71),\"\",'Data Entry'!R71)","v":""},{"$f":"IF(ISBLANK('Data Entry'!S71),\"\",'Data Entry'!S71)","v":""},{"$f":"IF(ISBLANK('Data Entry'!T71),\"\",'Data Entry'!T71)","v":""},{"$f":"IF(ISBLANK('Data Entry'!U71),\"\",'Data Entry'!U71)","v":""},{"$f":"IF(ISBLANK('Data Entry'!V71),\"\",'Data Entry'!V71)","v":""},{"$f":"IF(ISBLANK('Data Entry'!W71),\"\",'Data Entry'!W71)","v":"2025-26"},{"$f":"IF(ISBLANK('Data Entry'!X71),\"\",'Data Entry'!X71)","v":""},{"$f":"IF(ISBLANK('Data Entry'!Y71),\"\",'Data Entry'!Y71)","v":""}]
[67,"SANCTIONED TOURNAMENTS",{"$f":"IF(ISBLANK('Data Entry'!C72),\"\",'Data Entry'!C72)","v":""},{"$f":"IF('Data Entry'!D72=\"Pick a Zone\",\"\",'Data Entry'!D72)","v":"SANCTIONED EVENT"},{"$f":"IF('Data Entry'!E72=\"pick a tournament\",\"\",'Data Entry'!E72)","v":""},{"$f":"IF('Data Entry'!F72=\"pick a tournament\",\"\",'Data Entry'!F72)","v":""},{"$f":"IF('Data Entry'!G72=\"Enter C5#\",\"\",'Data Entry'!G72)","v":""},{"$f":"IF('Data Entry'!H72=\"Enter C5#\",\"\",'Data Entry'!H72)","v":""},{"$f":"IF(ISBLANK('Data Entry'!I72),\"\",'Data Entry'!I72)","v":""},{"$f":"IF(ISBLANK('Data Entry'!J72),\"\",'Data Entry'!J72)","v":""},{"$f":"IF(ISBLANK('Data Entry'!K72),\"\",'Data Entry'!K72)","v":""},{"$f":"IF(ISBLANK('Data Entry'!L72),\"\",'Data Entry'!L72)","v":""},{"$f":"IF(ISBLANK('Data Entry'!M72),\"\",'Data Entry'!M72)","v":""},{"$f":"IF(ISBLANK('Data Entry'!N72),\"\",'Data Entry'!N72)","v":""},{"$f":"IF(ISBLANK('Data Entry'!O72),\"\",'Data Entry'!O72)","v":""},{"$f":"IF(ISBLANK('Data Entry'!P72),\"\",'Data Entry'!P72)","v":""},{"$f":"IF(ISBLANK('Data Entry'!Q72),\"\",'Data Entry'!Q72)","v":""},{"$f":"IF(ISBLANK('Data Entry'!R72),\"\",'Data Entry'!R72)","v":""},{"$f":"IF(ISBLANK('Data Entry'!S72),\"\",'Data Entry'!S72)","v":""},{"$f":"IF(ISBLANK('Data Entry'!T72),\"\",'Data Entry'!T72)","v":""},{"$f":"IF(ISBLANK('Data Entry'!U72),\"\",'Data Entry'!U72)","v":""},{"$f":"IF(ISBLANK('Data Entry'!V72),\"\",'Data Entry'!V72)","v":""},{"$f":"IF(ISBLANK('Data Entry'!W72),\"\",'Data Entry'!W72)","v":"2025-26"},{"$f":"IF(ISBLANK('Data Entry'!X72),\"\",'Data Entry'!X72)","v":""},{"$f":"IF(ISBLANK('Data Entry'!Y72),\"\",'Data Entry'!Y72)","v":""}]
[68,"SANCTIONED TOURNAMENTS",{"$f":"IF(ISBLANK('Data Entry'!C73),\"\",'Data Entry'!C73)","v":""},{"$f":"IF('Data Entry'!D73=\"Pick a Zone\",\"\",'Data Entry'!D73)","v":"SANCTIONED EVENT"},{"$f":"IF('Data Entry'!E73=\"pick a tournament\",\"\",'Data Entry'!E73)","v":""},{"$f":"IF('Data Entry'!F73=\"pick a tournament\",\"\",'Data Entry'!F73)","v":""},{"$f":"IF('Data Entry'!G73=\"Enter C5#\",\"\",'Data Entry'!G73)","v":""},{"$f":"IF('Data Entry'!H73=\"Enter C5#\",\"\",'Data Entry'!H73)","v":""},{"$f":"IF(ISBLANK('Data Entry'!I73),\"\",'Data Entry'!I73)","v":""},{"$f":"IF(ISBLANK('Data Entry'!J73),\"\",'Data Entry'!J73)","v":""},{"$f":"IF(ISBLANK('Data Entry'!K73),\"\",'Data Entry'!K73)","v":""},{"$f":"IF(ISBLANK('Data Entry'!L73),\"\",'Data Entry'!L73)","v":""},{"$f":"IF(ISBLANK('Data Entry'!M73),\"\",'Data Entry'!M73)","v":""},{"$f":"IF(ISBLANK('Data Entry'!N73),\"\",'Data Entry'!N73)","v":""},{"$f":"IF(ISBLANK('Data Entry'!O73),\"\",'Data Entry'!O73)","v":""},{"$f":"IF(ISBLANK('Data Entry'!P73),\"\",'Data Entry'!P73)","v":""},{"$f":"IF(ISBLANK('Data Entry'!Q73),\"\",'Data Entry'!Q73)","v":""},{"$f":"IF(ISBLANK('Data Entry'!R73),\"\",'Data Entry'!R73)","v":""},{"$f":"IF(ISBLANK('Data Entry'!S73),\"\",'Data Entry'!S73)","v":""},{"$f":"IF(ISBLANK('Data Entry'!T73),\"\",'Data Entry'!T73)","v":""},{"$f":"IF(ISBLANK('Data Entry'!U73),\"\",'Data Entry'!U73)","v":""},{"$f":"IF(ISBLANK('Data Entry'!V73),\"\",'Data Entry'!V73)","v":""},{"$f":"IF(ISBLANK('Data Entry'!W73),\"\",'Data Entry'!W73)","v":"2025-26"},{"$f":"IF(ISBLANK('Data Entry'!X73),\"\",'Data Entry'!X73)","v":""},{"$f":"IF(ISBLANK('Data Entry'!Y73),\"\",'Data Entry'!Y73)","v":""}]
[69,"SANCTIONED TOURNAMENTS",{"$f":"IF(ISBLANK('Data Entry'!C74),\"\",'Data Entry'!C74)","v":""},{"$f":"IF('Data Entry'!D74=\"Pick a Zone\",\"\",'Data Entry'!D74)","v":"SANCTIONED EVENT"},{"$f":"IF('Data Entry'!E74=\"pick a tournament\",\"\",'Data Entry'!E74)","v":""},{"$f":"IF('Data Entry'!F74=\"pick a tournament\",\"\",'Data Entry'!F74)","v":""},{"$f":"IF('Data Entry'!G74=\"Enter C5#\",\"\",'Data Entry'!G74)","v":""},{"$f":"IF('Data Entry'!H74=\"Enter C5#\",\"\",'Data Entry'!H74)","v":""},{"$f":"IF(ISBLANK('Data Entry'!I74),\"\",'Data Entry'!I74)","v":""},{"$f":"IF(ISBLANK('Data Entry'!J74),\"\",'Data Entry'!J74)","v":""},{"$f":"IF(ISBLANK('Data Entry'!K74),\"\",'Data Entry'!K74)","v":""},{"$f":"IF(ISBLANK('Data Entry'!L74),\"\",'Data Entry'!L74)","v":""},{"$f":"IF(ISBLANK('Data Entry'!M74),\"\",'Data Entry'!M74)","v":""},{"$f":"IF(ISBLANK('Data Entry'!N74),\"\",'Data Entry'!N74)","v":""},{"$f":"IF(ISBLANK('Data Entry'!O74),\"\",'Data Entry'!O74)","v":""},{"$f":"IF(ISBLANK('Data Entry'!P74),\"\",'Data Entry'!P74)","v":""},{"$f":"IF(ISBLANK('Data Entry'!Q74),\"\",'Data Entry'!Q74)","v":""},{"$f":"IF(ISBLANK('Data Entry'!R74),\"\",'Data Entry'!R74)","v":""},{"$f":"IF(ISBLANK('Data Entry'!S74),\"\",'Data Entry'!S74)","v":""},{"$f":"IF(ISBLANK('Data Entry'!T74),\"\",'Data Entry'!T74)","v":""},{"$f":"IF(ISBLANK('Data Entry'!U74),\"\",'Data Entry'!U74)","v":""},{"$f":"IF(ISBLANK('Data Entry'!V74),\"\",'Data Entry'!V74)","v":""},{"$f":"IF(ISBLANK('Data Entry'!W74),\"\",'Data Entry'!W74)","v":"2025-26"},{"$f":"IF(ISBLANK('Data Entry'!X74),\"\",'Data Entry'!X74)","v":""},{"$f":"IF(ISBLANK('Data Entry'!Y74),\"\",'Data Entry'!Y74)","v":""}]
[70,"SANCTIONED TOURNAMENTS",{"$f":"IF(ISBLANK('Data Entry'!C75),\"\",'Data Entry'!C75)","v":""},{"$f":"IF('Data Entry'!D75=\"Pick a Zone\",\"\",'Data Entry'!D75)","v":"SANCTIONED EVENT"},{"$f":"IF('Data Entry'!E75=\"pick a tournament\",\"\",'Data Entry'!E75)","v":""},{"$f":"IF('Data Entry'!F75=\"pick a tournament\",\"\",'Data Entry'!F75)","v":""},{"$f":"IF('Data Entry'!G75=\"Enter C5#\",\"\",'Data Entry'!G75)","v":""},{"$f":"IF('Data Entry'!H75=\"Enter C5#\",\"\",'Data Entry'!H75)","v":""},{"$f":"IF(ISBLANK('Data Entry'!I75),\"\",'Data Entry'!I75)","v":""},{"$f":"IF(ISBLANK('Data Entry'!J75),\"\",'Data Entry'!J75)","v":""},{"$f":"IF(ISBLANK('Data Entry'!K75),\"\",'Data Entry'!K75)","v":""},{"$f":"IF(ISBLANK('Data Entry'!L75),\"\",'Data Entry'!L75)","v":""},{"$f":"IF(ISBLANK('Data Entry'!M75),\"\",'Data Entry'!M75)","v":""},{"$f":"IF(ISBLANK('Data Entry'!N75),\"\",'Data Entry'!N75)","v":""},{"$f":"IF(ISBLANK('Data Entry'!O75),\"\",'Data Entry'!O75)","v":""},{"$f":"IF(ISBLANK('Data Entry'!P75),\"\",'Data Entry'!P75)","v":""},{"$f":"IF(ISBLANK('Data Entry'!Q75),\"\",'Data Entry'!Q75)","v":""},{"$f":"IF(ISBLANK('Data Entry'!R75),\"\",'Data Entry'!R75)","v":""},{"$f":"IF(ISBLANK('Data Entry'!S75),\"\",'Data Entry'!S75)","v":""},{"$f":"IF(ISBLANK('Data Entry'!T75),\"\",'Data Entry'!T75)","v":""},{"$f":"IF(ISBLANK('Data Entry'!U75),\"\",'Data Entry'!U75)","v":""},{"$f":"IF(ISBLANK('Data Entry'!V75),\"\",'Data Entry'!V75)","v":""},{"$f":"IF(ISBLANK('Data Entry'!W75),\"\",'Data Entry'!W75)","v":"2025-26"},{"$f":"IF(ISBLANK('Data Entry'!X75),\"\",'Data Entry'!X75)","v":""},{"$f":"IF(ISBLANK('Data Entry'!Y75),\"\",'Data Entry'!Y75)","v":""}]
[71,"SANCTIONED TOURNAMENTS",{"$f":"IF(ISBLANK('Data Entry'!C76),\"\",'Data Entry'!C76)","v":""},{"$f":"IF('Data Entry'!D76=\"Pick a Zone\",\"\",'Data Entry'!D76)","v":"SANCTIONED EVENT"},{"$f":"IF('Data Entry'!E76=\"pick a tournament\",\"\",'Data Entry'!E76)","v":""},{"$f":"IF('Data Entry'!F76=\"pick a tournament\",\"\",'Data Entry'!F76)","v":""},{"$f":"IF('Data Entry'!G76=\"Enter C5#\",\"\",'Data Entry'!G76)","v":""},{"$f":"IF('Data Entry'!H76=\"Enter C5#\",\"\",'Data Entry'!H76)","v":""},{"$f":"IF(ISBLANK('Data Entry'!I76),\"\",'Data Entry'!I76)","v":""},{"$f":"IF(ISBLANK('Data Entry'!J76),\"\",'Data Entry'!J76)","v":""},{"$f":"IF(ISBLANK('Data Entry'!K76),\"\",'Data Entry'!K76)","v":""},{"$f":"IF(ISBLANK('Data Entry'!L76),\"\",'Data Entry'!L76)","v":""},{"$f":"IF(ISBLANK('Data Entry'!M76),\"\",'Data Entry'!M76)","v":""},{"$f":"IF(ISBLANK('Data Entry'!N76),\"\",'Data Entry'!N76)","v":""},{"$f":"IF(ISBLANK('Data Entry'!O76),\"\",'Data Entry'!O76)","v":""},{"$f":"IF(ISBLANK('Data Entry'!P76),\"\",'Data Entry'!P76)","v":""},{"$f":"IF(ISBLANK('Data Entry'!Q76),\"\",'Data Entry'!Q76)","v":""},{"$f":"IF(ISBLANK('Data Entry'!R76),\"\",'Data Entry'!R76)","v":""},{"$f":"IF(ISBLANK('Data Entry'!S76),\"\",'Data Entry'!S76)","v":""},{"$f":"IF(ISBLANK('Data Entry'!T76),\"\",'Data Entry'!T76)","v":""},{"$f":"IF(ISBLANK('Data Entry'!U76),\"\",'Data Entry'!U76)","v":""},{"$f":"IF(ISBLANK('Data Entry'!V76),\"\",'Data Entry'!V76)","v":""},{"$f":"IF(ISBLANK('Data Entry'!W76),\"\",'Data Entry'!W76)","v":"2025-26"},{"$f":"IF(ISBLANK('Data Entry'!X76),\"\",'Data Entry'!X76)","v":""},{"$f":"IF(ISBLANK('Data Entry'!Y76),\"\",'Data Entry'!Y76)","v":""}]
[72,"SANCTIONED TOURNAMENTS",{"$f":"IF(ISBLANK('Data Entry'!C77),\"\",'Data Entry'!C77)","v":""},{"$f":"IF('Data Entry'!D77=\"Pick a Zone\",\"\",'Data Entry'!D77)","v":"SANCTIONED EVENT"},{"$f":"IF('Data Entry'!E77=\"pick a tournament\",\"\",'Data Entry'!E77)","v":""},{"$f":"IF('Data Entry'!F77=\"pick a tournament\",\"\",'Data Entry'!F77)","v":""},{"$f":"IF('Data Entry'!G77=\"Enter C5#\",\"\",'Data Entry'!G77)","v":""},{"$f":"IF('Data Entry'!H77=\"Enter C5#\",\"\",'Data Entry'!H77)","v":""},{"$f":"IF(ISBLANK('Data Entry'!I77),\"\",'Data Entry'!I77)","v":""},{"$f":"IF(ISBLANK('Data Entry'!J77),\"\",'Data Entry'!J77)","v":""},{"$f":"IF(ISBLANK('Data Entry'!K77),\"\",'Data Entry'!K77)","v":""},{"$f":"IF(ISBLANK('Data Entry'!L77),\"\",'Data Entry'!L77)","v":""},{"$f":"IF(ISBLANK('Data Entry'!M77),\"\",'Data Entry'!M77)","v":""},{"$f":"IF(ISBLANK('Data Entry'!N77),\"\",'Data Entry'!N77)","v":""},{"$f":"IF(ISBLANK('Data Entry'!O77),\"\",'Data Entry'!O77)","v":""},{"$f":"IF(ISBLANK('Data Entry'!P77),\"\",'Data Entry'!P77)","v":""},{"$f":"IF(ISBLANK('Data Entry'!Q77),\"\",'Data Entry'!Q77)","v":""},{"$f":"IF(ISBLANK('Data Entry'!R77),\"\",'Data Entry'!R77)","v":""},{"$f":"IF(ISBLANK('Data Entry'!S77),\"\",'Data Entry'!S77)","v":""},{"$f":"IF(ISBLANK('Data Entry'!T77),\"\",'Data Entry'!T77)","v":""},{"$f":"IF(ISBLANK('Data Entry'!U77),\"\",'Data Entry'!U77)","v":""},{"$f":"IF(ISBLANK('Data Entry'!V77),\"\",'Data Entry'!V77)","v":""},{"$f":"IF(ISBLANK('Data Entry'!W77),\"\",'Data Entry'!W77)","v":"2025-26"},{"$f":"IF(ISBLANK('Data Entry'!X77),\"\",'Data Entry'!X77)","v":""},{"$f":"IF(ISBLANK('Data Entry'!Y77),\"\",'Data Entry'!Y77)","v":""}]
[73,"SANCTIONED TOURNAMENTS",{"$f":"IF(ISBLANK('Data Entry'!C78),\"\",'Data Entry'!C78)","v":""},{"$f":"IF('Data Entry'!D78=\"Pick a Zone\",\"\",'Data Entry'!D78)","v":"SANCTIONED EVENT"},{"$f":"IF('Data Entry'!E78=\"pick a tournament\",\"\",'Data Entry'!E78)","v":""},{"$f":"IF('Data Entry'!F78=\"pick a tournament\",\"\",'Data Entry'!F78)","v":""},{"$f":"IF('Data Entry'!G78=\"Enter C5#\",\"\",'Data Entry'!G78)","v":""},{"$f":"IF('Data Entry'!H78=\"Enter C5#\",\"\",'Data Entry'!H78)","v":""},{"$f":"IF(ISBLANK('Data Entry'!I78),\"\",'Data Entry'!I78)","v":""},{"$f":"IF(ISBLANK('Data Entry'!J78),\"\",'Data Entry'!J78)","v":""},{"$f":"IF(ISBLANK('Data Entry'!K78),\"\",'Data Entry'!K78)","v":""},{"$f":"IF(ISBLANK('Data Entry'!L78),\"\",'Data Entry'!L78)","v":""},{"$f":"IF(ISBLANK('Data Entry'!M78),\"\",'Data Entry'!M78)","v":""},{"$f":"IF(ISBLANK('Data Entry'!N78),\"\",'Data Entry'!N78)","v":""},{"$f":"IF(ISBLANK('Data Entry'!O78),\"\",'Data Entry'!O78)","v":""},{"$f":"IF(ISBLANK('Data Entry'!P78),\"\",'Data Entry'!P78)","v":""},{"$f":"IF(ISBLANK('Data Entry'!Q78),\"\",'Data Entry'!Q78)","v":""},{"$f":"IF(ISBLANK('Data Entry'!R78),\"\",'Data Entry'!R78)","v":""},{"$f":"IF(ISBLANK('Data Entry'!S78),\"\",'Data Entry'!S78)","v":""},{"$f":"IF(ISBLANK('Data Entry'!T78),\"\",'Data Entry'!T78)","v":""},{"$f":"IF(ISBLANK('Data Entry'!U78),\"\",'Data Entry'!U78)","v":""},{"$f":"IF(ISBLANK('Data Entry'!V78),\"\",'Data Entry'!V78)","v":""},{"$f":"IF(ISBLANK('Data Entry'!W78),\"\",'Data Entry'!W78)","v":"2025-26"},{"$f":"IF(ISBLANK('Data Entry'!X78),\"\",'Data Entry'!X78)","v":""},{"$f":"IF(ISBLANK('Data Entry'!Y78),\"\",'Data Entry'!Y78)","v":""}]
[74,"SANCTIONED TOURNAMENTS",{"$f":"IF(ISBLANK('Data Entry'!C79),\"\",'Data Entry'!C79)","v":""},{"$f":"IF('Data Entry'!D79=\"Pick a Zone\",\"\",'Data Entry'!D79)","v":"SANCTIONED EVENT"},{"$f":"IF('Data Entry'!E79=\"pick a tournament\",\"\",'Data Entry'!E79)","v":""},{"$f":"IF('Data Entry'!F79=\"pick a tournament\",\"\",'Data Entry'!F79)","v":""},{"$f":"IF('Data Entry'!G79=\"Enter C5#\",\"\",'Data Entry'!G79)","v":""},{"$f":"IF('Data Entry'!H79=\"Enter C5#\",\"\",'Data Entry'!H79)","v":""},{"$f":"IF(ISBLANK('Data Entry'!I79),\"\",'Data Entry'!I79)","v":""},{"$f":"IF(ISBLANK('Data Entry'!J79),\"\",'Data Entry'!J79)","v":""},{"$f":"IF(ISBLANK('Data Entry'!K79),\"\",'Data Entry'!K79)","v":""},{"$f":"IF(ISBLANK('Data Entry'!L79),\"\",'Data Entry'!L79)","v":""},{"$f":"IF(ISBLANK('Data Entry'!M79),\"\",'Data Entry'!M79)","v":""},{"$f":"IF(ISBLANK('Data Entry'!N79),\"\",'Data Entry'!N79)","v":""},{"$f":"IF(ISBLANK('Data Entry'!O79),\"\",'Data Entry'!O79)","v":""},{"$f":"IF(ISBLANK('Data Entry'!P79),\"\",'Data Entry'!P79)","v":""},{"$f":"IF(ISBLANK('Data Entry'!Q79),\"\",'Data Entry'!Q79)","v":""},{"$f":"IF(ISBLANK('Data Entry'!R79),\"\",'Data Entry'!R79)","v":""},{"$f":"IF(ISBLANK('Data Entry'!S79),\"\",'Data Entry'!S79)","v":""},{"$f":"IF(ISBLANK('Data Entry'!T79),\"\",'Data Entry'!T79)","v":""},{"$f":"IF(ISBLANK('Data Entry'!U79),\"\",'Data Entry'!U79)","v":""},{"$f":"IF(ISBLANK('Data Entry'!V79),\"\",'Data Entry'!V79)","v":""},{"$f":"IF(ISBLANK('Data Entry'!W79),\"\",'Data Entry'!W79)","v":"2025-26"},{"$f":"IF(ISBLANK('Data Entry'!X79),\"\",'Data Entry'!X79)","v":""},{"$f":"IF(ISBLANK('Data Entry'!Y79),\"\",'Data Entry'!Y79)","v":""}]
[75,"SANCTIONED TOURNAMENTS",{"$f":"IF(ISBLANK('Data Entry'!C80),\"\",'Data Entry'!C80)","v":""},{"$f":"IF('Data Entry'!D80=\"Pick a Zone\",\"\",'Data Entry'!D80)","v":"SANCTIONED EVENT"},{"$f":"IF('Data Entry'!E80=\"pick a tournament\",\"\",'Data Entry'!E80)","v":""},{"$f":"IF('Data Entry'!F80=\"pick a tournament\",\"\",'Data Entry'!F80)","v":""},{"$f":"IF('Data Entry'!G80=\"Enter C5#\",\"\",'Data Entry'!G80)","v":""},{"$f":"IF('Data Entry'!H80=\"Enter C5#\",\"\",'Data Entry'!H80)","v":""},{"$f":"IF(ISBLANK('Data Entry'!I80),\"\",'Data Entry'!I80)","v":""},{"$f":"IF(ISBLANK('Data Entry'!J80),\"\",'Data Entry'!J80)","v":""},{"$f":"IF(ISBLANK('Data Entry'!K80),\"\",'Data Entry'!K80)","v":""},{"$f":"IF(ISBLANK('Data Entry'!L80),\"\",'Data Entry'!L80)","v":""},{"$f":"IF(ISBLANK('Data Entry'!M80),\"\",'Data Entry'!M80)","v":""},{"$f":"IF(ISBLANK('Data Entry'!N80),\"\",'Data Entry'!N80)","v":""},{"$f":"IF(ISBLANK('Data Entry'!O80),\"\",'Data Entry'!O80)","v":""},{"$f":"IF(ISBLANK('Data Entry'!P80),\"\",'Data Entry'!P80)","v":""},{"$f":"IF(ISBLANK('Data Entry'!Q80),\"\",'Data Entry'!Q80)","v":""},{"$f":"IF(ISBLANK('Data Entry'!R80),\"\",'Data Entry'!R80)","v":""},{"$f":"IF(ISBLANK('Data Entry'!S80),\"\",'Data Entry'!S80)","v":""},{"$f":"IF(ISBLANK('Data Entry'!T80),\"\",'Data Entry'!T80)","v":""},{"$f":"IF(ISBLANK('Data Entry'!U80),\"\",'Data Entry'!U80)","v":""},{"$f":"IF(ISBLANK('Data Entry'!V80),\"\",'Data Entry'!V80)","v":""},{"$f":"IF(ISBLANK('Data Entry'!W80),\"\",'Data Entry'!W80)","v":"2025-26"},{"$f":"IF(ISBLANK('Data Entry'!X80),\"\",'Data Entry'!X80)","v":""},{"$f":"IF(ISBLANK('Data Entry'!Y80),\"\",'Data Entry'!Y80)","v":""}]
[76,"SANCTIONED TOURNAMENTS",{"$f":"IF(ISBLANK('Data Entry'!C81),\"\",'Data Entry'!C81)","v":""},{"$f":"IF('Data Entry'!D81=\"Pick a Zone\",\"\",'Data Entry'!D81)","v":"SANCTIONED EVENT"},{"$f":"IF('Data Entry'!E81=\"pick a tournament\",\"\",'Data Entry'!E81)","v":""},{"$f":"IF('Data Entry'!F81=\"pick a tournament\",\"\",'Data Entry'!F81)","v":""},{"$f":"IF('Data Entry'!G81=\"Enter C5#\",\"\",'Data Entry'!G81)","v":""},{"$f":"IF('Data Entry'!H81=\"Enter C5#\",\"\",'Data Entry'!H81)","v":""},{"$f":"IF(ISBLANK('Data Entry'!I81),\"\",'Data Entry'!I81)","v":""},{"$f":"IF(ISBLANK('Data Entry'!J81),\"\",'Data Entry'!J81)","v":""},{"$f":"IF(ISBLANK('Data Entry'!K81),\"\",'Data Entry'!K81)","v":""},{"$f":"IF(ISBLANK('Data Entry'!L81),\"\",'Data Entry'!L81)","v":""},{"$f":"IF(ISBLANK('Data Entry'!M81),\"\",'Data Entry'!M81)","v":""},{"$f":"IF(ISBLANK('Data Entry'!N81),\"\",'Data Entry'!N81)","v":""},{"$f":"IF(ISBLANK('Data Entry'!O81),\"\",'Data Entry'!O81)","v":""},{"$f":"IF(ISBLANK('Data Entry'!P81),\"\",'Data Entry'!P81)","v":""},{"$f":"IF(ISBLANK('Data Entry'!Q81),\"\",'Data Entry'!Q81)","v":""},{"$f":"IF(ISBLANK('Data Entry'!R81),\"\",'Data Entry'!R81)","v":""},{"$f":"IF(ISBLANK('Data Entry'!S81),\"\",'Data Entry'!S81)","v":""},{"$f":"IF(ISBLANK('Data Entry'!T81),\"\",'Data Entry'!T81)","v":""},{"$f":"IF(ISBLANK('Data Entry'!U81),\"\",'Data Entry'!U81)","v":""},{"$f":"IF(ISBLANK('Data Entry'!V81),\"\",'Data Entry'!V81)","v":""},{"$f":"IF(ISBLANK('Data Entry'!W81),\"\",'Data Entry'!W81)","v":"2025-26"},{"$f":"IF(ISBLANK('Data Entry'!X81),\"\",'Data Entry'!X81)","v":""},{"$f":"IF(ISBLANK('Data Entry'!Y81),\"\",'Data Entry'!Y81)","v":""}]
[77,"SANCTIONED TOURNAMENTS",{"$f":"IF(ISBLANK('Data Entry'!C82),\"\",'Data Entry'!C82)","v":""},{"$f":"IF('Data Entry'!D82=\"Pick a Zone\",\"\",'Data Entry'!D82)","v":"SANCTIONED EVENT"},{"$f":"IF('Data Entry'!E82=\"pick a tournament\",\"\",'Data Entry'!E82)","v":""},{"$f":"IF('Data Entry'!F82=\"pick a tournament\",\"\",'Data Entry'!F82)","v":""},{"$f":"IF('Data Entry'!G82=\"Enter C5#\",\"\",'Data Entry'!G82)","v":""},{"$f":"IF('Data Entry'!H82=\"Enter C5#\",\"\",'Data Entry'!H82)","v":""},{"$f":"IF(ISBLANK('Data Entry'!I82),\"\",'Data Entry'!I82)","v":""},{"$f":"IF(ISBLANK('Data Entry'!J82),\"\",'Data Entry'!J82)","v":""},{"$f":"IF(ISBLANK('Data Entry'!K82),\"\",'Data Entry'!K82)","v":""},{"$f":"IF(ISBLANK('Data Entry'!L82),\"\",'Data Entry'!L82)","v":""},{"$f":"IF(ISBLANK('Data Entry'!M82),\"\",'Data Entry'!M82)","v":""},{"$f":"IF(ISBLANK('Data Entry'!N82),\"\",'Data Entry'!N82)","v":""},{"$f":"IF(ISBLANK('Data Entry'!O82),\"\",'Data Entry'!O82)","v":""},{"$f":"IF(ISBLANK('Data Entry'!P82),\"\",'Data Entry'!P82)","v":""},{"$f":"IF(ISBLANK('Data Entry'!Q82),\"\",'Data Entry'!Q82)","v":""},{"$f":"IF(ISBLANK('Data Entry'!R82),\"\",'Data Entry'!R82)","v":""},{"$f":"IF(ISBLANK('Data Entry'!S82),\"\",'Data Entry'!S82)","v":""},{"$f":"IF(ISBLANK('Data Entry'!T82),\"\",'Data Entry'!T82)","v":""},{"$f":"IF(ISBLANK('Data Entry'!U82),\"\",'Data Entry'!U82)","v":""},{"$f":"IF(ISBLANK('Data Entry'!V82),\"\",'Data Entry'!V82)","v":""},{"$f":"IF(ISBLANK('Data Entry'!W82),\"\",'Data Entry'!W82)","v":"2025-26"},{"$f":"IF(ISBLANK('Data Entry'!X82),\"\",'Data Entry'!X82)","v":""},{"$f":"IF(ISBLANK('Data Entry'!Y82),\"\",'Data Entry'!Y82)","v":""}]
[78,"SANCTIONED TOURNAMENTS",{"$f":"IF(ISBLANK('Data Entry'!C83),\"\",'Data Entry'!C83)","v":""},{"$f":"IF('Data Entry'!D83=\"Pick a Zone\",\"\",'Data Entry'!D83)","v":"SANCTIONED EVENT"},{"$f":"IF('Data Entry'!E83=\"pick a tournament\",\"\",'Data Entry'!E83)","v":""},{"$f":"IF('Data Entry'!F83=\"pick a tournament\",\"\",'Data Entry'!F83)","v":""},{"$f":"IF('Data Entry'!G83=\"Enter C5#\",\"\",'Data Entry'!G83)","v":""},{"$f":"IF('Data Entry'!H83=\"Enter C5#\",\"\",'Data Entry'!H83)","v":""},{"$f":"IF(ISBLANK('Data Entry'!I83),\"\",'Data Entry'!I83)","v":""},{"$f":"IF(ISBLANK('Data Entry'!J83),\"\",'Data Entry'!J83)","v":""},{"$f":"IF(ISBLANK('Data Entry'!K83),\"\",'Data Entry'!K83)","v":""},{"$f":"IF(ISBLANK('Data Entry'!L83),\"\",'Data Entry'!L83)","v":""},{"$f":"IF(ISBLANK('Data Entry'!M83),\"\",'Data Entry'!M83)","v":""},{"$f":"IF(ISBLANK('Data Entry'!N83),\"\",'Data Entry'!N83)","v":""},{"$f":"IF(ISBLANK('Data Entry'!O83),\"\",'Data Entry'!O83)","v":""},{"$f":"IF(ISBLANK('Data Entry'!P83),\"\",'Data Entry'!P83)","v":""},{"$f":"IF(ISBLANK('Data Entry'!Q83),\"\",'Data Entry'!Q83)","v":""},{"$f":"IF(ISBLANK('Data Entry'!R83),\"\",'Data Entry'!R83)","v":""},{"$f":"IF(ISBLANK('Data Entry'!S83),\"\",'Data Entry'!S83)","v":""},{"$f":"IF(ISBLANK('Data Entry'!T83),\"\",'Data Entry'!T83)","v":""},{"$f":"IF(ISBLANK('Data Entry'!U83),\"\",'Data Entry'!U83)","v":""},{"$f":"IF(ISBLANK('Data Entry'!V83),\"\",'Data Entry'!V83)","v":""},{"$f":"IF(ISBLANK('Data Entry'!W83),\"\",'Data Entry'!W83)","v":"2025-26"},{"$f":"IF(ISBLANK('Data Entry'!X83),\"\",'Data Entry'!X83)","v":""},{"$f":"IF(ISBLANK('Data Entry'!Y83),\"\",'Data Entry'!Y83)","v":""}]
[79,"SANCTIONED TOURNAMENTS",{"$f":"IF(ISBLANK('Data Entry'!C84),\"\",'Data Entry'!C84)","v":""},{"$f":"IF('Data Entry'!D84=\"Pick a Zone\",\"\",'Data Entry'!D84)","v":"SANCTIONED EVENT"},{"$f":"IF('Data Entry'!E84=\"pick a tournament\",\"\",'Data Entry'!E84)","v":""},{"$f":"IF('Data Entry'!F84=\"pick a tournament\",\"\",'Data Entry'!F84)","v":""},{"$f":"IF('Data Entry'!G84=\"Enter C5#\",\"\",'Data Entry'!G84)","v":""},{"$f":"IF('Data Entry'!H84=\"Enter C5#\",\"\",'Data Entry'!H84)","v":""},{"$f":"IF(ISBLANK('Data Entry'!I84),\"\",'Data Entry'!I84)","v":""},{"$f":"IF(ISBLANK('Data Entry'!J84),\"\",'Data Entry'!J84)","v":""},{"$f":"IF(ISBLANK('Data Entry'!K84),\"\",'Data Entry'!K84)","v":""},{"$f":"IF(ISBLANK('Data Entry'!L84),\"\",'Data Entry'!L84)","v":""},{"$f":"IF(ISBLANK('Data Entry'!M84),\"\",'Data Entry'!M84)","v":""},{"$f":"IF(ISBLANK('Data Entry'!N84),\"\",'Data Entry'!N84)","v":""},{"$f":"IF(ISBLANK('Data Entry'!O84),\"\",'Data Entry'!O84)","v":""},{"$f":"IF(ISBLANK('Data Entry'!P84),\"\",'Data Entry'!P84)","v":""},{"$f":"IF(ISBLANK('Data Entry'!Q84),\"\",'Data Entry'!Q84)","v":""},{"$f":"IF(ISBLANK('Data Entry'!R84),\"\",'Data Entry'!R84)","v":""},{"$f":"IF(ISBLANK('Data Entry'!S84),\"\",'Data Entry'!S84)","v":""},{"$f":"IF(ISBLANK('Data Entry'!T84),\"\",'Data Entry'!T84)","v":""},{"$f":"IF(ISBLANK('Data Entry'!U84),\"\",'Data Entry'!U84)","v":""},{"$f":"IF(ISBLANK('Data Entry'!V84),\"\",'Data Entry'!V84)","v":""},{"$f":"IF(ISBLANK('Data Entry'!W84),\"\",'Data Entry'!W84)","v":"2025-26"},{"$f":"IF(ISBLANK('Data Entry'!X84),\"\",'Data Entry'!X84)","v":""},{"$f":"IF(ISBLANK('Data Entry'!Y84),\"\",'Data Entry'!Y84)","v":""}]
[80,"SANCTIONED TOURNAMENTS",{"$f":"IF(ISBLANK('Data Entry'!C85),\"\",'Data Entry'!C85)","v":""},{"$f":"IF('Data Entry'!D85=\"Pick a Zone\",\"\",'Data Entry'!D85)","v":"SANCTIONED EVENT"},{"$f":"IF('Data Entry'!E85=\"pick a tournament\",\"\",'Data Entry'!E85)","v":""},{"$f":"IF('Data Entry'!F85=\"pick a tournament\",\"\",'Data Entry'!F85)","v":""},{"$f":"IF('Data Entry'!G85=\"Enter C5#\",\"\",'Data Entry'!G85)","v":""},{"$f":"IF('Data Entry'!H85=\"Enter C5#\",\"\",'Data Entry'!H85)","v":""},{"$f":"IF(ISBLANK('Data Entry'!I85),\"\",'Data Entry'!I85)","v":""},{"$f":"IF(ISBLANK('Data Entry'!J85),\"\",'Data Entry'!J85)","v":""},{"$f":"IF(ISBLANK('Data Entry'!K85),\"\",'Data Entry'!K85)","v":""},{"$f":"IF(ISBLANK('Data Entry'!L85),\"\",'Data Entry'!L85)","v":""},{"$f":"IF(ISBLANK('Data Entry'!M85),\"\",'Data Entry'!M85)","v":""},{"$f":"IF(ISBLANK('Data Entry'!N85),\"\",'Data Entry'!N85)","v":""},{"$f":"IF(ISBLANK('Data Entry'!O85),\"\",'Data Entry'!O85)","v":""},{"$f":"IF(ISBLANK('Data Entry'!P85),\"\",'Data Entry'!P85)","v":""},{"$f":"IF(ISBLANK('Data Entry'!Q85),\"\",'Data Entry'!Q85)","v":""},{"$f":"IF(ISBLANK('Data Entry'!R85),\"\",'Data Entry'!R85)","v":""},{"$f":"IF(ISBLANK('Data Entry'!S85),\"\",'Data Entry'!S85)","v":""},{"$f":"IF(ISBLANK('Data Entry'!T85),\"\",'Data Entry'!T85)","v":""},{"$f":"IF(ISBLANK('Data Entry'!U85),\"\",'Data Entry'!U85)","v":""},{"$f":"IF(ISBLANK('Data Entry'!V85),\"\",'Data Entry'!V85)","v":""},{"$f":"IF(ISBLANK('Data Entry'!W85),\"\",'Data Entry'!W85)","v":"2025-26"},{"$f":"IF(ISBLANK('Data Entry'!X85),\"\",'Data Entry'!X85)","v":""},{"$f":"IF(ISBLANK('Data Entry'!Y85),\"\",'Data Entry'!Y85)","v":""}]
[81,"SANCTIONED TOURNAMENTS",{"$f":"IF(ISBLANK('Data Entry'!C86),\"\",'Data Entry'!C86)","v":""},{"$f":"IF('Data Entry'!D86=\"Pick a Zone\",\"\",'Data Entry'!D86)","v":"SANCTIONED EVENT"},{"$f":"IF('Data Entry'!E86=\"pick a tournament\",\"\",'Data Entry'!E86)","v":""},{"$f":"IF('Data Entry'!F86=\"pick a tournament\",\"\",'Data Entry'!F86)","v":""},{"$f":"IF('Data Entry'!G86=\"Enter C5#\",\"\",'Data Entry'!G86)","v":""},{"$f":"IF('Data Entry'!H86=\"Enter C5#\",\"\",'Data Entry'!H86)","v":""},{"$f":"IF(ISBLANK('Data Entry'!I86),\"\",'Data Entry'!I86)","v":""},{"$f":"IF(ISBLANK('Data Entry'!J86),\"\",'Data Entry'!J86)","v":""},{"$f":"IF(ISBLANK('Data Entry'!K86),\"\",'Data Entry'!K86)","v":""},{"$f":"IF(ISBLANK('Data Entry'!L86),\"\",'Data Entry'!L86)","v":""},{"$f":"IF(ISBLANK('Data Entry'!M86),\"\",'Data Entry'!M86)","v":""},{"$f":"IF(ISBLANK('Data Entry'!N86),\"\",'Data Entry'!N86)","v":""},{"$f":"IF(ISBLANK('Data Entry'!O86),\"\",'Data Entry'!O86)","v":""},{"$f":"IF(ISBLANK('Data Entry'!P86),\"\",'Data Entry'!P86)","v":""},{"$f":"IF(ISBLANK('Data Entry'!Q86),\"\",'Data Entry'!Q86)","v":""},{"$f":"IF(ISBLANK('Data Entry'!R86),\"\",'Data Entry'!R86)","v":""},{"$f":"IF(ISBLANK('Data Entry'!S86),\"\",'Data Entry'!S86)","v":""},{"$f":"IF(ISBLANK('Data Entry'!T86),\"\",'Data Entry'!T86)","v":""},{"$f":"IF(ISBLANK('Data Entry'!U86),\"\",'Data Entry'!U86)","v":""},{"$f":"IF(ISBLANK('Data Entry'!V86),\"\",'Data Entry'!V86)","v":""},{"$f":"IF(ISBLANK('Data Entry'!W86),\"\",'Data Entry'!W86)","v":"2025-26"},{"$f":"IF(ISBLANK('Data Entry'!X86),\"\",'Data Entry'!X86)","v":""},{"$f":"IF(ISBLANK('Data Entry'!Y86),\"\",'Data Entry'!Y86)","v":""}]
[82,"SANCTIONED TOURNAMENTS",{"$f":"IF(ISBLANK('Data Entry'!C87),\"\",'Data Entry'!C87)","v":""},{"$f":"IF('Data Entry'!D87=\"Pick a Zone\",\"\",'Data Entry'!D87)","v":"SANCTIONED EVENT"},{"$f":"IF('Data Entry'!E87=\"pick a tournament\",\"\",'Data Entry'!E87)","v":""},{"$f":"IF('Data Entry'!F87=\"pick a tournament\",\"\",'Data Entry'!F87)","v":""},{"$f":"IF('Data Entry'!G87=\"Enter C5#\",\"\",'Data Entry'!G87)","v":""},{"$f":"IF('Data Entry'!H87=\"Enter C5#\",\"\",'Data Entry'!H87)","v":""},{"$f":"IF(ISBLANK('Data Entry'!I87),\"\",'Data Entry'!I87)","v":""},{"$f":"IF(ISBLANK('Data Entry'!J87),\"\",'Data Entry'!J87)","v":""},{"$f":"IF(ISBLANK('Data Entry'!K87),\"\",'Data Entry'!K87)","v":""},{"$f":"IF(ISBLANK('Data Entry'!L87),\"\",'Data Entry'!L87)","v":""},{"$f":"IF(ISBLANK('Data Entry'!M87),\"\",'Data Entry'!M87)","v":""},{"$f":"IF(ISBLANK('Data Entry'!N87),\"\",'Data Entry'!N87)","v":""},{"$f":"IF(ISBLANK('Data Entry'!O87),\"\",'Data Entry'!O87)","v":""},{"$f":"IF(ISBLANK('Data Entry'!P87),\"\",'Data Entry'!P87)","v":""},{"$f":"IF(ISBLANK('Data Entry'!Q87),\"\",'Data Entry'!Q87)","v":""},{"$f":"IF(ISBLANK('Data Entry'!R87),\"\",'Data Entry'!R87)","v":""},{"$f":"IF(ISBLANK('Data Entry'!S87),\"\",'Data Entry'!S87)","v":""},{"$f":"IF(ISBLANK('Data Entry'!T87),\"\",'Data Entry'!T87)","v":""},{"$f":"IF(ISBLANK('Data Entry'!U87),\"\",'Data Entry'!U87)","v":""},{"$f":"IF(ISBLANK('Data Entry'!V87),\"\",'Data Entry'!V87)","v":""},{"$f":"IF(ISBLANK('Data Entry'!W87),\"\",'Data Entry'!W87)","v":"2025-26"},{"$f":"IF(ISBLANK('Data Entry'!X87),\"\",'Data Entry'!X87)","v":""},{"$f":"IF(ISBLANK('Data Entry'!Y87),\"\",'Data Entry'!Y87)","v":""}]
[83,"SANCTIONED TOURNAMENTS",{"$f":"IF(ISBLANK('Data Entry'!C88),\"\",'Data Entry'!C88)","v":""},{"$f":"IF('Data Entry'!D88=\"Pick a Zone\",\"\",'Data Entry'!D88)","v":"SANCTIONED EVENT"},{"$f":"IF('Data Entry'!E88=\"pick a tournament\",\"\",'Data Entry'!E88)","v":""},{"$f":"IF('Data Entry'!F88=\"pick a tournament\",\"\",'Data Entry'!F88)","v":""},{"$f":"IF('Data Entry'!G88=\"Enter C5#\",\"\",'Data Entry'!G88)","v":""},{"$f":"IF('Data Entry'!H88=\"Enter C5#\",\"\",'Data Entry'!H88)","v":""},{"$f":"IF(ISBLANK('Data Entry'!I88),\"\",'Data Entry'!I88)","v":""},{"$f":"IF(ISBLANK('Data Entry'!J88),\"\",'Data Entry'!J88)","v":""},{"$f":"IF(ISBLANK('Data Entry'!K88),\"\",'Data Entry'!K88)","v":""},{"$f":"IF(ISBLANK('Data Entry'!L88),\"\",'Data Entry'!L88)","v":""},{"$f":"IF(ISBLANK('Data Entry'!M88),\"\",'Data Entry'!M88)","v":""},{"$f":"IF(ISBLANK('Data Entry'!N88),\"\",'Data Entry'!N88)","v":""},{"$f":"IF(ISBLANK('Data Entry'!O88),\"\",'Data Entry'!O88)","v":""},{"$f":"IF(ISBLANK('Data Entry'!P88),\"\",'Data Entry'!P88)","v":""},{"$f":"IF(ISBLANK('Data Entry'!Q88),\"\",'Data Entry'!Q88)","v":""},{"$f":"IF(ISBLANK('Data Entry'!R88),\"\",'Data Entry'!R88)","v":""},{"$f":"IF(ISBLANK('Data Entry'!S88),\"\",'Data Entry'!S88)","v":""},{"$f":"IF(ISBLANK('Data Entry'!T88),\"\",'Data Entry'!T88)","v":""},{"$f":"IF(ISBLANK('Data Entry'!U88),\"\",'Data Entry'!U88)","v":""},{"$f":"IF(ISBLANK('Data Entry'!V88),\"\",'Data Entry'!V88)","v":""},{"$f":"IF(ISBLANK('Data Entry'!W88),\"\",'Data Entry'!W88)","v":"2025-26"},{"$f":"IF(ISBLANK('Data Entry'!X88),\"\",'Data Entry'!X88)","v":""},{"$f":"IF(ISBLANK('Data Entry'!Y88),\"\",'Data Entry'!Y88)","v":""}]
[84,"SANCTIONED TOURNAMENTS",{"$f":"IF(ISBLANK('Data Entry'!C89),\"\",'Data Entry'!C89)","v":""},{"$f":"IF('Data Entry'!D89=\"Pick a Zone\",\"\",'Data Entry'!D89)","v":"SANCTIONED EVENT"},{"$f":"IF('Data Entry'!E89=\"pick a tournament\",\"\",'Data Entry'!E89)","v":""},{"$f":"IF('Data Entry'!F89=\"pick a tournament\",\"\",'Data Entry'!F89)","v":""},{"$f":"IF('Data Entry'!G89=\"Enter C5#\",\"\",'Data Entry'!G89)","v":""},{"$f":"IF('Data Entry'!H89=\"Enter C5#\",\"\",'Data Entry'!H89)","v":""},{"$f":"IF(ISBLANK('Data Entry'!I89),\"\",'Data Entry'!I89)","v":""},{"$f":"IF(ISBLANK('Data Entry'!J89),\"\",'Data Entry'!J89)","v":""},{"$f":"IF(ISBLANK('Data Entry'!K89),\"\",'Data Entry'!K89)","v":""},{"$f":"IF(ISBLANK('Data Entry'!L89),\"\",'Data Entry'!L89)","v":""},{"$f":"IF(ISBLANK('Data Entry'!M89),\"\",'Data Entry'!M89)","v":""},{"$f":"IF(ISBLANK('Data Entry'!N89),\"\",'Data Entry'!N89)","v":""},{"$f":"IF(ISBLANK('Data Entry'!O89),\"\",'Data Entry'!O89)","v":""},{"$f":"IF(ISBLANK('Data Entry'!P89),\"\",'Data Entry'!P89)","v":""},{"$f":"IF(ISBLANK('Data Entry'!Q89),\"\",'Data Entry'!Q89)","v":""},{"$f":"IF(ISBLANK('Data Entry'!R89),\"\",'Data Entry'!R89)","v":""},{"$f":"IF(ISBLANK('Data Entry'!S89),\"\",'Data Entry'!S89)","v":""},{"$f":"IF(ISBLANK('Data Entry'!T89),\"\",'Data Entry'!T89)","v":""},{"$f":"IF(ISBLANK('Data Entry'!U89),\"\",'Data Entry'!U89)","v":""},{"$f":"IF(ISBLANK('Data Entry'!V89),\"\",'Data Entry'!V89)","v":""},{"$f":"IF(ISBLANK('Data Entry'!W89),\"\",'Data Entry'!W89)","v":"2025-26"},{"$f":"IF(ISBLANK('Data Entry'!X89),\"\",'Data Entry'!X89)","v":""},{"$f":"IF(ISBLANK('Data Entry'!Y89),\"\",'Data Entry'!Y89)","v":""}]
[85,"SANCTIONED TOURNAMENTS",{"$f":"IF(ISBLANK('Data Entry'!C90),\"\",'Data Entry'!C90)","v":""},{"$f":"IF('Data Entry'!D90=\"Pick a Zone\",\"\",'Data Entry'!D90)","v":"SANCTIONED EVENT"},{"$f":"IF('Data Entry'!E90=\"pick a tournament\",\"\",'Data Entry'!E90)","v":""},{"$f":"IF('Data Entry'!F90=\"pick a tournament\",\"\",'Data Entry'!F90)","v":""},{"$f":"IF('Data Entry'!G90=\"Enter C5#\",\"\",'Data Entry'!G90)","v":""},{"$f":"IF('Data Entry'!H90=\"Enter C5#\",\"\",'Data Entry'!H90)","v":""},{"$f":"IF(ISBLANK('Data Entry'!I90),\"\",'Data Entry'!I90)","v":""},{"$f":"IF(ISBLANK('Data Entry'!J90),\"\",'Data Entry'!J90)","v":""},{"$f":"IF(ISBLANK('Data Entry'!K90),\"\",'Data Entry'!K90)","v":""},{"$f":"IF(ISBLANK('Data Entry'!L90),\"\",'Data Entry'!L90)","v":""},{"$f":"IF(ISBLANK('Data Entry'!M90),\"\",'Data Entry'!M90)","v":""},{"$f":"IF(ISBLANK('Data Entry'!N90),\"\",'Data Entry'!N90)","v":""},{"$f":"IF(ISBLANK('Data Entry'!O90),\"\",'Data Entry'!O90)","v":""},{"$f":"IF(ISBLANK('Data Entry'!P90),\"\",'Data Entry'!P90)","v":""},{"$f":"IF(ISBLANK('Data Entry'!Q90),\"\",'Data Entry'!Q90)","v":""},{"$f":"IF(ISBLANK('Data Entry'!R90),\"\",'Data Entry'!R90)","v":""},{"$f":"IF(ISBLANK('Data Entry'!S90),\"\",'Data Entry'!S90)","v":""},{"$f":"IF(ISBLANK('Data Entry'!T90),\"\",'Data Entry'!T90)","v":""},{"$f":"IF(ISBLANK('Data Entry'!U90),\"\",'Data Entry'!U90)","v":""},{"$f":"IF(ISBLANK('Data Entry'!V90),\"\",'Data Entry'!V90)","v":""},{"$f":"IF(ISBLANK('Data Entry'!W90),\"\",'Data Entry'!W90)","v":"2025-26"},{"$f":"IF(ISBLANK('Data Entry'!X90),\"\",'Data Entry'!X90)","v":""},{"$f":"IF(ISBLANK('Data Entry'!Y90),\"\",'Data Entry'!Y90)","v":""}]
[86,"SANCTIONED TOURNAMENTS",{"$f":"IF(ISBLANK('Data Entry'!C91),\"\",'Data Entry'!C91)","v":""},{"$f":"IF('Data Entry'!D91=\"Pick a Zone\",\"\",'Data Entry'!D91)","v":"SANCTIONED EVENT"},{"$f":"IF('Data Entry'!E91=\"pick a tournament\",\"\",'Data Entry'!E91)","v":""},{"$f":"IF('Data Entry'!F91=\"pick a tournament\",\"\",'Data Entry'!F91)","v":""},{"$f":"IF('Data Entry'!G91=\"Enter C5#\",\"\",'Data Entry'!G91)","v":""},{"$f":"IF('Data Entry'!H91=\"Enter C5#\",\"\",'Data Entry'!H91)","v":""},{"$f":"IF(ISBLANK('Data Entry'!I91),\"\",'Data Entry'!I91)","v":""},{"$f":"IF(ISBLANK('Data Entry'!J91),\"\",'Data Entry'!J91)","v":""},{"$f":"IF(ISBLANK('Data Entry'!K91),\"\",'Data Entry'!K91)","v":""},{"$f":"IF(ISBLANK('Data Entry'!L91),\"\",'Data Entry'!L91)","v":""},{"$f":"IF(ISBLANK('Data Entry'!M91),\"\",'Data Entry'!M91)","v":""},{"$f":"IF(ISBLANK('Data Entry'!N91),\"\",'Data Entry'!N91)","v":""},{"$f":"IF(ISBLANK('Data Entry'!O91),\"\",'Data Entry'!O91)","v":""},{"$f":"IF(ISBLANK('Data Entry'!P91),\"\",'Data Entry'!P91)","v":""},{"$f":"IF(ISBLANK('Data Entry'!Q91),\"\",'Data Entry'!Q91)","v":""},{"$f":"IF(ISBLANK('Data Entry'!R91),\"\",'Data Entry'!R91)","v":""},{"$f":"IF(ISBLANK('Data Entry'!S91),\"\",'Data Entry'!S91)","v":""},{"$f":"IF(ISBLANK('Data Entry'!T91),\"\",'Data Entry'!T91)","v":""},{"$f":"IF(ISBLANK('Data Entry'!U91),\"\",'Data Entry'!U91)","v":""},{"$f":"IF(ISBLANK('Data Entry'!V91),\"\",'Data Entry'!V91)","v":""},{"$f":"IF(ISBLANK('Data Entry'!W91),\"\",'Data Entry'!W91)","v":"2025-26"},{"$f":"IF(ISBLANK('Data Entry'!X91),\"\",'Data Entry'!X91)","v":""},{"$f":"IF(ISBLANK('Data Entry'!Y91),\"\",'Data Entry'!Y91)","v":""}]
[87,"SANCTIONED TOURNAMENTS",{"$f":"IF(ISBLANK('Data Entry'!C92),\"\",'Data Entry'!C92)","v":""},{"$f":"IF('Data Entry'!D92=\"Pick a Zone\",\"\",'Data Entry'!D92)","v":"SANCTIONED EVENT"},{"$f":"IF('Data Entry'!E92=\"pick a tournament\",\"\",'Data Entry'!E92)","v":""},{"$f":"IF('Data Entry'!F92=\"pick a tournament\",\"\",'Data Entry'!F92)","v":""},{"$f":"IF('Data Entry'!G92=\"Enter C5#\",\"\",'Data Entry'!G92)","v":""},{"$f":"IF('Data Entry'!H92=\"Enter C5#\",\"\",'Data Entry'!H92)","v":""},{"$f":"IF(ISBLANK('Data Entry'!I92),\"\",'Data Entry'!I92)","v":""},{"$f":"IF(ISBLANK('Data Entry'!J92),\"\",'Data Entry'!J92)","v":""},{"$f":"IF(ISBLANK('Data Entry'!K92),\"\",'Data Entry'!K92)","v":""},{"$f":"IF(ISBLANK('Data Entry'!L92),\"\",'Data Entry'!L92)","v":""},{"$f":"IF(ISBLANK('Data Entry'!M92),\"\",'Data Entry'!M92)","v":""},{"$f":"IF(ISBLANK('Data Entry'!N92),\"\",'Data Entry'!N92)","v":""},{"$f":"IF(ISBLANK('Data Entry'!O92),\"\",'Data Entry'!O92)","v":""},{"$f":"IF(ISBLANK('Data Entry'!P92),\"\",'Data Entry'!P92)","v":""},{"$f":"IF(ISBLANK('Data Entry'!Q92),\"\",'Data Entry'!Q92)","v":""},{"$f":"IF(ISBLANK('Data Entry'!R92),\"\",'Data Entry'!R92)","v":""},{"$f":"IF(ISBLANK('Data Entry'!S92),\"\",'Data Entry'!S92)","v":""},{"$f":"IF(ISBLANK('Data Entry'!T92),\"\",'Data Entry'!T92)","v":""},{"$f":"IF(ISBLANK('Data Entry'!U92),\"\",'Data Entry'!U92)","v":""},{"$f":"IF(ISBLANK('Data Entry'!V92),\"\",'Data Entry'!V92)","v":""},{"$f":"IF(ISBLANK('Data Entry'!W92),\"\",'Data Entry'!W92)","v":"2025-26"},{"$f":"IF(ISBLANK('Data Entry'!X92),\"\",'Data Entry'!X92)","v":""},{"$f":"IF(ISBLANK('Data Entry'!Y92),\"\",'Data Entry'!Y92)","v":""}]
[88,"SANCTIONED TOURNAMENTS",{"$f":"IF(ISBLANK('Data Entry'!C93),\"\",'Data Entry'!C93)","v":""},{"$f":"IF('Data Entry'!D93=\"Pick a Zone\",\"\",'Data Entry'!D93)","v":"SANCTIONED EVENT"},{"$f":"IF('Data Entry'!E93=\"pick a tournament\",\"\",'Data Entry'!E93)","v":""},{"$f":"IF('Data Entry'!F93=\"pick a tournament\",\"\",'Data Entry'!F93)","v":""},{"$f":"IF('Data Entry'!G93=\"Enter C5#\",\"\",'Data Entry'!G93)","v":""},{"$f":"IF('Data Entry'!H93=\"Enter C5#\",\"\",'Data Entry'!H93)","v":""},{"$f":"IF(ISBLANK('Data Entry'!I93),\"\",'Data Entry'!I93)","v":""},{"$f":"IF(ISBLANK('Data Entry'!J93),\"\",'Data Entry'!J93)","v":""},{"$f":"IF(ISBLANK('Data Entry'!K93),\"\",'Data Entry'!K93)","v":""},{"$f":"IF(ISBLANK('Data Entry'!L93),\"\",'Data Entry'!L93)","v":""},{"$f":"IF(ISBLANK('Data Entry'!M93),\"\",'Data Entry'!M93)","v":""},{"$f":"IF(ISBLANK('Data Entry'!N93),\"\",'Data Entry'!N93)","v":""},{"$f":"IF(ISBLANK('Data Entry'!O93),\"\",'Data Entry'!O93)","v":""},{"$f":"IF(ISBLANK('Data Entry'!P93),\"\",'Data Entry'!P93)","v":""},{"$f":"IF(ISBLANK('Data Entry'!Q93),\"\",'Data Entry'!Q93)","v":""},{"$f":"IF(ISBLANK('Data Entry'!R93),\"\",'Data Entry'!R93)","v":""},{"$f":"IF(ISBLANK('Data Entry'!S93),\"\",'Data Entry'!S93)","v":""},{"$f":"IF(ISBLANK('Data Entry'!T93),\"\",'Data Entry'!T93)","v":""},{"$f":"IF(ISBLANK('Data Entry'!U93),\"\",'Data Entry'!U93)","v":""},{"$f":"IF(ISBLANK('Data Entry'!V93),\"\",'Data Entry'!V93)","v":""},{"$f":"IF(ISBLANK('Data Entry'!W93),\"\",'Data Entry'!W93)","v":"2025-26"},{"$f":"IF(ISBLANK('Data Entry'!X93),\"\",'Data Entry'!X93)","v":""},{"$f":"IF(ISBLANK('Data Entry'!Y93),\"\",'Data Entry'!Y93)","v":""}]
[89,"SANCTIONED TOURNAMENTS",{"$f":"IF(ISBLANK('Data Entry'!C94),\"\",'Data Entry'!C94)","v":""},{"$f":"IF('Data Entry'!D94=\"Pick a Zone\",\"\",'Data Entry'!D94)","v":"SANCTIONED EVENT"},{"$f":"IF('Data Entry'!E94=\"pick a tournament\",\"\",'Data Entry'!E94)","v":""},{"$f":"IF('Data Entry'!F94=\"pick a tournament\",\"\",'Data Entry'!F94)","v":""},{"$f":"IF('Data Entry'!G94=\"Enter C5#\",\"\",'Data Entry'!G94)","v":""},{"$f":"IF('Data Entry'!H94=\"Enter C5#\",\"\",'Data Entry'!H94)","v":""},{"$f":"IF(ISBLANK('Data Entry'!I94),\"\",'Data Entry'!I94)","v":""},{"$f":"IF(ISBLANK('Data Entry'!J94),\"\",'Data Entry'!J94)","v":""},{"$f":"IF(ISBLANK('Data Entry'!K94),\"\",'Data Entry'!K94)","v":""},{"$f":"IF(ISBLANK('Data Entry'!L94),\"\",'Data Entry'!L94)","v":""},{"$f":"IF(ISBLANK('Data Entry'!M94),\"\",'Data Entry'!M94)","v":""},{"$f":"IF(ISBLANK('Data Entry'!N94),\"\",'Data Entry'!N94)","v":""},{"$f":"IF(ISBLANK('Data Entry'!O94),\"\",'Data Entry'!O94)","v":""},{"$f":"IF(ISBLANK('Data Entry'!P94),\"\",'Data Entry'!P94)","v":""},{"$f":"IF(ISBLANK('Data Entry'!Q94),\"\",'Data Entry'!Q94)","v":""},{"$f":"IF(ISBLANK('Data Entry'!R94),\"\",'Data Entry'!R94)","v":""},{"$f":"IF(ISBLANK('Data Entry'!S94),\"\",'Data Entry'!S94)","v":""},{"$f":"IF(ISBLANK('Data Entry'!T94),\"\",'Data Entry'!T94)","v":""},{"$f":"IF(ISBLANK('Data Entry'!U94),\"\",'Data Entry'!U94)","v":""},{"$f":"IF(ISBLANK('Data Entry'!V94),\"\",'Data Entry'!V94)","v":""},{"$f":"IF(ISBLANK('Data Entry'!W94),\"\",'Data Entry'!W94)","v":"2025-26"},{"$f":"IF(ISBLANK('Data Entry'!X94),\"\",'Data Entry'!X94)","v":""},{"$f":"IF(ISBLANK('Data Entry'!Y94),\"\",'Data Entry'!Y94)","v":""}]
[90,"SANCTIONED TOURNAMENTS",{"$f":"IF(ISBLANK('Data Entry'!C95),\"\",'Data Entry'!C95)","v":""},{"$f":"IF('Data Entry'!D95=\"Pick a Zone\",\"\",'Data Entry'!D95)","v":"SANCTIONED EVENT"},{"$f":"IF('Data Entry'!E95=\"pick a tournament\",\"\",'Data Entry'!E95)","v":""},{"$f":"IF('Data Entry'!F95=\"pick a tournament\",\"\",'Data Entry'!F95)","v":""},{"$f":"IF('Data Entry'!G95=\"Enter C5#\",\"\",'Data Entry'!G95)","v":""},{"$f":"IF('Data Entry'!H95=\"Enter C5#\",\"\",'Data Entry'!H95)","v":""},{"$f":"IF(ISBLANK('Data Entry'!I95),\"\",'Data Entry'!I95)","v":""},{"$f":"IF(ISBLANK('Data Entry'!J95),\"\",'Data Entry'!J95)","v":""},{"$f":"IF(ISBLANK('Data Entry'!K95),\"\",'Data Entry'!K95)","v":""},{"$f":"IF(ISBLANK('Data Entry'!L95),\"\",'Data Entry'!L95)","v":""},{"$f":"IF(ISBLANK('Data Entry'!M95),\"\",'Data Entry'!M95)","v":""},{"$f":"IF(ISBLANK('Data Entry'!N95),\"\",'Data Entry'!N95)","v":""},{"$f":"IF(ISBLANK('Data Entry'!O95),\"\",'Data Entry'!O95)","v":""},{"$f":"IF(ISBLANK('Data Entry'!P95),\"\",'Data Entry'!P95)","v":""},{"$f":"IF(ISBLANK('Data Entry'!Q95),\"\",'Data Entry'!Q95)","v":""},{"$f":"IF(ISBLANK('Data Entry'!R95),\"\",'Data Entry'!R95)","v":""},{"$f":"IF(ISBLANK('Data Entry'!S95),\"\",'Data Entry'!S95)","v":""},{"$f":"IF(ISBLANK('Data Entry'!T95),\"\",'Data Entry'!T95)","v":""},{"$f":"IF(ISBLANK('Data Entry'!U95),\"\",'Data Entry'!U95)","v":""},{"$f":"IF(ISBLANK('Data Entry'!V95),\"\",'Data Entry'!V95)","v":""},{"$f":"IF(ISBLANK('Data Entry'!W95),\"\",'Data Entry'!W95)","v":"2025-26"},{"$f":"IF(ISBLANK('Data Entry'!X95),\"\",'Data Entry'!X95)","v":""},{"$f":"IF(ISBLANK('Data Entry'!Y95),\"\",'Data Entry'!Y95)","v":""}]
[91,"SANCTIONED TOURNAMENTS",{"$f":"IF(ISBLANK('Data Entry'!C96),\"\",'Data Entry'!C96)","v":""},{"$f":"IF('Data Entry'!D96=\"Pick a Zone\",\"\",'Data Entry'!D96)","v":"SANCTIONED EVENT"},{"$f":"IF('Data Entry'!E96=\"pick a tournament\",\"\",'Data Entry'!E96)","v":""},{"$f":"IF('Data Entry'!F96=\"pick a tournament\",\"\",'Data Entry'!F96)","v":""},{"$f":"IF('Data Entry'!G96=\"Enter C5#\",\"\",'Data Entry'!G96)","v":""},{"$f":"IF('Data Entry'!H96=\"Enter C5#\",\"\",'Data Entry'!H96)","v":""},{"$f":"IF(ISBLANK('Data Entry'!I96),\"\",'Data Entry'!I96)","v":""},{"$f":"IF(ISBLANK('Data Entry'!J96),\"\",'Data Entry'!J96)","v":""},{"$f":"IF(ISBLANK('Data Entry'!K96),\"\",'Data Entry'!K96)","v":""},{"$f":"IF(ISBLANK('Data Entry'!L96),\"\",'Data Entry'!L96)","v":""},{"$f":"IF(ISBLANK('Data Entry'!M96),\"\",'Data Entry'!M96)","v":""},{"$f":"IF(ISBLANK('Data Entry'!N96),\"\",'Data Entry'!N96)","v":""},{"$f":"IF(ISBLANK('Data Entry'!O96),\"\",'Data Entry'!O96)","v":""},{"$f":"IF(ISBLANK('Data Entry'!P96),\"\",'Data Entry'!P96)","v":""},{"$f":"IF(ISBLANK('Data Entry'!Q96),\"\",'Data Entry'!Q96)","v":""},{"$f":"IF(ISBLANK('Data Entry'!R96),\"\",'Data Entry'!R96)","v":""},{"$f":"IF(ISBLANK('Data Entry'!S96),\"\",'Data Entry'!S96)","v":""},{"$f":"IF(ISBLANK('Data Entry'!T96),\"\",'Data Entry'!T96)","v":""},{"$f":"IF(ISBLANK('Data Entry'!U96),\"\",'Data Entry'!U96)","v":""},{"$f":"IF(ISBLANK('Data Entry'!V96),\"\",'Data Entry'!V96)","v":""},{"$f":"IF(ISBLANK('Data Entry'!W96),\"\",'Data Entry'!W96)","v":"2025-26"},{"$f":"IF(ISBLANK('Data Entry'!X96),\"\",'Data Entry'!X96)","v":""},{"$f":"IF(ISBLANK('Data Entry'!Y96),\"\",'Data Entry'!Y96)","v":""}]
[92,"SANCTIONED TOURNAMENTS",{"$f":"IF(ISBLANK('Data Entry'!C97),\"\",'Data Entry'!C97)","v":""},{"$f":"IF('Data Entry'!D97=\"Pick a Zone\",\"\",'Data Entry'!D97)","v":"SANCTIONED EVENT"},{"$f":"IF('Data Entry'!E97=\"pick a tournament\",\"\",'Data Entry'!E97)","v":""},{"$f":"IF('Data Entry'!F97=\"pick a tournament\",\"\",'Data Entry'!F97)","v":""},{"$f":"IF('Data Entry'!G97=\"Enter C5#\",\"\",'Data Entry'!G97)","v":""},{"$f":"IF('Data Entry'!H97=\"Enter C5#\",\"\",'Data Entry'!H97)","v":""},{"$f":"IF(ISBLANK('Data Entry'!I97),\"\",'Data Entry'!I97)","v":""},{"$f":"IF(ISBLANK('Data Entry'!J97),\"\",'Data Entry'!J97)","v":""},{"$f":"IF(ISBLANK('Data Entry'!K97),\"\",'Data Entry'!K97)","v":""},{"$f":"IF(ISBLANK('Data Entry'!L97),\"\",'Data Entry'!L97)","v":""},{"$f":"IF(ISBLANK('Data Entry'!M97),\"\",'Data Entry'!M97)","v":""},{"$f":"IF(ISBLANK('Data Entry'!N97),\"\",'Data Entry'!N97)","v":""},{"$f":"IF(ISBLANK('Data Entry'!O97),\"\",'Data Entry'!O97)","v":""},{"$f":"IF(ISBLANK('Data Entry'!P97),\"\",'Data Entry'!P97)","v":""},{"$f":"IF(ISBLANK('Data Entry'!Q97),\"\",'Data Entry'!Q97)","v":""},{"$f":"IF(ISBLANK('Data Entry'!R97),\"\",'Data Entry'!R97)","v":""},{"$f":"IF(ISBLANK('Data Entry'!S97),\"\",'Data Entry'!S97)","v":""},{"$f":"IF(ISBLANK('Data Entry'!T97),\"\",'Data Entry'!T97)","v":""},{"$f":"IF(ISBLANK('Data Entry'!U97),\"\",'Data Entry'!U97)","v":""},{"$f":"IF(ISBLANK('Data Entry'!V97),\"\",'Data Entry'!V97)","v":""},{"$f":"IF(ISBLANK('Data Entry'!W97),\"\",'Data Entry'!W97)","v":"2025-26"},{"$f":"IF(ISBLANK('Data Entry'!X97),\"\",'Data Entry'!X97)","v":""},{"$f":"IF(ISBLANK('Data Entry'!Y97),\"\",'Data Entry'!Y97)","v":""}]
[93,"SANCTIONED TOURNAMENTS",{"$f":"IF(ISBLANK('Data Entry'!C98),\"\",'Data Entry'!C98)","v":""},{"$f":"IF('Data Entry'!D98=\"Pick a Zone\",\"\",'Data Entry'!D98)","v":"SANCTIONED EVENT"},{"$f":"IF('Data Entry'!E98=\"pick a tournament\",\"\",'Data Entry'!E98)","v":""},{"$f":"IF('Data Entry'!F98=\"pick a tournament\",\"\",'Data Entry'!F98)","v":""},{"$f":"IF('Data Entry'!G98=\"Enter C5#\",\"\",'Data Entry'!G98)","v":""},{"$f":"IF('Data Entry'!H98=\"Enter C5#\",\"\",'Data Entry'!H98)","v":""},{"$f":"IF(ISBLANK('Data Entry'!I98),\"\",'Data Entry'!I98)","v":""},{"$f":"IF(ISBLANK('Data Entry'!J98),\"\",'Data Entry'!J98)","v":""},{"$f":"IF(ISBLANK('Data Entry'!K98),\"\",'Data Entry'!K98)","v":""},{"$f":"IF(ISBLANK('Data Entry'!L98),\"\",'Data Entry'!L98)","v":""},{"$f":"IF(ISBLANK('Data Entry'!M98),\"\",'Data Entry'!M98)","v":""},{"$f":"IF(ISBLANK('Data Entry'!N98),\"\",'Data Entry'!N98)","v":""},{"$f":"IF(ISBLANK('Data Entry'!O98),\"\",'Data Entry'!O98)","v":""},{"$f":"IF(ISBLANK('Data Entry'!P98),\"\",'Data Entry'!P98)","v":""},{"$f":"IF(ISBLANK('Data Entry'!Q98),\"\",'Data Entry'!Q98)","v":""},{"$f":"IF(ISBLANK('Data Entry'!R98),\"\",'Data Entry'!R98)","v":""},{"$f":"IF(ISBLANK('Data Entry'!S98),\"\",'Data Entry'!S98)","v":""},{"$f":"IF(ISBLANK('Data Entry'!T98),\"\",'Data Entry'!T98)","v":""},{"$f":"IF(ISBLANK('Data Entry'!U98),\"\",'Data Entry'!U98)","v":""},{"$f":"IF(ISBLANK('Data Entry'!V98),\"\",'Data Entry'!V98)","v":""},{"$f":"IF(ISBLANK('Data Entry'!W98),\"\",'Data Entry'!W98)","v":"2025-26"},{"$f":"IF(ISBLANK('Data Entry'!X98),\"\",'Data Entry'!X98)","v":""},{"$f":"IF(ISBLANK('Data Entry'!Y98),\"\",'Data Entry'!Y98)","v":""}]
[94,"SANCTIONED TOURNAMENTS",{"$f":"IF(ISBLANK('Data Entry'!C99),\"\",'Data Entry'!C99)","v":""},{"$f":"IF('Data Entry'!D99=\"Pick a Zone\",\"\",'Data Entry'!D99)","v":"SANCTIONED EVENT"},{"$f":"IF('Data Entry'!E99=\"pick a tournament\",\"\",'Data Entry'!E99)","v":""},{"$f":"IF('Data Entry'!F99=\"pick a tournament\",\"\",'Data Entry'!F99)","v":""},{"$f":"IF('Data Entry'!G99=\"Enter C5#\",\"\",'Data Entry'!G99)","v":""},{"$f":"IF('Data Entry'!H99=\"Enter C5#\",\"\",'Data Entry'!H99)","v":""},{"$f":"IF(ISBLANK('Data Entry'!I99),\"\",'Data Entry'!I99)","v":""},{"$f":"IF(ISBLANK('Data Entry'!J99),\"\",'Data Entry'!J99)","v":""},{"$f":"IF(ISBLANK('Data Entry'!K99),\"\",'Data Entry'!K99)","v":""},{"$f":"IF(ISBLANK('Data Entry'!L99),\"\",'Data Entry'!L99)","v":""},{"$f":"IF(ISBLANK('Data Entry'!M99),\"\",'Data Entry'!M99)","v":""},{"$f":"IF(ISBLANK('Data Entry'!N99),\"\",'Data Entry'!N99)","v":""},{"$f":"IF(ISBLANK('Data Entry'!O99),\"\",'Data Entry'!O99)","v":""},{"$f":"IF(ISBLANK('Data Entry'!P99),\"\",'Data Entry'!P99)","v":""},{"$f":"IF(ISBLANK('Data Entry'!Q99),\"\",'Data Entry'!Q99)","v":""},{"$f":"IF(ISBLANK('Data Entry'!R99),\"\",'Data Entry'!R99)","v":""},{"$f":"IF(ISBLANK('Data Entry'!S99),\"\",'Data Entry'!S99)","v":""},{"$f":"IF(ISBLANK('Data Entry'!T99),\"\",'Data Entry'!T99)","v":""},{"$f":"IF(ISBLANK('Data Entry'!U99),\"\",'Data Entry'!U99)","v":""},{"$f":"IF(ISBLANK('Data Entry'!V99),\"\",'Data Entry'!V99)","v":""},{"$f":"IF(ISBLANK('Data Entry'!W99),\"\",'Data Entry'!W99)","v":"2025-26"},{"$f":"IF(ISBLANK('Data Entry'!X99),\"\",'Data Entry'!X99)","v":""},{"$f":"IF(ISBLANK('Data Entry'!Y99),\"\",'Data Entry'!Y99)","v":""}]
[95,"SANCTIONED TOURNAMENTS",{"$f":"IF(ISBLANK('Data Entry'!C100),\"\",'Data Entry'!C100)","v":""},{"$f":"IF('Data Entry'!D100=\"Pick a Zone\",\"\",'Data Entry'!D100)","v":"SANCTIONED EVENT"},{"$f":"IF('Data Entry'!E100=\"pick a tournament\",\"\",'Data Entry'!E100)","v":""},{"$f":"IF('Data Entry'!F100=\"pick a tournament\",\"\",'Data Entry'!F100)","v":""},{"$f":"IF('Data Entry'!G100=\"Enter C5#\",\"\",'Data Entry'!G100)","v":""},{"$f":"IF('Data Entry'!H100=\"Enter C5#\",\"\",'Data Entry'!H100)","v":""},{"$f":"IF(ISBLANK('Data Entry'!I100),\"\",'Data Entry'!I100)","v":""},{"$f":"IF(ISBLANK('Data Entry'!J100),\"\",'Data Entry'!J100)","v":""},{"$f":"IF(ISBLANK('Data Entry'!K100),\"\",'Data Entry'!K100)","v":""},{"$f":"IF(ISBLANK('Data Entry'!L100),\"\",'Data Entry'!L100)","v":""},{"$f":"IF(ISBLANK('Data Entry'!M100),\"\",'Data Entry'!M100)","v":""},{"$f":"IF(ISBLANK('Data Entry'!N100),\"\",'Data Entry'!N100)","v":""},{"$f":"IF(ISBLANK('Data Entry'!O100),\"\",'Data Entry'!O100)","v":""},{"$f":"IF(ISBLANK('Data Entry'!P100),\"\",'Data Entry'!P100)","v":""},{"$f":"IF(ISBLANK('Data Entry'!Q100),\"\",'Data Entry'!Q100)","v":""},{"$f":"IF(ISBLANK('Data Entry'!R100),\"\",'Data Entry'!R100)","v":""},{"$f":"IF(ISBLANK('Data Entry'!S100),\"\",'Data Entry'!S100)","v":""},{"$f":"IF(ISBLANK('Data Entry'!T100),\"\",'Data Entry'!T100)","v":""},{"$f":"IF(ISBLANK('Data Entry'!U100),\"\",'Data Entry'!U100)","v":""},{"$f":"IF(ISBLANK('Data Entry'!V100),\"\",'Data Entry'!V100)","v":""},{"$f":"IF(ISBLANK('Data Entry'!W100),\"\",'Data Entry'!W100)","v":"2025-26"},{"$f":"IF(ISBLANK('Data Entry'!X100),\"\",'Data Entry'!X100)","v":""},{"$f":"IF(ISBLANK('Data Entry'!Y100),\"\",'Data Entry'!Y100)","v":""}]
[96,"SANCTIONED TOURNAMENTS",{"$f":"IF(ISBLANK('Data Entry'!C101),\"\",'Data Entry'!C101)","v":""},{"$f":"IF('Data Entry'!D101=\"Pick a Zone\",\"\",'Data Entry'!D101)","v":"SANCTIONED EVENT"},{"$f":"IF('Data Entry'!E101=\"pick a tournament\",\"\",'Data Entry'!E101)","v":""},{"$f":"IF('Data Entry'!F101=\"pick a tournament\",\"\",'Data Entry'!F101)","v":""},{"$f":"IF('Data Entry'!G101=\"Enter C5#\",\"\",'Data Entry'!G101)","v":""},{"$f":"IF('Data Entry'!H101=\"Enter C5#\",\"\",'Data Entry'!H101)","v":""},{"$f":"IF(ISBLANK('Data Entry'!I101),\"\",'Data Entry'!I101)","v":""},{"$f":"IF(ISBLANK('Data Entry'!J101),\"\",'Data Entry'!J101)","v":""},{"$f":"IF(ISBLANK('Data Entry'!K101),\"\",'Data Entry'!K101)","v":""},{"$f":"IF(ISBLANK('Data Entry'!L101),\"\",'Data Entry'!L101)","v":""},{"$f":"IF(ISBLANK('Data Entry'!M101),\"\",'Data Entry'!M101)","v":""},{"$f":"IF(ISBLANK('Data Entry'!N101),\"\",'Data Entry'!N101)","v":""},{"$f":"IF(ISBLANK('Data Entry'!O101),\"\",'Data Entry'!O101)","v":""},{"$f":"IF(ISBLANK('Data Entry'!P101),\"\",'Data Entry'!P101)","v":""},{"$f":"IF(ISBLANK('Data Entry'!Q101),\"\",'Data Entry'!Q101)","v":""},{"$f":"IF(ISBLANK('Data Entry'!R101),\"\",'Data Entry'!R101)","v":""},{"$f":"IF(ISBLANK('Data Entry'!S101),\"\",'Data Entry'!S101)","v":""},{"$f":"IF(ISBLANK('Data Entry'!T101),\"\",'Data Entry'!T101)","v":""},{"$f":"IF(ISBLANK('Data Entry'!U101),\"\",'Data Entry'!U101)","v":""},{"$f":"IF(ISBLANK('Data Entry'!V101),\"\",'Data Entry'!V101)","v":""},{"$f":"IF(ISBLANK('Data Entry'!W101),\"\",'Data Entry'!W101)","v":"2025-26"},{"$f":"IF(ISBLANK('Data Entry'!X101),\"\",'Data Entry'!X101)","v":""},{"$f":"IF(ISBLANK('Data Entry'!Y101),\"\",'Data Entry'!Y101)","v":""}]
[97,"SANCTIONED TOURNAMENTS",{"$f":"IF(ISBLANK('Data Entry'!C102),\"\",'Data Entry'!C102)","v":""},{"$f":"IF('Data Entry'!D102=\"Pick a Zone\",\"\",'Data Entry'!D102)","v":"SANCTIONED EVENT"},{"$f":"IF('Data Entry'!E102=\"pick a tournament\",\"\",'Data Entry'!E102)","v":""},{"$f":"IF('Data Entry'!F102=\"pick a tournament\",\"\",'Data Entry'!F102)","v":""},{"$f":"IF('Data Entry'!G102=\"Enter C5#\",\"\",'Data Entry'!G102)","v":""},{"$f":"IF('Data Entry'!H102=\"Enter C5#\",\"\",'Data Entry'!H102)","v":""},{"$f":"IF(ISBLANK('Data Entry'!I102),\"\",'Data Entry'!I102)","v":""},{"$f":"IF(ISBLANK('Data Entry'!J102),\"\",'Data Entry'!J102)","v":""},{"$f":"IF(ISBLANK('Data Entry'!K102),\"\",'Data Entry'!K102)","v":""},{"$f":"IF(ISBLANK('Data Entry'!L102),\"\",'Data Entry'!L102)","v":""},{"$f":"IF(ISBLANK('Data Entry'!M102),\"\",'Data Entry'!M102)","v":""},{"$f":"IF(ISBLANK('Data Entry'!N102),\"\",'Data Entry'!N102)","v":""},{"$f":"IF(ISBLANK('Data Entry'!O102),\"\",'Data Entry'!O102)","v":""},{"$f":"IF(ISBLANK('Data Entry'!P102),\"\",'Data Entry'!P102)","v":""},{"$f":"IF(ISBLANK('Data Entry'!Q102),\"\",'Data Entry'!Q102)","v":""},{"$f":"IF(ISBLANK('Data Entry'!R102),\"\",'Data Entry'!R102)","v":""},{"$f":"IF(ISBLANK('Data Entry'!S102),\"\",'Data Entry'!S102)","v":""},{"$f":"IF(ISBLANK('Data Entry'!T102),\"\",'Data Entry'!T102)","v":""},{"$f":"IF(ISBLANK('Data Entry'!U102),\"\",'Data Entry'!U102)","v":""},{"$f":"IF(ISBLANK('Data Entry'!V102),\"\",'Data Entry'!V102)","v":""},{"$f":"IF(ISBLANK('Data Entry'!W102),\"\",'Data Entry'!W102)","v":"2025-26"},{"$f":"IF(ISBLANK('Data Entry'!X102),\"\",'Data Entry'!X102)","v":""},{"$f":"IF(ISBLANK('Data Entry'!Y102),\"\",'Data Entry'!Y102)","v":""}]
[98,"SANCTIONED TOURNAMENTS",{"$f":"IF(ISBLANK('Data Entry'!C103),\"\",'Data Entry'!C103)","v":""},{"$f":"IF('Data Entry'!D103=\"Pick a Zone\",\"\",'Data Entry'!D103)","v":"SANCTIONED EVENT"},{"$f":"IF('Data Entry'!E103=\"pick a tournament\",\"\",'Data Entry'!E103)","v":""},{"$f":"IF('Data Entry'!F103=\"pick a tournament\",\"\",'Data Entry'!F103)","v":""},{"$f":"IF('Data Entry'!G103=\"Enter C5#\",\"\",'Data Entry'!G103)","v":""},{"$f":"IF('Data Entry'!H103=\"Enter C5#\",\"\",'Data Entry'!H103)","v":""},{"$f":"IF(ISBLANK('Data Entry'!I103),\"\",'Data Entry'!I103)","v":""},{"$f":"IF(ISBLANK('Data Entry'!J103),\"\",'Data Entry'!J103)","v":""},{"$f":"IF(ISBLANK('Data Entry'!K103),\"\",'Data Entry'!K103)","v":""},{"$f":"IF(ISBLANK('Data Entry'!L103),\"\",'Data Entry'!L103)","v":""},{"$f":"IF(ISBLANK('Data Entry'!M103),\"\",'Data Entry'!M103)","v":""},{"$f":"IF(ISBLANK('Data Entry'!N103),\"\",'Data Entry'!N103)","v":""},{"$f":"IF(ISBLANK('Data Entry'!O103),\"\",'Data Entry'!O103)","v":""},{"$f":"IF(ISBLANK('Data Entry'!P103),\"\",'Data Entry'!P103)","v":""},{"$f":"IF(ISBLANK('Data Entry'!Q103),\"\",'Data Entry'!Q103)","v":""},{"$f":"IF(ISBLANK('Data Entry'!R103),\"\",'Data Entry'!R103)","v":""},{"$f":"IF(ISBLANK('Data Entry'!S103),\"\",'Data Entry'!S103)","v":""},{"$f":"IF(ISBLANK('Data Entry'!T103),\"\",'Data Entry'!T103)","v":""},{"$f":"IF(ISBLANK('Data Entry'!U103),\"\",'Data Entry'!U103)","v":""},{"$f":"IF(ISBLANK('Data Entry'!V103),\"\",'Data Entry'!V103)","v":""},{"$f":"IF(ISBLANK('Data Entry'!W103),\"\",'Data Entry'!W103)","v":"2025-26"},{"$f":"IF(ISBLANK('Data Entry'!X103),\"\",'Data Entry'!X103)","v":""},{"$f":"IF(ISBLANK('Data Entry'!Y103),\"\",'Data Entry'!Y103)","v":""}]
[99,"SANCTIONED TOURNAMENTS",{"$f":"IF(ISBLANK('Data Entry'!C104),\"\",'Data Entry'!C104)","v":""},{"$f":"IF('Data Entry'!D104=\"Pick a Zone\",\"\",'Data Entry'!D104)","v":"SANCTIONED EVENT"},{"$f":"IF('Data Entry'!E104=\"pick a tournament\",\"\",'Data Entry'!E104)","v":""},{"$f":"IF('Data Entry'!F104=\"pick a tournament\",\"\",'Data Entry'!F104)","v":""},{"$f":"IF('Data Entry'!G104=\"Enter C5#\",\"\",'Data Entry'!G104)","v":""},{"$f":"IF('Data Entry'!H104=\"Enter C5#\",\"\",'Data Entry'!H104)","v":""},{"$f":"IF(ISBLANK('Data Entry'!I104),\"\",'Data Entry'!I104)","v":""},{"$f":"IF(ISBLANK('Data Entry'!J104),\"\",'Data Entry'!J104)","v":""},{"$f":"IF(ISBLANK('Data Entry'!K104),\"\",'Data Entry'!K104)","v":""},{"$f":"IF(ISBLANK('Data Entry'!L104),\"\",'Data Entry'!L104)","v":""},{"$f":"IF(ISBLANK('Data Entry'!M104),\"\",'Data Entry'!M104)","v":""},{"$f":"IF(ISBLANK('Data Entry'!N104),\"\",'Data Entry'!N104)","v":""},{"$f":"IF(ISBLANK('Data Entry'!O104),\"\",'Data Entry'!O104)","v":""},{"$f":"IF(ISBLANK('Data Entry'!P104),\"\",'Data Entry'!P104)","v":""},{"$f":"IF(ISBLANK('Data Entry'!Q104),\"\",'Data Entry'!Q104)","v":""},{"$f":"IF(ISBLANK('Data Entry'!R104),\"\",'Data Entry'!R104)","v":""},{"$f":"IF(ISBLANK('Data Entry'!S104),\"\",'Data Entry'!S104)","v":""},{"$f":"IF(ISBLANK('Data Entry'!T104),\"\",'Data Entry'!T104)","v":""},{"$f":"IF(ISBLANK('Data Entry'!U104),\"\",'Data Entry'!U104)","v":""},{"$f":"IF(ISBLANK('Data Entry'!V104),\"\",'Data Entry'!V104)","v":""},{"$f":"IF(ISBLANK('Data Entry'!W104),\"\",'Data Entry'!W104)","v":"2025-26"},{"$f":"IF(ISBLANK('Data Entry'!X104),\"\",'Data Entry'!X104)","v":""},{"$f":"IF(ISBLANK('Data Entry'!Y104),\"\",'Data Entry'!Y104)","v":""}]
[100,"SANCTIONED TOURNAMENTS",{"$f":"IF(ISBLANK('Data Entry'!C105),\"\",'Data Entry'!C105)","v":""},{"$f":"IF('Data Entry'!D105=\"Pick a Zone\",\"\",'Data Entry'!D105)","v":"SANCTIONED EVENT"},{"$f":"IF('Data Entry'!E105=\"pick a tournament\",\"\",'Data Entry'!E105)","v":""},{"$f":"IF('Data Entry'!F105=\"pick a tournament\",\"\",'Data Entry'!F105)","v":""},{"$f":"IF('Data Entry'!G105=\"Enter C5#\",\"\",'Data Entry'!G105)","v":""},{"$f":"IF('Data Entry'!H105=\"Enter C5#\",\"\",'Data Entry'!H105)","v":""},{"$f":"IF(ISBLANK('Data Entry'!I105),\"\",'Data Entry'!I105)","v":""},{"$f":"IF(ISBLANK('Data Entry'!J105),\"\",'Data Entry'!J105)","v":""},{"$f":"IF(ISBLANK('Data Entry'!K105),\"\",'Data Entry'!K105)","v":""},{"$f":"IF(ISBLANK('Data Entry'!L105),\"\",'Data Entry'!L105)","v":""},{"$f":"IF(ISBLANK('Data Entry'!M105),\"\",'Data Entry'!M105)","v":""},{"$f":"IF(ISBLANK('Data Entry'!N105),\"\",'Data Entry'!N105)","v":""},{"$f":"IF(ISBLANK('Data Entry'!O105),\"\",'Data Entry'!O105)","v":""},{"$f":"IF(ISBLANK('Data Entry'!P105),\"\",'Data Entry'!P105)","v":""},{"$f":"IF(ISBLANK('Data Entry'!Q105),\"\",'Data Entry'!Q105)","v":""},{"$f":"IF(ISBLANK('Data Entry'!R105),\"\",'Data Entry'!R105)","v":""},{"$f":"IF(ISBLANK('Data Entry'!S105),\"\",'Data Entry'!S105)","v":""},{"$f":"IF(ISBLANK('Data Entry'!T105),\"\",'Data Entry'!T105)","v":""},{"$f":"IF(ISBLANK('Data Entry'!U105),\"\",'Data Entry'!U105)","v":""},{"$f":"IF(ISBLANK('Data Entry'!V105),\"\",'Data Entry'!V105)","v":""},{"$f":"IF(ISBLANK('Data Entry'!W105),\"\",'Data Entry'!W105)","v":"2025-26"},{"$f":"IF(ISBLANK('Data Entry'!X105),\"\",'Data Entry'!X105)","v":""},{"$f":"IF(ISBLANK('Data Entry'!Y105),\"\",'Data Entry'!Y105)","v":""}]
[101,"SANCTIONED TOURNAMENTS",{"$f":"IF(ISBLANK('Data Entry'!C106),\"\",'Data Entry'!C106)","v":""},{"$f":"IF('Data Entry'!D106=\"Pick a Zone\",\"\",'Data Entry'!D106)","v":"SANCTIONED EVENT"},{"$f":"IF('Data Entry'!E106=\"pick a tournament\",\"\",'Data Entry'!E106)","v":""},{"$f":"IF('Data Entry'!F106=\"pick a tournament\",\"\",'Data Entry'!F106)","v":""},{"$f":"IF('Data Entry'!G106=\"Enter C5#\",\"\",'Data Entry'!G106)","v":""},{"$f":"IF('Data Entry'!H106=\"Enter C5#\",\"\",'Data Entry'!H106)","v":""},{"$f":"IF(ISBLANK('Data Entry'!I106),\"\",'Data Entry'!I106)","v":""},{"$f":"IF(ISBLANK('Data Entry'!J106),\"\",'Data Entry'!J106)","v":""},{"$f":"IF(ISBLANK('Data Entry'!K106),\"\",'Data Entry'!K106)","v":""},{"$f":"IF(ISBLANK('Data Entry'!L106),\"\",'Data Entry'!L106)","v":""},{"$f":"IF(ISBLANK('Data Entry'!M106),\"\",'Data Entry'!M106)","v":""},{"$f":"IF(ISBLANK('Data Entry'!N106),\"\",'Data Entry'!N106)","v":""},{"$f":"IF(ISBLANK('Data Entry'!O106),\"\",'Data Entry'!O106)","v":""},{"$f":"IF(ISBLANK('Data Entry'!P106),\"\",'Data Entry'!P106)","v":""},{"$f":"IF(ISBLANK('Data Entry'!Q106),\"\",'Data Entry'!Q106)","v":""},{"$f":"IF(ISBLANK('Data Entry'!R106),\"\",'Data Entry'!R106)","v":""},{"$f":"IF(ISBLANK('Data Entry'!S106),\"\",'Data Entry'!S106)","v":""},{"$f":"IF(ISBLANK('Data Entry'!T106),\"\",'Data Entry'!T106)","v":""},{"$f":"IF(ISBLANK('Data Entry'!U106),\"\",'Data Entry'!U106)","v":""},{"$f":"IF(ISBLANK('Data Entry'!V106),\"\",'Data Entry'!V106)","v":""},{"$f":"IF(ISBLANK('Data Entry'!W106),\"\",'Data Entry'!W106)","v":"2025-26"},{"$f":"IF(ISBLANK('Data Entry'!X106),\"\",'Data Entry'!X106)","v":""},{"$f":"IF(ISBLANK('Data Entry'!Y106),\"\",'Data Entry'!Y106)","v":""}]
[102,"SANCTIONED TOURNAMENTS",{"$f":"IF(ISBLANK('Data Entry'!C107),\"\",'Data Entry'!C107)","v":""},{"$f":"IF('Data Entry'!D107=\"Pick a Zone\",\"\",'Data Entry'!D107)","v":"SANCTIONED EVENT"},{"$f":"IF('Data Entry'!E107=\"pick a tournament\",\"\",'Data Entry'!E107)","v":""},{"$f":"IF('Data Entry'!F107=\"pick a tournament\",\"\",'Data Entry'!F107)","v":""},{"$f":"IF('Data Entry'!G107=\"Enter C5#\",\"\",'Data Entry'!G107)","v":""},{"$f":"IF('Data Entry'!H107=\"Enter C5#\",\"\",'Data Entry'!H107)","v":""},{"$f":"IF(ISBLANK('Data Entry'!I107),\"\",'Data Entry'!I107)","v":""},{"$f":"IF(ISBLANK('Data Entry'!J107),\"\",'Data Entry'!J107)","v":""},{"$f":"IF(ISBLANK('Data Entry'!K107),\"\",'Data Entry'!K107)","v":""},{"$f":"IF(ISBLANK('Data Entry'!L107),\"\",'Data Entry'!L107)","v":""},{"$f":"IF(ISBLANK('Data Entry'!M107),\"\",'Data Entry'!M107)","v":""},{"$f":"IF(ISBLANK('Data Entry'!N107),\"\",'Data Entry'!N107)","v":""},{"$f":"IF(ISBLANK('Data Entry'!O107),\"\",'Data Entry'!O107)","v":""},{"$f":"IF(ISBLANK('Data Entry'!P107),\"\",'Data Entry'!P107)","v":""},{"$f":"IF(ISBLANK('Data Entry'!Q107),\"\",'Data Entry'!Q107)","v":""},{"$f":"IF(ISBLANK('Data Entry'!R107),\"\",'Data Entry'!R107)","v":""},{"$f":"IF(ISBLANK('Data Entry'!S107),\"\",'Data Entry'!S107)","v":""},{"$f":"IF(ISBLANK('Data Entry'!T107),\"\",'Data Entry'!T107)","v":""},{"$f":"IF(ISBLANK('Data Entry'!U107),\"\",'Data Entry'!U107)","v":""},{"$f":"IF(ISBLANK('Data Entry'!V107),\"\",'Data Entry'!V107)","v":""},{"$f":"IF(ISBLANK('Data Entry'!W107),\"\",'Data Entry'!W107)","v":"2025-26"},{"$f":"IF(ISBLANK('Data Entry'!X107),\"\",'Data Entry'!X107)","v":""},{"$f":"IF(ISBLANK('Data Entry'!Y107),\"\",'Data Entry'!Y107)","v":""}]
[103,"SANCTIONED TOURNAMENTS",{"$f":"IF(ISBLANK('Data Entry'!C108),\"\",'Data Entry'!C108)","v":""},{"$f":"IF('Data Entry'!D108=\"Pick a Zone\",\"\",'Data Entry'!D108)","v":"SANCTIONED EVENT"},{"$f":"IF('Data Entry'!E108=\"pick a tournament\",\"\",'Data Entry'!E108)","v":""},{"$f":"IF('Data Entry'!F108=\"pick a tournament\",\"\",'Data Entry'!F108)","v":""},{"$f":"IF('Data Entry'!G108=\"Enter C5#\",\"\",'Data Entry'!G108)","v":""},{"$f":"IF('Data Entry'!H108=\"Enter C5#\",\"\",'Data Entry'!H108)","v":""},{"$f":"IF(ISBLANK('Data Entry'!I108),\"\",'Data Entry'!I108)","v":""},{"$f":"IF(ISBLANK('Data Entry'!J108),\"\",'Data Entry'!J108)","v":""},{"$f":"IF(ISBLANK('Data Entry'!K108),\"\",'Data Entry'!K108)","v":""},{"$f":"IF(ISBLANK('Data Entry'!L108),\"\",'Data Entry'!L108)","v":""},{"$f":"IF(ISBLANK('Data Entry'!M108),\"\",'Data Entry'!M108)","v":""},{"$f":"IF(ISBLANK('Data Entry'!N108),\"\",'Data Entry'!N108)","v":""},{"$f":"IF(ISBLANK('Data Entry'!O108),\"\",'Data Entry'!O108)","v":""},{"$f":"IF(ISBLANK('Data Entry'!P108),\"\",'Data Entry'!P108)","v":""},{"$f":"IF(ISBLANK('Data Entry'!Q108),\"\",'Data Entry'!Q108)","v":""},{"$f":"IF(ISBLANK('Data Entry'!R108),\"\",'Data Entry'!R108)","v":""},{"$f":"IF(ISBLANK('Data Entry'!S108),\"\",'Data Entry'!S108)","v":""},{"$f":"IF(ISBLANK('Data Entry'!T108),\"\",'Data Entry'!T108)","v":""},{"$f":"IF(ISBLANK('Data Entry'!U108),\"\",'Data Entry'!U108)","v":""},{"$f":"IF(ISBLANK('Data Entry'!V108),\"\",'Data Entry'!V108)","v":""},{"$f":"IF(ISBLANK('Data Entry'!W108),\"\",'Data Entry'!W108)","v":"2025-26"},{"$f":"IF(ISBLANK('Data Entry'!X108),\"\",'Data Entry'!X108)","v":""},{"$f":"IF(ISBLANK('Data Entry'!Y108),\"\",'Data Entry'!Y108)","v":""}]
[104,"SANCTIONED TOURNAMENTS",{"$f":"IF(ISBLANK('Data Entry'!C109),\"\",'Data Entry'!C109)","v":""},{"$f":"IF('Data Entry'!D109=\"Pick a Zone\",\"\",'Data Entry'!D109)","v":"SANCTIONED EVENT"},{"$f":"IF('Data Entry'!E109=\"pick a tournament\",\"\",'Data Entry'!E109)","v":""},{"$f":"IF('Data Entry'!F109=\"pick a tournament\",\"\",'Data Entry'!F109)","v":""},{"$f":"IF('Data Entry'!G109=\"Enter C5#\",\"\",'Data Entry'!G109)","v":""},{"$f":"IF('Data Entry'!H109=\"Enter C5#\",\"\",'Data Entry'!H109)","v":""},{"$f":"IF(ISBLANK('Data Entry'!I109),\"\",'Data Entry'!I109)","v":""},{"$f":"IF(ISBLANK('Data Entry'!J109),\"\",'Data Entry'!J109)","v":""},{"$f":"IF(ISBLANK('Data Entry'!K109),\"\",'Data Entry'!K109)","v":""},{"$f":"IF(ISBLANK('Data Entry'!L109),\"\",'Data Entry'!L109)","v":""},{"$f":"IF(ISBLANK('Data Entry'!M109),\"\",'Data Entry'!M109)","v":""},{"$f":"IF(ISBLANK('Data Entry'!N109),\"\",'Data Entry'!N109)","v":""},{"$f":"IF(ISBLANK('Data Entry'!O109),\"\",'Data Entry'!O109)","v":""},{"$f":"IF(ISBLANK('Data Entry'!P109),\"\",'Data Entry'!P109)","v":""},{"$f":"IF(ISBLANK('Data Entry'!Q109),\"\",'Data Entry'!Q109)","v":""},{"$f":"IF(ISBLANK('Data Entry'!R109),\"\",'Data Entry'!R109)","v":""},{"$f":"IF(ISBLANK('Data Entry'!S109),\"\",'Data Entry'!S109)","v":""},{"$f":"IF(ISBLANK('Data Entry'!T109),\"\",'Data Entry'!T109)","v":""},{"$f":"IF(ISBLANK('Data Entry'!U109),\"\",'Data Entry'!U109)","v":""},{"$f":"IF(ISBLANK('Data Entry'!V109),\"\",'Data Entry'!V109)","v":""},{"$f":"IF(ISBLANK('Data Entry'!W109),\"\",'Data Entry'!W109)","v":"2025-26"},{"$f":"IF(ISBLANK('Data Entry'!X109),\"\",'Data Entry'!X109)","v":""},{"$f":"IF(ISBLANK('Data Entry'!Y109),\"\",'Data Entry'!Y109)","v":""}]
[105,"SANCTIONED TOURNAMENTS",{"$f":"IF(ISBLANK('Data Entry'!C110),\"\",'Data Entry'!C110)","v":""},{"$f":"IF('Data Entry'!D110=\"Pick a Zone\",\"\",'Data Entry'!D110)","v":"SANCTIONED EVENT"},{"$f":"IF('Data Entry'!E110=\"pick a tournament\",\"\",'Data Entry'!E110)","v":""},{"$f":"IF('Data Entry'!F110=\"pick a tournament\",\"\",'Data Entry'!F110)","v":""},{"$f":"IF('Data Entry'!G110=\"Enter C5#\",\"\",'Data Entry'!G110)","v":""},{"$f":"IF('Data Entry'!H110=\"Enter C5#\",\"\",'Data Entry'!H110)","v":""},{"$f":"IF(ISBLANK('Data Entry'!I110),\"\",'Data Entry'!I110)","v":""},{"$f":"IF(ISBLANK('Data Entry'!J110),\"\",'Data Entry'!J110)","v":""},{"$f":"IF(ISBLANK('Data Entry'!K110),\"\",'Data Entry'!K110)","v":""},{"$f":"IF(ISBLANK('Data Entry'!L110),\"\",'Data Entry'!L110)","v":""},{"$f":"IF(ISBLANK('Data Entry'!M110),\"\",'Data Entry'!M110)","v":""},{"$f":"IF(ISBLANK('Data Entry'!N110),\"\",'Data Entry'!N110)","v":""},{"$f":"IF(ISBLANK('Data Entry'!O110),\"\",'Data Entry'!O110)","v":""},{"$f":"IF(ISBLANK('Data Entry'!P110),\"\",'Data Entry'!P110)","v":""},{"$f":"IF(ISBLANK('Data Entry'!Q110),\"\",'Data Entry'!Q110)","v":""},{"$f":"IF(ISBLANK('Data Entry'!R110),\"\",'Data Entry'!R110)","v":""},{"$f":"IF(ISBLANK('Data Entry'!S110),\"\",'Data Entry'!S110)","v":""},{"$f":"IF(ISBLANK('Data Entry'!T110),\"\",'Data Entry'!T110)","v":""},{"$f":"IF(ISBLANK('Data Entry'!U110),\"\",'Data Entry'!U110)","v":""},{"$f":"IF(ISBLANK('Data Entry'!V110),\"\",'Data Entry'!V110)","v":""},{"$f":"IF(ISBLANK('Data Entry'!W110),\"\",'Data Entry'!W110)","v":"2025-26"},{"$f":"IF(ISBLANK('Data Entry'!X110),\"\",'Data Entry'!X110)","v":""},{"$f":"IF(ISBLANK('Data Entry'!Y110),\"\",'Data Entry'!Y110)","v":""}]
[106,"SANCTIONED TOURNAMENTS",{"$f":"IF(ISBLANK('Data Entry'!C111),\"\",'Data Entry'!C111)","v":""},{"$f":"IF('Data Entry'!D111=\"Pick a Zone\",\"\",'Data Entry'!D111)","v":"SANCTIONED EVENT"},{"$f":"IF('Data Entry'!E111=\"pick a tournament\",\"\",'Data Entry'!E111)","v":""},{"$f":"IF('Data Entry'!F111=\"pick a tournament\",\"\",'Data Entry'!F111)","v":""},{"$f":"IF('Data Entry'!G111=\"Enter C5#\",\"\",'Data Entry'!G111)","v":""},{"$f":"IF('Data Entry'!H111=\"Enter C5#\",\"\",'Data Entry'!H111)","v":""},{"$f":"IF(ISBLANK('Data Entry'!I111),\"\",'Data Entry'!I111)","v":""},{"$f":"IF(ISBLANK('Data Entry'!J111),\"\",'Data Entry'!J111)","v":""},{"$f":"IF(ISBLANK('Data Entry'!K111),\"\",'Data Entry'!K111)","v":""},{"$f":"IF(ISBLANK('Data Entry'!L111),\"\",'Data Entry'!L111)","v":""},{"$f":"IF(ISBLANK('Data Entry'!M111),\"\",'Data Entry'!M111)","v":""},{"$f":"IF(ISBLANK('Data Entry'!N111),\"\",'Data Entry'!N111)","v":""},{"$f":"IF(ISBLANK('Data Entry'!O111),\"\",'Data Entry'!O111)","v":""},{"$f":"IF(ISBLANK('Data Entry'!P111),\"\",'Data Entry'!P111)","v":""},{"$f":"IF(ISBLANK('Data Entry'!Q111),\"\",'Data Entry'!Q111)","v":""},{"$f":"IF(ISBLANK('Data Entry'!R111),\"\",'Data Entry'!R111)","v":""},{"$f":"IF(ISBLANK('Data Entry'!S111),\"\",'Data Entry'!S111)","v":""},{"$f":"IF(ISBLANK('Data Entry'!T111),\"\",'Data Entry'!T111)","v":""},{"$f":"IF(ISBLANK('Data Entry'!U111),\"\",'Data Entry'!U111)","v":""},{"$f":"IF(ISBLANK('Data Entry'!V111),\"\",'Data Entry'!V111)","v":""},{"$f":"IF(ISBLANK('Data Entry'!W111),\"\",'Data Entry'!W111)","v":"2025-26"},{"$f":"IF(ISBLANK('Data Entry'!X111),\"\",'Data Entry'!X111)","v":""},{"$f":"IF(ISBLANK('Data Entry'!Y111),\"\",'Data Entry'!Y111)","v":""}]
[107,"SANCTIONED TOURNAMENTS",{"$f":"IF(ISBLANK('Data Entry'!C112),\"\",'Data Entry'!C112)","v":""},{"$f":"IF('Data Entry'!D112=\"Pick a Zone\",\"\",'Data Entry'!D112)","v":"SANCTIONED EVENT"},{"$f":"IF('Data Entry'!E112=\"pick a tournament\",\"\",'Data Entry'!E112)","v":""},{"$f":"IF('Data Entry'!F112=\"pick a tournament\",\"\",'Data Entry'!F112)","v":""},{"$f":"IF('Data Entry'!G112=\"Enter C5#\",\"\",'Data Entry'!G112)","v":""},{"$f":"IF('Data Entry'!H112=\"Enter C5#\",\"\",'Data Entry'!H112)","v":""},{"$f":"IF(ISBLANK('Data Entry'!I112),\"\",'Data Entry'!I112)","v":""},{"$f":"IF(ISBLANK('Data Entry'!J112),\"\",'Data Entry'!J112)","v":""},{"$f":"IF(ISBLANK('Data Entry'!K112),\"\",'Data Entry'!K112)","v":""},{"$f":"IF(ISBLANK('Data Entry'!L112),\"\",'Data Entry'!L112)","v":""},{"$f":"IF(ISBLANK('Data Entry'!M112),\"\",'Data Entry'!M112)","v":""},{"$f":"IF(ISBLANK('Data Entry'!N112),\"\",'Data Entry'!N112)","v":""},{"$f":"IF(ISBLANK('Data Entry'!O112),\"\",'Data Entry'!O112)","v":""},{"$f":"IF(ISBLANK('Data Entry'!P112),\"\",'Data Entry'!P112)","v":""},{"$f":"IF(ISBLANK('Data Entry'!Q112),\"\",'Data Entry'!Q112)","v":""},{"$f":"IF(ISBLANK('Data Entry'!R112),\"\",'Data Entry'!R112)","v":""},{"$f":"IF(ISBLANK('Data Entry'!S112),\"\",'Data Entry'!S112)","v":""},{"$f":"IF(ISBLANK('Data Entry'!T112),\"\",'Data Entry'!T112)","v":""},{"$f":"IF(ISBLANK('Data Entry'!U112),\"\",'Data Entry'!U112)","v":""},{"$f":"IF(ISBLANK('Data Entry'!V112),\"\",'Data Entry'!V112)","v":""},{"$f":"IF(ISBLANK('Data Entry'!W112),\"\",'Data Entry'!W112)","v":"2025-26"},{"$f":"IF(ISBLANK('Data Entry'!X112),\"\",'Data Entry'!X112)","v":""},{"$f":"IF(ISBLANK('Data Entry'!Y112),\"\",'Data Entry'!Y112)","v":""}]
[108,"SANCTIONED TOURNAMENTS",{"$f":"IF(ISBLANK('Data Entry'!C113),\"\",'Data Entry'!C113)","v":""},{"$f":"IF('Data Entry'!D113=\"Pick a Zone\",\"\",'Data Entry'!D113)","v":"SANCTIONED EVENT"},{"$f":"IF('Data Entry'!E113=\"pick a tournament\",\"\",'Data Entry'!E113)","v":""},{"$f":"IF('Data Entry'!F113=\"pick a tournament\",\"\",'Data Entry'!F113)","v":""},{"$f":"IF('Data Entry'!G113=\"Enter C5#\",\"\",'Data Entry'!G113)","v":""},{"$f":"IF('Data Entry'!H113=\"Enter C5#\",\"\",'Data Entry'!H113)","v":""},{"$f":"IF(ISBLANK('Data Entry'!I113),\"\",'Data Entry'!I113)","v":""},{"$f":"IF(ISBLANK('Data Entry'!J113),\"\",'Data Entry'!J113)","v":""},{"$f":"IF(ISBLANK('Data Entry'!K113),\"\",'Data Entry'!K113)","v":""},{"$f":"IF(ISBLANK('Data Entry'!L113),\"\",'Data Entry'!L113)","v":""},{"$f":"IF(ISBLANK('Data Entry'!M113),\"\",'Data Entry'!M113)","v":""},{"$f":"IF(ISBLANK('Data Entry'!N113),\"\",'Data Entry'!N113)","v":""},{"$f":"IF(ISBLANK('Data Entry'!O113),\"\",'Data Entry'!O113)","v":""},{"$f":"IF(ISBLANK('Data Entry'!P113),\"\",'Data Entry'!P113)","v":""},{"$f":"IF(ISBLANK('Data Entry'!Q113),\"\",'Data Entry'!Q113)","v":""},{"$f":"IF(ISBLANK('Data Entry'!R113),\"\",'Data Entry'!R113)","v":""},{"$f":"IF(ISBLANK('Data Entry'!S113),\"\",'Data Entry'!S113)","v":""},{"$f":"IF(ISBLANK('Data Entry'!T113),\"\",'Data Entry'!T113)","v":""},{"$f":"IF(ISBLANK('Data Entry'!U113),\"\",'Data Entry'!U113)","v":""},{"$f":"IF(ISBLANK('Data Entry'!V113),\"\",'Data Entry'!V113)","v":""},{"$f":"IF(ISBLANK('Data Entry'!W113),\"\",'Data Entry'!W113)","v":"2025-26"},{"$f":"IF(ISBLANK('Data Entry'!X113),\"\",'Data Entry'!X113)","v":""},{"$f":"IF(ISBLANK('Data Entry'!Y113),\"\",'Data Entry'!Y113)","v":""}]
[109,"SANCTIONED TOURNAMENTS",{"$f":"IF(ISBLANK('Data Entry'!C114),\"\",'Data Entry'!C114)","v":""},{"$f":"IF('Data Entry'!D114=\"Pick a Zone\",\"\",'Data Entry'!D114)","v":"SANCTIONED EVENT"},{"$f":"IF('Data Entry'!E114=\"pick a tournament\",\"\",'Data Entry'!E114)","v":""},{"$f":"IF('Data Entry'!F114=\"pick a tournament\",\"\",'Data Entry'!F114)","v":""},{"$f":"IF('Data Entry'!G114=\"Enter C5#\",\"\",'Data Entry'!G114)","v":""},{"$f":"IF('Data Entry'!H114=\"Enter C5#\",\"\",'Data Entry'!H114)","v":""},{"$f":"IF(ISBLANK('Data Entry'!I114),\"\",'Data Entry'!I114)","v":""},{"$f":"IF(ISBLANK('Data Entry'!J114),\"\",'Data Entry'!J114)","v":""},{"$f":"IF(ISBLANK('Data Entry'!K114),\"\",'Data Entry'!K114)","v":""},{"$f":"IF(ISBLANK('Data Entry'!L114),\"\",'Data Entry'!L114)","v":""},{"$f":"IF(ISBLANK('Data Entry'!M114),\"\",'Data Entry'!M114)","v":""},{"$f":"IF(ISBLANK('Data Entry'!N114),\"\",'Data Entry'!N114)","v":""},{"$f":"IF(ISBLANK('Data Entry'!O114),\"\",'Data Entry'!O114)","v":""},{"$f":"IF(ISBLANK('Data Entry'!P114),\"\",'Data Entry'!P114)","v":""},{"$f":"IF(ISBLANK('Data Entry'!Q114),\"\",'Data Entry'!Q114)","v":""},{"$f":"IF(ISBLANK('Data Entry'!R114),\"\",'Data Entry'!R114)","v":""},{"$f":"IF(ISBLANK('Data Entry'!S114),\"\",'Data Entry'!S114)","v":""},{"$f":"IF(ISBLANK('Data Entry'!T114),\"\",'Data Entry'!T114)","v":""},{"$f":"IF(ISBLANK('Data Entry'!U114),\"\",'Data Entry'!U114)","v":""},{"$f":"IF(ISBLANK('Data Entry'!V114),\"\",'Data Entry'!V114)","v":""},{"$f":"IF(ISBLANK('Data Entry'!W114),\"\",'Data Entry'!W114)","v":"2025-26"},{"$f":"IF(ISBLANK('Data Entry'!X114),\"\",'Data Entry'!X114)","v":""},{"$f":"IF(ISBLANK('Data Entry'!Y114),\"\",'Data Entry'!Y114)","v":""}]
[110,"SANCTIONED TOURNAMENTS",{"$f":"IF(ISBLANK('Data Entry'!C115),\"\",'Data Entry'!C115)","v":""},{"$f":"IF('Data Entry'!D115=\"Pick a Zone\",\"\",'Data Entry'!D115)","v":"SANCTIONED EVENT"},{"$f":"IF('Data Entry'!E115=\"pick a tournament\",\"\",'Data Entry'!E115)","v":""},{"$f":"IF('Data Entry'!F115=\"pick a tournament\",\"\",'Data Entry'!F115)","v":""},{"$f":"IF('Data Entry'!G115=\"Enter C5#\",\"\",'Data Entry'!G115)","v":""},{"$f":"IF('Data Entry'!H115=\"Enter C5#\",\"\",'Data Entry'!H115)","v":""},{"$f":"IF(ISBLANK('Data Entry'!I115),\"\",'Data Entry'!I115)","v":""},{"$f":"IF(ISBLANK('Data Entry'!J115),\"\",'Data Entry'!J115)","v":""},{"$f":"IF(ISBLANK('Data Entry'!K115),\"\",'Data Entry'!K115)","v":""},{"$f":"IF(ISBLANK('Data Entry'!L115),\"\",'Data Entry'!L115)","v":""},{"$f":"IF(ISBLANK('Data Entry'!M115),\"\",'Data Entry'!M115)","v":""},{"$f":"IF(ISBLANK('Data Entry'!N115),\"\",'Data Entry'!N115)","v":""},{"$f":"IF(ISBLANK('Data Entry'!O115),\"\",'Data Entry'!O115)","v":""},{"$f":"IF(ISBLANK('Data Entry'!P115),\"\",'Data Entry'!P115)","v":""},{"$f":"IF(ISBLANK('Data Entry'!Q115),\"\",'Data Entry'!Q115)","v":""},{"$f":"IF(ISBLANK('Data Entry'!R115),\"\",'Data Entry'!R115)","v":""},{"$f":"IF(ISBLANK('Data Entry'!S115),\"\",'Data Entry'!S115)","v":""},{"$f":"IF(ISBLANK('Data Entry'!T115),\"\",'Data Entry'!T115)","v":""},{"$f":"IF(ISBLANK('Data Entry'!U115),\"\",'Data Entry'!U115)","v":""},{"$f":"IF(ISBLANK('Data Entry'!V115),\"\",'Data Entry'!V115)","v":""},{"$f":"IF(ISBLANK('Data Entry'!W115),\"\",'Data Entry'!W115)","v":"2025-26"},{"$f":"IF(ISBLANK('Data Entry'!X115),\"\",'Data Entry'!X115)","v":""},{"$f":"IF(ISBLANK('Data Entry'!Y115),\"\",'Data Entry'!Y115)","v":""}]
[111,"SANCTIONED TOURNAMENTS",{"$f":"IF(ISBLANK('Data Entry'!C116),\"\",'Data Entry'!C116)","v":""},{"$f":"IF('Data Entry'!D116=\"Pick a Zone\",\"\",'Data Entry'!D116)","v":"SANCTIONED EVENT"},{"$f":"IF('Data Entry'!E116=\"pick a tournament\",\"\",'Data Entry'!E116)","v":""},{"$f":"IF('Data Entry'!F116=\"pick a tournament\",\"\",'Data Entry'!F116)","v":""},{"$f":"IF('Data Entry'!G116=\"Enter C5#\",\"\",'Data Entry'!G116)","v":""},{"$f":"IF('Data Entry'!H116=\"Enter C5#\",\"\",'Data Entry'!H116)","v":""},{"$f":"IF(ISBLANK('Data Entry'!I116),\"\",'Data Entry'!I116)","v":""},{"$f":"IF(ISBLANK('Data Entry'!J116),\"\",'Data Entry'!J116)","v":""},{"$f":"IF(ISBLANK('Data Entry'!K116),\"\",'Data Entry'!K116)","v":""},{"$f":"IF(ISBLANK('Data Entry'!L116),\"\",'Data Entry'!L116)","v":""},{"$f":"IF(ISBLANK('Data Entry'!M116),\"\",'Data Entry'!M116)","v":""},{"$f":"IF(ISBLANK('Data Entry'!N116),\"\",'Data Entry'!N116)","v":""},{"$f":"IF(ISBLANK('Data Entry'!O116),\"\",'Data Entry'!O116)","v":""},{"$f":"IF(ISBLANK('Data Entry'!P116),\"\",'Data Entry'!P116)","v":""},{"$f":"IF(ISBLANK('Data Entry'!Q116),\"\",'Data Entry'!Q116)","v":""},{"$f":"IF(ISBLANK('Data Entry'!R116),\"\",'Data Entry'!R116)","v":""},{"$f":"IF(ISBLANK('Data Entry'!S116),\"\",'Data Entry'!S116)","v":""},{"$f":"IF(ISBLANK('Data Entry'!T116),\"\",'Data Entry'!T116)","v":""},{"$f":"IF(ISBLANK('Data Entry'!U116),\"\",'Data Entry'!U116)","v":""},{"$f":"IF(ISBLANK('Data Entry'!V116),\"\",'Data Entry'!V116)","v":""},{"$f":"IF(ISBLANK('Data Entry'!W116),\"\",'Data Entry'!W116)","v":"2025-26"},{"$f":"IF(ISBLANK('Data Entry'!X116),\"\",'Data Entry'!X116)","v":""},{"$f":"IF(ISBLANK('Data Entry'!Y116),\"\",'Data Entry'!Y116)","v":""}]
[112,"SANCTIONED TOURNAMENTS",{"$f":"IF(ISBLANK('Data Entry'!C117),\"\",'Data Entry'!C117)","v":""},{"$f":"IF('Data Entry'!D117=\"Pick a Zone\",\"\",'Data Entry'!D117)","v":"SANCTIONED EVENT"},{"$f":"IF('Data Entry'!E117=\"pick a tournament\",\"\",'Data Entry'!E117)","v":""},{"$f":"IF('Data Entry'!F117=\"pick a tournament\",\"\",'Data Entry'!F117)","v":""},{"$f":"IF('Data Entry'!G117=\"Enter C5#\",\"\",'Data Entry'!G117)","v":""},{"$f":"IF('Data Entry'!H117=\"Enter C5#\",\"\",'Data Entry'!H117)","v":""},{"$f":"IF(ISBLANK('Data Entry'!I117),\"\",'Data Entry'!I117)","v":""},{"$f":"IF(ISBLANK('Data Entry'!J117),\"\",'Data Entry'!J117)","v":""},{"$f":"IF(ISBLANK('Data Entry'!K117),\"\",'Data Entry'!K117)","v":""},{"$f":"IF(ISBLANK('Data Entry'!L117),\"\",'Data Entry'!L117)","v":""},{"$f":"IF(ISBLANK('Data Entry'!M117),\"\",'Data Entry'!M117)","v":""},{"$f":"IF(ISBLANK('Data Entry'!N117),\"\",'Data Entry'!N117)","v":""},{"$f":"IF(ISBLANK('Data Entry'!O117),\"\",'Data Entry'!O117)","v":""},{"$f":"IF(ISBLANK('Data Entry'!P117),\"\",'Data Entry'!P117)","v":""},{"$f":"IF(ISBLANK('Data Entry'!Q117),\"\",'Data Entry'!Q117)","v":""},{"$f":"IF(ISBLANK('Data Entry'!R117),\"\",'Data Entry'!R117)","v":""},{"$f":"IF(ISBLANK('Data Entry'!S117),\"\",'Data Entry'!S117)","v":""},{"$f":"IF(ISBLANK('Data Entry'!T117),\"\",'Data Entry'!T117)","v":""},{"$f":"IF(ISBLANK('Data Entry'!U117),\"\",'Data Entry'!U117)","v":""},{"$f":"IF(ISBLANK('Data Entry'!V117),\"\",'Data Entry'!V117)","v":""},{"$f":"IF(ISBLANK('Data Entry'!W117),\"\",'Data Entry'!W117)","v":"2025-26"},{"$f":"IF(ISBLANK('Data Entry'!X117),\"\",'Data Entry'!X117)","v":""},{"$f":"IF(ISBLANK('Data Entry'!Y117),\"\",'Data Entry'!Y117)","v":""}]
[113,"SANCTIONED TOURNAMENTS",{"$f":"IF(ISBLANK('Data Entry'!C118),\"\",'Data Entry'!C118)","v":""},{"$f":"IF('Data Entry'!D118=\"Pick a Zone\",\"\",'Data Entry'!D118)","v":"SANCTIONED EVENT"},{"$f":"IF('Data Entry'!E118=\"pick a tournament\",\"\",'Data Entry'!E118)","v":""},{"$f":"IF('Data Entry'!F118=\"pick a tournament\",\"\",'Data Entry'!F118)","v":""},{"$f":"IF('Data Entry'!G118=\"Enter C5#\",\"\",'Data Entry'!G118)","v":""},{"$f":"IF('Data Entry'!H118=\"Enter C5#\",\"\",'Data Entry'!H118)","v":""},{"$f":"IF(ISBLANK('Data Entry'!I118),\"\",'Data Entry'!I118)","v":""},{"$f":"IF(ISBLANK('Data Entry'!J118),\"\",'Data Entry'!J118)","v":""},{"$f":"IF(ISBLANK('Data Entry'!K118),\"\",'Data Entry'!K118)","v":""},{"$f":"IF(ISBLANK('Data Entry'!L118),\"\",'Data Entry'!L118)","v":""},{"$f":"IF(ISBLANK('Data Entry'!M118),\"\",'Data Entry'!M118)","v":""},{"$f":"IF(ISBLANK('Data Entry'!N118),\"\",'Data Entry'!N118)","v":""},{"$f":"IF(ISBLANK('Data Entry'!O118),\"\",'Data Entry'!O118)","v":""},{"$f":"IF(ISBLANK('Data Entry'!P118),\"\",'Data Entry'!P118)","v":""},{"$f":"IF(ISBLANK('Data Entry'!Q118),\"\",'Data Entry'!Q118)","v":""},{"$f":"IF(ISBLANK('Data Entry'!R118),\"\",'Data Entry'!R118)","v":""},{"$f":"IF(ISBLANK('Data Entry'!S118),\"\",'Data Entry'!S118)","v":""},{"$f":"IF(ISBLANK('Data Entry'!T118),\"\",'Data Entry'!T118)","v":""},{"$f":"IF(ISBLANK('Data Entry'!U118),\"\",'Data Entry'!U118)","v":""},{"$f":"IF(ISBLANK('Data Entry'!V118),\"\",'Data Entry'!V118)","v":""},{"$f":"IF(ISBLANK('Data Entry'!W118),\"\",'Data Entry'!W118)","v":"2025-26"},{"$f":"IF(ISBLANK('Data Entry'!X118),\"\",'Data Entry'!X118)","v":""},{"$f":"IF(ISBLANK('Data Entry'!Y118),\"\",'Data Entry'!Y118)","v":""}]
[114,"SANCTIONED TOURNAMENTS",{"$f":"IF(ISBLANK('Data Entry'!C119),\"\",'Data Entry'!C119)","v":""},{"$f":"IF('Data Entry'!D119=\"Pick a Zone\",\"\",'Data Entry'!D119)","v":"SANCTIONED EVENT"},{"$f":"IF('Data Entry'!E119=\"pick a tournament\",\"\",'Data Entry'!E119)","v":""},{"$f":"IF('Data Entry'!F119=\"pick a tournament\",\"\",'Data Entry'!F119)","v":""},{"$f":"IF('Data Entry'!G119=\"Enter C5#\",\"\",'Data Entry'!G119)","v":""},{"$f":"IF('Data Entry'!H119=\"Enter C5#\",\"\",'Data Entry'!H119)","v":""},{"$f":"IF(ISBLANK('Data Entry'!I119),\"\",'Data Entry'!I119)","v":""},{"$f":"IF(ISBLANK('Data Entry'!J119),\"\",'Data Entry'!J119)","v":""},{"$f":"IF(ISBLANK('Data Entry'!K119),\"\",'Data Entry'!K119)","v":""},{"$f":"IF(ISBLANK('Data Entry'!L119),\"\",'Data Entry'!L119)","v":""},{"$f":"IF(ISBLANK('Data Entry'!M119),\"\",'Data Entry'!M119)","v":""},{"$f":"IF(ISBLANK('Data Entry'!N119),\"\",'Data Entry'!N119)","v":""},{"$f":"IF(ISBLANK('Data Entry'!O119),\"\",'Data Entry'!O119)","v":""},{"$f":"IF(ISBLANK('Data Entry'!P119),\"\",'Data Entry'!P119)","v":""},{"$f":"IF(ISBLANK('Data Entry'!Q119),\"\",'Data Entry'!Q119)","v":""},{"$f":"IF(ISBLANK('Data Entry'!R119),\"\",'Data Entry'!R119)","v":""},{"$f":"IF(ISBLANK('Data Entry'!S119),\"\",'Data Entry'!S119)","v":""},{"$f":"IF(ISBLANK('Data Entry'!T119),\"\",'Data Entry'!T119)","v":""},{"$f":"IF(ISBLANK('Data Entry'!U119),\"\",'Data Entry'!U119)","v":""},{"$f":"IF(ISBLANK('Data Entry'!V119),\"\",'Data Entry'!V119)","v":""},{"$f":"IF(ISBLANK('Data Entry'!W119),\"\",'Data Entry'!W119)","v":"2025-26"},{"$f":"IF(ISBLANK('Data Entry'!X119),\"\",'Data Entry'!X119)","v":""},{"$f":"IF(ISBLANK('Data Entry'!Y119),\"\",'Data Entry'!Y119)","v":""}]
[115,"SANCTIONED TOURNAMENTS",{"$f":"IF(ISBLANK('Data Entry'!C120),\"\",'Data Entry'!C120)","v":""},{"$f":"IF('Data Entry'!D120=\"Pick a Zone\",\"\",'Data Entry'!D120)","v":"SANCTIONED EVENT"},{"$f":"IF('Data Entry'!E120=\"pick a tournament\",\"\",'Data Entry'!E120)","v":""},{"$f":"IF('Data Entry'!F120=\"pick a tournament\",\"\",'Data Entry'!F120)","v":""},{"$f":"IF('Data Entry'!G120=\"Enter C5#\",\"\",'Data Entry'!G120)","v":""},{"$f":"IF('Data Entry'!H120=\"Enter C5#\",\"\",'Data Entry'!H120)","v":""},{"$f":"IF(ISBLANK('Data Entry'!I120),\"\",'Data Entry'!I120)","v":""},{"$f":"IF(ISBLANK('Data Entry'!J120),\"\",'Data Entry'!J120)","v":""},{"$f":"IF(ISBLANK('Data Entry'!K120),\"\",'Data Entry'!K120)","v":""},{"$f":"IF(ISBLANK('Data Entry'!L120),\"\",'Data Entry'!L120)","v":""},{"$f":"IF(ISBLANK('Data Entry'!M120),\"\",'Data Entry'!M120)","v":""},{"$f":"IF(ISBLANK('Data Entry'!N120),\"\",'Data Entry'!N120)","v":""},{"$f":"IF(ISBLANK('Data Entry'!O120),\"\",'Data Entry'!O120)","v":""},{"$f":"IF(ISBLANK('Data Entry'!P120),\"\",'Data Entry'!P120)","v":""},{"$f":"IF(ISBLANK('Data Entry'!Q120),\"\",'Data Entry'!Q120)","v":""},{"$f":"IF(ISBLANK('Data Entry'!R120),\"\",'Data Entry'!R120)","v":""},{"$f":"IF(ISBLANK('Data Entry'!S120),\"\",'Data Entry'!S120)","v":""},{"$f":"IF(ISBLANK('Data Entry'!T120),\"\",'Data Entry'!T120)","v":""},{"$f":"IF(ISBLANK('Data Entry'!U120),\"\",'Data Entry'!U120)","v":""},{"$f":"IF(ISBLANK('Data Entry'!V120),\"\",'Data Entry'!V120)","v":""},{"$f":"IF(ISBLANK('Data Entry'!W120),\"\",'Data Entry'!W120)","v":"2025-26"},{"$f":"IF(ISBLANK('Data Entry'!X120),\"\",'Data Entry'!X120)","v":""},{"$f":"IF(ISBLANK('Data Entry'!Y120),\"\",'Data Entry'!Y120)","v":""}]
[116,"SANCTIONED TOURNAMENTS",{"$f":"IF(ISBLANK('Data Entry'!C121),\"\",'Data Entry'!C121)","v":""},{"$f":"IF('Data Entry'!D121=\"Pick a Zone\",\"\",'Data Entry'!D121)","v":"SANCTIONED EVENT"},{"$f":"IF('Data Entry'!E121=\"pick a tournament\",\"\",'Data Entry'!E121)","v":""},{"$f":"IF('Data Entry'!F121=\"pick a tournament\",\"\",'Data Entry'!F121)","v":""},{"$f":"IF('Data Entry'!G121=\"Enter C5#\",\"\",'Data Entry'!G121)","v":""},{"$f":"IF('Data Entry'!H121=\"Enter C5#\",\"\",'Data Entry'!H121)","v":""},{"$f":"IF(ISBLANK('Data Entry'!I121),\"\",'Data Entry'!I121)","v":""},{"$f":"IF(ISBLANK('Data Entry'!J121),\"\",'Data Entry'!J121)","v":""},{"$f":"IF(ISBLANK('Data Entry'!K121),\"\",'Data Entry'!K121)","v":""},{"$f":"IF(ISBLANK('Data Entry'!L121),\"\",'Data Entry'!L121)","v":""},{"$f":"IF(ISBLANK('Data Entry'!M121),\"\",'Data Entry'!M121)","v":""},{"$f":"IF(ISBLANK('Data Entry'!N121),\"\",'Data Entry'!N121)","v":""},{"$f":"IF(ISBLANK('Data Entry'!O121),\"\",'Data Entry'!O121)","v":""},{"$f":"IF(ISBLANK('Data Entry'!P121),\"\",'Data Entry'!P121)","v":""},{"$f":"IF(ISBLANK('Data Entry'!Q121),\"\",'Data Entry'!Q121)","v":""},{"$f":"IF(ISBLANK('Data Entry'!R121),\"\",'Data Entry'!R121)","v":""},{"$f":"IF(ISBLANK('Data Entry'!S121),\"\",'Data Entry'!S121)","v":""},{"$f":"IF(ISBLANK('Data Entry'!T121),\"\",'Data Entry'!T121)","v":""},{"$f":"IF(ISBLANK('Data Entry'!U121),\"\",'Data Entry'!U121)","v":""},{"$f":"IF(ISBLANK('Data Entry'!V121),\"\",'Data Entry'!V121)","v":""},{"$f":"IF(ISBLANK('Data Entry'!W121),\"\",'Data Entry'!W121)","v":"2025-26"},{"$f":"IF(ISBLANK('Data Entry'!X121),\"\",'Data Entry'!X121)","v":""},{"$f":"IF(ISBLANK('Data Entry'!Y121),\"\",'Data Entry'!Y121)","v":""}]
[117,"SANCTIONED TOURNAMENTS",{"$f":"IF(ISBLANK('Data Entry'!C122),\"\",'Data Entry'!C122)","v":""},{"$f":"IF('Data Entry'!D122=\"Pick a Zone\",\"\",'Data Entry'!D122)","v":"SANCTIONED EVENT"},{"$f":"IF('Data Entry'!E122=\"pick a tournament\",\"\",'Data Entry'!E122)","v":""},{"$f":"IF('Data Entry'!F122=\"pick a tournament\",\"\",'Data Entry'!F122)","v":""},{"$f":"IF('Data Entry'!G122=\"Enter C5#\",\"\",'Data Entry'!G122)","v":""},{"$f":"IF('Data Entry'!H122=\"Enter C5#\",\"\",'Data Entry'!H122)","v":""},{"$f":"IF(ISBLANK('Data Entry'!I122),\"\",'Data Entry'!I122)","v":""},{"$f":"IF(ISBLANK('Data Entry'!J122),\"\",'Data Entry'!J122)","v":""},{"$f":"IF(ISBLANK('Data Entry'!K122),\"\",'Data Entry'!K122)","v":""},{"$f":"IF(ISBLANK('Data Entry'!L122),\"\",'Data Entry'!L122)","v":""},{"$f":"IF(ISBLANK('Data Entry'!M122),\"\",'Data Entry'!M122)","v":""},{"$f":"IF(ISBLANK('Data Entry'!N122),\"\",'Data Entry'!N122)","v":""},{"$f":"IF(ISBLANK('Data Entry'!O122),\"\",'Data Entry'!O122)","v":""},{"$f":"IF(ISBLANK('Data Entry'!P122),\"\",'Data Entry'!P122)","v":""},{"$f":"IF(ISBLANK('Data Entry'!Q122),\"\",'Data Entry'!Q122)","v":""},{"$f":"IF(ISBLANK('Data Entry'!R122),\"\",'Data Entry'!R122)","v":""},{"$f":"IF(ISBLANK('Data Entry'!S122),\"\",'Data Entry'!S122)","v":""},{"$f":"IF(ISBLANK('Data Entry'!T122),\"\",'Data Entry'!T122)","v":""},{"$f":"IF(ISBLANK('Data Entry'!U122),\"\",'Data Entry'!U122)","v":""},{"$f":"IF(ISBLANK('Data Entry'!V122),\"\",'Data Entry'!V122)","v":""},{"$f":"IF(ISBLANK('Data Entry'!W122),\"\",'Data Entry'!W122)","v":"2025-26"},{"$f":"IF(ISBLANK('Data Entry'!X122),\"\",'Data Entry'!X122)","v":""},{"$f":"IF(ISBLANK('Data Entry'!Y122),\"\",'Data Entry'!Y122)","v":""}]
[118,"SANCTIONED TOURNAMENTS",{"$f":"IF(ISBLANK('Data Entry'!C123),\"\",'Data Entry'!C123)","v":""},{"$f":"IF('Data Entry'!D123=\"Pick a Zone\",\"\",'Data Entry'!D123)","v":"SANCTIONED EVENT"},{"$f":"IF('Data Entry'!E123=\"pick a tournament\",\"\",'Data Entry'!E123)","v":""},{"$f":"IF('Data Entry'!F123=\"pick a tournament\",\"\",'Data Entry'!F123)","v":""},{"$f":"IF('Data Entry'!G123=\"Enter C5#\",\"\",'Data Entry'!G123)","v":""},{"$f":"IF('Data Entry'!H123=\"Enter C5#\",\"\",'Data Entry'!H123)","v":""},{"$f":"IF(ISBLANK('Data Entry'!I123),\"\",'Data Entry'!I123)","v":""},{"$f":"IF(ISBLANK('Data Entry'!J123),\"\",'Data Entry'!J123)","v":""},{"$f":"IF(ISBLANK('Data Entry'!K123),\"\",'Data Entry'!K123)","v":""},{"$f":"IF(ISBLANK('Data Entry'!L123),\"\",'Data Entry'!L123)","v":""},{"$f":"IF(ISBLANK('Data Entry'!M123),\"\",'Data Entry'!M123)","v":""},{"$f":"IF(ISBLANK('Data Entry'!N123),\"\",'Data Entry'!N123)","v":""},{"$f":"IF(ISBLANK('Data Entry'!O123),\"\",'Data Entry'!O123)","v":""},{"$f":"IF(ISBLANK('Data Entry'!P123),\"\",'Data Entry'!P123)","v":""},{"$f":"IF(ISBLANK('Data Entry'!Q123),\"\",'Data Entry'!Q123)","v":""},{"$f":"IF(ISBLANK('Data Entry'!R123),\"\",'Data Entry'!R123)","v":""},{"$f":"IF(ISBLANK('Data Entry'!S123),\"\",'Data Entry'!S123)","v":""},{"$f":"IF(ISBLANK('Data Entry'!T123),\"\",'Data Entry'!T123)","v":""},{"$f":"IF(ISBLANK('Data Entry'!U123),\"\",'Data Entry'!U123)","v":""},{"$f":"IF(ISBLANK('Data Entry'!V123),\"\",'Data Entry'!V123)","v":""},{"$f":"IF(ISBLANK('Data Entry'!W123),\"\",'Data Entry'!W123)","v":"2025-26"},{"$f":"IF(ISBLANK('Data Entry'!X123),\"\",'Data Entry'!X123)","v":""},{"$f":"IF(ISBLANK('Data Entry'!Y123),\"\",'Data Entry'!Y123)","v":""}]
[119,"SANCTIONED TOURNAMENTS",{"$f":"IF(ISBLANK('Data Entry'!C124),\"\",'Data Entry'!C124)","v":""},{"$f":"IF('Data Entry'!D124=\"Pick a Zone\",\"\",'Data Entry'!D124)","v":"SANCTIONED EVENT"},{"$f":"IF('Data Entry'!E124=\"pick a tournament\",\"\",'Data Entry'!E124)","v":""},{"$f":"IF('Data Entry'!F124=\"pick a tournament\",\"\",'Data Entry'!F124)","v":""},{"$f":"IF('Data Entry'!G124=\"Enter C5#\",\"\",'Data Entry'!G124)","v":""},{"$f":"IF('Data Entry'!H124=\"Enter C5#\",\"\",'Data Entry'!H124)","v":""},{"$f":"IF(ISBLANK('Data Entry'!I124),\"\",'Data Entry'!I124)","v":""},{"$f":"IF(ISBLANK('Data Entry'!J124),\"\",'Data Entry'!J124)","v":""},{"$f":"IF(ISBLANK('Data Entry'!K124),\"\",'Data Entry'!K124)","v":""},{"$f":"IF(ISBLANK('Data Entry'!L124),\"\",'Data Entry'!L124)","v":""},{"$f":"IF(ISBLANK('Data Entry'!M124),\"\",'Data Entry'!M124)","v":""},{"$f":"IF(ISBLANK('Data Entry'!N124),\"\",'Data Entry'!N124)","v":""},{"$f":"IF(ISBLANK('Data Entry'!O124),\"\",'Data Entry'!O124)","v":""},{"$f":"IF(ISBLANK('Data Entry'!P124),\"\",'Data Entry'!P124)","v":""},{"$f":"IF(ISBLANK('Data Entry'!Q124),\"\",'Data Entry'!Q124)","v":""},{"$f":"IF(ISBLANK('Data Entry'!R124),\"\",'Data Entry'!R124)","v":""},{"$f":"IF(ISBLANK('Data Entry'!S124),\"\",'Data Entry'!S124)","v":""},{"$f":"IF(ISBLANK('Data Entry'!T124),\"\",'Data Entry'!T124)","v":""},{"$f":"IF(ISBLANK('Data Entry'!U124),\"\",'Data Entry'!U124)","v":""},{"$f":"IF(ISBLANK('Data Entry'!V124),\"\",'Data Entry'!V124)","v":""},{"$f":"IF(ISBLANK('Data Entry'!W124),\"\",'Data Entry'!W124)","v":"2025-26"},{"$f":"IF(ISBLANK('Data Entry'!X124),\"\",'Data Entry'!X124)","v":""},{"$f":"IF(ISBLANK('Data Entry'!Y124),\"\",'Data Entry'!Y124)","v":""}]
[120,"SANCTIONED TOURNAMENTS",{"$f":"IF(ISBLANK('Data Entry'!C125),\"\",'Data Entry'!C125)","v":""},{"$f":"IF('Data Entry'!D125=\"Pick a Zone\",\"\",'Data Entry'!D125)","v":"SANCTIONED EVENT"},{"$f":"IF('Data Entry'!E125=\"pick a tournament\",\"\",'Data Entry'!E125)","v":""},{"$f":"IF('Data Entry'!F125=\"pick a tournament\",\"\",'Data Entry'!F125)","v":""},{"$f":"IF('Data Entry'!G125=\"Enter C5#\",\"\",'Data Entry'!G125)","v":""},{"$f":"IF('Data Entry'!H125=\"Enter C5#\",\"\",'Data Entry'!H125)","v":""},{"$f":"IF(ISBLANK('Data Entry'!I125),\"\",'Data Entry'!I125)","v":""},{"$f":"IF(ISBLANK('Data Entry'!J125),\"\",'Data Entry'!J125)","v":""},{"$f":"IF(ISBLANK('Data Entry'!K125),\"\",'Data Entry'!K125)","v":""},{"$f":"IF(ISBLANK('Data Entry'!L125),\"\",'Data Entry'!L125)","v":""},{"$f":"IF(ISBLANK('Data Entry'!M125),\"\",'Data Entry'!M125)","v":""},{"$f":"IF(ISBLANK('Data Entry'!N125),\"\",'Data Entry'!N125)","v":""},{"$f":"IF(ISBLANK('Data Entry'!O125),\"\",'Data Entry'!O125)","v":""},{"$f":"IF(ISBLANK('Data Entry'!P125),\"\",'Data Entry'!P125)","v":""},{"$f":"IF(ISBLANK('Data Entry'!Q125),\"\",'Data Entry'!Q125)","v":""},{"$f":"IF(ISBLANK('Data Entry'!R125),\"\",'Data Entry'!R125)","v":""},{"$f":"IF(ISBLANK('Data Entry'!S125),\"\",'Data Entry'!S125)","v":""},{"$f":"IF(ISBLANK('Data Entry'!T125),\"\",'Data Entry'!T125)","v":""},{"$f":"IF(ISBLANK('Data Entry'!U125),\"\",'Data Entry'!U125)","v":""},{"$f":"IF(ISBLANK('Data Entry'!V125),\"\",'Data Entry'!V125)","v":""},{"$f":"IF(ISBLANK('Data Entry'!W125),\"\",'Data Entry'!W125)","v":"2025-26"},{"$f":"IF(ISBLANK('Data Entry'!X125),\"\",'Data Entry'!X125)","v":""},{"$f":"IF(ISBLANK('Data Entry'!Y125),\"\",'Data Entry'!Y125)","v":""}]
[121,"SANCTIONED TOURNAMENTS",{"$f":"IF(ISBLANK('Data Entry'!C126),\"\",'Data Entry'!C126)","v":""},{"$f":"IF('Data Entry'!D126=\"Pick a Zone\",\"\",'Data Entry'!D126)","v":"SANCTIONED EVENT"},{"$f":"IF('Data Entry'!E126=\"pick a tournament\",\"\",'Data Entry'!E126)","v":""},{"$f":"IF('Data Entry'!F126=\"pick a tournament\",\"\",'Data Entry'!F126)","v":""},{"$f":"IF('Data Entry'!G126=\"Enter C5#\",\"\",'Data Entry'!G126)","v":""},{"$f":"IF('Data Entry'!H126=\"Enter C5#\",\"\",'Data Entry'!H126)","v":""},{"$f":"IF(ISBLANK('Data Entry'!I126),\"\",'Data Entry'!I126)","v":""},{"$f":"IF(ISBLANK('Data Entry'!J126),\"\",'Data Entry'!J126)","v":""},{"$f":"IF(ISBLANK('Data Entry'!K126),\"\",'Data Entry'!K126)","v":""},{"$f":"IF(ISBLANK('Data Entry'!L126),\"\",'Data Entry'!L126)","v":""},{"$f":"IF(ISBLANK('Data Entry'!M126),\"\",'Data Entry'!M126)","v":""},{"$f":"IF(ISBLANK('Data Entry'!N126),\"\",'Data Entry'!N126)","v":""},{"$f":"IF(ISBLANK('Data Entry'!O126),\"\",'Data Entry'!O126)","v":""},{"$f":"IF(ISBLANK('Data Entry'!P126),\"\",'Data Entry'!P126)","v":""},{"$f":"IF(ISBLANK('Data Entry'!Q126),\"\",'Data Entry'!Q126)","v":""},{"$f":"IF(ISBLANK('Data Entry'!R126),\"\",'Data Entry'!R126)","v":""},{"$f":"IF(ISBLANK('Data Entry'!S126),\"\",'Data Entry'!S126)","v":""},{"$f":"IF(ISBLANK('Data Entry'!T126),\"\",'Data Entry'!T126)","v":""},{"$f":"IF(ISBLANK('Data Entry'!U126),\"\",'Data Entry'!U126)","v":""},{"$f":"IF(ISBLANK('Data Entry'!V126),\"\",'Data Entry'!V126)","v":""},{"$f":"IF(ISBLANK('Data Entry'!W126),\"\",'Data Entry'!W126)","v":"2025-26"},{"$f":"IF(ISBLANK('Data Entry'!X126),\"\",'Data Entry'!X126)","v":""},{"$f":"IF(ISBLANK('Data Entry'!Y126),\"\",'Data Entry'!Y126)","v":""}]
[122,"SANCTIONED TOURNAMENTS",{"$f":"IF(ISBLANK('Data Entry'!C127),\"\",'Data Entry'!C127)","v":""},{"$f":"IF('Data Entry'!D127=\"Pick a Zone\",\"\",'Data Entry'!D127)","v":"SANCTIONED EVENT"},{"$f":"IF('Data Entry'!E127=\"pick a tournament\",\"\",'Data Entry'!E127)","v":""},{"$f":"IF('Data Entry'!F127=\"pick a tournament\",\"\",'Data Entry'!F127)","v":""},{"$f":"IF('Data Entry'!G127=\"Enter C5#\",\"\",'Data Entry'!G127)","v":""},{"$f":"IF('Data Entry'!H127=\"Enter C5#\",\"\",'Data Entry'!H127)","v":""},{"$f":"IF(ISBLANK('Data Entry'!I127),\"\",'Data Entry'!I127)","v":""},{"$f":"IF(ISBLANK('Data Entry'!J127),\"\",'Data Entry'!J127)","v":""},{"$f":"IF(ISBLANK('Data Entry'!K127),\"\",'Data Entry'!K127)","v":""},{"$f":"IF(ISBLANK('Data Entry'!L127),\"\",'Data Entry'!L127)","v":""},{"$f":"IF(ISBLANK('Data Entry'!M127),\"\",'Data Entry'!M127)","v":""},{"$f":"IF(ISBLANK('Data Entry'!N127),\"\",'Data Entry'!N127)","v":""},{"$f":"IF(ISBLANK('Data Entry'!O127),\"\",'Data Entry'!O127)","v":""},{"$f":"IF(ISBLANK('Data Entry'!P127),\"\",'Data Entry'!P127)","v":""},{"$f":"IF(ISBLANK('Data Entry'!Q127),\"\",'Data Entry'!Q127)","v":""},{"$f":"IF(ISBLANK('Data Entry'!R127),\"\",'Data Entry'!R127)","v":""},{"$f":"IF(ISBLANK('Data Entry'!S127),\"\",'Data Entry'!S127)","v":""},{"$f":"IF(ISBLANK('Data Entry'!T127),\"\",'Data Entry'!T127)","v":""},{"$f":"IF(ISBLANK('Data Entry'!U127),\"\",'Data Entry'!U127)","v":""},{"$f":"IF(ISBLANK('Data Entry'!V127),\"\",'Data Entry'!V127)","v":""},{"$f":"IF(ISBLANK('Data Entry'!W127),\"\",'Data Entry'!W127)","v":"2025-26"},{"$f":"IF(ISBLANK('Data Entry'!X127),\"\",'Data Entry'!X127)","v":""},{"$f":"IF(ISBLANK('Data Entry'!Y127),\"\",'Data Entry'!Y127)","v":""}]
[123,"SANCTIONED TOURNAMENTS",{"$f":"IF(ISBLANK('Data Entry'!C128),\"\",'Data Entry'!C128)","v":""},{"$f":"IF('Data Entry'!D128=\"Pick a Zone\",\"\",'Data Entry'!D128)","v":"SANCTIONED EVENT"},{"$f":"IF('Data Entry'!E128=\"pick a tournament\",\"\",'Data Entry'!E128)","v":""},{"$f":"IF('Data Entry'!F128=\"pick a tournament\",\"\",'Data Entry'!F128)","v":""},{"$f":"IF('Data Entry'!G128=\"Enter C5#\",\"\",'Data Entry'!G128)","v":""},{"$f":"IF('Data Entry'!H128=\"Enter C5#\",\"\",'Data Entry'!H128)","v":""},{"$f":"IF(ISBLANK('Data Entry'!I128),\"\",'Data Entry'!I128)","v":""},{"$f":"IF(ISBLANK('Data Entry'!J128),\"\",'Data Entry'!J128)","v":""},{"$f":"IF(ISBLANK('Data Entry'!K128),\"\",'Data Entry'!K128)","v":""},{"$f":"IF(ISBLANK('Data Entry'!L128),\"\",'Data Entry'!L128)","v":""},{"$f":"IF(ISBLANK('Data Entry'!M128),\"\",'Data Entry'!M128)","v":""},{"$f":"IF(ISBLANK('Data Entry'!N128),\"\",'Data Entry'!N128)","v":""},{"$f":"IF(ISBLANK('Data Entry'!O128),\"\",'Data Entry'!O128)","v":""},{"$f":"IF(ISBLANK('Data Entry'!P128),\"\",'Data Entry'!P128)","v":""},{"$f":"IF(ISBLANK('Data Entry'!Q128),\"\",'Data Entry'!Q128)","v":""},{"$f":"IF(ISBLANK('Data Entry'!R128),\"\",'Data Entry'!R128)","v":""},{"$f":"IF(ISBLANK('Data Entry'!S128),\"\",'Data Entry'!S128)","v":""},{"$f":"IF(ISBLANK('Data Entry'!T128),\"\",'Data Entry'!T128)","v":""},{"$f":"IF(ISBLANK('Data Entry'!U128),\"\",'Data Entry'!U128)","v":""},{"$f":"IF(ISBLANK('Data Entry'!V128),\"\",'Data Entry'!V128)","v":""},{"$f":"IF(ISBLANK('Data Entry'!W128),\"\",'Data Entry'!W128)","v":"2025-26"},{"$f":"IF(ISBLANK('Data Entry'!X128),\"\",'Data Entry'!X128)","v":""},{"$f":"IF(ISBLANK('Data Entry'!Y128),\"\",'Data Entry'!Y128)","v":""}]
[124,"SANCTIONED TOURNAMENTS",{"$f":"IF(ISBLANK('Data Entry'!C129),\"\",'Data Entry'!C129)","v":""},{"$f":"IF('Data Entry'!D129=\"Pick a Zone\",\"\",'Data Entry'!D129)","v":"SANCTIONED EVENT"},{"$f":"IF('Data Entry'!E129=\"pick a tournament\",\"\",'Data Entry'!E129)","v":""},{"$f":"IF('Data Entry'!F129=\"pick a tournament\",\"\",'Data Entry'!F129)","v":""},{"$f":"IF('Data Entry'!G129=\"Enter C5#\",\"\",'Data Entry'!G129)","v":""},{"$f":"IF('Data Entry'!H129=\"Enter C5#\",\"\",'Data Entry'!H129)","v":""},{"$f":"IF(ISBLANK('Data Entry'!I129),\"\",'Data Entry'!I129)","v":""},{"$f":"IF(ISBLANK('Data Entry'!J129),\"\",'Data Entry'!J129)","v":""},{"$f":"IF(ISBLANK('Data Entry'!K129),\"\",'Data Entry'!K129)","v":""},{"$f":"IF(ISBLANK('Data Entry'!L129),\"\",'Data Entry'!L129)","v":""},{"$f":"IF(ISBLANK('Data Entry'!M129),\"\",'Data Entry'!M129)","v":""},{"$f":"IF(ISBLANK('Data Entry'!N129),\"\",'Data Entry'!N129)","v":""},{"$f":"IF(ISBLANK('Data Entry'!O129),\"\",'Data Entry'!O129)","v":""},{"$f":"IF(ISBLANK('Data Entry'!P129),\"\",'Data Entry'!P129)","v":""},{"$f":"IF(ISBLANK('Data Entry'!Q129),\"\",'Data Entry'!Q129)","v":""},{"$f":"IF(ISBLANK('Data Entry'!R129),\"\",'Data Entry'!R129)","v":""},{"$f":"IF(ISBLANK('Data Entry'!S129),\"\",'Data Entry'!S129)","v":""},{"$f":"IF(ISBLANK('Data Entry'!T129),\"\",'Data Entry'!T129)","v":""},{"$f":"IF(ISBLANK('Data Entry'!U129),\"\",'Data Entry'!U129)","v":""},{"$f":"IF(ISBLANK('Data Entry'!V129),\"\",'Data Entry'!V129)","v":""},{"$f":"IF(ISBLANK('Data Entry'!W129),\"\",'Data Entry'!W129)","v":"2025-26"},{"$f":"IF(ISBLANK('Data Entry'!X129),\"\",'Data Entry'!X129)","v":""},{"$f":"IF(ISBLANK('Data Entry'!Y129),\"\",'Data Entry'!Y129)","v":""}]
[125,"SANCTIONED TOURNAMENTS",{"$f":"IF(ISBLANK('Data Entry'!C130),\"\",'Data Entry'!C130)","v":""},{"$f":"IF('Data Entry'!D130=\"Pick a Zone\",\"\",'Data Entry'!D130)","v":"SANCTIONED EVENT"},{"$f":"IF('Data Entry'!E130=\"pick a tournament\",\"\",'Data Entry'!E130)","v":""},{"$f":"IF('Data Entry'!F130=\"pick a tournament\",\"\",'Data Entry'!F130)","v":""},{"$f":"IF('Data Entry'!G130=\"Enter C5#\",\"\",'Data Entry'!G130)","v":""},{"$f":"IF('Data Entry'!H130=\"Enter C5#\",\"\",'Data Entry'!H130)","v":""},{"$f":"IF(ISBLANK('Data Entry'!I130),\"\",'Data Entry'!I130)","v":""},{"$f":"IF(ISBLANK('Data Entry'!J130),\"\",'Data Entry'!J130)","v":""},{"$f":"IF(ISBLANK('Data Entry'!K130),\"\",'Data Entry'!K130)","v":""},{"$f":"IF(ISBLANK('Data Entry'!L130),\"\",'Data Entry'!L130)","v":""},{"$f":"IF(ISBLANK('Data Entry'!M130),\"\",'Data Entry'!M130)","v":""},{"$f":"IF(ISBLANK('Data Entry'!N130),\"\",'Data Entry'!N130)","v":""},{"$f":"IF(ISBLANK('Data Entry'!O130),\"\",'Data Entry'!O130)","v":""},{"$f":"IF(ISBLANK('Data Entry'!P130),\"\",'Data Entry'!P130)","v":""},{"$f":"IF(ISBLANK('Data Entry'!Q130),\"\",'Data Entry'!Q130)","v":""},{"$f":"IF(ISBLANK('Data Entry'!R130),\"\",'Data Entry'!R130)","v":""},{"$f":"IF(ISBLANK('Data Entry'!S130),\"\",'Data Entry'!S130)","v":""},{"$f":"IF(ISBLANK('Data Entry'!T130),\"\",'Data Entry'!T130)","v":""},{"$f":"IF(ISBLANK('Data Entry'!U130),\"\",'Data Entry'!U130)","v":""},{"$f":"IF(ISBLANK('Data Entry'!V130),\"\",'Data Entry'!V130)","v":""},{"$f":"IF(ISBLANK('Data Entry'!W130),\"\",'Data Entry'!W130)","v":"2025-26"},{"$f":"IF(ISBLANK('Data Entry'!X130),\"\",'Data Entry'!X130)","v":""},{"$f":"IF(ISBLANK('Data Entry'!Y130),\"\",'Data Entry'!Y130)","v":""}]
[126,"SANCTIONED TOURNAMENTS",{"$f":"IF(ISBLANK('Data Entry'!C131),\"\",'Data Entry'!C131)","v":""},{"$f":"IF('Data Entry'!D131=\"Pick a Zone\",\"\",'Data Entry'!D131)","v":"SANCTIONED EVENT"},{"$f":"IF('Data Entry'!E131=\"pick a tournament\",\"\",'Data Entry'!E131)","v":""},{"$f":"IF('Data Entry'!F131=\"pick a tournament\",\"\",'Data Entry'!F131)","v":""},{"$f":"IF('Data Entry'!G131=\"Enter C5#\",\"\",'Data Entry'!G131)","v":""},{"$f":"IF('Data Entry'!H131=\"Enter C5#\",\"\",'Data Entry'!H131)","v":""},{"$f":"IF(ISBLANK('Data Entry'!I131),\"\",'Data Entry'!I131)","v":""},{"$f":"IF(ISBLANK('Data Entry'!J131),\"\",'Data Entry'!J131)","v":""},{"$f":"IF(ISBLANK('Data Entry'!K131),\"\",'Data Entry'!K131)","v":""},{"$f":"IF(ISBLANK('Data Entry'!L131),\"\",'Data Entry'!L131)","v":""},{"$f":"IF(ISBLANK('Data Entry'!M131),\"\",'Data Entry'!M131)","v":""},{"$f":"IF(ISBLANK('Data Entry'!N131),\"\",'Data Entry'!N131)","v":""},{"$f":"IF(ISBLANK('Data Entry'!O131),\"\",'Data Entry'!O131)","v":""},{"$f":"IF(ISBLANK('Data Entry'!P131),\"\",'Data Entry'!P131)","v":""},{"$f":"IF(ISBLANK('Data Entry'!Q131),\"\",'Data Entry'!Q131)","v":""},{"$f":"IF(ISBLANK('Data Entry'!R131),\"\",'Data Entry'!R131)","v":""},{"$f":"IF(ISBLANK('Data Entry'!S131),\"\",'Data Entry'!S131)","v":""},{"$f":"IF(ISBLANK('Data Entry'!T131),\"\",'Data Entry'!T131)","v":""},{"$f":"IF(ISBLANK('Data Entry'!U131),\"\",'Data Entry'!U131)","v":""},{"$f":"IF(ISBLANK('Data Entry'!V131),\"\",'Data Entry'!V131)","v":""},{"$f":"IF(ISBLANK('Data Entry'!W131),\"\",'Data Entry'!W131)","v":"2025-26"},{"$f":"IF(ISBLANK('Data Entry'!X131),\"\",'Data Entry'!X131)","v":""},{"$f":"IF(ISBLANK('Data Entry'!Y131),\"\",'Data Entry'!Y131)","v":""}]
[127,"SANCTIONED TOURNAMENTS",{"$f":"IF(ISBLANK('Data Entry'!C132),\"\",'Data Entry'!C132)","v":""},{"$f":"IF('Data Entry'!D132=\"Pick a Zone\",\"\",'Data Entry'!D132)","v":"SANCTIONED EVENT"},{"$f":"IF('Data Entry'!E132=\"pick a tournament\",\"\",'Data Entry'!E132)","v":""},{"$f":"IF('Data Entry'!F132=\"pick a tournament\",\"\",'Data Entry'!F132)","v":""},{"$f":"IF('Data Entry'!G132=\"Enter C5#\",\"\",'Data Entry'!G132)","v":""},{"$f":"IF('Data Entry'!H132=\"Enter C5#\",\"\",'Data Entry'!H132)","v":""},{"$f":"IF(ISBLANK('Data Entry'!I132),\"\",'Data Entry'!I132)","v":""},{"$f":"IF(ISBLANK('Data Entry'!J132),\"\",'Data Entry'!J132)","v":""},{"$f":"IF(ISBLANK('Data Entry'!K132),\"\",'Data Entry'!K132)","v":""},{"$f":"IF(ISBLANK('Data Entry'!L132),\"\",'Data Entry'!L132)","v":""},{"$f":"IF(ISBLANK('Data Entry'!M132),\"\",'Data Entry'!M132)","v":""},{"$f":"IF(ISBLANK('Data Entry'!N132),\"\",'Data Entry'!N132)","v":""},{"$f":"IF(ISBLANK('Data Entry'!O132),\"\",'Data Entry'!O132)","v":""},{"$f":"IF(ISBLANK('Data Entry'!P132),\"\",'Data Entry'!P132)","v":""},{"$f":"IF(ISBLANK('Data Entry'!Q132),\"\",'Data Entry'!Q132)","v":""},{"$f":"IF(ISBLANK('Data Entry'!R132),\"\",'Data Entry'!R132)","v":""},{"$f":"IF(ISBLANK('Data Entry'!S132),\"\",'Data Entry'!S132)","v":""},{"$f":"IF(ISBLANK('Data Entry'!T132),\"\",'Data Entry'!T132)","v":""},{"$f":"IF(ISBLANK('Data Entry'!U132),\"\",'Data Entry'!U132)","v":""},{"$f":"IF(ISBLANK('Data Entry'!V132),\"\",'Data Entry'!V132)","v":""},{"$f":"IF(ISBLANK('Data Entry'!W132),\"\",'Data Entry'!W132)","v":"2025-26"},{"$f":"IF(ISBLANK('Data Entry'!X132),\"\",'Data Entry'!X132)","v":""},{"$f":"IF(ISBLANK('Data Entry'!Y132),\"\",'Data Entry'!Y132)","v":""}]
[128,"SANCTIONED TOURNAMENTS",{"$f":"IF(ISBLANK('Data Entry'!C133),\"\",'Data Entry'!C133)","v":""},{"$f":"IF('Data Entry'!D133=\"Pick a Zone\",\"\",'Data Entry'!D133)","v":"SANCTIONED EVENT"},{"$f":"IF('Data Entry'!E133=\"pick a tournament\",\"\",'Data Entry'!E133)","v":""},{"$f":"IF('Data Entry'!F133=\"pick a tournament\",\"\",'Data Entry'!F133)","v":""},{"$f":"IF('Data Entry'!G133=\"Enter C5#\",\"\",'Data Entry'!G133)","v":""},{"$f":"IF('Data Entry'!H133=\"Enter C5#\",\"\",'Data Entry'!H133)","v":""},{"$f":"IF(ISBLANK('Data Entry'!I133),\"\",'Data Entry'!I133)","v":""},{"$f":"IF(ISBLANK('Data Entry'!J133),\"\",'Data Entry'!J133)","v":""},{"$f":"IF(ISBLANK('Data Entry'!K133),\"\",'Data Entry'!K133)","v":""},{"$f":"IF(ISBLANK('Data Entry'!L133),\"\",'Data Entry'!L133)","v":""},{"$f":"IF(ISBLANK('Data Entry'!M133),\"\",'Data Entry'!M133)","v":""},{"$f":"IF(ISBLANK('Data Entry'!N133),\"\",'Data Entry'!N133)","v":""},{"$f":"IF(ISBLANK('Data Entry'!O133),\"\",'Data Entry'!O133)","v":""},{"$f":"IF(ISBLANK('Data Entry'!P133),\"\",'Data Entry'!P133)","v":""},{"$f":"IF(ISBLANK('Data Entry'!Q133),\"\",'Data Entry'!Q133)","v":""},{"$f":"IF(ISBLANK('Data Entry'!R133),\"\",'Data Entry'!R133)","v":""},{"$f":"IF(ISBLANK('Data Entry'!S133),\"\",'Data Entry'!S133)","v":""},{"$f":"IF(ISBLANK('Data Entry'!T133),\"\",'Data Entry'!T133)","v":""},{"$f":"IF(ISBLANK('Data Entry'!U133),\"\",'Data Entry'!U133)","v":""},{"$f":"IF(ISBLANK('Data Entry'!V133),\"\",'Data Entry'!V133)","v":""},{"$f":"IF(ISBLANK('Data Entry'!W133),\"\",'Data Entry'!W133)","v":"2025-26"},{"$f":"IF(ISBLANK('Data Entry'!X133),\"\",'Data Entry'!X133)","v":""},{"$f":"IF(ISBLANK('Data Entry'!Y133),\"\",'Data Entry'!Y133)","v":""}]
[129,"SANCTIONED TOURNAMENTS",{"$f":"IF(ISBLANK('Data Entry'!C134),\"\",'Data Entry'!C134)","v":""},{"$f":"IF('Data Entry'!D134=\"Pick a Zone\",\"\",'Data Entry'!D134)","v":"SANCTIONED EVENT"},{"$f":"IF('Data Entry'!E134=\"pick a tournament\",\"\",'Data Entry'!E134)","v":""},{"$f":"IF('Data Entry'!F134=\"pick a tournament\",\"\",'Data Entry'!F134)","v":""},{"$f":"IF('Data Entry'!G134=\"Enter C5#\",\"\",'Data Entry'!G134)","v":""},{"$f":"IF('Data Entry'!H134=\"Enter C5#\",\"\",'Data Entry'!H134)","v":""},{"$f":"IF(ISBLANK('Data Entry'!I134),\"\",'Data Entry'!I134)","v":""},{"$f":"IF(ISBLANK('Data Entry'!J134),\"\",'Data Entry'!J134)","v":""},{"$f":"IF(ISBLANK('Data Entry'!K134),\"\",'Data Entry'!K134)","v":""},{"$f":"IF(ISBLANK('Data Entry'!L134),\"\",'Data Entry'!L134)","v":""},{"$f":"IF(ISBLANK('Data Entry'!M134),\"\",'Data Entry'!M134)","v":""},{"$f":"IF(ISBLANK('Data Entry'!N134),\"\",'Data Entry'!N134)","v":""},{"$f":"IF(ISBLANK('Data Entry'!O134),\"\",'Data Entry'!O134)","v":""},{"$f":"IF(ISBLANK('Data Entry'!P134),\"\",'Data Entry'!P134)","v":""},{"$f":"IF(ISBLANK('Data Entry'!Q134),\"\",'Data Entry'!Q134)","v":""},{"$f":"IF(ISBLANK('Data Entry'!R134),\"\",'Data Entry'!R134)","v":""},{"$f":"IF(ISBLANK('Data Entry'!S134),\"\",'Data Entry'!S134)","v":""},{"$f":"IF(ISBLANK('Data Entry'!T134),\"\",'Data Entry'!T134)","v":""},{"$f":"IF(ISBLANK('Data Entry'!U134),\"\",'Data Entry'!U134)","v":""},{"$f":"IF(ISBLANK('Data Entry'!V134),\"\",'Data Entry'!V134)","v":""},{"$f":"IF(ISBLANK('Data Entry'!W134),\"\",'Data Entry'!W134)","v":"2025-26"},{"$f":"IF(ISBLANK('Data Entry'!X134),\"\",'Data Entry'!X134)","v":""},{"$f":"IF(ISBLANK('Data Entry'!Y134),\"\",'Data Entry'!Y134)","v":""}]
[130,"SANCTIONED TOURNAMENTS",{"$f":"IF(ISBLANK('Data Entry'!C135),\"\",'Data Entry'!C135)","v":""},{"$f":"IF('Data Entry'!D135=\"Pick a Zone\",\"\",'Data Entry'!D135)","v":"SANCTIONED EVENT"},{"$f":"IF('Data Entry'!E135=\"pick a tournament\",\"\",'Data Entry'!E135)","v":""},{"$f":"IF('Data Entry'!F135=\"pick a tournament\",\"\",'Data Entry'!F135)","v":""},{"$f":"IF('Data Entry'!G135=\"Enter C5#\",\"\",'Data Entry'!G135)","v":""},{"$f":"IF('Data Entry'!H135=\"Enter C5#\",\"\",'Data Entry'!H135)","v":""},{"$f":"IF(ISBLANK('Data Entry'!I135),\"\",'Data Entry'!I135)","v":""},{"$f":"IF(ISBLANK('Data Entry'!J135),\"\",'Data Entry'!J135)","v":""},{"$f":"IF(ISBLANK('Data Entry'!K135),\"\",'Data Entry'!K135)","v":""},{"$f":"IF(ISBLANK('Data Entry'!L135),\"\",'Data Entry'!L135)","v":""},{"$f":"IF(ISBLANK('Data Entry'!M135),\"\",'Data Entry'!M135)","v":""},{"$f":"IF(ISBLANK('Data Entry'!N135),\"\",'Data Entry'!N135)","v":""},{"$f":"IF(ISBLANK('Data Entry'!O135),\"\",'Data Entry'!O135)","v":""},{"$f":"IF(ISBLANK('Data Entry'!P135),\"\",'Data Entry'!P135)","v":""},{"$f":"IF(ISBLANK('Data Entry'!Q135),\"\",'Data Entry'!Q135)","v":""},{"$f":"IF(ISBLANK('Data Entry'!R135),\"\",'Data Entry'!R135)","v":""},{"$f":"IF(ISBLANK('Data Entry'!S135),\"\",'Data Entry'!S135)","v":""},{"$f":"IF(ISBLANK('Data Entry'!T135),\"\",'Data Entry'!T135)","v":""},{"$f":"IF(ISBLANK('Data Entry'!U135),\"\",'Data Entry'!U135)","v":""},{"$f":"IF(ISBLANK('Data Entry'!V135),\"\",'Data Entry'!V135)","v":""},{"$f":"IF(ISBLANK('Data Entry'!W135),\"\",'Data Entry'!W135)","v":"2025-26"},{"$f":"IF(ISBLANK('Data Entry'!X135),\"\",'Data Entry'!X135)","v":""},{"$f":"IF(ISBLANK('Data Entry'!Y135),\"\",'Data Entry'!Y135)","v":""}]
[131,"SANCTIONED TOURNAMENTS",{"$f":"IF(ISBLANK('Data Entry'!C136),\"\",'Data Entry'!C136)","v":""},{"$f":"IF('Data Entry'!D136=\"Pick a Zone\",\"\",'Data Entry'!D136)","v":"SANCTIONED EVENT"},{"$f":"IF('Data Entry'!E136=\"pick a tournament\",\"\",'Data Entry'!E136)","v":""},{"$f":"IF('Data Entry'!F136=\"pick a tournament\",\"\",'Data Entry'!F136)","v":""},{"$f":"IF('Data Entry'!G136=\"Enter C5#\",\"\",'Data Entry'!G136)","v":""},{"$f":"IF('Data Entry'!H136=\"Enter C5#\",\"\",'Data Entry'!H136)","v":""},{"$f":"IF(ISBLANK('Data Entry'!I136),\"\",'Data Entry'!I136)","v":""},{"$f":"IF(ISBLANK('Data Entry'!J136),\"\",'Data Entry'!J136)","v":""},{"$f":"IF(ISBLANK('Data Entry'!K136),\"\",'Data Entry'!K136)","v":""},{"$f":"IF(ISBLANK('Data Entry'!L136),\"\",'Data Entry'!L136)","v":""},{"$f":"IF(ISBLANK('Data Entry'!M136),\"\",'Data Entry'!M136)","v":""},{"$f":"IF(ISBLANK('Data Entry'!N136),\"\",'Data Entry'!N136)","v":""},{"$f":"IF(ISBLANK('Data Entry'!O136),\"\",'Data Entry'!O136)","v":""},{"$f":"IF(ISBLANK('Data Entry'!P136),\"\",'Data Entry'!P136)","v":""},{"$f":"IF(ISBLANK('Data Entry'!Q136),\"\",'Data Entry'!Q136)","v":""},{"$f":"IF(ISBLANK('Data Entry'!R136),\"\",'Data Entry'!R136)","v":""},{"$f":"IF(ISBLANK('Data Entry'!S136),\"\",'Data Entry'!S136)","v":""},{"$f":"IF(ISBLANK('Data Entry'!T136),\"\",'Data Entry'!T136)","v":""},{"$f":"IF(ISBLANK('Data Entry'!U136),\"\",'Data Entry'!U136)","v":""},{"$f":"IF(ISBLANK('Data Entry'!V136),\"\",'Data Entry'!V136)","v":""},{"$f":"IF(ISBLANK('Data Entry'!W136),\"\",'Data Entry'!W136)","v":"2025-26"},{"$f":"IF(ISBLANK('Data Entry'!X136),\"\",'Data Entry'!X136)","v":""},{"$f":"IF(ISBLANK('Data Entry'!Y136),\"\",'Data Entry'!Y136)","v":""}]
[132,"SANCTIONED TOURNAMENTS",{"$f":"IF(ISBLANK('Data Entry'!C137),\"\",'Data Entry'!C137)","v":""},{"$f":"IF('Data Entry'!D137=\"Pick a Zone\",\"\",'Data Entry'!D137)","v":"SANCTIONED EVENT"},{"$f":"IF('Data Entry'!E137=\"pick a tournament\",\"\",'Data Entry'!E137)","v":""},{"$f":"IF('Data Entry'!F137=\"pick a tournament\",\"\",'Data Entry'!F137)","v":""},{"$f":"IF('Data Entry'!G137=\"Enter C5#\",\"\",'Data Entry'!G137)","v":""},{"$f":"IF('Data Entry'!H137=\"Enter C5#\",\"\",'Data Entry'!H137)","v":""},{"$f":"IF(ISBLANK('Data Entry'!I137),\"\",'Data Entry'!I137)","v":""},{"$f":"IF(ISBLANK('Data Entry'!J137),\"\",'Data Entry'!J137)","v":""},{"$f":"IF(ISBLANK('Data Entry'!K137),\"\",'Data Entry'!K137)","v":""},{"$f":"IF(ISBLANK('Data Entry'!L137),\"\",'Data Entry'!L137)","v":""},{"$f":"IF(ISBLANK('Data Entry'!M137),\"\",'Data Entry'!M137)","v":""},{"$f":"IF(ISBLANK('Data Entry'!N137),\"\",'Data Entry'!N137)","v":""},{"$f":"IF(ISBLANK('Data Entry'!O137),\"\",'Data Entry'!O137)","v":""},{"$f":"IF(ISBLANK('Data Entry'!P137),\"\",'Data Entry'!P137)","v":""},{"$f":"IF(ISBLANK('Data Entry'!Q137),\"\",'Data Entry'!Q137)","v":""},{"$f":"IF(ISBLANK('Data Entry'!R137),\"\",'Data Entry'!R137)","v":""},{"$f":"IF(ISBLANK('Data Entry'!S137),\"\",'Data Entry'!S137)","v":""},{"$f":"IF(ISBLANK('Data Entry'!T137),\"\",'Data Entry'!T137)","v":""},{"$f":"IF(ISBLANK('Data Entry'!U137),\"\",'Data Entry'!U137)","v":""},{"$f":"IF(ISBLANK('Data Entry'!V137),\"\",'Data Entry'!V137)","v":""},{"$f":"IF(ISBLANK('Data Entry'!W137),\"\",'Data Entry'!W137)","v":"2025-26"},{"$f":"IF(ISBLANK('Data Entry'!X137),\"\",'Data Entry'!X137)","v":""},{"$f":"IF(ISBLANK('Data Entry'!Y137),\"\",'Data Entry'!Y137)","v":""}]
[133,"SANCTIONED TOURNAMENTS",{"$f":"IF(ISBLANK('Data Entry'!C138),\"\",'Data Entry'!C138)","v":""},{"$f":"IF('Data Entry'!D138=\"Pick a Zone\",\"\",'Data Entry'!D138)","v":"SANCTIONED EVENT"},{"$f":"IF('Data Entry'!E138=\"pick a tournament\",\"\",'Data Entry'!E138)","v":""},{"$f":"IF('Data Entry'!F138=\"pick a tournament\",\"\",'Data Entry'!F138)","v":""},{"$f":"IF('Data Entry'!G138=\"Enter C5#\",\"\",'Data Entry'!G138)","v":""},{"$f":"IF('Data Entry'!H138=\"Enter C5#\",\"\",'Data Entry'!H138)","v":""},{"$f":"IF(ISBLANK('Data Entry'!I138),\"\",'Data Entry'!I138)","v":""},{"$f":"IF(ISBLANK('Data Entry'!J138),\"\",'Data Entry'!J138)","v":""},{"$f":"IF(ISBLANK('Data Entry'!K138),\"\",'Data Entry'!K138)","v":""},{"$f":"IF(ISBLANK('Data Entry'!L138),\"\",'Data Entry'!L138)","v":""},{"$f":"IF(ISBLANK('Data Entry'!M138),\"\",'Data Entry'!M138)","v":""},{"$f":"IF(ISBLANK('Data Entry'!N138),\"\",'Data Entry'!N138)","v":""},{"$f":"IF(ISBLANK('Data Entry'!O138),\"\",'Data Entry'!O138)","v":""},{"$f":"IF(ISBLANK('Data Entry'!P138),\"\",'Data Entry'!P138)","v":""},{"$f":"IF(ISBLANK('Data Entry'!Q138),\"\",'Data Entry'!Q138)","v":""},{"$f":"IF(ISBLANK('Data Entry'!R138),\"\",'Data Entry'!R138)","v":""},{"$f":"IF(ISBLANK('Data Entry'!S138),\"\",'Data Entry'!S138)","v":""},{"$f":"IF(ISBLANK('Data Entry'!T138),\"\",'Data Entry'!T138)","v":""},{"$f":"IF(ISBLANK('Data Entry'!U138),\"\",'Data Entry'!U138)","v":""},{"$f":"IF(ISBLANK('Data Entry'!V138),\"\",'Data Entry'!V138)","v":""},{"$f":"IF(ISBLANK('Data Entry'!W138),\"\",'Data Entry'!W138)","v":"2025-26"},{"$f":"IF(ISBLANK('Data Entry'!X138),\"\",'Data Entry'!X138)","v":""},{"$f":"IF(ISBLANK('Data Entry'!Y138),\"\",'Data Entry'!Y138)","v":""}]
[134,"SANCTIONED TOURNAMENTS",{"$f":"IF(ISBLANK('Data Entry'!C139),\"\",'Data Entry'!C139)","v":""},{"$f":"IF('Data Entry'!D139=\"Pick a Zone\",\"\",'Data Entry'!D139)","v":"SANCTIONED EVENT"},{"$f":"IF('Data Entry'!E139=\"pick a tournament\",\"\",'Data Entry'!E139)","v":""},{"$f":"IF('Data Entry'!F139=\"pick a tournament\",\"\",'Data Entry'!F139)","v":""},{"$f":"IF('Data Entry'!G139=\"Enter C5#\",\"\",'Data Entry'!G139)","v":""},{"$f":"IF('Data Entry'!H139=\"Enter C5#\",\"\",'Data Entry'!H139)","v":""},{"$f":"IF(ISBLANK('Data Entry'!I139),\"\",'Data Entry'!I139)","v":""},{"$f":"IF(ISBLANK('Data Entry'!J139),\"\",'Data Entry'!J139)","v":""},{"$f":"IF(ISBLANK('Data Entry'!K139),\"\",'Data Entry'!K139)","v":""},{"$f":"IF(ISBLANK('Data Entry'!L139),\"\",'Data Entry'!L139)","v":""},{"$f":"IF(ISBLANK('Data Entry'!M139),\"\",'Data Entry'!M139)","v":""},{"$f":"IF(ISBLANK('Data Entry'!N139),\"\",'Data Entry'!N139)","v":""},{"$f":"IF(ISBLANK('Data Entry'!O139),\"\",'Data Entry'!O139)","v":""},{"$f":"IF(ISBLANK('Data Entry'!P139),\"\",'Data Entry'!P139)","v":""},{"$f":"IF(ISBLANK('Data Entry'!Q139),\"\",'Data Entry'!Q139)","v":""},{"$f":"IF(ISBLANK('Data Entry'!R139),\"\",'Data Entry'!R139)","v":""},{"$f":"IF(ISBLANK('Data Entry'!S139),\"\",'Data Entry'!S139)","v":""},{"$f":"IF(ISBLANK('Data Entry'!T139),\"\",'Data Entry'!T139)","v":""},{"$f":"IF(ISBLANK('Data Entry'!U139),\"\",'Data Entry'!U139)","v":""},{"$f":"IF(ISBLANK('Data Entry'!V139),\"\",'Data Entry'!V139)","v":""},{"$f":"IF(ISBLANK('Data Entry'!W139),\"\",'Data Entry'!W139)","v":"2025-26"},{"$f":"IF(ISBLANK('Data Entry'!X139),\"\",'Data Entry'!X139)","v":""},{"$f":"IF(ISBLANK('Data Entry'!Y139),\"\",'Data Entry'!Y139)","v":""}]
[135,"SANCTIONED TOURNAMENTS",{"$f":"IF(ISBLANK('Data Entry'!C140),\"\",'Data Entry'!C140)","v":""},{"$f":"IF('Data Entry'!D140=\"Pick a Zone\",\"\",'Data Entry'!D140)","v":"SANCTIONED EVENT"},{"$f":"IF('Data Entry'!E140=\"pick a tournament\",\"\",'Data Entry'!E140)","v":""},{"$f":"IF('Data Entry'!F140=\"pick a tournament\",\"\",'Data Entry'!F140)","v":""},{"$f":"IF('Data Entry'!G140=\"Enter C5#\",\"\",'Data Entry'!G140)","v":""},{"$f":"IF('Data Entry'!H140=\"Enter C5#\",\"\",'Data Entry'!H140)","v":""},{"$f":"IF(ISBLANK('Data Entry'!I140),\"\",'Data Entry'!I140)","v":""},{"$f":"IF(ISBLANK('Data Entry'!J140),\"\",'Data Entry'!J140)","v":""},{"$f":"IF(ISBLANK('Data Entry'!K140),\"\",'Data Entry'!K140)","v":""},{"$f":"IF(ISBLANK('Data Entry'!L140),\"\",'Data Entry'!L140)","v":""},{"$f":"IF(ISBLANK('Data Entry'!M140),\"\",'Data Entry'!M140)","v":""},{"$f":"IF(ISBLANK('Data Entry'!N140),\"\",'Data Entry'!N140)","v":""},{"$f":"IF(ISBLANK('Data Entry'!O140),\"\",'Data Entry'!O140)","v":""},{"$f":"IF(ISBLANK('Data Entry'!P140),\"\",'Data Entry'!P140)","v":""},{"$f":"IF(ISBLANK('Data Entry'!Q140),\"\",'Data Entry'!Q140)","v":""},{"$f":"IF(ISBLANK('Data Entry'!R140),\"\",'Data Entry'!R140)","v":""},{"$f":"IF(ISBLANK('Data Entry'!S140),\"\",'Data Entry'!S140)","v":""},{"$f":"IF(ISBLANK('Data Entry'!T140),\"\",'Data Entry'!T140)","v":""},{"$f":"IF(ISBLANK('Data Entry'!U140),\"\",'Data Entry'!U140)","v":""},{"$f":"IF(ISBLANK('Data Entry'!V140),\"\",'Data Entry'!V140)","v":""},{"$f":"IF(ISBLANK('Data Entry'!W140),\"\",'Data Entry'!W140)","v":"2025-26"},{"$f":"IF(ISBLANK('Data Entry'!X140),\"\",'Data Entry'!X140)","v":""},{"$f":"IF(ISBLANK('Data Entry'!Y140),\"\",'Data Entry'!Y140)","v":""}]
[136,"SANCTIONED TOURNAMENTS",{"$f":"IF(ISBLANK('Data Entry'!C141),\"\",'Data Entry'!C141)","v":""},{"$f":"IF('Data Entry'!D141=\"Pick a Zone\",\"\",'Data Entry'!D141)","v":"SANCTIONED EVENT"},{"$f":"IF('Data Entry'!E141=\"pick a tournament\",\"\",'Data Entry'!E141)","v":""},{"$f":"IF('Data Entry'!F141=\"pick a tournament\",\"\",'Data Entry'!F141)","v":""},{"$f":"IF('Data Entry'!G141=\"Enter C5#\",\"\",'Data Entry'!G141)","v":""},{"$f":"IF('Data Entry'!H141=\"Enter C5#\",\"\",'Data Entry'!H141)","v":""},{"$f":"IF(ISBLANK('Data Entry'!I141),\"\",'Data Entry'!I141)","v":""},{"$f":"IF(ISBLANK('Data Entry'!J141),\"\",'Data Entry'!J141)","v":""},{"$f":"IF(ISBLANK('Data Entry'!K141),\"\",'Data Entry'!K141)","v":""},{"$f":"IF(ISBLANK('Data Entry'!L141),\"\",'Data Entry'!L141)","v":""},{"$f":"IF(ISBLANK('Data Entry'!M141),\"\",'Data Entry'!M141)","v":""},{"$f":"IF(ISBLANK('Data Entry'!N141),\"\",'Data Entry'!N141)","v":""},{"$f":"IF(ISBLANK('Data Entry'!O141),\"\",'Data Entry'!O141)","v":""},{"$f":"IF(ISBLANK('Data Entry'!P141),\"\",'Data Entry'!P141)","v":""},{"$f":"IF(ISBLANK('Data Entry'!Q141),\"\",'Data Entry'!Q141)","v":""},{"$f":"IF(ISBLANK('Data Entry'!R141),\"\",'Data Entry'!R141)","v":""},{"$f":"IF(ISBLANK('Data Entry'!S141),\"\",'Data Entry'!S141)","v":""},{"$f":"IF(ISBLANK('Data Entry'!T141),\"\",'Data Entry'!T141)","v":""},{"$f":"IF(ISBLANK('Data Entry'!U141),\"\",'Data Entry'!U141)","v":""},{"$f":"IF(ISBLANK('Data Entry'!V141),\"\",'Data Entry'!V141)","v":""},{"$f":"IF(ISBLANK('Data Entry'!W141),\"\",'Data Entry'!W141)","v":"2025-26"},{"$f":"IF(ISBLANK('Data Entry'!X141),\"\",'Data Entry'!X141)","v":""},{"$f":"IF(ISBLANK('Data Entry'!Y141),\"\",'Data Entry'!Y141)","v":""}]
[137,"SANCTIONED TOURNAMENTS",{"$f":"IF(ISBLANK('Data Entry'!C142),\"\",'Data Entry'!C142)","v":""},{"$f":"IF('Data Entry'!D142=\"Pick a Zone\",\"\",'Data Entry'!D142)","v":"SANCTIONED EVENT"},{"$f":"IF('Data Entry'!E142=\"pick a tournament\",\"\",'Data Entry'!E142)","v":""},{"$f":"IF('Data Entry'!F142=\"pick a tournament\",\"\",'Data Entry'!F142)","v":""},{"$f":"IF('Data Entry'!G142=\"Enter C5#\",\"\",'Data Entry'!G142)","v":""},{"$f":"IF('Data Entry'!H142=\"Enter C5#\",\"\",'Data Entry'!H142)","v":""},{"$f":"IF(ISBLANK('Data Entry'!I142),\"\",'Data Entry'!I142)","v":""},{"$f":"IF(ISBLANK('Data Entry'!J142),\"\",'Data Entry'!J142)","v":""},{"$f":"IF(ISBLANK('Data Entry'!K142),\"\",'Data Entry'!K142)","v":""},{"$f":"IF(ISBLANK('Data Entry'!L142),\"\",'Data Entry'!L142)","v":""},{"$f":"IF(ISBLANK('Data Entry'!M142),\"\",'Data Entry'!M142)","v":""},{"$f":"IF(ISBLANK('Data Entry'!N142),\"\",'Data Entry'!N142)","v":""},{"$f":"IF(ISBLANK('Data Entry'!O142),\"\",'Data Entry'!O142)","v":""},{"$f":"IF(ISBLANK('Data Entry'!P142),\"\",'Data Entry'!P142)","v":""},{"$f":"IF(ISBLANK('Data Entry'!Q142),\"\",'Data Entry'!Q142)","v":""},{"$f":"IF(ISBLANK('Data Entry'!R142),\"\",'Data Entry'!R142)","v":""},{"$f":"IF(ISBLANK('Data Entry'!S142),\"\",'Data Entry'!S142)","v":""},{"$f":"IF(ISBLANK('Data Entry'!T142),\"\",'Data Entry'!T142)","v":""},{"$f":"IF(ISBLANK('Data Entry'!U142),\"\",'Data Entry'!U142)","v":""},{"$f":"IF(ISBLANK('Data Entry'!V142),\"\",'Data Entry'!V142)","v":""},{"$f":"IF(ISBLANK('Data Entry'!W142),\"\",'Data Entry'!W142)","v":"2025-26"},{"$f":"IF(ISBLANK('Data Entry'!X142),\"\",'Data Entry'!X142)","v":""},{"$f":"IF(ISBLANK('Data Entry'!Y142),\"\",'Data Entry'!Y142)","v":""}]
[138,"SANCTIONED TOURNAMENTS",{"$f":"IF(ISBLANK('Data Entry'!C143),\"\",'Data Entry'!C143)","v":""},{"$f":"IF('Data Entry'!D143=\"Pick a Zone\",\"\",'Data Entry'!D143)","v":"SANCTIONED EVENT"},{"$f":"IF('Data Entry'!E143=\"pick a tournament\",\"\",'Data Entry'!E143)","v":""},{"$f":"IF('Data Entry'!F143=\"pick a tournament\",\"\",'Data Entry'!F143)","v":""},{"$f":"IF('Data Entry'!G143=\"Enter C5#\",\"\",'Data Entry'!G143)","v":""},{"$f":"IF('Data Entry'!H143=\"Enter C5#\",\"\",'Data Entry'!H143)","v":""},{"$f":"IF(ISBLANK('Data Entry'!I143),\"\",'Data Entry'!I143)","v":""},{"$f":"IF(ISBLANK('Data Entry'!J143),\"\",'Data Entry'!J143)","v":""},{"$f":"IF(ISBLANK('Data Entry'!K143),\"\",'Data Entry'!K143)","v":""},{"$f":"IF(ISBLANK('Data Entry'!L143),\"\",'Data Entry'!L143)","v":""},{"$f":"IF(ISBLANK('Data Entry'!M143),\"\",'Data Entry'!M143)","v":""},{"$f":"IF(ISBLANK('Data Entry'!N143),\"\",'Data Entry'!N143)","v":""},{"$f":"IF(ISBLANK('Data Entry'!O143),\"\",'Data Entry'!O143)","v":""},{"$f":"IF(ISBLANK('Data Entry'!P143),\"\",'Data Entry'!P143)","v":""},{"$f":"IF(ISBLANK('Data Entry'!Q143),\"\",'Data Entry'!Q143)","v":""},{"$f":"IF(ISBLANK('Data Entry'!R143),\"\",'Data Entry'!R143)","v":""},{"$f":"IF(ISBLANK('Data Entry'!S143),\"\",'Data Entry'!S143)","v":""},{"$f":"IF(ISBLANK('Data Entry'!T143),\"\",'Data Entry'!T143)","v":""},{"$f":"IF(ISBLANK('Data Entry'!U143),\"\",'Data Entry'!U143)","v":""},{"$f":"IF(ISBLANK('Data Entry'!V143),\"\",'Data Entry'!V143)","v":""},{"$f":"IF(ISBLANK('Data Entry'!W143),\"\",'Data Entry'!W143)","v":"2025-26"},{"$f":"IF(ISBLANK('Data Entry'!X143),\"\",'Data Entry'!X143)","v":""},{"$f":"IF(ISBLANK('Data Entry'!Y143),\"\",'Data Entry'!Y143)","v":""}]
[139,"SANCTIONED TOURNAMENTS",{"$f":"IF(ISBLANK('Data Entry'!C144),\"\",'Data Entry'!C144)","v":""},{"$f":"IF('Data Entry'!D144=\"Pick a Zone\",\"\",'Data Entry'!D144)","v":"SANCTIONED EVENT"},{"$f":"IF('Data Entry'!E144=\"pick a tournament\",\"\",'Data Entry'!E144)","v":""},{"$f":"IF('Data Entry'!F144=\"pick a tournament\",\"\",'Data Entry'!F144)","v":""},{"$f":"IF('Data Entry'!G144=\"Enter C5#\",\"\",'Data Entry'!G144)","v":""},{"$f":"IF('Data Entry'!H144=\"Enter C5#\",\"\",'Data Entry'!H144)","v":""},{"$f":"IF(ISBLANK('Data Entry'!I144),\"\",'Data Entry'!I144)","v":""},{"$f":"IF(ISBLANK('Data Entry'!J144),\"\",'Data Entry'!J144)","v":""},{"$f":"IF(ISBLANK('Data Entry'!K144),\"\",'Data Entry'!K144)","v":""},{"$f":"IF(ISBLANK('Data Entry'!L144),\"\",'Data Entry'!L144)","v":""},{"$f":"IF(ISBLANK('Data Entry'!M144),\"\",'Data Entry'!M144)","v":""},{"$f":"IF(ISBLANK('Data Entry'!N144),\"\",'Data Entry'!N144)","v":""},{"$f":"IF(ISBLANK('Data Entry'!O144),\"\",'Data Entry'!O144)","v":""},{"$f":"IF(ISBLANK('Data Entry'!P144),\"\",'Data Entry'!P144)","v":""},{"$f":"IF(ISBLANK('Data Entry'!Q144),\"\",'Data Entry'!Q144)","v":""},{"$f":"IF(ISBLANK('Data Entry'!R144),\"\",'Data Entry'!R144)","v":""},{"$f":"IF(ISBLANK('Data Entry'!S144),\"\",'Data Entry'!S144)","v":""},{"$f":"IF(ISBLANK('Data Entry'!T144),\"\",'Data Entry'!T144)","v":""},{"$f":"IF(ISBLANK('Data Entry'!U144),\"\",'Data Entry'!U144)","v":""},{"$f":"IF(ISBLANK('Data Entry'!V144),\"\",'Data Entry'!V144)","v":""},{"$f":"IF(ISBLANK('Data Entry'!W144),\"\",'Data Entry'!W144)","v":"2025-26"},{"$f":"IF(ISBLANK('Data Entry'!X144),\"\",'Data Entry'!X144)","v":""},{"$f":"IF(ISBLANK('Data Entry'!Y144),\"\",'Data Entry'!Y144)","v":""}]
[140,"SANCTIONED TOURNAMENTS",{"$f":"IF(ISBLANK('Data Entry'!C145),\"\",'Data Entry'!C145)","v":""},{"$f":"IF('Data Entry'!D145=\"Pick a Zone\",\"\",'Data Entry'!D145)","v":"SANCTIONED EVENT"},{"$f":"IF('Data Entry'!E145=\"pick a tournament\",\"\",'Data Entry'!E145)","v":""},{"$f":"IF('Data Entry'!F145=\"pick a tournament\",\"\",'Data Entry'!F145)","v":""},{"$f":"IF('Data Entry'!G145=\"Enter C5#\",\"\",'Data Entry'!G145)","v":""},{"$f":"IF('Data Entry'!H145=\"Enter C5#\",\"\",'Data Entry'!H145)","v":""},{"$f":"IF(ISBLANK('Data Entry'!I145),\"\",'Data Entry'!I145)","v":""},{"$f":"IF(ISBLANK('Data Entry'!J145),\"\",'Data Entry'!J145)","v":""},{"$f":"IF(ISBLANK('Data Entry'!K145),\"\",'Data Entry'!K145)","v":""},{"$f":"IF(ISBLANK('Data Entry'!L145),\"\",'Data Entry'!L145)","v":""},{"$f":"IF(ISBLANK('Data Entry'!M145),\"\",'Data Entry'!M145)","v":""},{"$f":"IF(ISBLANK('Data Entry'!N145),\"\",'Data Entry'!N145)","v":""},{"$f":"IF(ISBLANK('Data Entry'!O145),\"\",'Data Entry'!O145)","v":""},{"$f":"IF(ISBLANK('Data Entry'!P145),\"\",'Data Entry'!P145)","v":""},{"$f":"IF(ISBLANK('Data Entry'!Q145),\"\",'Data Entry'!Q145)","v":""},{"$f":"IF(ISBLANK('Data Entry'!R145),\"\",'Data Entry'!R145)","v":""},{"$f":"IF(ISBLANK('Data Entry'!S145),\"\",'Data Entry'!S145)","v":""},{"$f":"IF(ISBLANK('Data Entry'!T145),\"\",'Data Entry'!T145)","v":""},{"$f":"IF(ISBLANK('Data Entry'!U145),\"\",'Data Entry'!U145)","v":""},{"$f":"IF(ISBLANK('Data Entry'!V145),\"\",'Data Entry'!V145)","v":""},{"$f":"IF(ISBLANK('Data Entry'!W145),\"\",'Data Entry'!W145)","v":"2025-26"},{"$f":"IF(ISBLANK('Data Entry'!X145),\"\",'Data Entry'!X145)","v":""},{"$f":"IF(ISBLANK('Data Entry'!Y145),\"\",'Data Entry'!Y145)","v":""}]
[141,"SANCTIONED TOURNAMENTS",{"$f":"IF(ISBLANK('Data Entry'!C146),\"\",'Data Entry'!C146)","v":""},{"$f":"IF('Data Entry'!D146=\"Pick a Zone\",\"\",'Data Entry'!D146)","v":"SANCTIONED EVENT"},{"$f":"IF('Data Entry'!E146=\"pick a tournament\",\"\",'Data Entry'!E146)","v":""},{"$f":"IF('Data Entry'!F146=\"pick a tournament\",\"\",'Data Entry'!F146)","v":""},{"$f":"IF('Data Entry'!G146=\"Enter C5#\",\"\",'Data Entry'!G146)","v":""},{"$f":"IF('Data Entry'!H146=\"Enter C5#\",\"\",'Data Entry'!H146)","v":""},{"$f":"IF(ISBLANK('Data Entry'!I146),\"\",'Data Entry'!I146)","v":""},{"$f":"IF(ISBLANK('Data Entry'!J146),\"\",'Data Entry'!J146)","v":""},{"$f":"IF(ISBLANK('Data Entry'!K146),\"\",'Data Entry'!K146)","v":""},{"$f":"IF(ISBLANK('Data Entry'!L146),\"\",'Data Entry'!L146)","v":""},{"$f":"IF(ISBLANK('Data Entry'!M146),\"\",'Data Entry'!M146)","v":""},{"$f":"IF(ISBLANK('Data Entry'!N146),\"\",'Data Entry'!N146)","v":""},{"$f":"IF(ISBLANK('Data Entry'!O146),\"\",'Data Entry'!O146)","v":""},{"$f":"IF(ISBLANK('Data Entry'!P146),\"\",'Data Entry'!P146)","v":""},{"$f":"IF(ISBLANK('Data Entry'!Q146),\"\",'Data Entry'!Q146)","v":""},{"$f":"IF(ISBLANK('Data Entry'!R146),\"\",'Data Entry'!R146)","v":""},{"$f":"IF(ISBLANK('Data Entry'!S146),\"\",'Data Entry'!S146)","v":""},{"$f":"IF(ISBLANK('Data Entry'!T146),\"\",'Data Entry'!T146)","v":""},{"$f":"IF(ISBLANK('Data Entry'!U146),\"\",'Data Entry'!U146)","v":""},{"$f":"IF(ISBLANK('Data Entry'!V146),\"\",'Data Entry'!V146)","v":""},{"$f":"IF(ISBLANK('Data Entry'!W146),\"\",'Data Entry'!W146)","v":"2025-26"},{"$f":"IF(ISBLANK('Data Entry'!X146),\"\",'Data Entry'!X146)","v":""},{"$f":"IF(ISBLANK('Data Entry'!Y146),\"\",'Data Entry'!Y146)","v":""}]
[142,"SANCTIONED TOURNAMENTS",{"$f":"IF(ISBLANK('Data Entry'!C147),\"\",'Data Entry'!C147)","v":""},{"$f":"IF('Data Entry'!D147=\"Pick a Zone\",\"\",'Data Entry'!D147)","v":"SANCTIONED EVENT"},{"$f":"IF('Data Entry'!E147=\"pick a tournament\",\"\",'Data Entry'!E147)","v":""},{"$f":"IF('Data Entry'!F147=\"pick a tournament\",\"\",'Data Entry'!F147)","v":""},{"$f":"IF('Data Entry'!G147=\"Enter C5#\",\"\",'Data Entry'!G147)","v":""},{"$f":"IF('Data Entry'!H147=\"Enter C5#\",\"\",'Data Entry'!H147)","v":""},{"$f":"IF(ISBLANK('Data Entry'!I147),\"\",'Data Entry'!I147)","v":""},{"$f":"IF(ISBLANK('Data Entry'!J147),\"\",'Data Entry'!J147)","v":""},{"$f":"IF(ISBLANK('Data Entry'!K147),\"\",'Data Entry'!K147)","v":""},{"$f":"IF(ISBLANK('Data Entry'!L147),\"\",'Data Entry'!L147)","v":""},{"$f":"IF(ISBLANK('Data Entry'!M147),\"\",'Data Entry'!M147)","v":""},{"$f":"IF(ISBLANK('Data Entry'!N147),\"\",'Data Entry'!N147)","v":""},{"$f":"IF(ISBLANK('Data Entry'!O147),\"\",'Data Entry'!O147)","v":""},{"$f":"IF(ISBLANK('Data Entry'!P147),\"\",'Data Entry'!P147)","v":""},{"$f":"IF(ISBLANK('Data Entry'!Q147),\"\",'Data Entry'!Q147)","v":""},{"$f":"IF(ISBLANK('Data Entry'!R147),\"\",'Data Entry'!R147)","v":""},{"$f":"IF(ISBLANK('Data Entry'!S147),\"\",'Data Entry'!S147)","v":""},{"$f":"IF(ISBLANK('Data Entry'!T147),\"\",'Data Entry'!T147)","v":""},{"$f":"IF(ISBLANK('Data Entry'!U147),\"\",'Data Entry'!U147)","v":""},{"$f":"IF(ISBLANK('Data Entry'!V147),\"\",'Data Entry'!V147)","v":""},{"$f":"IF(ISBLANK('Data Entry'!W147),\"\",'Data Entry'!W147)","v":"2025-26"},{"$f":"IF(ISBLANK('Data Entry'!X147),\"\",'Data Entry'!X147)","v":""},{"$f":"IF(ISBLANK('Data Entry'!Y147),\"\",'Data Entry'!Y147)","v":""}]
[143,"SANCTIONED TOURNAMENTS",{"$f":"IF(ISBLANK('Data Entry'!C148),\"\",'Data Entry'!C148)","v":""},{"$f":"IF('Data Entry'!D148=\"Pick a Zone\",\"\",'Data Entry'!D148)","v":"SANCTIONED EVENT"},{"$f":"IF('Data Entry'!E148=\"pick a tournament\",\"\",'Data Entry'!E148)","v":""},{"$f":"IF('Data Entry'!F148=\"pick a tournament\",\"\",'Data Entry'!F148)","v":""},{"$f":"IF('Data Entry'!G148=\"Enter C5#\",\"\",'Data Entry'!G148)","v":""},{"$f":"IF('Data Entry'!H148=\"Enter C5#\",\"\",'Data Entry'!H148)","v":""},{"$f":"IF(ISBLANK('Data Entry'!I148),\"\",'Data Entry'!I148)","v":""},{"$f":"IF(ISBLANK('Data Entry'!J148),\"\",'Data Entry'!J148)","v":""},{"$f":"IF(ISBLANK('Data Entry'!K148),\"\",'Data Entry'!K148)","v":""},{"$f":"IF(ISBLANK('Data Entry'!L148),\"\",'Data Entry'!L148)","v":""},{"$f":"IF(ISBLANK('Data Entry'!M148),\"\",'Data Entry'!M148)","v":""},{"$f":"IF(ISBLANK('Data Entry'!N148),\"\",'Data Entry'!N148)","v":""},{"$f":"IF(ISBLANK('Data Entry'!O148),\"\",'Data Entry'!O148)","v":""},{"$f":"IF(ISBLANK('Data Entry'!P148),\"\",'Data Entry'!P148)","v":""},{"$f":"IF(ISBLANK('Data Entry'!Q148),\"\",'Data Entry'!Q148)","v":""},{"$f":"IF(ISBLANK('Data Entry'!R148),\"\",'Data Entry'!R148)","v":""},{"$f":"IF(ISBLANK('Data Entry'!S148),\"\",'Data Entry'!S148)","v":""},{"$f":"IF(ISBLANK('Data Entry'!T148),\"\",'Data Entry'!T148)","v":""},{"$f":"IF(ISBLANK('Data Entry'!U148),\"\",'Data Entry'!U148)","v":""},{"$f":"IF(ISBLANK('Data Entry'!V148),\"\",'Data Entry'!V148)","v":""},{"$f":"IF(ISBLANK('Data Entry'!W148),\"\",'Data Entry'!W148)","v":"2025-26"},{"$f":"IF(ISBLANK('Data Entry'!X148),\"\",'Data Entry'!X148)","v":""},{"$f":"IF(ISBLANK('Data Entry'!Y148),\"\",'Data Entry'!Y148)","v":""}]
[144,"SANCTIONED TOURNAMENTS",{"$f":"IF(ISBLANK('Data Entry'!C149),\"\",'Data Entry'!C149)","v":""},{"$f":"IF('Data Entry'!D149=\"Pick a Zone\",\"\",'Data Entry'!D149)","v":"SANCTIONED EVENT"},{"$f":"IF('Data Entry'!E149=\"pick a tournament\",\"\",'Data Entry'!E149)","v":""},{"$f":"IF('Data Entry'!F149=\"pick a tournament\",\"\",'Data Entry'!F149)","v":""},{"$f":"IF('Data Entry'!G149=\"Enter C5#\",\"\",'Data Entry'!G149)","v":""},{"$f":"IF('Data Entry'!H149=\"Enter C5#\",\"\",'Data Entry'!H149)","v":""},{"$f":"IF(ISBLANK('Data Entry'!I149),\"\",'Data Entry'!I149)","v":""},{"$f":"IF(ISBLANK('Data Entry'!J149),\"\",'Data Entry'!J149)","v":""},{"$f":"IF(ISBLANK('Data Entry'!K149),\"\",'Data Entry'!K149)","v":""},{"$f":"IF(ISBLANK('Data Entry'!L149),\"\",'Data Entry'!L149)","v":""},{"$f":"IF(ISBLANK('Data Entry'!M149),\"\",'Data Entry'!M149)","v":""},{"$f":"IF(ISBLANK('Data Entry'!N149),\"\",'Data Entry'!N149)","v":""},{"$f":"IF(ISBLANK('Data Entry'!O149),\"\",'Data Entry'!O149)","v":""},{"$f":"IF(ISBLANK('Data Entry'!P149),\"\",'Data Entry'!P149)","v":""},{"$f":"IF(ISBLANK('Data Entry'!Q149),\"\",'Data Entry'!Q149)","v":""},{"$f":"IF(ISBLANK('Data Entry'!R149),\"\",'Data Entry'!R149)","v":""},{"$f":"IF(ISBLANK('Data Entry'!S149),\"\",'Data Entry'!S149)","v":""},{"$f":"IF(ISBLANK('Data Entry'!T149),\"\",'Data Entry'!T149)","v":""},{"$f":"IF(ISBLANK('Data Entry'!U149),\"\",'Data Entry'!U149)","v":""},{"$f":"IF(ISBLANK('Data Entry'!V149),\"\",'Data Entry'!V149)","v":""},{"$f":"IF(ISBLANK('Data Entry'!W149),\"\",'Data Entry'!W149)","v":"2025-26"},{"$f":"IF(ISBLANK('Data Entry'!X149),\"\",'Data Entry'!X149)","v":""},{"$f":"IF(ISBLANK('Data Entry'!Y149),\"\",'Data Entry'!Y149)","v":""}]
[145,"SANCTIONED TOURNAMENTS",{"$f":"IF(ISBLANK('Data Entry'!C150),\"\",'Data Entry'!C150)","v":""},{"$f":"IF('Data Entry'!D150=\"Pick a Zone\",\"\",'Data Entry'!D150)","v":"SANCTIONED EVENT"},{"$f":"IF('Data Entry'!E150=\"pick a tournament\",\"\",'Data Entry'!E150)","v":""},{"$f":"IF('Data Entry'!F150=\"pick a tournament\",\"\",'Data Entry'!F150)","v":""},{"$f":"IF('Data Entry'!G150=\"Enter C5#\",\"\",'Data Entry'!G150)","v":""},{"$f":"IF('Data Entry'!H150=\"Enter C5#\",\"\",'Data Entry'!H150)","v":""},{"$f":"IF(ISBLANK('Data Entry'!I150),\"\",'Data Entry'!I150)","v":""},{"$f":"IF(ISBLANK('Data Entry'!J150),\"\",'Data Entry'!J150)","v":""},{"$f":"IF(ISBLANK('Data Entry'!K150),\"\",'Data Entry'!K150)","v":""},{"$f":"IF(ISBLANK('Data Entry'!L150),\"\",'Data Entry'!L150)","v":""},{"$f":"IF(ISBLANK('Data Entry'!M150),\"\",'Data Entry'!M150)","v":""},{"$f":"IF(ISBLANK('Data Entry'!N150),\"\",'Data Entry'!N150)","v":""},{"$f":"IF(ISBLANK('Data Entry'!O150),\"\",'Data Entry'!O150)","v":""},{"$f":"IF(ISBLANK('Data Entry'!P150),\"\",'Data Entry'!P150)","v":""},{"$f":"IF(ISBLANK('Data Entry'!Q150),\"\",'Data Entry'!Q150)","v":""},{"$f":"IF(ISBLANK('Data Entry'!R150),\"\",'Data Entry'!R150)","v":""},{"$f":"IF(ISBLANK('Data Entry'!S150),\"\",'Data Entry'!S150)","v":""},{"$f":"IF(ISBLANK('Data Entry'!T150),\"\",'Data Entry'!T150)","v":""},{"$f":"IF(ISBLANK('Data Entry'!U150),\"\",'Data Entry'!U150)","v":""},{"$f":"IF(ISBLANK('Data Entry'!V150),\"\",'Data Entry'!V150)","v":""},{"$f":"IF(ISBLANK('Data Entry'!W150),\"\",'Data Entry'!W150)","v":"2025-26"},{"$f":"IF(ISBLANK('Data Entry'!X150),\"\",'Data Entry'!X150)","v":""},{"$f":"IF(ISBLANK('Data Entry'!Y150),\"\",'Data Entry'!Y150)","v":""}]
[146,"SANCTIONED TOURNAMENTS",{"$f":"IF(ISBLANK('Data Entry'!C151),\"\",'Data Entry'!C151)","v":""},{"$f":"IF('Data Entry'!D151=\"Pick a Zone\",\"\",'Data Entry'!D151)","v":"SANCTIONED EVENT"},{"$f":"IF('Data Entry'!E151=\"pick a tournament\",\"\",'Data Entry'!E151)","v":""},{"$f":"IF('Data Entry'!F151=\"pick a tournament\",\"\",'Data Entry'!F151)","v":""},{"$f":"IF('Data Entry'!G151=\"Enter C5#\",\"\",'Data Entry'!G151)","v":""},{"$f":"IF('Data Entry'!H151=\"Enter C5#\",\"\",'Data Entry'!H151)","v":""},{"$f":"IF(ISBLANK('Data Entry'!I151),\"\",'Data Entry'!I151)","v":""},{"$f":"IF(ISBLANK('Data Entry'!J151),\"\",'Data Entry'!J151)","v":""},{"$f":"IF(ISBLANK('Data Entry'!K151),\"\",'Data Entry'!K151)","v":""},{"$f":"IF(ISBLANK('Data Entry'!L151),\"\",'Data Entry'!L151)","v":""},{"$f":"IF(ISBLANK('Data Entry'!M151),\"\",'Data Entry'!M151)","v":""},{"$f":"IF(ISBLANK('Data Entry'!N151),\"\",'Data Entry'!N151)","v":""},{"$f":"IF(ISBLANK('Data Entry'!O151),\"\",'Data Entry'!O151)","v":""},{"$f":"IF(ISBLANK('Data Entry'!P151),\"\",'Data Entry'!P151)","v":""},{"$f":"IF(ISBLANK('Data Entry'!Q151),\"\",'Data Entry'!Q151)","v":""},{"$f":"IF(ISBLANK('Data Entry'!R151),\"\",'Data Entry'!R151)","v":""},{"$f":"IF(ISBLANK('Data Entry'!S151),\"\",'Data Entry'!S151)","v":""},{"$f":"IF(ISBLANK('Data Entry'!T151),\"\",'Data Entry'!T151)","v":""},{"$f":"IF(ISBLANK('Data Entry'!U151),\"\",'Data Entry'!U151)","v":""},{"$f":"IF(ISBLANK('Data Entry'!V151),\"\",'Data Entry'!V151)","v":""},{"$f":"IF(ISBLANK('Data Entry'!W151),\"\",'Data Entry'!W151)","v":"2025-26"},{"$f":"IF(ISBLANK('Data Entry'!X151),\"\",'Data Entry'!X151)","v":""},{"$f":"IF(ISBLANK('Data Entry'!Y151),\"\",'Data Entry'!Y151)","v":""}]
[147,"SANCTIONED TOURNAMENTS",{"$f":"IF(ISBLANK('Data Entry'!C152),\"\",'Data Entry'!C152)","v":""},{"$f":"IF('Data Entry'!D152=\"Pick a Zone\",\"\",'Data Entry'!D152)","v":"SANCTIONED EVENT"},{"$f":"IF('Data Entry'!E152=\"pick a tournament\",\"\",'Data Entry'!E152)","v":""},{"$f":"IF('Data Entry'!F152=\"pick a tournament\",\"\",'Data Entry'!F152)","v":""},{"$f":"IF('Data Entry'!G152=\"Enter C5#\",\"\",'Data Entry'!G152)","v":""},{"$f":"IF('Data Entry'!H152=\"Enter C5#\",\"\",'Data Entry'!H152)","v":""},{"$f":"IF(ISBLANK('Data Entry'!I152),\"\",'Data Entry'!I152)","v":""},{"$f":"IF(ISBLANK('Data Entry'!J152),\"\",'Data Entry'!J152)","v":""},{"$f":"IF(ISBLANK('Data Entry'!K152),\"\",'Data Entry'!K152)","v":""},{"$f":"IF(ISBLANK('Data Entry'!L152),\"\",'Data Entry'!L152)","v":""},{"$f":"IF(ISBLANK('Data Entry'!M152),\"\",'Data Entry'!M152)","v":""},{"$f":"IF(ISBLANK('Data Entry'!N152),\"\",'Data Entry'!N152)","v":""},{"$f":"IF(ISBLANK('Data Entry'!O152),\"\",'Data Entry'!O152)","v":""},{"$f":"IF(ISBLANK('Data Entry'!P152),\"\",'Data Entry'!P152)","v":""},{"$f":"IF(ISBLANK('Data Entry'!Q152),\"\",'Data Entry'!Q152)","v":""},{"$f":"IF(ISBLANK('Data Entry'!R152),\"\",'Data Entry'!R152)","v":""},{"$f":"IF(ISBLANK('Data Entry'!S152),\"\",'Data Entry'!S152)","v":""},{"$f":"IF(ISBLANK('Data Entry'!T152),\"\",'Data Entry'!T152)","v":""},{"$f":"IF(ISBLANK('Data Entry'!U152),\"\",'Data Entry'!U152)","v":""},{"$f":"IF(ISBLANK('Data Entry'!V152),\"\",'Data Entry'!V152)","v":""},{"$f":"IF(ISBLANK('Data Entry'!W152),\"\",'Data Entry'!W152)","v":"2025-26"},{"$f":"IF(ISBLANK('Data Entry'!X152),\"\",'Data Entry'!X152)","v":""},{"$f":"IF(ISBLANK('Data Entry'!Y152),\"\",'Data Entry'!Y152)","v":""}]
[148,"SANCTIONED TOURNAMENTS",{"$f":"IF(ISBLANK('Data Entry'!C153),\"\",'Data Entry'!C153)","v":""},{"$f":"IF('Data Entry'!D153=\"Pick a Zone\",\"\",'Data Entry'!D153)","v":"SANCTIONED EVENT"},{"$f":"IF('Data Entry'!E153=\"pick a tournament\",\"\",'Data Entry'!E153)","v":""},{"$f":"IF('Data Entry'!F153=\"pick a tournament\",\"\",'Data Entry'!F153)","v":""},{"$f":"IF('Data Entry'!G153=\"Enter C5#\",\"\",'Data Entry'!G153)","v":""},{"$f":"IF('Data Entry'!H153=\"Enter C5#\",\"\",'Data Entry'!H153)","v":""},{"$f":"IF(ISBLANK('Data Entry'!I153),\"\",'Data Entry'!I153)","v":""},{"$f":"IF(ISBLANK('Data Entry'!J153),\"\",'Data Entry'!J153)","v":""},{"$f":"IF(ISBLANK('Data Entry'!K153),\"\",'Data Entry'!K153)","v":""},{"$f":"IF(ISBLANK('Data Entry'!L153),\"\",'Data Entry'!L153)","v":""},{"$f":"IF(ISBLANK('Data Entry'!M153),\"\",'Data Entry'!M153)","v":""},{"$f":"IF(ISBLANK('Data Entry'!N153),\"\",'Data Entry'!N153)","v":""},{"$f":"IF(ISBLANK('Data Entry'!O153),\"\",'Data Entry'!O153)","v":""},{"$f":"IF(ISBLANK('Data Entry'!P153),\"\",'Data Entry'!P153)","v":""},{"$f":"IF(ISBLANK('Data Entry'!Q153),\"\",'Data Entry'!Q153)","v":""},{"$f":"IF(ISBLANK('Data Entry'!R153),\"\",'Data Entry'!R153)","v":""},{"$f":"IF(ISBLANK('Data Entry'!S153),\"\",'Data Entry'!S153)","v":""},{"$f":"IF(ISBLANK('Data Entry'!T153),\"\",'Data Entry'!T153)","v":""},{"$f":"IF(ISBLANK('Data Entry'!U153),\"\",'Data Entry'!U153)","v":""},{"$f":"IF(ISBLANK('Data Entry'!V153),\"\",'Data Entry'!V153)","v":""},{"$f":"IF(ISBLANK('Data Entry'!W153),\"\",'Data Entry'!W153)","v":"2025-26"},{"$f":"IF(ISBLANK('Data Entry'!X153),\"\",'Data Entry'!X153)","v":""},{"$f":"IF(ISBLANK('Data Entry'!Y153),\"\",'Data Entry'!Y153)","v":""}]
[149,"SANCTIONED TOURNAMENTS",{"$f":"IF(ISBLANK('Data Entry'!C154),\"\",'Data Entry'!C154)","v":""},{"$f":"IF('Data Entry'!D154=\"Pick a Zone\",\"\",'Data Entry'!D154)","v":"SANCTIONED EVENT"},{"$f":"IF('Data Entry'!E154=\"pick a tournament\",\"\",'Data Entry'!E154)","v":""},{"$f":"IF('Data Entry'!F154=\"pick a tournament\",\"\",'Data Entry'!F154)","v":""},{"$f":"IF('Data Entry'!G154=\"Enter C5#\",\"\",'Data Entry'!G154)","v":""},{"$f":"IF('Data Entry'!H154=\"Enter C5#\",\"\",'Data Entry'!H154)","v":""},{"$f":"IF(ISBLANK('Data Entry'!I154),\"\",'Data Entry'!I154)","v":""},{"$f":"IF(ISBLANK('Data Entry'!J154),\"\",'Data Entry'!J154)","v":""},{"$f":"IF(ISBLANK('Data Entry'!K154),\"\",'Data Entry'!K154)","v":""},{"$f":"IF(ISBLANK('Data Entry'!L154),\"\",'Data Entry'!L154)","v":""},{"$f":"IF(ISBLANK('Data Entry'!M154),\"\",'Data Entry'!M154)","v":""},{"$f":"IF(ISBLANK('Data Entry'!N154),\"\",'Data Entry'!N154)","v":""},{"$f":"IF(ISBLANK('Data Entry'!O154),\"\",'Data Entry'!O154)","v":""},{"$f":"IF(ISBLANK('Data Entry'!P154),\"\",'Data Entry'!P154)","v":""},{"$f":"IF(ISBLANK('Data Entry'!Q154),\"\",'Data Entry'!Q154)","v":""},{"$f":"IF(ISBLANK('Data Entry'!R154),\"\",'Data Entry'!R154)","v":""},{"$f":"IF(ISBLANK('Data Entry'!S154),\"\",'Data Entry'!S154)","v":""},{"$f":"IF(ISBLANK('Data Entry'!T154),\"\",'Data Entry'!T154)","v":""},{"$f":"IF(ISBLANK('Data Entry'!U154),\"\",'Data Entry'!U154)","v":""},{"$f":"IF(ISBLANK('Data Entry'!V154),\"\",'Data Entry'!V154)","v":""},{"$f":"IF(ISBLANK('Data Entry'!W154),\"\",'Data Entry'!W154)","v":"2025-26"},{"$f":"IF(ISBLANK('Data Entry'!X154),\"\",'Data Entry'!X154)","v":""},{"$f":"IF(ISBLANK('Data Entry'!Y154),\"\",'Data Entry'!Y154)","v":""}]
[150,"SANCTIONED TOURNAMENTS",{"$f":"IF(ISBLANK('Data Entry'!C155),\"\",'Data Entry'!C155)","v":""},{"$f":"IF('Data Entry'!D155=\"Pick a Zone\",\"\",'Data Entry'!D155)","v":"SANCTIONED EVENT"},{"$f":"IF('Data Entry'!E155=\"pick a tournament\",\"\",'Data Entry'!E155)","v":""},{"$f":"IF('Data Entry'!F155=\"pick a tournament\",\"\",'Data Entry'!F155)","v":""},{"$f":"IF('Data Entry'!G155=\"Enter C5#\",\"\",'Data Entry'!G155)","v":""},{"$f":"IF('Data Entry'!H155=\"Enter C5#\",\"\",'Data Entry'!H155)","v":""},{"$f":"IF(ISBLANK('Data Entry'!I155),\"\",'Data Entry'!I155)","v":""},{"$f":"IF(ISBLANK('Data Entry'!J155),\"\",'Data Entry'!J155)","v":""},{"$f":"IF(ISBLANK('Data Entry'!K155),\"\",'Data Entry'!K155)","v":""},{"$f":"IF(ISBLANK('Data Entry'!L155),\"\",'Data Entry'!L155)","v":""},{"$f":"IF(ISBLANK('Data Entry'!M155),\"\",'Data Entry'!M155)","v":""},{"$f":"IF(ISBLANK('Data Entry'!N155),\"\",'Data Entry'!N155)","v":""},{"$f":"IF(ISBLANK('Data Entry'!O155),\"\",'Data Entry'!O155)","v":""},{"$f":"IF(ISBLANK('Data Entry'!P155),\"\",'Data Entry'!P155)","v":""},{"$f":"IF(ISBLANK('Data Entry'!Q155),\"\",'Data Entry'!Q155)","v":""},{"$f":"IF(ISBLANK('Data Entry'!R155),\"\",'Data Entry'!R155)","v":""},{"$f":"IF(ISBLANK('Data Entry'!S155),\"\",'Data Entry'!S155)","v":""},{"$f":"IF(ISBLANK('Data Entry'!T155),\"\",'Data Entry'!T155)","v":""},{"$f":"IF(ISBLANK('Data Entry'!U155),\"\",'Data Entry'!U155)","v":""},{"$f":"IF(ISBLANK('Data Entry'!V155),\"\",'Data Entry'!V155)","v":""},{"$f":"IF(ISBLANK('Data Entry'!W155),\"\",'Data Entry'!W155)","v":"2025-26"},{"$f":"IF(ISBLANK('Data Entry'!X155),\"\",'Data Entry'!X155)","v":""},{"$f":"IF(ISBLANK('Data Entry'!Y155),\"\",'Data Entry'!Y155)","v":""}]
[151,"SANCTIONED TOURNAMENTS",{"$f":"IF(ISBLANK('Data Entry'!C156),\"\",'Data Entry'!C156)","v":""},{"$f":"IF('Data Entry'!D156=\"Pick a Zone\",\"\",'Data Entry'!D156)","v":"SANCTIONED EVENT"},{"$f":"IF('Data Entry'!E156=\"pick a tournament\",\"\",'Data Entry'!E156)","v":""},{"$f":"IF('Data Entry'!F156=\"pick a tournament\",\"\",'Data Entry'!F156)","v":""},{"$f":"IF('Data Entry'!G156=\"Enter C5#\",\"\",'Data Entry'!G156)","v":""},{"$f":"IF('Data Entry'!H156=\"Enter C5#\",\"\",'Data Entry'!H156)","v":""},{"$f":"IF(ISBLANK('Data Entry'!I156),\"\",'Data Entry'!I156)","v":""},{"$f":"IF(ISBLANK('Data Entry'!J156),\"\",'Data Entry'!J156)","v":""},{"$f":"IF(ISBLANK('Data Entry'!K156),\"\",'Data Entry'!K156)","v":""},{"$f":"IF(ISBLANK('Data Entry'!L156),\"\",'Data Entry'!L156)","v":""},{"$f":"IF(ISBLANK('Data Entry'!M156),\"\",'Data Entry'!M156)","v":""},{"$f":"IF(ISBLANK('Data Entry'!N156),\"\",'Data Entry'!N156)","v":""},{"$f":"IF(ISBLANK('Data Entry'!O156),\"\",'Data Entry'!O156)","v":""},{"$f":"IF(ISBLANK('Data Entry'!P156),\"\",'Data Entry'!P156)","v":""},{"$f":"IF(ISBLANK('Data Entry'!Q156),\"\",'Data Entry'!Q156)","v":""},{"$f":"IF(ISBLANK('Data Entry'!R156),\"\",'Data Entry'!R156)","v":""},{"$f":"IF(ISBLANK('Data Entry'!S156),\"\",'Data Entry'!S156)","v":""},{"$f":"IF(ISBLANK('Data Entry'!T156),\"\",'Data Entry'!T156)","v":""},{"$f":"IF(ISBLANK('Data Entry'!U156),\"\",'Data Entry'!U156)","v":""},{"$f":"IF(ISBLANK('Data Entry'!V156),\"\",'Data Entry'!V156)","v":""},{"$f":"IF(ISBLANK('Data Entry'!W156),\"\",'Data Entry'!W156)","v":"2025-26"},{"$f":"IF(ISBLANK('Data Entry'!X156),\"\",'Data Entry'!X156)","v":""},{"$f":"IF(ISBLANK('Data Entry'!Y156),\"\",'Data Entry'!Y156)","v":""}]
[152,"SANCTIONED TOURNAMENTS",{"$f":"IF(ISBLANK('Data Entry'!C157),\"\",'Data Entry'!C157)","v":""},{"$f":"IF('Data Entry'!D157=\"Pick a Zone\",\"\",'Data Entry'!D157)","v":"SANCTIONED EVENT"},{"$f":"IF('Data Entry'!E157=\"pick a tournament\",\"\",'Data Entry'!E157)","v":""},{"$f":"IF('Data Entry'!F157=\"pick a tournament\",\"\",'Data Entry'!F157)","v":""},{"$f":"IF('Data Entry'!G157=\"Enter C5#\",\"\",'Data Entry'!G157)","v":""},{"$f":"IF('Data Entry'!H157=\"Enter C5#\",\"\",'Data Entry'!H157)","v":""},{"$f":"IF(ISBLANK('Data Entry'!I157),\"\",'Data Entry'!I157)","v":""},{"$f":"IF(ISBLANK('Data Entry'!J157),\"\",'Data Entry'!J157)","v":""},{"$f":"IF(ISBLANK('Data Entry'!K157),\"\",'Data Entry'!K157)","v":""},{"$f":"IF(ISBLANK('Data Entry'!L157),\"\",'Data Entry'!L157)","v":""},{"$f":"IF(ISBLANK('Data Entry'!M157),\"\",'Data Entry'!M157)","v":""},{"$f":"IF(ISBLANK('Data Entry'!N157),\"\",'Data Entry'!N157)","v":""},{"$f":"IF(ISBLANK('Data Entry'!O157),\"\",'Data Entry'!O157)","v":""},{"$f":"IF(ISBLANK('Data Entry'!P157),\"\",'Data Entry'!P157)","v":""},{"$f":"IF(ISBLANK('Data Entry'!Q157),\"\",'Data Entry'!Q157)","v":""},{"$f":"IF(ISBLANK('Data Entry'!R157),\"\",'Data Entry'!R157)","v":""},{"$f":"IF(ISBLANK('Data Entry'!S157),\"\",'Data Entry'!S157)","v":""},{"$f":"IF(ISBLANK('Data Entry'!T157),\"\",'Data Entry'!T157)","v":""},{"$f":"IF(ISBLANK('Data Entry'!U157),\"\",'Data Entry'!U157)","v":""},{"$f":"IF(ISBLANK('Data Entry'!V157),\"\",'Data Entry'!V157)","v":""},{"$f":"IF(ISBLANK('Data Entry'!W157),\"\",'Data Entry'!W157)","v":"2025-26"},{"$f":"IF(ISBLANK('Data Entry'!X157),\"\",'Data Entry'!X157)","v":""},{"$f":"IF(ISBLANK('Data Entry'!Y157),\"\",'Data Entry'!Y157)","v":""}]
[153,"SANCTIONED TOURNAMENTS",{"$f":"IF(ISBLANK('Data Entry'!C158),\"\",'Data Entry'!C158)","v":""},{"$f":"IF('Data Entry'!D158=\"Pick a Zone\",\"\",'Data Entry'!D158)","v":"SANCTIONED EVENT"},{"$f":"IF('Data Entry'!E158=\"pick a tournament\",\"\",'Data Entry'!E158)","v":""},{"$f":"IF('Data Entry'!F158=\"pick a tournament\",\"\",'Data Entry'!F158)","v":""},{"$f":"IF('Data Entry'!G158=\"Enter C5#\",\"\",'Data Entry'!G158)","v":""},{"$f":"IF('Data Entry'!H158=\"Enter C5#\",\"\",'Data Entry'!H158)","v":""},{"$f":"IF(ISBLANK('Data Entry'!I158),\"\",'Data Entry'!I158)","v":""},{"$f":"IF(ISBLANK('Data Entry'!J158),\"\",'Data Entry'!J158)","v":""},{"$f":"IF(ISBLANK('Data Entry'!K158),\"\",'Data Entry'!K158)","v":""},{"$f":"IF(ISBLANK('Data Entry'!L158),\"\",'Data Entry'!L158)","v":""},{"$f":"IF(ISBLANK('Data Entry'!M158),\"\",'Data Entry'!M158)","v":""},{"$f":"IF(ISBLANK('Data Entry'!N158),\"\",'Data Entry'!N158)","v":""},{"$f":"IF(ISBLANK('Data Entry'!O158),\"\",'Data Entry'!O158)","v":""},{"$f":"IF(ISBLANK('Data Entry'!P158),\"\",'Data Entry'!P158)","v":""},{"$f":"IF(ISBLANK('Data Entry'!Q158),\"\",'Data Entry'!Q158)","v":""},{"$f":"IF(ISBLANK('Data Entry'!R158),\"\",'Data Entry'!R158)","v":""},{"$f":"IF(ISBLANK('Data Entry'!S158),\"\",'Data Entry'!S158)","v":""},{"$f":"IF(ISBLANK('Data Entry'!T158),\"\",'Data Entry'!T158)","v":""},{"$f":"IF(ISBLANK('Data Entry'!U158),\"\",'Data Entry'!U158)","v":""},{"$f":"IF(ISBLANK('Data Entry'!V158),\"\",'Data Entry'!V158)","v":""},{"$f":"IF(ISBLANK('Data Entry'!W158),\"\",'Data Entry'!W158)","v":"2025-26"},{"$f":"IF(ISBLANK('Data Entry'!X158),\"\",'Data Entry'!X158)","v":""},{"$f":"IF(ISBLANK('Data Entry'!Y158),\"\",'Data Entry'!Y158)","v":""}]
[154,"SANCTIONED TOURNAMENTS",{"$f":"IF(ISBLANK('Data Entry'!C159),\"\",'Data Entry'!C159)","v":""},{"$f":"IF('Data Entry'!D159=\"Pick a Zone\",\"\",'Data Entry'!D159)","v":"SANCTIONED EVENT"},{"$f":"IF('Data Entry'!E159=\"pick a tournament\",\"\",'Data Entry'!E159)","v":""},{"$f":"IF('Data Entry'!F159=\"pick a tournament\",\"\",'Data Entry'!F159)","v":""},{"$f":"IF('Data Entry'!G159=\"Enter C5#\",\"\",'Data Entry'!G159)","v":""},{"$f":"IF('Data Entry'!H159=\"Enter C5#\",\"\",'Data Entry'!H159)","v":""},{"$f":"IF(ISBLANK('Data Entry'!I159),\"\",'Data Entry'!I159)","v":""},{"$f":"IF(ISBLANK('Data Entry'!J159),\"\",'Data Entry'!J159)","v":""},{"$f":"IF(ISBLANK('Data Entry'!K159),\"\",'Data Entry'!K159)","v":""},{"$f":"IF(ISBLANK('Data Entry'!L159),\"\",'Data Entry'!L159)","v":""},{"$f":"IF(ISBLANK('Data Entry'!M159),\"\",'Data Entry'!M159)","v":""},{"$f":"IF(ISBLANK('Data Entry'!N159),\"\",'Data Entry'!N159)","v":""},{"$f":"IF(ISBLANK('Data Entry'!O159),\"\",'Data Entry'!O159)","v":""},{"$f":"IF(ISBLANK('Data Entry'!P159),\"\",'Data Entry'!P159)","v":""},{"$f":"IF(ISBLANK('Data Entry'!Q159),\"\",'Data Entry'!Q159)","v":""},{"$f":"IF(ISBLANK('Data Entry'!R159),\"\",'Data Entry'!R159)","v":""},{"$f":"IF(ISBLANK('Data Entry'!S159),\"\",'Data Entry'!S159)","v":""},{"$f":"IF(ISBLANK('Data Entry'!T159),\"\",'Data Entry'!T159)","v":""},{"$f":"IF(ISBLANK('Data Entry'!U159),\"\",'Data Entry'!U159)","v":""},{"$f":"IF(ISBLANK('Data Entry'!V159),\"\",'Data Entry'!V159)","v":""},{"$f":"IF(ISBLANK('Data Entry'!W159),\"\",'Data Entry'!W159)","v":"2025-26"},{"$f":"IF(ISBLANK('Data Entry'!X159),\"\",'Data Entry'!X159)","v":""},{"$f":"IF(ISBLANK('Data Entry'!Y159),\"\",'Data Entry'!Y159)","v":""}]
[155,"SANCTIONED TOURNAMENTS",{"$f":"IF(ISBLANK('Data Entry'!C160),\"\",'Data Entry'!C160)","v":""},{"$f":"IF('Data Entry'!D160=\"Pick a Zone\",\"\",'Data Entry'!D160)","v":"SANCTIONED EVENT"},{"$f":"IF('Data Entry'!E160=\"pick a tournament\",\"\",'Data Entry'!E160)","v":""},{"$f":"IF('Data Entry'!F160=\"pick a tournament\",\"\",'Data Entry'!F160)","v":""},{"$f":"IF('Data Entry'!G160=\"Enter C5#\",\"\",'Data Entry'!G160)","v":""},{"$f":"IF('Data Entry'!H160=\"Enter C5#\",\"\",'Data Entry'!H160)","v":""},{"$f":"IF(ISBLANK('Data Entry'!I160),\"\",'Data Entry'!I160)","v":""},{"$f":"IF(ISBLANK('Data Entry'!J160),\"\",'Data Entry'!J160)","v":""},{"$f":"IF(ISBLANK('Data Entry'!K160),\"\",'Data Entry'!K160)","v":""},{"$f":"IF(ISBLANK('Data Entry'!L160),\"\",'Data Entry'!L160)","v":""},{"$f":"IF(ISBLANK('Data Entry'!M160),\"\",'Data Entry'!M160)","v":""},{"$f":"IF(ISBLANK('Data Entry'!N160),\"\",'Data Entry'!N160)","v":""},{"$f":"IF(ISBLANK('Data Entry'!O160),\"\",'Data Entry'!O160)","v":""},{"$f":"IF(ISBLANK('Data Entry'!P160),\"\",'Data Entry'!P160)","v":""},{"$f":"IF(ISBLANK('Data Entry'!Q160),\"\",'Data Entry'!Q160)","v":""},{"$f":"IF(ISBLANK('Data Entry'!R160),\"\",'Data Entry'!R160)","v":""},{"$f":"IF(ISBLANK('Data Entry'!S160),\"\",'Data Entry'!S160)","v":""},{"$f":"IF(ISBLANK('Data Entry'!T160),\"\",'Data Entry'!T160)","v":""},{"$f":"IF(ISBLANK('Data Entry'!U160),\"\",'Data Entry'!U160)","v":""},{"$f":"IF(ISBLANK('Data Entry'!V160),\"\",'Data Entry'!V160)","v":""},{"$f":"IF(ISBLANK('Data Entry'!W160),\"\",'Data Entry'!W160)","v":"2025-26"},{"$f":"IF(ISBLANK('Data Entry'!X160),\"\",'Data Entry'!X160)","v":""},{"$f":"IF(ISBLANK('Data Entry'!Y160),\"\",'Data Entry'!Y160)","v":""}]
[156,"SANCTIONED TOURNAMENTS",{"$f":"IF(ISBLANK('Data Entry'!C161),\"\",'Data Entry'!C161)","v":""},{"$f":"IF('Data Entry'!D161=\"Pick a Zone\",\"\",'Data Entry'!D161)","v":"SANCTIONED EVENT"},{"$f":"IF('Data Entry'!E161=\"pick a tournament\",\"\",'Data Entry'!E161)","v":""},{"$f":"IF('Data Entry'!F161=\"pick a tournament\",\"\",'Data Entry'!F161)","v":""},{"$f":"IF('Data Entry'!G161=\"Enter C5#\",\"\",'Data Entry'!G161)","v":""},{"$f":"IF('Data Entry'!H161=\"Enter C5#\",\"\",'Data Entry'!H161)","v":""},{"$f":"IF(ISBLANK('Data Entry'!I161),\"\",'Data Entry'!I161)","v":""},{"$f":"IF(ISBLANK('Data Entry'!J161),\"\",'Data Entry'!J161)","v":""},{"$f":"IF(ISBLANK('Data Entry'!K161),\"\",'Data Entry'!K161)","v":""},{"$f":"IF(ISBLANK('Data Entry'!L161),\"\",'Data Entry'!L161)","v":""},{"$f":"IF(ISBLANK('Data Entry'!M161),\"\",'Data Entry'!M161)","v":""},{"$f":"IF(ISBLANK('Data Entry'!N161),\"\",'Data Entry'!N161)","v":""},{"$f":"IF(ISBLANK('Data Entry'!O161),\"\",'Data Entry'!O161)","v":""},{"$f":"IF(ISBLANK('Data Entry'!P161),\"\",'Data Entry'!P161)","v":""},{"$f":"IF(ISBLANK('Data Entry'!Q161),\"\",'Data Entry'!Q161)","v":""},{"$f":"IF(ISBLANK('Data Entry'!R161),\"\",'Data Entry'!R161)","v":""},{"$f":"IF(ISBLANK('Data Entry'!S161),\"\",'Data Entry'!S161)","v":""},{"$f":"IF(ISBLANK('Data Entry'!T161),\"\",'Data Entry'!T161)","v":""},{"$f":"IF(ISBLANK('Data Entry'!U161),\"\",'Data Entry'!U161)","v":""},{"$f":"IF(ISBLANK('Data Entry'!V161),\"\",'Data Entry'!V161)","v":""},{"$f":"IF(ISBLANK('Data Entry'!W161),\"\",'Data Entry'!W161)","v":"2025-26"},{"$f":"IF(ISBLANK('Data Entry'!X161),\"\",'Data Entry'!X161)","v":""},{"$f":"IF(ISBLANK('Data Entry'!Y161),\"\",'Data Entry'!Y161)","v":""}]
[157,"SANCTIONED TOURNAMENTS",{"$f":"IF(ISBLANK('Data Entry'!C162),\"\",'Data Entry'!C162)","v":""},{"$f":"IF('Data Entry'!D162=\"Pick a Zone\",\"\",'Data Entry'!D162)","v":"SANCTIONED EVENT"},{"$f":"IF('Data Entry'!E162=\"pick a tournament\",\"\",'Data Entry'!E162)","v":""},{"$f":"IF('Data Entry'!F162=\"pick a tournament\",\"\",'Data Entry'!F162)","v":""},{"$f":"IF('Data Entry'!G162=\"Enter C5#\",\"\",'Data Entry'!G162)","v":""},{"$f":"IF('Data Entry'!H162=\"Enter C5#\",\"\",'Data Entry'!H162)","v":""},{"$f":"IF(ISBLANK('Data Entry'!I162),\"\",'Data Entry'!I162)","v":""},{"$f":"IF(ISBLANK('Data Entry'!J162),\"\",'Data Entry'!J162)","v":""},{"$f":"IF(ISBLANK('Data Entry'!K162),\"\",'Data Entry'!K162)","v":""},{"$f":"IF(ISBLANK('Data Entry'!L162),\"\",'Data Entry'!L162)","v":""},{"$f":"IF(ISBLANK('Data Entry'!M162),\"\",'Data Entry'!M162)","v":""},{"$f":"IF(ISBLANK('Data Entry'!N162),\"\",'Data Entry'!N162)","v":""},{"$f":"IF(ISBLANK('Data Entry'!O162),\"\",'Data Entry'!O162)","v":""},{"$f":"IF(ISBLANK('Data Entry'!P162),\"\",'Data Entry'!P162)","v":""},{"$f":"IF(ISBLANK('Data Entry'!Q162),\"\",'Data Entry'!Q162)","v":""},{"$f":"IF(ISBLANK('Data Entry'!R162),\"\",'Data Entry'!R162)","v":""},{"$f":"IF(ISBLANK('Data Entry'!S162),\"\",'Data Entry'!S162)","v":""},{"$f":"IF(ISBLANK('Data Entry'!T162),\"\",'Data Entry'!T162)","v":""},{"$f":"IF(ISBLANK('Data Entry'!U162),\"\",'Data Entry'!U162)","v":""},{"$f":"IF(ISBLANK('Data Entry'!V162),\"\",'Data Entry'!V162)","v":""},{"$f":"IF(ISBLANK('Data Entry'!W162),\"\",'Data Entry'!W162)","v":"2025-26"},{"$f":"IF(ISBLANK('Data Entry'!X162),\"\",'Data Entry'!X162)","v":""},{"$f":"IF(ISBLANK('Data Entry'!Y162),\"\",'Data Entry'!Y162)","v":""}]
[158,"SANCTIONED TOURNAMENTS",{"$f":"IF(ISBLANK('Data Entry'!C163),\"\",'Data Entry'!C163)","v":""},{"$f":"IF('Data Entry'!D163=\"Pick a Zone\",\"\",'Data Entry'!D163)","v":"SANCTIONED EVENT"},{"$f":"IF('Data Entry'!E163=\"pick a tournament\",\"\",'Data Entry'!E163)","v":""},{"$f":"IF('Data Entry'!F163=\"pick a tournament\",\"\",'Data Entry'!F163)","v":""},{"$f":"IF('Data Entry'!G163=\"Enter C5#\",\"\",'Data Entry'!G163)","v":""},{"$f":"IF('Data Entry'!H163=\"Enter C5#\",\"\",'Data Entry'!H163)","v":""},{"$f":"IF(ISBLANK('Data Entry'!I163),\"\",'Data Entry'!I163)","v":""},{"$f":"IF(ISBLANK('Data Entry'!J163),\"\",'Data Entry'!J163)","v":""},{"$f":"IF(ISBLANK('Data Entry'!K163),\"\",'Data Entry'!K163)","v":""},{"$f":"IF(ISBLANK('Data Entry'!L163),\"\",'Data Entry'!L163)","v":""},{"$f":"IF(ISBLANK('Data Entry'!M163),\"\",'Data Entry'!M163)","v":""},{"$f":"IF(ISBLANK('Data Entry'!N163),\"\",'Data Entry'!N163)","v":""},{"$f":"IF(ISBLANK('Data Entry'!O163),\"\",'Data Entry'!O163)","v":""},{"$f":"IF(ISBLANK('Data Entry'!P163),\"\",'Data Entry'!P163)","v":""},{"$f":"IF(ISBLANK('Data Entry'!Q163),\"\",'Data Entry'!Q163)","v":""},{"$f":"IF(ISBLANK('Data Entry'!R163),\"\",'Data Entry'!R163)","v":""},{"$f":"IF(ISBLANK('Data Entry'!S163),\"\",'Data Entry'!S163)","v":""},{"$f":"IF(ISBLANK('Data Entry'!T163),\"\",'Data Entry'!T163)","v":""},{"$f":"IF(ISBLANK('Data Entry'!U163),\"\",'Data Entry'!U163)","v":""},{"$f":"IF(ISBLANK('Data Entry'!V163),\"\",'Data Entry'!V163)","v":""},{"$f":"IF(ISBLANK('Data Entry'!W163),\"\",'Data Entry'!W163)","v":"2025-26"},{"$f":"IF(ISBLANK('Data Entry'!X163),\"\",'Data Entry'!X163)","v":""},{"$f":"IF(ISBLANK('Data Entry'!Y163),\"\",'Data Entry'!Y163)","v":""}]
[159,"SANCTIONED TOURNAMENTS",{"$f":"IF(ISBLANK('Data Entry'!C164),\"\",'Data Entry'!C164)","v":""},{"$f":"IF('Data Entry'!D164=\"Pick a Zone\",\"\",'Data Entry'!D164)","v":"SANCTIONED EVENT"},{"$f":"IF('Data Entry'!E164=\"pick a tournament\",\"\",'Data Entry'!E164)","v":""},{"$f":"IF('Data Entry'!F164=\"pick a tournament\",\"\",'Data Entry'!F164)","v":""},{"$f":"IF('Data Entry'!G164=\"Enter C5#\",\"\",'Data Entry'!G164)","v":""},{"$f":"IF('Data Entry'!H164=\"Enter C5#\",\"\",'Data Entry'!H164)","v":""},{"$f":"IF(ISBLANK('Data Entry'!I164),\"\",'Data Entry'!I164)","v":""},{"$f":"IF(ISBLANK('Data Entry'!J164),\"\",'Data Entry'!J164)","v":""},{"$f":"IF(ISBLANK('Data Entry'!K164),\"\",'Data Entry'!K164)","v":""},{"$f":"IF(ISBLANK('Data Entry'!L164),\"\",'Data Entry'!L164)","v":""},{"$f":"IF(ISBLANK('Data Entry'!M164),\"\",'Data Entry'!M164)","v":""},{"$f":"IF(ISBLANK('Data Entry'!N164),\"\",'Data Entry'!N164)","v":""},{"$f":"IF(ISBLANK('Data Entry'!O164),\"\",'Data Entry'!O164)","v":""},{"$f":"IF(ISBLANK('Data Entry'!P164),\"\",'Data Entry'!P164)","v":""},{"$f":"IF(ISBLANK('Data Entry'!Q164),\"\",'Data Entry'!Q164)","v":""},{"$f":"IF(ISBLANK('Data Entry'!R164),\"\",'Data Entry'!R164)","v":""},{"$f":"IF(ISBLANK('Data Entry'!S164),\"\",'Data Entry'!S164)","v":""},{"$f":"IF(ISBLANK('Data Entry'!T164),\"\",'Data Entry'!T164)","v":""},{"$f":"IF(ISBLANK('Data Entry'!U164),\"\",'Data Entry'!U164)","v":""},{"$f":"IF(ISBLANK('Data Entry'!V164),\"\",'Data Entry'!V164)","v":""},{"$f":"IF(ISBLANK('Data Entry'!W164),\"\",'Data Entry'!W164)","v":"2025-26"},{"$f":"IF(ISBLANK('Data Entry'!X164),\"\",'Data Entry'!X164)","v":""},{"$f":"IF(ISBLANK('Data Entry'!Y164),\"\",'Data Entry'!Y164)","v":""}]
[160,"SANCTIONED TOURNAMENTS",{"$f":"IF(ISBLANK('Data Entry'!C165),\"\",'Data Entry'!C165)","v":""},{"$f":"IF('Data Entry'!D165=\"Pick a Zone\",\"\",'Data Entry'!D165)","v":"SANCTIONED EVENT"},{"$f":"IF('Data Entry'!E165=\"pick a tournament\",\"\",'Data Entry'!E165)","v":""},{"$f":"IF('Data Entry'!F165=\"pick a tournament\",\"\",'Data Entry'!F165)","v":""},{"$f":"IF('Data Entry'!G165=\"Enter C5#\",\"\",'Data Entry'!G165)","v":""},{"$f":"IF('Data Entry'!H165=\"Enter C5#\",\"\",'Data Entry'!H165)","v":""},{"$f":"IF(ISBLANK('Data Entry'!I165),\"\",'Data Entry'!I165)","v":""},{"$f":"IF(ISBLANK('Data Entry'!J165),\"\",'Data Entry'!J165)","v":""},{"$f":"IF(ISBLANK('Data Entry'!K165),\"\",'Data Entry'!K165)","v":""},{"$f":"IF(ISBLANK('Data Entry'!L165),\"\",'Data Entry'!L165)","v":""},{"$f":"IF(ISBLANK('Data Entry'!M165),\"\",'Data Entry'!M165)","v":""},{"$f":"IF(ISBLANK('Data Entry'!N165),\"\",'Data Entry'!N165)","v":""},{"$f":"IF(ISBLANK('Data Entry'!O165),\"\",'Data Entry'!O165)","v":""},{"$f":"IF(ISBLANK('Data Entry'!P165),\"\",'Data Entry'!P165)","v":""},{"$f":"IF(ISBLANK('Data Entry'!Q165),\"\",'Data Entry'!Q165)","v":""},{"$f":"IF(ISBLANK('Data Entry'!R165),\"\",'Data Entry'!R165)","v":""},{"$f":"IF(ISBLANK('Data Entry'!S165),\"\",'Data Entry'!S165)","v":""},{"$f":"IF(ISBLANK('Data Entry'!T165),\"\",'Data Entry'!T165)","v":""},{"$f":"IF(ISBLANK('Data Entry'!U165),\"\",'Data Entry'!U165)","v":""},{"$f":"IF(ISBLANK('Data Entry'!V165),\"\",'Data Entry'!V165)","v":""},{"$f":"IF(ISBLANK('Data Entry'!W165),\"\",'Data Entry'!W165)","v":"2025-26"},{"$f":"IF(ISBLANK('Data Entry'!X165),\"\",'Data Entry'!X165)","v":""},{"$f":"IF(ISBLANK('Data Entry'!Y165),\"\",'Data Entry'!Y165)","v":""}]
[161,"SANCTIONED TOURNAMENTS",{"$f":"IF(ISBLANK('Data Entry'!C166),\"\",'Data Entry'!C166)","v":""},{"$f":"IF('Data Entry'!D166=\"Pick a Zone\",\"\",'Data Entry'!D166)","v":"SANCTIONED EVENT"},{"$f":"IF('Data Entry'!E166=\"pick a tournament\",\"\",'Data Entry'!E166)","v":""},{"$f":"IF('Data Entry'!F166=\"pick a tournament\",\"\",'Data Entry'!F166)","v":""},{"$f":"IF('Data Entry'!G166=\"Enter C5#\",\"\",'Data Entry'!G166)","v":""},{"$f":"IF('Data Entry'!H166=\"Enter C5#\",\"\",'Data Entry'!H166)","v":""},{"$f":"IF(ISBLANK('Data Entry'!I166),\"\",'Data Entry'!I166)","v":""},{"$f":"IF(ISBLANK('Data Entry'!J166),\"\",'Data Entry'!J166)","v":""},{"$f":"IF(ISBLANK('Data Entry'!K166),\"\",'Data Entry'!K166)","v":""},{"$f":"IF(ISBLANK('Data Entry'!L166),\"\",'Data Entry'!L166)","v":""},{"$f":"IF(ISBLANK('Data Entry'!M166),\"\",'Data Entry'!M166)","v":""},{"$f":"IF(ISBLANK('Data Entry'!N166),\"\",'Data Entry'!N166)","v":""},{"$f":"IF(ISBLANK('Data Entry'!O166),\"\",'Data Entry'!O166)","v":""},{"$f":"IF(ISBLANK('Data Entry'!P166),\"\",'Data Entry'!P166)","v":""},{"$f":"IF(ISBLANK('Data Entry'!Q166),\"\",'Data Entry'!Q166)","v":""},{"$f":"IF(ISBLANK('Data Entry'!R166),\"\",'Data Entry'!R166)","v":""},{"$f":"IF(ISBLANK('Data Entry'!S166),\"\",'Data Entry'!S166)","v":""},{"$f":"IF(ISBLANK('Data Entry'!T166),\"\",'Data Entry'!T166)","v":""},{"$f":"IF(ISBLANK('Data Entry'!U166),\"\",'Data Entry'!U166)","v":""},{"$f":"IF(ISBLANK('Data Entry'!V166),\"\",'Data Entry'!V166)","v":""},{"$f":"IF(ISBLANK('Data Entry'!W166),\"\",'Data Entry'!W166)","v":"2025-26"},{"$f":"IF(ISBLANK('Data Entry'!X166),\"\",'Data Entry'!X166)","v":""},{"$f":"IF(ISBLANK('Data Entry'!Y166),\"\",'Data Entry'!Y166)","v":""}]
[162,"SANCTIONED TOURNAMENTS",{"$f":"IF(ISBLANK('Data Entry'!C167),\"\",'Data Entry'!C167)","v":""},{"$f":"IF('Data Entry'!D167=\"Pick a Zone\",\"\",'Data Entry'!D167)","v":"SANCTIONED EVENT"},{"$f":"IF('Data Entry'!E167=\"pick a tournament\",\"\",'Data Entry'!E167)","v":""},{"$f":"IF('Data Entry'!F167=\"pick a tournament\",\"\",'Data Entry'!F167)","v":""},{"$f":"IF('Data Entry'!G167=\"Enter C5#\",\"\",'Data Entry'!G167)","v":""},{"$f":"IF('Data Entry'!H167=\"Enter C5#\",\"\",'Data Entry'!H167)","v":""},{"$f":"IF(ISBLANK('Data Entry'!I167),\"\",'Data Entry'!I167)","v":""},{"$f":"IF(ISBLANK('Data Entry'!J167),\"\",'Data Entry'!J167)","v":""},{"$f":"IF(ISBLANK('Data Entry'!K167),\"\",'Data Entry'!K167)","v":""},{"$f":"IF(ISBLANK('Data Entry'!L167),\"\",'Data Entry'!L167)","v":""},{"$f":"IF(ISBLANK('Data Entry'!M167),\"\",'Data Entry'!M167)","v":""},{"$f":"IF(ISBLANK('Data Entry'!N167),\"\",'Data Entry'!N167)","v":""},{"$f":"IF(ISBLANK('Data Entry'!O167),\"\",'Data Entry'!O167)","v":""},{"$f":"IF(ISBLANK('Data Entry'!P167),\"\",'Data Entry'!P167)","v":""},{"$f":"IF(ISBLANK('Data Entry'!Q167),\"\",'Data Entry'!Q167)","v":""},{"$f":"IF(ISBLANK('Data Entry'!R167),\"\",'Data Entry'!R167)","v":""},{"$f":"IF(ISBLANK('Data Entry'!S167),\"\",'Data Entry'!S167)","v":""},{"$f":"IF(ISBLANK('Data Entry'!T167),\"\",'Data Entry'!T167)","v":""},{"$f":"IF(ISBLANK('Data Entry'!U167),\"\",'Data Entry'!U167)","v":""},{"$f":"IF(ISBLANK('Data Entry'!V167),\"\",'Data Entry'!V167)","v":""},{"$f":"IF(ISBLANK('Data Entry'!W167),\"\",'Data Entry'!W167)","v":"2025-26"},{"$f":"IF(ISBLANK('Data Entry'!X167),\"\",'Data Entry'!X167)","v":""},{"$f":"IF(ISBLANK('Data Entry'!Y167),\"\",'Data Entry'!Y167)","v":""}]
[163,"SANCTIONED TOURNAMENTS",{"$f":"IF(ISBLANK('Data Entry'!C168),\"\",'Data Entry'!C168)","v":""},{"$f":"IF('Data Entry'!D168=\"Pick a Zone\",\"\",'Data Entry'!D168)","v":"SANCTIONED EVENT"},{"$f":"IF('Data Entry'!E168=\"pick a tournament\",\"\",'Data Entry'!E168)","v":""},{"$f":"IF('Data Entry'!F168=\"pick a tournament\",\"\",'Data Entry'!F168)","v":""},{"$f":"IF('Data Entry'!G168=\"Enter C5#\",\"\",'Data Entry'!G168)","v":""},{"$f":"IF('Data Entry'!H168=\"Enter C5#\",\"\",'Data Entry'!H168)","v":""},{"$f":"IF(ISBLANK('Data Entry'!I168),\"\",'Data Entry'!I168)","v":""},{"$f":"IF(ISBLANK('Data Entry'!J168),\"\",'Data Entry'!J168)","v":""},{"$f":"IF(ISBLANK('Data Entry'!K168),\"\",'Data Entry'!K168)","v":""},{"$f":"IF(ISBLANK('Data Entry'!L168),\"\",'Data Entry'!L168)","v":""},{"$f":"IF(ISBLANK('Data Entry'!M168),\"\",'Data Entry'!M168)","v":""},{"$f":"IF(ISBLANK('Data Entry'!N168),\"\",'Data Entry'!N168)","v":""},{"$f":"IF(ISBLANK('Data Entry'!O168),\"\",'Data Entry'!O168)","v":""},{"$f":"IF(ISBLANK('Data Entry'!P168),\"\",'Data Entry'!P168)","v":""},{"$f":"IF(ISBLANK('Data Entry'!Q168),\"\",'Data Entry'!Q168)","v":""},{"$f":"IF(ISBLANK('Data Entry'!R168),\"\",'Data Entry'!R168)","v":""},{"$f":"IF(ISBLANK('Data Entry'!S168),\"\",'Data Entry'!S168)","v":""},{"$f":"IF(ISBLANK('Data Entry'!T168),\"\",'Data Entry'!T168)","v":""},{"$f":"IF(ISBLANK('Data Entry'!U168),\"\",'Data Entry'!U168)","v":""},{"$f":"IF(ISBLANK('Data Entry'!V168),\"\",'Data Entry'!V168)","v":""},{"$f":"IF(ISBLANK('Data Entry'!W168),\"\",'Data Entry'!W168)","v":"2025-26"},{"$f":"IF(ISBLANK('Data Entry'!X168),\"\",'Data Entry'!X168)","v":""},{"$f":"IF(ISBLANK('Data Entry'!Y168),\"\",'Data Entry'!Y168)","v":""}]
[164,"SANCTIONED TOURNAMENTS",{"$f":"IF(ISBLANK('Data Entry'!C169),\"\",'Data Entry'!C169)","v":""},{"$f":"IF('Data Entry'!D169=\"Pick a Zone\",\"\",'Data Entry'!D169)","v":"SANCTIONED EVENT"},{"$f":"IF('Data Entry'!E169=\"pick a tournament\",\"\",'Data Entry'!E169)","v":""},{"$f":"IF('Data Entry'!F169=\"pick a tournament\",\"\",'Data Entry'!F169)","v":""},{"$f":"IF('Data Entry'!G169=\"Enter C5#\",\"\",'Data Entry'!G169)","v":""},{"$f":"IF('Data Entry'!H169=\"Enter C5#\",\"\",'Data Entry'!H169)","v":""},{"$f":"IF(ISBLANK('Data Entry'!I169),\"\",'Data Entry'!I169)","v":""},{"$f":"IF(ISBLANK('Data Entry'!J169),\"\",'Data Entry'!J169)","v":""},{"$f":"IF(ISBLANK('Data Entry'!K169),\"\",'Data Entry'!K169)","v":""},{"$f":"IF(ISBLANK('Data Entry'!L169),\"\",'Data Entry'!L169)","v":""},{"$f":"IF(ISBLANK('Data Entry'!M169),\"\",'Data Entry'!M169)","v":""},{"$f":"IF(ISBLANK('Data Entry'!N169),\"\",'Data Entry'!N169)","v":""},{"$f":"IF(ISBLANK('Data Entry'!O169),\"\",'Data Entry'!O169)","v":""},{"$f":"IF(ISBLANK('Data Entry'!P169),\"\",'Data Entry'!P169)","v":""},{"$f":"IF(ISBLANK('Data Entry'!Q169),\"\",'Data Entry'!Q169)","v":""},{"$f":"IF(ISBLANK('Data Entry'!R169),\"\",'Data Entry'!R169)","v":""},{"$f":"IF(ISBLANK('Data Entry'!S169),\"\",'Data Entry'!S169)","v":""},{"$f":"IF(ISBLANK('Data Entry'!T169),\"\",'Data Entry'!T169)","v":""},{"$f":"IF(ISBLANK('Data Entry'!U169),\"\",'Data Entry'!U169)","v":""},{"$f":"IF(ISBLANK('Data Entry'!V169),\"\",'Data Entry'!V169)","v":""},{"$f":"IF(ISBLANK('Data Entry'!W169),\"\",'Data Entry'!W169)","v":"2025-26"},{"$f":"IF(ISBLANK('Data Entry'!X169),\"\",'Data Entry'!X169)","v":""},{"$f":"IF(ISBLANK('Data Entry'!Y169),\"\",'Data Entry'!Y169)","v":""}]
[165,"SANCTIONED TOURNAMENTS",{"$f":"IF(ISBLANK('Data Entry'!C170),\"\",'Data Entry'!C170)","v":""},{"$f":"IF('Data Entry'!D170=\"Pick a Zone\",\"\",'Data Entry'!D170)","v":"SANCTIONED EVENT"},{"$f":"IF('Data Entry'!E170=\"pick a tournament\",\"\",'Data Entry'!E170)","v":""},{"$f":"IF('Data Entry'!F170=\"pick a tournament\",\"\",'Data Entry'!F170)","v":""},{"$f":"IF('Data Entry'!G170=\"Enter C5#\",\"\",'Data Entry'!G170)","v":""},{"$f":"IF('Data Entry'!H170=\"Enter C5#\",\"\",'Data Entry'!H170)","v":""},{"$f":"IF(ISBLANK('Data Entry'!I170),\"\",'Data Entry'!I170)","v":""},{"$f":"IF(ISBLANK('Data Entry'!J170),\"\",'Data Entry'!J170)","v":""},{"$f":"IF(ISBLANK('Data Entry'!K170),\"\",'Data Entry'!K170)","v":""},{"$f":"IF(ISBLANK('Data Entry'!L170),\"\",'Data Entry'!L170)","v":""},{"$f":"IF(ISBLANK('Data Entry'!M170),\"\",'Data Entry'!M170)","v":""},{"$f":"IF(ISBLANK('Data Entry'!N170),\"\",'Data Entry'!N170)","v":""},{"$f":"IF(ISBLANK('Data Entry'!O170),\"\",'Data Entry'!O170)","v":""},{"$f":"IF(ISBLANK('Data Entry'!P170),\"\",'Data Entry'!P170)","v":""},{"$f":"IF(ISBLANK('Data Entry'!Q170),\"\",'Data Entry'!Q170)","v":""},{"$f":"IF(ISBLANK('Data Entry'!R170),\"\",'Data Entry'!R170)","v":""},{"$f":"IF(ISBLANK('Data Entry'!S170),\"\",'Data Entry'!S170)","v":""},{"$f":"IF(ISBLANK('Data Entry'!T170),\"\",'Data Entry'!T170)","v":""},{"$f":"IF(ISBLANK('Data Entry'!U170),\"\",'Data Entry'!U170)","v":""},{"$f":"IF(ISBLANK('Data Entry'!V170),\"\",'Data Entry'!V170)","v":""},{"$f":"IF(ISBLANK('Data Entry'!W170),\"\",'Data Entry'!W170)","v":"2025-26"},{"$f":"IF(ISBLANK('Data Entry'!X170),\"\",'Data Entry'!X170)","v":""},{"$f":"IF(ISBLANK('Data Entry'!Y170),\"\",'Data Entry'!Y170)","v":""}]
[166,"SANCTIONED TOURNAMENTS",{"$f":"IF(ISBLANK('Data Entry'!C171),\"\",'Data Entry'!C171)","v":""},{"$f":"IF('Data Entry'!D171=\"Pick a Zone\",\"\",'Data Entry'!D171)","v":"SANCTIONED EVENT"},{"$f":"IF('Data Entry'!E171=\"pick a tournament\",\"\",'Data Entry'!E171)","v":""},{"$f":"IF('Data Entry'!F171=\"pick a tournament\",\"\",'Data Entry'!F171)","v":""},{"$f":"IF('Data Entry'!G171=\"Enter C5#\",\"\",'Data Entry'!G171)","v":""},{"$f":"IF('Data Entry'!H171=\"Enter C5#\",\"\",'Data Entry'!H171)","v":""},{"$f":"IF(ISBLANK('Data Entry'!I171),\"\",'Data Entry'!I171)","v":""},{"$f":"IF(ISBLANK('Data Entry'!J171),\"\",'Data Entry'!J171)","v":""},{"$f":"IF(ISBLANK('Data Entry'!K171),\"\",'Data Entry'!K171)","v":""},{"$f":"IF(ISBLANK('Data Entry'!L171),\"\",'Data Entry'!L171)","v":""},{"$f":"IF(ISBLANK('Data Entry'!M171),\"\",'Data Entry'!M171)","v":""},{"$f":"IF(ISBLANK('Data Entry'!N171),\"\",'Data Entry'!N171)","v":""},{"$f":"IF(ISBLANK('Data Entry'!O171),\"\",'Data Entry'!O171)","v":""},{"$f":"IF(ISBLANK('Data Entry'!P171),\"\",'Data Entry'!P171)","v":""},{"$f":"IF(ISBLANK('Data Entry'!Q171),\"\",'Data Entry'!Q171)","v":""},{"$f":"IF(ISBLANK('Data Entry'!R171),\"\",'Data Entry'!R171)","v":""},{"$f":"IF(ISBLANK('Data Entry'!S171),\"\",'Data Entry'!S171)","v":""},{"$f":"IF(ISBLANK('Data Entry'!T171),\"\",'Data Entry'!T171)","v":""},{"$f":"IF(ISBLANK('Data Entry'!U171),\"\",'Data Entry'!U171)","v":""},{"$f":"IF(ISBLANK('Data Entry'!V171),\"\",'Data Entry'!V171)","v":""},{"$f":"IF(ISBLANK('Data Entry'!W171),\"\",'Data Entry'!W171)","v":"2025-26"},{"$f":"IF(ISBLANK('Data Entry'!X171),\"\",'Data Entry'!X171)","v":""},{"$f":"IF(ISBLANK('Data Entry'!Y171),\"\",'Data Entry'!Y171)","v":""}]
[167,"SANCTIONED TOURNAMENTS",{"$f":"IF(ISBLANK('Data Entry'!C172),\"\",'Data Entry'!C172)","v":""},{"$f":"IF('Data Entry'!D172=\"Pick a Zone\",\"\",'Data Entry'!D172)","v":"SANCTIONED EVENT"},{"$f":"IF('Data Entry'!E172=\"pick a tournament\",\"\",'Data Entry'!E172)","v":""},{"$f":"IF('Data Entry'!F172=\"pick a tournament\",\"\",'Data Entry'!F172)","v":""},{"$f":"IF('Data Entry'!G172=\"Enter C5#\",\"\",'Data Entry'!G172)","v":""},{"$f":"IF('Data Entry'!H172=\"Enter C5#\",\"\",'Data Entry'!H172)","v":""},{"$f":"IF(ISBLANK('Data Entry'!I172),\"\",'Data Entry'!I172)","v":""},{"$f":"IF(ISBLANK('Data Entry'!J172),\"\",'Data Entry'!J172)","v":""},{"$f":"IF(ISBLANK('Data Entry'!K172),\"\",'Data Entry'!K172)","v":""},{"$f":"IF(ISBLANK('Data Entry'!L172),\"\",'Data Entry'!L172)","v":""},{"$f":"IF(ISBLANK('Data Entry'!M172),\"\",'Data Entry'!M172)","v":""},{"$f":"IF(ISBLANK('Data Entry'!N172),\"\",'Data Entry'!N172)","v":""},{"$f":"IF(ISBLANK('Data Entry'!O172),\"\",'Data Entry'!O172)","v":""},{"$f":"IF(ISBLANK('Data Entry'!P172),\"\",'Data Entry'!P172)","v":""},{"$f":"IF(ISBLANK('Data Entry'!Q172),\"\",'Data Entry'!Q172)","v":""},{"$f":"IF(ISBLANK('Data Entry'!R172),\"\",'Data Entry'!R172)","v":""},{"$f":"IF(ISBLANK('Data Entry'!S172),\"\",'Data Entry'!S172)","v":""},{"$f":"IF(ISBLANK('Data Entry'!T172),\"\",'Data Entry'!T172)","v":""},{"$f":"IF(ISBLANK('Data Entry'!U172),\"\",'Data Entry'!U172)","v":""},{"$f":"IF(ISBLANK('Data Entry'!V172),\"\",'Data Entry'!V172)","v":""},{"$f":"IF(ISBLANK('Data Entry'!W172),\"\",'Data Entry'!W172)","v":"2025-26"},{"$f":"IF(ISBLANK('Data Entry'!X172),\"\",'Data Entry'!X172)","v":""},{"$f":"IF(ISBLANK('Data Entry'!Y172),\"\",'Data Entry'!Y172)","v":""}]
[168,"SANCTIONED TOURNAMENTS",{"$f":"IF(ISBLANK('Data Entry'!C173),\"\",'Data Entry'!C173)","v":""},{"$f":"IF('Data Entry'!D173=\"Pick a Zone\",\"\",'Data Entry'!D173)","v":"SANCTIONED EVENT"},{"$f":"IF('Data Entry'!E173=\"pick a tournament\",\"\",'Data Entry'!E173)","v":""},{"$f":"IF('Data Entry'!F173=\"pick a tournament\",\"\",'Data Entry'!F173)","v":""},{"$f":"IF('Data Entry'!G173=\"Enter C5#\",\"\",'Data Entry'!G173)","v":""},{"$f":"IF('Data Entry'!H173=\"Enter C5#\",\"\",'Data Entry'!H173)","v":""},{"$f":"IF(ISBLANK('Data Entry'!I173),\"\",'Data Entry'!I173)","v":""},{"$f":"IF(ISBLANK('Data Entry'!J173),\"\",'Data Entry'!J173)","v":""},{"$f":"IF(ISBLANK('Data Entry'!K173),\"\",'Data Entry'!K173)","v":""},{"$f":"IF(ISBLANK('Data Entry'!L173),\"\",'Data Entry'!L173)","v":""},{"$f":"IF(ISBLANK('Data Entry'!M173),\"\",'Data Entry'!M173)","v":""},{"$f":"IF(ISBLANK('Data Entry'!N173),\"\",'Data Entry'!N173)","v":""},{"$f":"IF(ISBLANK('Data Entry'!O173),\"\",'Data Entry'!O173)","v":""},{"$f":"IF(ISBLANK('Data Entry'!P173),\"\",'Data Entry'!P173)","v":""},{"$f":"IF(ISBLANK('Data Entry'!Q173),\"\",'Data Entry'!Q173)","v":""},{"$f":"IF(ISBLANK('Data Entry'!R173),\"\",'Data Entry'!R173)","v":""},{"$f":"IF(ISBLANK('Data Entry'!S173),\"\",'Data Entry'!S173)","v":""},{"$f":"IF(ISBLANK('Data Entry'!T173),\"\",'Data Entry'!T173)","v":""},{"$f":"IF(ISBLANK('Data Entry'!U173),\"\",'Data Entry'!U173)","v":""},{"$f":"IF(ISBLANK('Data Entry'!V173),\"\",'Data Entry'!V173)","v":""},{"$f":"IF(ISBLANK('Data Entry'!W173),\"\",'Data Entry'!W173)","v":"2025-26"},{"$f":"IF(ISBLANK('Data Entry'!X173),\"\",'Data Entry'!X173)","v":""},{"$f":"IF(ISBLANK('Data Entry'!Y173),\"\",'Data Entry'!Y173)","v":""}]
[169,"SANCTIONED TOURNAMENTS",{"$f":"IF(ISBLANK('Data Entry'!C174),\"\",'Data Entry'!C174)","v":""},{"$f":"IF('Data Entry'!D174=\"Pick a Zone\",\"\",'Data Entry'!D174)","v":"SANCTIONED EVENT"},{"$f":"IF('Data Entry'!E174=\"pick a tournament\",\"\",'Data Entry'!E174)","v":""},{"$f":"IF('Data Entry'!F174=\"pick a tournament\",\"\",'Data Entry'!F174)","v":""},{"$f":"IF('Data Entry'!G174=\"Enter C5#\",\"\",'Data Entry'!G174)","v":""},{"$f":"IF('Data Entry'!H174=\"Enter C5#\",\"\",'Data Entry'!H174)","v":""},{"$f":"IF(ISBLANK('Data Entry'!I174),\"\",'Data Entry'!I174)","v":""},{"$f":"IF(ISBLANK('Data Entry'!J174),\"\",'Data Entry'!J174)","v":""},{"$f":"IF(ISBLANK('Data Entry'!K174),\"\",'Data Entry'!K174)","v":""},{"$f":"IF(ISBLANK('Data Entry'!L174),\"\",'Data Entry'!L174)","v":""},{"$f":"IF(ISBLANK('Data Entry'!M174),\"\",'Data Entry'!M174)","v":""},{"$f":"IF(ISBLANK('Data Entry'!N174),\"\",'Data Entry'!N174)","v":""},{"$f":"IF(ISBLANK('Data Entry'!O174),\"\",'Data Entry'!O174)","v":""},{"$f":"IF(ISBLANK('Data Entry'!P174),\"\",'Data Entry'!P174)","v":""},{"$f":"IF(ISBLANK('Data Entry'!Q174),\"\",'Data Entry'!Q174)","v":""},{"$f":"IF(ISBLANK('Data Entry'!R174),\"\",'Data Entry'!R174)","v":""},{"$f":"IF(ISBLANK('Data Entry'!S174),\"\",'Data Entry'!S174)","v":""},{"$f":"IF(ISBLANK('Data Entry'!T174),\"\",'Data Entry'!T174)","v":""},{"$f":"IF(ISBLANK('Data Entry'!U174),\"\",'Data Entry'!U174)","v":""},{"$f":"IF(ISBLANK('Data Entry'!V174),\"\",'Data Entry'!V174)","v":""},{"$f":"IF(ISBLANK('Data Entry'!W174),\"\",'Data Entry'!W174)","v":"2025-26"},{"$f":"IF(ISBLANK('Data Entry'!X174),\"\",'Data Entry'!X174)","v":""},{"$f":"IF(ISBLANK('Data Entry'!Y174),\"\",'Data Entry'!Y174)","v":""}]
[170,"SANCTIONED TOURNAMENTS",{"$f":"IF(ISBLANK('Data Entry'!C175),\"\",'Data Entry'!C175)","v":""},{"$f":"IF('Data Entry'!D175=\"Pick a Zone\",\"\",'Data Entry'!D175)","v":"SANCTIONED EVENT"},{"$f":"IF('Data Entry'!E175=\"pick a tournament\",\"\",'Data Entry'!E175)","v":""},{"$f":"IF('Data Entry'!F175=\"pick a tournament\",\"\",'Data Entry'!F175)","v":""},{"$f":"IF('Data Entry'!G175=\"Enter C5#\",\"\",'Data Entry'!G175)","v":""},{"$f":"IF('Data Entry'!H175=\"Enter C5#\",\"\",'Data Entry'!H175)","v":""},{"$f":"IF(ISBLANK('Data Entry'!I175),\"\",'Data Entry'!I175)","v":""},{"$f":"IF(ISBLANK('Data Entry'!J175),\"\",'Data Entry'!J175)","v":""},{"$f":"IF(ISBLANK('Data Entry'!K175),\"\",'Data Entry'!K175)","v":""},{"$f":"IF(ISBLANK('Data Entry'!L175),\"\",'Data Entry'!L175)","v":""},{"$f":"IF(ISBLANK('Data Entry'!M175),\"\",'Data Entry'!M175)","v":""},{"$f":"IF(ISBLANK('Data Entry'!N175),\"\",'Data Entry'!N175)","v":""},{"$f":"IF(ISBLANK('Data Entry'!O175),\"\",'Data Entry'!O175)","v":""},{"$f":"IF(ISBLANK('Data Entry'!P175),\"\",'Data Entry'!P175)","v":""},{"$f":"IF(ISBLANK('Data Entry'!Q175),\"\",'Data Entry'!Q175)","v":""},{"$f":"IF(ISBLANK('Data Entry'!R175),\"\",'Data Entry'!R175)","v":""},{"$f":"IF(ISBLANK('Data Entry'!S175),\"\",'Data Entry'!S175)","v":""},{"$f":"IF(ISBLANK('Data Entry'!T175),\"\",'Data Entry'!T175)","v":""},{"$f":"IF(ISBLANK('Data Entry'!U175),\"\",'Data Entry'!U175)","v":""},{"$f":"IF(ISBLANK('Data Entry'!V175),\"\",'Data Entry'!V175)","v":""},{"$f":"IF(ISBLANK('Data Entry'!W175),\"\",'Data Entry'!W175)","v":"2025-26"},{"$f":"IF(ISBLANK('Data Entry'!X175),\"\",'Data Entry'!X175)","v":""},{"$f":"IF(ISBLANK('Data Entry'!Y175),\"\",'Data Entry'!Y175)","v":""}]
[171,"SANCTIONED TOURNAMENTS",{"$f":"IF(ISBLANK('Data Entry'!C176),\"\",'Data Entry'!C176)","v":""},{"$f":"IF('Data Entry'!D176=\"Pick a Zone\",\"\",'Data Entry'!D176)","v":"SANCTIONED EVENT"},{"$f":"IF('Data Entry'!E176=\"pick a tournament\",\"\",'Data Entry'!E176)","v":""},{"$f":"IF('Data Entry'!F176=\"pick a tournament\",\"\",'Data Entry'!F176)","v":""},{"$f":"IF('Data Entry'!G176=\"Enter C5#\",\"\",'Data Entry'!G176)","v":""},{"$f":"IF('Data Entry'!H176=\"Enter C5#\",\"\",'Data Entry'!H176)","v":""},{"$f":"IF(ISBLANK('Data Entry'!I176),\"\",'Data Entry'!I176)","v":""},{"$f":"IF(ISBLANK('Data Entry'!J176),\"\",'Data Entry'!J176)","v":""},{"$f":"IF(ISBLANK('Data Entry'!K176),\"\",'Data Entry'!K176)","v":""},{"$f":"IF(ISBLANK('Data Entry'!L176),\"\",'Data Entry'!L176)","v":""},{"$f":"IF(ISBLANK('Data Entry'!M176),\"\",'Data Entry'!M176)","v":""},{"$f":"IF(ISBLANK('Data Entry'!N176),\"\",'Data Entry'!N176)","v":""},{"$f":"IF(ISBLANK('Data Entry'!O176),\"\",'Data Entry'!O176)","v":""},{"$f":"IF(ISBLANK('Data Entry'!P176),\"\",'Data Entry'!P176)","v":""},{"$f":"IF(ISBLANK('Data Entry'!Q176),\"\",'Data Entry'!Q176)","v":""},{"$f":"IF(ISBLANK('Data Entry'!R176),\"\",'Data Entry'!R176)","v":""},{"$f":"IF(ISBLANK('Data Entry'!S176),\"\",'Data Entry'!S176)","v":""},{"$f":"IF(ISBLANK('Data Entry'!T176),\"\",'Data Entry'!T176)","v":""},{"$f":"IF(ISBLANK('Data Entry'!U176),\"\",'Data Entry'!U176)","v":""},{"$f":"IF(ISBLANK('Data Entry'!V176),\"\",'Data Entry'!V176)","v":""},{"$f":"IF(ISBLANK('Data Entry'!W176),\"\",'Data Entry'!W176)","v":"2025-26"},{"$f":"IF(ISBLANK('Data Entry'!X176),\"\",'Data Entry'!X176)","v":""},{"$f":"IF(ISBLANK('Data Entry'!Y176),\"\",'Data Entry'!Y176)","v":""}]
[172,"SANCTIONED TOURNAMENTS",{"$f":"IF(ISBLANK('Data Entry'!C177),\"\",'Data Entry'!C177)","v":""},{"$f":"IF('Data Entry'!D177=\"Pick a Zone\",\"\",'Data Entry'!D177)","v":"SANCTIONED EVENT"},{"$f":"IF('Data Entry'!E177=\"pick a tournament\",\"\",'Data Entry'!E177)","v":""},{"$f":"IF('Data Entry'!F177=\"pick a tournament\",\"\",'Data Entry'!F177)","v":""},{"$f":"IF('Data Entry'!G177=\"Enter C5#\",\"\",'Data Entry'!G177)","v":""},{"$f":"IF('Data Entry'!H177=\"Enter C5#\",\"\",'Data Entry'!H177)","v":""},{"$f":"IF(ISBLANK('Data Entry'!I177),\"\",'Data Entry'!I177)","v":""},{"$f":"IF(ISBLANK('Data Entry'!J177),\"\",'Data Entry'!J177)","v":""},{"$f":"IF(ISBLANK('Data Entry'!K177),\"\",'Data Entry'!K177)","v":""},{"$f":"IF(ISBLANK('Data Entry'!L177),\"\",'Data Entry'!L177)","v":""},{"$f":"IF(ISBLANK('Data Entry'!M177),\"\",'Data Entry'!M177)","v":""},{"$f":"IF(ISBLANK('Data Entry'!N177),\"\",'Data Entry'!N177)","v":""},{"$f":"IF(ISBLANK('Data Entry'!O177),\"\",'Data Entry'!O177)","v":""},{"$f":"IF(ISBLANK('Data Entry'!P177),\"\",'Data Entry'!P177)","v":""},{"$f":"IF(ISBLANK('Data Entry'!Q177),\"\",'Data Entry'!Q177)","v":""},{"$f":"IF(ISBLANK('Data Entry'!R177),\"\",'Data Entry'!R177)","v":""},{"$f":"IF(ISBLANK('Data Entry'!S177),\"\",'Data Entry'!S177)","v":""},{"$f":"IF(ISBLANK('Data Entry'!T177),\"\",'Data Entry'!T177)","v":""},{"$f":"IF(ISBLANK('Data Entry'!U177),\"\",'Data Entry'!U177)","v":""},{"$f":"IF(ISBLANK('Data Entry'!V177),\"\",'Data Entry'!V177)","v":""},{"$f":"IF(ISBLANK('Data Entry'!W177),\"\",'Data Entry'!W177)","v":"2025-26"},{"$f":"IF(ISBLANK('Data Entry'!X177),\"\",'Data Entry'!X177)","v":""},{"$f":"IF(ISBLANK('Data Entry'!Y177),\"\",'Data Entry'!Y177)","v":""}]
[173,"SANCTIONED TOURNAMENTS",{"$f":"IF(ISBLANK('Data Entry'!C178),\"\",'Data Entry'!C178)","v":""},{"$f":"IF('Data Entry'!D178=\"Pick a Zone\",\"\",'Data Entry'!D178)","v":"SANCTIONED EVENT"},{"$f":"IF('Data Entry'!E178=\"pick a tournament\",\"\",'Data Entry'!E178)","v":""},{"$f":"IF('Data Entry'!F178=\"pick a tournament\",\"\",'Data Entry'!F178)","v":""},{"$f":"IF('Data Entry'!G178=\"Enter C5#\",\"\",'Data Entry'!G178)","v":""},{"$f":"IF('Data Entry'!H178=\"Enter C5#\",\"\",'Data Entry'!H178)","v":""},{"$f":"IF(ISBLANK('Data Entry'!I178),\"\",'Data Entry'!I178)","v":""},{"$f":"IF(ISBLANK('Data Entry'!J178),\"\",'Data Entry'!J178)","v":""},{"$f":"IF(ISBLANK('Data Entry'!K178),\"\",'Data Entry'!K178)","v":""},{"$f":"IF(ISBLANK('Data Entry'!L178),\"\",'Data Entry'!L178)","v":""},{"$f":"IF(ISBLANK('Data Entry'!M178),\"\",'Data Entry'!M178)","v":""},{"$f":"IF(ISBLANK('Data Entry'!N178),\"\",'Data Entry'!N178)","v":""},{"$f":"IF(ISBLANK('Data Entry'!O178),\"\",'Data Entry'!O178)","v":""},{"$f":"IF(ISBLANK('Data Entry'!P178),\"\",'Data Entry'!P178)","v":""},{"$f":"IF(ISBLANK('Data Entry'!Q178),\"\",'Data Entry'!Q178)","v":""},{"$f":"IF(ISBLANK('Data Entry'!R178),\"\",'Data Entry'!R178)","v":""},{"$f":"IF(ISBLANK('Data Entry'!S178),\"\",'Data Entry'!S178)","v":""},{"$f":"IF(ISBLANK('Data Entry'!T178),\"\",'Data Entry'!T178)","v":""},{"$f":"IF(ISBLANK('Data Entry'!U178),\"\",'Data Entry'!U178)","v":""},{"$f":"IF(ISBLANK('Data Entry'!V178),\"\",'Data Entry'!V178)","v":""},{"$f":"IF(ISBLANK('Data Entry'!W178),\"\",'Data Entry'!W178)","v":"2025-26"},{"$f":"IF(ISBLANK('Data Entry'!X178),\"\",'Data Entry'!X178)","v":""},{"$f":"IF(ISBLANK('Data Entry'!Y178),\"\",'Data Entry'!Y178)","v":""}]
[174,"SANCTIONED TOURNAMENTS",{"$f":"IF(ISBLANK('Data Entry'!C179),\"\",'Data Entry'!C179)","v":""},{"$f":"IF('Data Entry'!D179=\"Pick a Zone\",\"\",'Data Entry'!D179)","v":"SANCTIONED EVENT"},{"$f":"IF('Data Entry'!E179=\"pick a tournament\",\"\",'Data Entry'!E179)","v":""},{"$f":"IF('Data Entry'!F179=\"pick a tournament\",\"\",'Data Entry'!F179)","v":""},{"$f":"IF('Data Entry'!G179=\"Enter C5#\",\"\",'Data Entry'!G179)","v":""},{"$f":"IF('Data Entry'!H179=\"Enter C5#\",\"\",'Data Entry'!H179)","v":""},{"$f":"IF(ISBLANK('Data Entry'!I179),\"\",'Data Entry'!I179)","v":""},{"$f":"IF(ISBLANK('Data Entry'!J179),\"\",'Data Entry'!J179)","v":""},{"$f":"IF(ISBLANK('Data Entry'!K179),\"\",'Data Entry'!K179)","v":""},{"$f":"IF(ISBLANK('Data Entry'!L179),\"\",'Data Entry'!L179)","v":""},{"$f":"IF(ISBLANK('Data Entry'!M179),\"\",'Data Entry'!M179)","v":""},{"$f":"IF(ISBLANK('Data Entry'!N179),\"\",'Data Entry'!N179)","v":""},{"$f":"IF(ISBLANK('Data Entry'!O179),\"\",'Data Entry'!O179)","v":""},{"$f":"IF(ISBLANK('Data Entry'!P179),\"\",'Data Entry'!P179)","v":""},{"$f":"IF(ISBLANK('Data Entry'!Q179),\"\",'Data Entry'!Q179)","v":""},{"$f":"IF(ISBLANK('Data Entry'!R179),\"\",'Data Entry'!R179)","v":""},{"$f":"IF(ISBLANK('Data Entry'!S179),\"\",'Data Entry'!S179)","v":""},{"$f":"IF(ISBLANK('Data Entry'!T179),\"\",'Data Entry'!T179)","v":""},{"$f":"IF(ISBLANK('Data Entry'!U179),\"\",'Data Entry'!U179)","v":""},{"$f":"IF(ISBLANK('Data Entry'!V179),\"\",'Data Entry'!V179)","v":""},{"$f":"IF(ISBLANK('Data Entry'!W179),\"\",'Data Entry'!W179)","v":"2025-26"},{"$f":"IF(ISBLANK('Data Entry'!X179),\"\",'Data Entry'!X179)","v":""},{"$f":"IF(ISBLANK('Data Entry'!Y179),\"\",'Data Entry'!Y179)","v":""}]
[175,"SANCTIONED TOURNAMENTS",{"$f":"IF(ISBLANK('Data Entry'!C180),\"\",'Data Entry'!C180)","v":""},{"$f":"IF('Data Entry'!D180=\"Pick a Zone\",\"\",'Data Entry'!D180)","v":"SANCTIONED EVENT"},{"$f":"IF('Data Entry'!E180=\"pick a tournament\",\"\",'Data Entry'!E180)","v":""},{"$f":"IF('Data Entry'!F180=\"pick a tournament\",\"\",'Data Entry'!F180)","v":""},{"$f":"IF('Data Entry'!G180=\"Enter C5#\",\"\",'Data Entry'!G180)","v":""},{"$f":"IF('Data Entry'!H180=\"Enter C5#\",\"\",'Data Entry'!H180)","v":""},{"$f":"IF(ISBLANK('Data Entry'!I180),\"\",'Data Entry'!I180)","v":""},{"$f":"IF(ISBLANK('Data Entry'!J180),\"\",'Data Entry'!J180)","v":""},{"$f":"IF(ISBLANK('Data Entry'!K180),\"\",'Data Entry'!K180)","v":""},{"$f":"IF(ISBLANK('Data Entry'!L180),\"\",'Data Entry'!L180)","v":""},{"$f":"IF(ISBLANK('Data Entry'!M180),\"\",'Data Entry'!M180)","v":""},{"$f":"IF(ISBLANK('Data Entry'!N180),\"\",'Data Entry'!N180)","v":""},{"$f":"IF(ISBLANK('Data Entry'!O180),\"\",'Data Entry'!O180)","v":""},{"$f":"IF(ISBLANK('Data Entry'!P180),\"\",'Data Entry'!P180)","v":""},{"$f":"IF(ISBLANK('Data Entry'!Q180),\"\",'Data Entry'!Q180)","v":""},{"$f":"IF(ISBLANK('Data Entry'!R180),\"\",'Data Entry'!R180)","v":""},{"$f":"IF(ISBLANK('Data Entry'!S180),\"\",'Data Entry'!S180)","v":""},{"$f":"IF(ISBLANK('Data Entry'!T180),\"\",'Data Entry'!T180)","v":""},{"$f":"IF(ISBLANK('Data Entry'!U180),\"\",'Data Entry'!U180)","v":""},{"$f":"IF(ISBLANK('Data Entry'!V180),\"\",'Data Entry'!V180)","v":""},{"$f":"IF(ISBLANK('Data Entry'!W180),\"\",'Data Entry'!W180)","v":"2025-26"},{"$f":"IF(ISBLANK('Data Entry'!X180),\"\",'Data Entry'!X180)","v":""},{"$f":"IF(ISBLANK('Data Entry'!Y180),\"\",'Data Entry'!Y180)","v":""}]
[176,"SANCTIONED TOURNAMENTS",{"$f":"IF(ISBLANK('Data Entry'!C181),\"\",'Data Entry'!C181)","v":""},{"$f":"IF('Data Entry'!D181=\"Pick a Zone\",\"\",'Data Entry'!D181)","v":"SANCTIONED EVENT"},{"$f":"IF('Data Entry'!E181=\"pick a tournament\",\"\",'Data Entry'!E181)","v":""},{"$f":"IF('Data Entry'!F181=\"pick a tournament\",\"\",'Data Entry'!F181)","v":""},{"$f":"IF('Data Entry'!G181=\"Enter C5#\",\"\",'Data Entry'!G181)","v":""},{"$f":"IF('Data Entry'!H181=\"Enter C5#\",\"\",'Data Entry'!H181)","v":""},{"$f":"IF(ISBLANK('Data Entry'!I181),\"\",'Data Entry'!I181)","v":""},{"$f":"IF(ISBLANK('Data Entry'!J181),\"\",'Data Entry'!J181)","v":""},{"$f":"IF(ISBLANK('Data Entry'!K181),\"\",'Data Entry'!K181)","v":""},{"$f":"IF(ISBLANK('Data Entry'!L181),\"\",'Data Entry'!L181)","v":""},{"$f":"IF(ISBLANK('Data Entry'!M181),\"\",'Data Entry'!M181)","v":""},{"$f":"IF(ISBLANK('Data Entry'!N181),\"\",'Data Entry'!N181)","v":""},{"$f":"IF(ISBLANK('Data Entry'!O181),\"\",'Data Entry'!O181)","v":""},{"$f":"IF(ISBLANK('Data Entry'!P181),\"\",'Data Entry'!P181)","v":""},{"$f":"IF(ISBLANK('Data Entry'!Q181),\"\",'Data Entry'!Q181)","v":""},{"$f":"IF(ISBLANK('Data Entry'!R181),\"\",'Data Entry'!R181)","v":""},{"$f":"IF(ISBLANK('Data Entry'!S181),\"\",'Data Entry'!S181)","v":""},{"$f":"IF(ISBLANK('Data Entry'!T181),\"\",'Data Entry'!T181)","v":""},{"$f":"IF(ISBLANK('Data Entry'!U181),\"\",'Data Entry'!U181)","v":""},{"$f":"IF(ISBLANK('Data Entry'!V181),\"\",'Data Entry'!V181)","v":""},{"$f":"IF(ISBLANK('Data Entry'!W181),\"\",'Data Entry'!W181)","v":"2025-26"},{"$f":"IF(ISBLANK('Data Entry'!X181),\"\",'Data Entry'!X181)","v":""},{"$f":"IF(ISBLANK('Data Entry'!Y181),\"\",'Data Entry'!Y181)","v":""}]
[177,"SANCTIONED TOURNAMENTS",{"$f":"IF(ISBLANK('Data Entry'!C182),\"\",'Data Entry'!C182)","v":""},{"$f":"IF('Data Entry'!D182=\"Pick a Zone\",\"\",'Data Entry'!D182)","v":"SANCTIONED EVENT"},{"$f":"IF('Data Entry'!E182=\"pick a tournament\",\"\",'Data Entry'!E182)","v":""},{"$f":"IF('Data Entry'!F182=\"pick a tournament\",\"\",'Data Entry'!F182)","v":""},{"$f":"IF('Data Entry'!G182=\"Enter C5#\",\"\",'Data Entry'!G182)","v":""},{"$f":"IF('Data Entry'!H182=\"Enter C5#\",\"\",'Data Entry'!H182)","v":""},{"$f":"IF(ISBLANK('Data Entry'!I182),\"\",'Data Entry'!I182)","v":""},{"$f":"IF(ISBLANK('Data Entry'!J182),\"\",'Data Entry'!J182)","v":""},{"$f":"IF(ISBLANK('Data Entry'!K182),\"\",'Data Entry'!K182)","v":""},{"$f":"IF(ISBLANK('Data Entry'!L182),\"\",'Data Entry'!L182)","v":""},{"$f":"IF(ISBLANK('Data Entry'!M182),\"\",'Data Entry'!M182)","v":""},{"$f":"IF(ISBLANK('Data Entry'!N182),\"\",'Data Entry'!N182)","v":""},{"$f":"IF(ISBLANK('Data Entry'!O182),\"\",'Data Entry'!O182)","v":""},{"$f":"IF(ISBLANK('Data Entry'!P182),\"\",'Data Entry'!P182)","v":""},{"$f":"IF(ISBLANK('Data Entry'!Q182),\"\",'Data Entry'!Q182)","v":""},{"$f":"IF(ISBLANK('Data Entry'!R182),\"\",'Data Entry'!R182)","v":""},{"$f":"IF(ISBLANK('Data Entry'!S182),\"\",'Data Entry'!S182)","v":""},{"$f":"IF(ISBLANK('Data Entry'!T182),\"\",'Data Entry'!T182)","v":""},{"$f":"IF(ISBLANK('Data Entry'!U182),\"\",'Data Entry'!U182)","v":""},{"$f":"IF(ISBLANK('Data Entry'!V182),\"\",'Data Entry'!V182)","v":""},{"$f":"IF(ISBLANK('Data Entry'!W182),\"\",'Data Entry'!W182)","v":"2025-26"},{"$f":"IF(ISBLANK('Data Entry'!X182),\"\",'Data Entry'!X182)","v":""},{"$f":"IF(ISBLANK('Data Entry'!Y182),\"\",'Data Entry'!Y182)","v":""}]
[178,"SANCTIONED TOURNAMENTS",{"$f":"IF(ISBLANK('Data Entry'!C183),\"\",'Data Entry'!C183)","v":""},{"$f":"IF('Data Entry'!D183=\"Pick a Zone\",\"\",'Data Entry'!D183)","v":"SANCTIONED EVENT"},{"$f":"IF('Data Entry'!E183=\"pick a tournament\",\"\",'Data Entry'!E183)","v":""},{"$f":"IF('Data Entry'!F183=\"pick a tournament\",\"\",'Data Entry'!F183)","v":""},{"$f":"IF('Data Entry'!G183=\"Enter C5#\",\"\",'Data Entry'!G183)","v":""},{"$f":"IF('Data Entry'!H183=\"Enter C5#\",\"\",'Data Entry'!H183)","v":""},{"$f":"IF(ISBLANK('Data Entry'!I183),\"\",'Data Entry'!I183)","v":""},{"$f":"IF(ISBLANK('Data Entry'!J183),\"\",'Data Entry'!J183)","v":""},{"$f":"IF(ISBLANK('Data Entry'!K183),\"\",'Data Entry'!K183)","v":""},{"$f":"IF(ISBLANK('Data Entry'!L183),\"\",'Data Entry'!L183)","v":""},{"$f":"IF(ISBLANK('Data Entry'!M183),\"\",'Data Entry'!M183)","v":""},{"$f":"IF(ISBLANK('Data Entry'!N183),\"\",'Data Entry'!N183)","v":""},{"$f":"IF(ISBLANK('Data Entry'!O183),\"\",'Data Entry'!O183)","v":""},{"$f":"IF(ISBLANK('Data Entry'!P183),\"\",'Data Entry'!P183)","v":""},{"$f":"IF(ISBLANK('Data Entry'!Q183),\"\",'Data Entry'!Q183)","v":""},{"$f":"IF(ISBLANK('Data Entry'!R183),\"\",'Data Entry'!R183)","v":""},{"$f":"IF(ISBLANK('Data Entry'!S183),\"\",'Data Entry'!S183)","v":""},{"$f":"IF(ISBLANK('Data Entry'!T183),\"\",'Data Entry'!T183)","v":""},{"$f":"IF(ISBLANK('Data Entry'!U183),\"\",'Data Entry'!U183)","v":""},{"$f":"IF(ISBLANK('Data Entry'!V183),\"\",'Data Entry'!V183)","v":""},{"$f":"IF(ISBLANK('Data Entry'!W183),\"\",'Data Entry'!W183)","v":"2025-26"},{"$f":"IF(ISBLANK('Data Entry'!X183),\"\",'Data Entry'!X183)","v":""},{"$f":"IF(ISBLANK('Data Entry'!Y183),\"\",'Data Entry'!Y183)","v":""}]
[179,"SANCTIONED TOURNAMENTS",{"$f":"IF(ISBLANK('Data Entry'!C184),\"\",'Data Entry'!C184)","v":""},{"$f":"IF('Data Entry'!D184=\"Pick a Zone\",\"\",'Data Entry'!D184)","v":"SANCTIONED EVENT"},{"$f":"IF('Data Entry'!E184=\"pick a tournament\",\"\",'Data Entry'!E184)","v":""},{"$f":"IF('Data Entry'!F184=\"pick a tournament\",\"\",'Data Entry'!F184)","v":""},{"$f":"IF('Data Entry'!G184=\"Enter C5#\",\"\",'Data Entry'!G184)","v":""},{"$f":"IF('Data Entry'!H184=\"Enter C5#\",\"\",'Data Entry'!H184)","v":""},{"$f":"IF(ISBLANK('Data Entry'!I184),\"\",'Data Entry'!I184)","v":""},{"$f":"IF(ISBLANK('Data Entry'!J184),\"\",'Data Entry'!J184)","v":""},{"$f":"IF(ISBLANK('Data Entry'!K184),\"\",'Data Entry'!K184)","v":""},{"$f":"IF(ISBLANK('Data Entry'!L184),\"\",'Data Entry'!L184)","v":""},{"$f":"IF(ISBLANK('Data Entry'!M184),\"\",'Data Entry'!M184)","v":""},{"$f":"IF(ISBLANK('Data Entry'!N184),\"\",'Data Entry'!N184)","v":""},{"$f":"IF(ISBLANK('Data Entry'!O184),\"\",'Data Entry'!O184)","v":""},{"$f":"IF(ISBLANK('Data Entry'!P184),\"\",'Data Entry'!P184)","v":""},{"$f":"IF(ISBLANK('Data Entry'!Q184),\"\",'Data Entry'!Q184)","v":""},{"$f":"IF(ISBLANK('Data Entry'!R184),\"\",'Data Entry'!R184)","v":""},{"$f":"IF(ISBLANK('Data Entry'!S184),\"\",'Data Entry'!S184)","v":""},{"$f":"IF(ISBLANK('Data Entry'!T184),\"\",'Data Entry'!T184)","v":""},{"$f":"IF(ISBLANK('Data Entry'!U184),\"\",'Data Entry'!U184)","v":""},{"$f":"IF(ISBLANK('Data Entry'!V184),\"\",'Data Entry'!V184)","v":""},{"$f":"IF(ISBLANK('Data Entry'!W184),\"\",'Data Entry'!W184)","v":"2025-26"},{"$f":"IF(ISBLANK('Data Entry'!X184),\"\",'Data Entry'!X184)","v":""},{"$f":"IF(ISBLANK('Data Entry'!Y184),\"\",'Data Entry'!Y184)","v":""}]
[180,"SANCTIONED TOURNAMENTS",{"$f":"IF(ISBLANK('Data Entry'!C185),\"\",'Data Entry'!C185)","v":""},{"$f":"IF('Data Entry'!D185=\"Pick a Zone\",\"\",'Data Entry'!D185)","v":"SANCTIONED EVENT"},{"$f":"IF('Data Entry'!E185=\"pick a tournament\",\"\",'Data Entry'!E185)","v":""},{"$f":"IF('Data Entry'!F185=\"pick a tournament\",\"\",'Data Entry'!F185)","v":""},{"$f":"IF('Data Entry'!G185=\"Enter C5#\",\"\",'Data Entry'!G185)","v":""},{"$f":"IF('Data Entry'!H185=\"Enter C5#\",\"\",'Data Entry'!H185)","v":""},{"$f":"IF(ISBLANK('Data Entry'!I185),\"\",'Data Entry'!I185)","v":""},{"$f":"IF(ISBLANK('Data Entry'!J185),\"\",'Data Entry'!J185)","v":""},{"$f":"IF(ISBLANK('Data Entry'!K185),\"\",'Data Entry'!K185)","v":""},{"$f":"IF(ISBLANK('Data Entry'!L185),\"\",'Data Entry'!L185)","v":""},{"$f":"IF(ISBLANK('Data Entry'!M185),\"\",'Data Entry'!M185)","v":""},{"$f":"IF(ISBLANK('Data Entry'!N185),\"\",'Data Entry'!N185)","v":""},{"$f":"IF(ISBLANK('Data Entry'!O185),\"\",'Data Entry'!O185)","v":""},{"$f":"IF(ISBLANK('Data Entry'!P185),\"\",'Data Entry'!P185)","v":""},{"$f":"IF(ISBLANK('Data Entry'!Q185),\"\",'Data Entry'!Q185)","v":""},{"$f":"IF(ISBLANK('Data Entry'!R185),\"\",'Data Entry'!R185)","v":""},{"$f":"IF(ISBLANK('Data Entry'!S185),\"\",'Data Entry'!S185)","v":""},{"$f":"IF(ISBLANK('Data Entry'!T185),\"\",'Data Entry'!T185)","v":""},{"$f":"IF(ISBLANK('Data Entry'!U185),\"\",'Data Entry'!U185)","v":""},{"$f":"IF(ISBLANK('Data Entry'!V185),\"\",'Data Entry'!V185)","v":""},{"$f":"IF(ISBLANK('Data Entry'!W185),\"\",'Data Entry'!W185)","v":"2025-26"},{"$f":"IF(ISBLANK('Data Entry'!X185),\"\",'Data Entry'!X185)","v":""},{"$f":"IF(ISBLANK('Data Entry'!Y185),\"\",'Data Entry'!Y185)","v":""}]
[181,"SANCTIONED TOURNAMENTS",{"$f":"IF(ISBLANK('Data Entry'!C186),\"\",'Data Entry'!C186)","v":""},{"$f":"IF('Data Entry'!D186=\"Pick a Zone\",\"\",'Data Entry'!D186)","v":"SANCTIONED EVENT"},{"$f":"IF('Data Entry'!E186=\"pick a tournament\",\"\",'Data Entry'!E186)","v":""},{"$f":"IF('Data Entry'!F186=\"pick a tournament\",\"\",'Data Entry'!F186)","v":""},{"$f":"IF('Data Entry'!G186=\"Enter C5#\",\"\",'Data Entry'!G186)","v":""},{"$f":"IF('Data Entry'!H186=\"Enter C5#\",\"\",'Data Entry'!H186)","v":""},{"$f":"IF(ISBLANK('Data Entry'!I186),\"\",'Data Entry'!I186)","v":""},{"$f":"IF(ISBLANK('Data Entry'!J186),\"\",'Data Entry'!J186)","v":""},{"$f":"IF(ISBLANK('Data Entry'!K186),\"\",'Data Entry'!K186)","v":""},{"$f":"IF(ISBLANK('Data Entry'!L186),\"\",'Data Entry'!L186)","v":""},{"$f":"IF(ISBLANK('Data Entry'!M186),\"\",'Data Entry'!M186)","v":""},{"$f":"IF(ISBLANK('Data Entry'!N186),\"\",'Data Entry'!N186)","v":""},{"$f":"IF(ISBLANK('Data Entry'!O186),\"\",'Data Entry'!O186)","v":""},{"$f":"IF(ISBLANK('Data Entry'!P186),\"\",'Data Entry'!P186)","v":""},{"$f":"IF(ISBLANK('Data Entry'!Q186),\"\",'Data Entry'!Q186)","v":""},{"$f":"IF(ISBLANK('Data Entry'!R186),\"\",'Data Entry'!R186)","v":""},{"$f":"IF(ISBLANK('Data Entry'!S186),\"\",'Data Entry'!S186)","v":""},{"$f":"IF(ISBLANK('Data Entry'!T186),\"\",'Data Entry'!T186)","v":""},{"$f":"IF(ISBLANK('Data Entry'!U186),\"\",'Data Entry'!U186)","v":""},{"$f":"IF(ISBLANK('Data Entry'!V186),\"\",'Data Entry'!V186)","v":""},{"$f":"IF(ISBLANK('Data Entry'!W186),\"\",'Data Entry'!W186)","v":"2025-26"},{"$f":"IF(ISBLANK('Data Entry'!X186),\"\",'Data Entry'!X186)","v":""},{"$f":"IF(ISBLANK('Data Entry'!Y186),\"\",'Data Entry'!Y186)","v":""}]
[182,"SANCTIONED TOURNAMENTS",{"$f":"IF(ISBLANK('Data Entry'!C187),\"\",'Data Entry'!C187)","v":""},{"$f":"IF('Data Entry'!D187=\"Pick a Zone\",\"\",'Data Entry'!D187)","v":"SANCTIONED EVENT"},{"$f":"IF('Data Entry'!E187=\"pick a tournament\",\"\",'Data Entry'!E187)","v":""},{"$f":"IF('Data Entry'!F187=\"pick a tournament\",\"\",'Data Entry'!F187)","v":""},{"$f":"IF('Data Entry'!G187=\"Enter C5#\",\"\",'Data Entry'!G187)","v":""},{"$f":"IF('Data Entry'!H187=\"Enter C5#\",\"\",'Data Entry'!H187)","v":""},{"$f":"IF(ISBLANK('Data Entry'!I187),\"\",'Data Entry'!I187)","v":""},{"$f":"IF(ISBLANK('Data Entry'!J187),\"\",'Data Entry'!J187)","v":""},{"$f":"IF(ISBLANK('Data Entry'!K187),\"\",'Data Entry'!K187)","v":""},{"$f":"IF(ISBLANK('Data Entry'!L187),\"\",'Data Entry'!L187)","v":""},{"$f":"IF(ISBLANK('Data Entry'!M187),\"\",'Data Entry'!M187)","v":""},{"$f":"IF(ISBLANK('Data Entry'!N187),\"\",'Data Entry'!N187)","v":""},{"$f":"IF(ISBLANK('Data Entry'!O187),\"\",'Data Entry'!O187)","v":""},{"$f":"IF(ISBLANK('Data Entry'!P187),\"\",'Data Entry'!P187)","v":""},{"$f":"IF(ISBLANK('Data Entry'!Q187),\"\",'Data Entry'!Q187)","v":""},{"$f":"IF(ISBLANK('Data Entry'!R187),\"\",'Data Entry'!R187)","v":""},{"$f":"IF(ISBLANK('Data Entry'!S187),\"\",'Data Entry'!S187)","v":""},{"$f":"IF(ISBLANK('Data Entry'!T187),\"\",'Data Entry'!T187)","v":""},{"$f":"IF(ISBLANK('Data Entry'!U187),\"\",'Data Entry'!U187)","v":""},{"$f":"IF(ISBLANK('Data Entry'!V187),\"\",'Data Entry'!V187)","v":""},{"$f":"IF(ISBLANK('Data Entry'!W187),\"\",'Data Entry'!W187)","v":"2025-26"},{"$f":"IF(ISBLANK('Data Entry'!X187),\"\",'Data Entry'!X187)","v":""},{"$f":"IF(ISBLANK('Data Entry'!Y187),\"\",'Data Entry'!Y187)","v":""}]
[183,"SANCTIONED TOURNAMENTS",{"$f":"IF(ISBLANK('Data Entry'!C188),\"\",'Data Entry'!C188)","v":""},{"$f":"IF('Data Entry'!D188=\"Pick a Zone\",\"\",'Data Entry'!D188)","v":"SANCTIONED EVENT"},{"$f":"IF('Data Entry'!E188=\"pick a tournament\",\"\",'Data Entry'!E188)","v":""},{"$f":"IF('Data Entry'!F188=\"pick a tournament\",\"\",'Data Entry'!F188)","v":""},{"$f":"IF('Data Entry'!G188=\"Enter C5#\",\"\",'Data Entry'!G188)","v":""},{"$f":"IF('Data Entry'!H188=\"Enter C5#\",\"\",'Data Entry'!H188)","v":""},{"$f":"IF(ISBLANK('Data Entry'!I188),\"\",'Data Entry'!I188)","v":""},{"$f":"IF(ISBLANK('Data Entry'!J188),\"\",'Data Entry'!J188)","v":""},{"$f":"IF(ISBLANK('Data Entry'!K188),\"\",'Data Entry'!K188)","v":""},{"$f":"IF(ISBLANK('Data Entry'!L188),\"\",'Data Entry'!L188)","v":""},{"$f":"IF(ISBLANK('Data Entry'!M188),\"\",'Data Entry'!M188)","v":""},{"$f":"IF(ISBLANK('Data Entry'!N188),\"\",'Data Entry'!N188)","v":""},{"$f":"IF(ISBLANK('Data Entry'!O188),\"\",'Data Entry'!O188)","v":""},{"$f":"IF(ISBLANK('Data Entry'!P188),\"\",'Data Entry'!P188)","v":""},{"$f":"IF(ISBLANK('Data Entry'!Q188),\"\",'Data Entry'!Q188)","v":""},{"$f":"IF(ISBLANK('Data Entry'!R188),\"\",'Data Entry'!R188)","v":""},{"$f":"IF(ISBLANK('Data Entry'!S188),\"\",'Data Entry'!S188)","v":""},{"$f":"IF(ISBLANK('Data Entry'!T188),\"\",'Data Entry'!T188)","v":""},{"$f":"IF(ISBLANK('Data Entry'!U188),\"\",'Data Entry'!U188)","v":""},{"$f":"IF(ISBLANK('Data Entry'!V188),\"\",'Data Entry'!V188)","v":""},{"$f":"IF(ISBLANK('Data Entry'!W188),\"\",'Data Entry'!W188)","v":"2025-26"},{"$f":"IF(ISBLANK('Data Entry'!X188),\"\",'Data Entry'!X188)","v":""},{"$f":"IF(ISBLANK('Data Entry'!Y188),\"\",'Data Entry'!Y188)","v":""}]
[184,"SANCTIONED TOURNAMENTS",{"$f":"IF(ISBLANK('Data Entry'!C189),\"\",'Data Entry'!C189)","v":""},{"$f":"IF('Data Entry'!D189=\"Pick a Zone\",\"\",'Data Entry'!D189)","v":"SANCTIONED EVENT"},{"$f":"IF('Data Entry'!E189=\"pick a tournament\",\"\",'Data Entry'!E189)","v":""},{"$f":"IF('Data Entry'!F189=\"pick a tournament\",\"\",'Data Entry'!F189)","v":""},{"$f":"IF('Data Entry'!G189=\"Enter C5#\",\"\",'Data Entry'!G189)","v":""},{"$f":"IF('Data Entry'!H189=\"Enter C5#\",\"\",'Data Entry'!H189)","v":""},{"$f":"IF(ISBLANK('Data Entry'!I189),\"\",'Data Entry'!I189)","v":""},{"$f":"IF(ISBLANK('Data Entry'!J189),\"\",'Data Entry'!J189)","v":""},{"$f":"IF(ISBLANK('Data Entry'!K189),\"\",'Data Entry'!K189)","v":""},{"$f":"IF(ISBLANK('Data Entry'!L189),\"\",'Data Entry'!L189)","v":""},{"$f":"IF(ISBLANK('Data Entry'!M189),\"\",'Data Entry'!M189)","v":""},{"$f":"IF(ISBLANK('Data Entry'!N189),\"\",'Data Entry'!N189)","v":""},{"$f":"IF(ISBLANK('Data Entry'!O189),\"\",'Data Entry'!O189)","v":""},{"$f":"IF(ISBLANK('Data Entry'!P189),\"\",'Data Entry'!P189)","v":""},{"$f":"IF(ISBLANK('Data Entry'!Q189),\"\",'Data Entry'!Q189)","v":""},{"$f":"IF(ISBLANK('Data Entry'!R189),\"\",'Data Entry'!R189)","v":""},{"$f":"IF(ISBLANK('Data Entry'!S189),\"\",'Data Entry'!S189)","v":""},{"$f":"IF(ISBLANK('Data Entry'!T189),\"\",'Data Entry'!T189)","v":""},{"$f":"IF(ISBLANK('Data Entry'!U189),\"\",'Data Entry'!U189)","v":""},{"$f":"IF(ISBLANK('Data Entry'!V189),\"\",'Data Entry'!V189)","v":""},{"$f":"IF(ISBLANK('Data Entry'!W189),\"\",'Data Entry'!W189)","v":"2025-26"},{"$f":"IF(ISBLANK('Data Entry'!X189),\"\",'Data Entry'!X189)","v":""},{"$f":"IF(ISBLANK('Data Entry'!Y189),\"\",'Data Entry'!Y189)","v":""}]
[185,"SANCTIONED TOURNAMENTS",{"$f":"IF(ISBLANK('Data Entry'!C190),\"\",'Data Entry'!C190)","v":""},{"$f":"IF('Data Entry'!D190=\"Pick a Zone\",\"\",'Data Entry'!D190)","v":"SANCTIONED EVENT"},{"$f":"IF('Data Entry'!E190=\"pick a tournament\",\"\",'Data Entry'!E190)","v":""},{"$f":"IF('Data Entry'!F190=\"pick a tournament\",\"\",'Data Entry'!F190)","v":""},{"$f":"IF('Data Entry'!G190=\"Enter C5#\",\"\",'Data Entry'!G190)","v":""},{"$f":"IF('Data Entry'!H190=\"Enter C5#\",\"\",'Data Entry'!H190)","v":""},{"$f":"IF(ISBLANK('Data Entry'!I190),\"\",'Data Entry'!I190)","v":""},{"$f":"IF(ISBLANK('Data Entry'!J190),\"\",'Data Entry'!J190)","v":""},{"$f":"IF(ISBLANK('Data Entry'!K190),\"\",'Data Entry'!K190)","v":""},{"$f":"IF(ISBLANK('Data Entry'!L190),\"\",'Data Entry'!L190)","v":""},{"$f":"IF(ISBLANK('Data Entry'!M190),\"\",'Data Entry'!M190)","v":""},{"$f":"IF(ISBLANK('Data Entry'!N190),\"\",'Data Entry'!N190)","v":""},{"$f":"IF(ISBLANK('Data Entry'!O190),\"\",'Data Entry'!O190)","v":""},{"$f":"IF(ISBLANK('Data Entry'!P190),\"\",'Data Entry'!P190)","v":""},{"$f":"IF(ISBLANK('Data Entry'!Q190),\"\",'Data Entry'!Q190)","v":""},{"$f":"IF(ISBLANK('Data Entry'!R190),\"\",'Data Entry'!R190)","v":""},{"$f":"IF(ISBLANK('Data Entry'!S190),\"\",'Data Entry'!S190)","v":""},{"$f":"IF(ISBLANK('Data Entry'!T190),\"\",'Data Entry'!T190)","v":""},{"$f":"IF(ISBLANK('Data Entry'!U190),\"\",'Data Entry'!U190)","v":""},{"$f":"IF(ISBLANK('Data Entry'!V190),\"\",'Data Entry'!V190)","v":""},{"$f":"IF(ISBLANK('Data Entry'!W190),\"\",'Data Entry'!W190)","v":"2025-26"},{"$f":"IF(ISBLANK('Data Entry'!X190),\"\",'Data Entry'!X190)","v":""},{"$f":"IF(ISBLANK('Data Entry'!Y190),\"\",'Data Entry'!Y190)","v":""}]
[186,"SANCTIONED TOURNAMENTS",{"$f":"IF(ISBLANK('Data Entry'!C191),\"\",'Data Entry'!C191)","v":""},{"$f":"IF('Data Entry'!D191=\"Pick a Zone\",\"\",'Data Entry'!D191)","v":"SANCTIONED EVENT"},{"$f":"IF('Data Entry'!E191=\"pick a tournament\",\"\",'Data Entry'!E191)","v":""},{"$f":"IF('Data Entry'!F191=\"pick a tournament\",\"\",'Data Entry'!F191)","v":""},{"$f":"IF('Data Entry'!G191=\"Enter C5#\",\"\",'Data Entry'!G191)","v":""},{"$f":"IF('Data Entry'!H191=\"Enter C5#\",\"\",'Data Entry'!H191)","v":""},{"$f":"IF(ISBLANK('Data Entry'!I191),\"\",'Data Entry'!I191)","v":""},{"$f":"IF(ISBLANK('Data Entry'!J191),\"\",'Data Entry'!J191)","v":""},{"$f":"IF(ISBLANK('Data Entry'!K191),\"\",'Data Entry'!K191)","v":""},{"$f":"IF(ISBLANK('Data Entry'!L191),\"\",'Data Entry'!L191)","v":""},{"$f":"IF(ISBLANK('Data Entry'!M191),\"\",'Data Entry'!M191)","v":""},{"$f":"IF(ISBLANK('Data Entry'!N191),\"\",'Data Entry'!N191)","v":""},{"$f":"IF(ISBLANK('Data Entry'!O191),\"\",'Data Entry'!O191)","v":""},{"$f":"IF(ISBLANK('Data Entry'!P191),\"\",'Data Entry'!P191)","v":""},{"$f":"IF(ISBLANK('Data Entry'!Q191),\"\",'Data Entry'!Q191)","v":""},{"$f":"IF(ISBLANK('Data Entry'!R191),\"\",'Data Entry'!R191)","v":""},{"$f":"IF(ISBLANK('Data Entry'!S191),\"\",'Data Entry'!S191)","v":""},{"$f":"IF(ISBLANK('Data Entry'!T191),\"\",'Data Entry'!T191)","v":""},{"$f":"IF(ISBLANK('Data Entry'!U191),\"\",'Data Entry'!U191)","v":""},{"$f":"IF(ISBLANK('Data Entry'!V191),\"\",'Data Entry'!V191)","v":""},{"$f":"IF(ISBLANK('Data Entry'!W191),\"\",'Data Entry'!W191)","v":"2025-26"},{"$f":"IF(ISBLANK('Data Entry'!X191),\"\",'Data Entry'!X191)","v":""},{"$f":"IF(ISBLANK('Data Entry'!Y191),\"\",'Data Entry'!Y191)","v":""}]
[187,"SANCTIONED TOURNAMENTS",{"$f":"IF(ISBLANK('Data Entry'!C192),\"\",'Data Entry'!C192)","v":""},{"$f":"IF('Data Entry'!D192=\"Pick a Zone\",\"\",'Data Entry'!D192)","v":"SANCTIONED EVENT"},{"$f":"IF('Data Entry'!E192=\"pick a tournament\",\"\",'Data Entry'!E192)","v":""},{"$f":"IF('Data Entry'!F192=\"pick a tournament\",\"\",'Data Entry'!F192)","v":""},{"$f":"IF('Data Entry'!G192=\"Enter C5#\",\"\",'Data Entry'!G192)","v":""},{"$f":"IF('Data Entry'!H192=\"Enter C5#\",\"\",'Data Entry'!H192)","v":""},{"$f":"IF(ISBLANK('Data Entry'!I192),\"\",'Data Entry'!I192)","v":""},{"$f":"IF(ISBLANK('Data Entry'!J192),\"\",'Data Entry'!J192)","v":""},{"$f":"IF(ISBLANK('Data Entry'!K192),\"\",'Data Entry'!K192)","v":""},{"$f":"IF(ISBLANK('Data Entry'!L192),\"\",'Data Entry'!L192)","v":""},{"$f":"IF(ISBLANK('Data Entry'!M192),\"\",'Data Entry'!M192)","v":""},{"$f":"IF(ISBLANK('Data Entry'!N192),\"\",'Data Entry'!N192)","v":""},{"$f":"IF(ISBLANK('Data Entry'!O192),\"\",'Data Entry'!O192)","v":""},{"$f":"IF(ISBLANK('Data Entry'!P192),\"\",'Data Entry'!P192)","v":""},{"$f":"IF(ISBLANK('Data Entry'!Q192),\"\",'Data Entry'!Q192)","v":""},{"$f":"IF(ISBLANK('Data Entry'!R192),\"\",'Data Entry'!R192)","v":""},{"$f":"IF(ISBLANK('Data Entry'!S192),\"\",'Data Entry'!S192)","v":""},{"$f":"IF(ISBLANK('Data Entry'!T192),\"\",'Data Entry'!T192)","v":""},{"$f":"IF(ISBLANK('Data Entry'!U192),\"\",'Data Entry'!U192)","v":""},{"$f":"IF(ISBLANK('Data Entry'!V192),\"\",'Data Entry'!V192)","v":""},{"$f":"IF(ISBLANK('Data Entry'!W192),\"\",'Data Entry'!W192)","v":"2025-26"},{"$f":"IF(ISBLANK('Data Entry'!X192),\"\",'Data Entry'!X192)","v":""},{"$f":"IF(ISBLANK('Data Entry'!Y192),\"\",'Data Entry'!Y192)","v":""}]
[188,"SANCTIONED TOURNAMENTS",{"$f":"IF(ISBLANK('Data Entry'!C193),\"\",'Data Entry'!C193)","v":""},{"$f":"IF('Data Entry'!D193=\"Pick a Zone\",\"\",'Data Entry'!D193)","v":"SANCTIONED EVENT"},{"$f":"IF('Data Entry'!E193=\"pick a tournament\",\"\",'Data Entry'!E193)","v":""},{"$f":"IF('Data Entry'!F193=\"pick a tournament\",\"\",'Data Entry'!F193)","v":""},{"$f":"IF('Data Entry'!G193=\"Enter C5#\",\"\",'Data Entry'!G193)","v":""},{"$f":"IF('Data Entry'!H193=\"Enter C5#\",\"\",'Data Entry'!H193)","v":""},{"$f":"IF(ISBLANK('Data Entry'!I193),\"\",'Data Entry'!I193)","v":""},{"$f":"IF(ISBLANK('Data Entry'!J193),\"\",'Data Entry'!J193)","v":""},{"$f":"IF(ISBLANK('Data Entry'!K193),\"\",'Data Entry'!K193)","v":""},{"$f":"IF(ISBLANK('Data Entry'!L193),\"\",'Data Entry'!L193)","v":""},{"$f":"IF(ISBLANK('Data Entry'!M193),\"\",'Data Entry'!M193)","v":""},{"$f":"IF(ISBLANK('Data Entry'!N193),\"\",'Data Entry'!N193)","v":""},{"$f":"IF(ISBLANK('Data Entry'!O193),\"\",'Data Entry'!O193)","v":""},{"$f":"IF(ISBLANK('Data Entry'!P193),\"\",'Data Entry'!P193)","v":""},{"$f":"IF(ISBLANK('Data Entry'!Q193),\"\",'Data Entry'!Q193)","v":""},{"$f":"IF(ISBLANK('Data Entry'!R193),\"\",'Data Entry'!R193)","v":""},{"$f":"IF(ISBLANK('Data Entry'!S193),\"\",'Data Entry'!S193)","v":""},{"$f":"IF(ISBLANK('Data Entry'!T193),\"\",'Data Entry'!T193)","v":""},{"$f":"IF(ISBLANK('Data Entry'!U193),\"\",'Data Entry'!U193)","v":""},{"$f":"IF(ISBLANK('Data Entry'!V193),\"\",'Data Entry'!V193)","v":""},{"$f":"IF(ISBLANK('Data Entry'!W193),\"\",'Data Entry'!W193)","v":"2025-26"},{"$f":"IF(ISBLANK('Data Entry'!X193),\"\",'Data Entry'!X193)","v":""},{"$f":"IF(ISBLANK('Data Entry'!Y193),\"\",'Data Entry'!Y193)","v":""}]
[189,"SANCTIONED TOURNAMENTS",{"$f":"IF(ISBLANK('Data Entry'!C194),\"\",'Data Entry'!C194)","v":""},{"$f":"IF('Data Entry'!D194=\"Pick a Zone\",\"\",'Data Entry'!D194)","v":"SANCTIONED EVENT"},{"$f":"IF('Data Entry'!E194=\"pick a tournament\",\"\",'Data Entry'!E194)","v":""},{"$f":"IF('Data Entry'!F194=\"pick a tournament\",\"\",'Data Entry'!F194)","v":""},{"$f":"IF('Data Entry'!G194=\"Enter C5#\",\"\",'Data Entry'!G194)","v":""},{"$f":"IF('Data Entry'!H194=\"Enter C5#\",\"\",'Data Entry'!H194)","v":""},{"$f":"IF(ISBLANK('Data Entry'!I194),\"\",'Data Entry'!I194)","v":""},{"$f":"IF(ISBLANK('Data Entry'!J194),\"\",'Data Entry'!J194)","v":""},{"$f":"IF(ISBLANK('Data Entry'!K194),\"\",'Data Entry'!K194)","v":""},{"$f":"IF(ISBLANK('Data Entry'!L194),\"\",'Data Entry'!L194)","v":""},{"$f":"IF(ISBLANK('Data Entry'!M194),\"\",'Data Entry'!M194)","v":""},{"$f":"IF(ISBLANK('Data Entry'!N194),\"\",'Data Entry'!N194)","v":""},{"$f":"IF(ISBLANK('Data Entry'!O194),\"\",'Data Entry'!O194)","v":""},{"$f":"IF(ISBLANK('Data Entry'!P194),\"\",'Data Entry'!P194)","v":""},{"$f":"IF(ISBLANK('Data Entry'!Q194),\"\",'Data Entry'!Q194)","v":""},{"$f":"IF(ISBLANK('Data Entry'!R194),\"\",'Data Entry'!R194)","v":""},{"$f":"IF(ISBLANK('Data Entry'!S194),\"\",'Data Entry'!S194)","v":""},{"$f":"IF(ISBLANK('Data Entry'!T194),\"\",'Data Entry'!T194)","v":""},{"$f":"IF(ISBLANK('Data Entry'!U194),\"\",'Data Entry'!U194)","v":""},{"$f":"IF(ISBLANK('Data Entry'!V194),\"\",'Data Entry'!V194)","v":""},{"$f":"IF(ISBLANK('Data Entry'!W194),\"\",'Data Entry'!W194)","v":"2025-26"},{"$f":"IF(ISBLANK('Data Entry'!X194),\"\",'Data Entry'!X194)","v":""},{"$f":"IF(ISBLANK('Data Entry'!Y194),\"\",'Data Entry'!Y194)","v":""}]
[190,"SANCTIONED TOURNAMENTS",{"$f":"IF(ISBLANK('Data Entry'!C195),\"\",'Data Entry'!C195)","v":""},{"$f":"IF('Data Entry'!D195=\"Pick a Zone\",\"\",'Data Entry'!D195)","v":"SANCTIONED EVENT"},{"$f":"IF('Data Entry'!E195=\"pick a tournament\",\"\",'Data Entry'!E195)","v":""},{"$f":"IF('Data Entry'!F195=\"pick a tournament\",\"\",'Data Entry'!F195)","v":""},{"$f":"IF('Data Entry'!G195=\"Enter C5#\",\"\",'Data Entry'!G195)","v":""},{"$f":"IF('Data Entry'!H195=\"Enter C5#\",\"\",'Data Entry'!H195)","v":""},{"$f":"IF(ISBLANK('Data Entry'!I195),\"\",'Data Entry'!I195)","v":""},{"$f":"IF(ISBLANK('Data Entry'!J195),\"\",'Data Entry'!J195)","v":""},{"$f":"IF(ISBLANK('Data Entry'!K195),\"\",'Data Entry'!K195)","v":""},{"$f":"IF(ISBLANK('Data Entry'!L195),\"\",'Data Entry'!L195)","v":""},{"$f":"IF(ISBLANK('Data Entry'!M195),\"\",'Data Entry'!M195)","v":""},{"$f":"IF(ISBLANK('Data Entry'!N195),\"\",'Data Entry'!N195)","v":""},{"$f":"IF(ISBLANK('Data Entry'!O195),\"\",'Data Entry'!O195)","v":""},{"$f":"IF(ISBLANK('Data Entry'!P195),\"\",'Data Entry'!P195)","v":""},{"$f":"IF(ISBLANK('Data Entry'!Q195),\"\",'Data Entry'!Q195)","v":""},{"$f":"IF(ISBLANK('Data Entry'!R195),\"\",'Data Entry'!R195)","v":""},{"$f":"IF(ISBLANK('Data Entry'!S195),\"\",'Data Entry'!S195)","v":""},{"$f":"IF(ISBLANK('Data Entry'!T195),\"\",'Data Entry'!T195)","v":""},{"$f":"IF(ISBLANK('Data Entry'!U195),\"\",'Data Entry'!U195)","v":""},{"$f":"IF(ISBLANK('Data Entry'!V195),\"\",'Data Entry'!V195)","v":""},{"$f":"IF(ISBLANK('Data Entry'!W195),\"\",'Data Entry'!W195)","v":"2025-26"},{"$f":"IF(ISBLANK('Data Entry'!X195),\"\",'Data Entry'!X195)","v":""},{"$f":"IF(ISBLANK('Data Entry'!Y195),\"\",'Data Entry'!Y195)","v":""}]
[191,"SANCTIONED TOURNAMENTS",{"$f":"IF(ISBLANK('Data Entry'!C196),\"\",'Data Entry'!C196)","v":""},{"$f":"IF('Data Entry'!D196=\"Pick a Zone\",\"\",'Data Entry'!D196)","v":"SANCTIONED EVENT"},{"$f":"IF('Data Entry'!E196=\"pick a tournament\",\"\",'Data Entry'!E196)","v":""},{"$f":"IF('Data Entry'!F196=\"pick a tournament\",\"\",'Data Entry'!F196)","v":""},{"$f":"IF('Data Entry'!G196=\"Enter C5#\",\"\",'Data Entry'!G196)","v":""},{"$f":"IF('Data Entry'!H196=\"Enter C5#\",\"\",'Data Entry'!H196)","v":""},{"$f":"IF(ISBLANK('Data Entry'!I196),\"\",'Data Entry'!I196)","v":""},{"$f":"IF(ISBLANK('Data Entry'!J196),\"\",'Data Entry'!J196)","v":""},{"$f":"IF(ISBLANK('Data Entry'!K196),\"\",'Data Entry'!K196)","v":""},{"$f":"IF(ISBLANK('Data Entry'!L196),\"\",'Data Entry'!L196)","v":""},{"$f":"IF(ISBLANK('Data Entry'!M196),\"\",'Data Entry'!M196)","v":""},{"$f":"IF(ISBLANK('Data Entry'!N196),\"\",'Data Entry'!N196)","v":""},{"$f":"IF(ISBLANK('Data Entry'!O196),\"\",'Data Entry'!O196)","v":""},{"$f":"IF(ISBLANK('Data Entry'!P196),\"\",'Data Entry'!P196)","v":""},{"$f":"IF(ISBLANK('Data Entry'!Q196),\"\",'Data Entry'!Q196)","v":""},{"$f":"IF(ISBLANK('Data Entry'!R196),\"\",'Data Entry'!R196)","v":""},{"$f":"IF(ISBLANK('Data Entry'!S196),\"\",'Data Entry'!S196)","v":""},{"$f":"IF(ISBLANK('Data Entry'!T196),\"\",'Data Entry'!T196)","v":""},{"$f":"IF(ISBLANK('Data Entry'!U196),\"\",'Data Entry'!U196)","v":""},{"$f":"IF(ISBLANK('Data Entry'!V196),\"\",'Data Entry'!V196)","v":""},{"$f":"IF(ISBLANK('Data Entry'!W196),\"\",'Data Entry'!W196)","v":"2025-26"},{"$f":"IF(ISBLANK('Data Entry'!X196),\"\",'Data Entry'!X196)","v":""},{"$f":"IF(ISBLANK('Data Entry'!Y196),\"\",'Data Entry'!Y196)","v":""}]
[192,"SANCTIONED TOURNAMENTS",{"$f":"IF(ISBLANK('Data Entry'!C197),\"\",'Data Entry'!C197)","v":""},{"$f":"IF('Data Entry'!D197=\"Pick a Zone\",\"\",'Data Entry'!D197)","v":"SANCTIONED EVENT"},{"$f":"IF('Data Entry'!E197=\"pick a tournament\",\"\",'Data Entry'!E197)","v":""},{"$f":"IF('Data Entry'!F197=\"pick a tournament\",\"\",'Data Entry'!F197)","v":""},{"$f":"IF('Data Entry'!G197=\"Enter C5#\",\"\",'Data Entry'!G197)","v":""},{"$f":"IF('Data Entry'!H197=\"Enter C5#\",\"\",'Data Entry'!H197)","v":""},{"$f":"IF(ISBLANK('Data Entry'!I197),\"\",'Data Entry'!I197)","v":""},{"$f":"IF(ISBLANK('Data Entry'!J197),\"\",'Data Entry'!J197)","v":""},{"$f":"IF(ISBLANK('Data Entry'!K197),\"\",'Data Entry'!K197)","v":""},{"$f":"IF(ISBLANK('Data Entry'!L197),\"\",'Data Entry'!L197)","v":""},{"$f":"IF(ISBLANK('Data Entry'!M197),\"\",'Data Entry'!M197)","v":""},{"$f":"IF(ISBLANK('Data Entry'!N197),\"\",'Data Entry'!N197)","v":""},{"$f":"IF(ISBLANK('Data Entry'!O197),\"\",'Data Entry'!O197)","v":""},{"$f":"IF(ISBLANK('Data Entry'!P197),\"\",'Data Entry'!P197)","v":""},{"$f":"IF(ISBLANK('Data Entry'!Q197),\"\",'Data Entry'!Q197)","v":""},{"$f":"IF(ISBLANK('Data Entry'!R197),\"\",'Data Entry'!R197)","v":""},{"$f":"IF(ISBLANK('Data Entry'!S197),\"\",'Data Entry'!S197)","v":""},{"$f":"IF(ISBLANK('Data Entry'!T197),\"\",'Data Entry'!T197)","v":""},{"$f":"IF(ISBLANK('Data Entry'!U197),\"\",'Data Entry'!U197)","v":""},{"$f":"IF(ISBLANK('Data Entry'!V197),\"\",'Data Entry'!V197)","v":""},{"$f":"IF(ISBLANK('Data Entry'!W197),\"\",'Data Entry'!W197)","v":"2025-26"},{"$f":"IF(ISBLANK('Data Entry'!X197),\"\",'Data Entry'!X197)","v":""},{"$f":"IF(ISBLANK('Data Entry'!Y197),\"\",'Data Entry'!Y197)","v":""}]
[193,"SANCTIONED TOURNAMENTS",{"$f":"IF(ISBLANK('Data Entry'!C198),\"\",'Data Entry'!C198)","v":""},{"$f":"IF('Data Entry'!D198=\"Pick a Zone\",\"\",'Data Entry'!D198)","v":"SANCTIONED EVENT"},{"$f":"IF('Data Entry'!E198=\"pick a tournament\",\"\",'Data Entry'!E198)","v":""},{"$f":"IF('Data Entry'!F198=\"pick a tournament\",\"\",'Data Entry'!F198)","v":""},{"$f":"IF('Data Entry'!G198=\"Enter C5#\",\"\",'Data Entry'!G198)","v":""},{"$f":"IF('Data Entry'!H198=\"Enter C5#\",\"\",'Data Entry'!H198)","v":""},{"$f":"IF(ISBLANK('Data Entry'!I198),\"\",'Data Entry'!I198)","v":""},{"$f":"IF(ISBLANK('Data Entry'!J198),\"\",'Data Entry'!J198)","v":""},{"$f":"IF(ISBLANK('Data Entry'!K198),\"\",'Data Entry'!K198)","v":""},{"$f":"IF(ISBLANK('Data Entry'!L198),\"\",'Data Entry'!L198)","v":""},{"$f":"IF(ISBLANK('Data Entry'!M198),\"\",'Data Entry'!M198)","v":""},{"$f":"IF(ISBLANK('Data Entry'!N198),\"\",'Data Entry'!N198)","v":""},{"$f":"IF(ISBLANK('Data Entry'!O198),\"\",'Data Entry'!O198)","v":""},{"$f":"IF(ISBLANK('Data Entry'!P198),\"\",'Data Entry'!P198)","v":""},{"$f":"IF(ISBLANK('Data Entry'!Q198),\"\",'Data Entry'!Q198)","v":""},{"$f":"IF(ISBLANK('Data Entry'!R198),\"\",'Data Entry'!R198)","v":""},{"$f":"IF(ISBLANK('Data Entry'!S198),\"\",'Data Entry'!S198)","v":""},{"$f":"IF(ISBLANK('Data Entry'!T198),\"\",'Data Entry'!T198)","v":""},{"$f":"IF(ISBLANK('Data Entry'!U198),\"\",'Data Entry'!U198)","v":""},{"$f":"IF(ISBLANK('Data Entry'!V198),\"\",'Data Entry'!V198)","v":""},{"$f":"IF(ISBLANK('Data Entry'!W198),\"\",'Data Entry'!W198)","v":"2025-26"},{"$f":"IF(ISBLANK('Data Entry'!X198),\"\",'Data Entry'!X198)","v":""},{"$f":"IF(ISBLANK('Data Entry'!Y198),\"\",'Data Entry'!Y198)","v":""}]
[194,"SANCTIONED TOURNAMENTS",{"$f":"IF(ISBLANK('Data Entry'!C199),\"\",'Data Entry'!C199)","v":""},{"$f":"IF('Data Entry'!D199=\"Pick a Zone\",\"\",'Data Entry'!D199)","v":"SANCTIONED EVENT"},{"$f":"IF('Data Entry'!E199=\"pick a tournament\",\"\",'Data Entry'!E199)","v":""},{"$f":"IF('Data Entry'!F199=\"pick a tournament\",\"\",'Data Entry'!F199)","v":""},{"$f":"IF('Data Entry'!G199=\"Enter C5#\",\"\",'Data Entry'!G199)","v":""},{"$f":"IF('Data Entry'!H199=\"Enter C5#\",\"\",'Data Entry'!H199)","v":""},{"$f":"IF(ISBLANK('Data Entry'!I199),\"\",'Data Entry'!I199)","v":""},{"$f":"IF(ISBLANK('Data Entry'!J199),\"\",'Data Entry'!J199)","v":""},{"$f":"IF(ISBLANK('Data Entry'!K199),\"\",'Data Entry'!K199)","v":""},{"$f":"IF(ISBLANK('Data Entry'!L199),\"\",'Data Entry'!L199)","v":""},{"$f":"IF(ISBLANK('Data Entry'!M199),\"\",'Data Entry'!M199)","v":""},{"$f":"IF(ISBLANK('Data Entry'!N199),\"\",'Data Entry'!N199)","v":""},{"$f":"IF(ISBLANK('Data Entry'!O199),\"\",'Data Entry'!O199)","v":""},{"$f":"IF(ISBLANK('Data Entry'!P199),\"\",'Data Entry'!P199)","v":""},{"$f":"IF(ISBLANK('Data Entry'!Q199),\"\",'Data Entry'!Q199)","v":""},{"$f":"IF(ISBLANK('Data Entry'!R199),\"\",'Data Entry'!R199)","v":""},{"$f":"IF(ISBLANK('Data Entry'!S199),\"\",'Data Entry'!S199)","v":""},{"$f":"IF(ISBLANK('Data Entry'!T199),\"\",'Data Entry'!T199)","v":""},{"$f":"IF(ISBLANK('Data Entry'!U199),\"\",'Data Entry'!U199)","v":""},{"$f":"IF(ISBLANK('Data Entry'!V199),\"\",'Data Entry'!V199)","v":""},{"$f":"IF(ISBLANK('Data Entry'!W199),\"\",'Data Entry'!W199)","v":"2025-26"},{"$f":"IF(ISBLANK('Data Entry'!X199),\"\",'Data Entry'!X199)","v":""},{"$f":"IF(ISBLANK('Data Entry'!Y199),\"\",'Data Entry'!Y199)","v":""}]
[195,"SANCTIONED TOURNAMENTS",{"$f":"IF(ISBLANK('Data Entry'!C200),\"\",'Data Entry'!C200)","v":""},{"$f":"IF('Data Entry'!D200=\"Pick a Zone\",\"\",'Data Entry'!D200)","v":"SANCTIONED EVENT"},{"$f":"IF('Data Entry'!E200=\"pick a tournament\",\"\",'Data Entry'!E200)","v":""},{"$f":"IF('Data Entry'!F200=\"pick a tournament\",\"\",'Data Entry'!F200)","v":""},{"$f":"IF('Data Entry'!G200=\"Enter C5#\",\"\",'Data Entry'!G200)","v":""},{"$f":"IF('Data Entry'!H200=\"Enter C5#\",\"\",'Data Entry'!H200)","v":""},{"$f":"IF(ISBLANK('Data Entry'!I200),\"\",'Data Entry'!I200)","v":""},{"$f":"IF(ISBLANK('Data Entry'!J200),\"\",'Data Entry'!J200)","v":""},{"$f":"IF(ISBLANK('Data Entry'!K200),\"\",'Data Entry'!K200)","v":""},{"$f":"IF(ISBLANK('Data Entry'!L200),\"\",'Data Entry'!L200)","v":""},{"$f":"IF(ISBLANK('Data Entry'!M200),\"\",'Data Entry'!M200)","v":""},{"$f":"IF(ISBLANK('Data Entry'!N200),\"\",'Data Entry'!N200)","v":""},{"$f":"IF(ISBLANK('Data Entry'!O200),\"\",'Data Entry'!O200)","v":""},{"$f":"IF(ISBLANK('Data Entry'!P200),\"\",'Data Entry'!P200)","v":""},{"$f":"IF(ISBLANK('Data Entry'!Q200),\"\",'Data Entry'!Q200)","v":""},{"$f":"IF(ISBLANK('Data Entry'!R200),\"\",'Data Entry'!R200)","v":""},{"$f":"IF(ISBLANK('Data Entry'!S200),\"\",'Data Entry'!S200)","v":""},{"$f":"IF(ISBLANK('Data Entry'!T200),\"\",'Data Entry'!T200)","v":""},{"$f":"IF(ISBLANK('Data Entry'!U200),\"\",'Data Entry'!U200)","v":""},{"$f":"IF(ISBLANK('Data Entry'!V200),\"\",'Data Entry'!V200)","v":""},{"$f":"IF(ISBLANK('Data Entry'!W200),\"\",'Data Entry'!W200)","v":"2025-26"},{"$f":"IF(ISBLANK('Data Entry'!X200),\"\",'Data Entry'!X200)","v":""},{"$f":"IF(ISBLANK('Data Entry'!Y200),\"\",'Data Entry'!Y200)","v":""}]
[196,"SANCTIONED TOURNAMENTS",{"$f":"IF(ISBLANK('Data Entry'!C201),\"\",'Data Entry'!C201)","v":""},{"$f":"IF('Data Entry'!D201=\"Pick a Zone\",\"\",'Data Entry'!D201)","v":"SANCTIONED EVENT"},{"$f":"IF('Data Entry'!E201=\"pick a tournament\",\"\",'Data Entry'!E201)","v":""},{"$f":"IF('Data Entry'!F201=\"pick a tournament\",\"\",'Data Entry'!F201)","v":""},{"$f":"IF('Data Entry'!G201=\"Enter C5#\",\"\",'Data Entry'!G201)","v":""},{"$f":"IF('Data Entry'!H201=\"Enter C5#\",\"\",'Data Entry'!H201)","v":""},{"$f":"IF(ISBLANK('Data Entry'!I201),\"\",'Data Entry'!I201)","v":""},{"$f":"IF(ISBLANK('Data Entry'!J201),\"\",'Data Entry'!J201)","v":""},{"$f":"IF(ISBLANK('Data Entry'!K201),\"\",'Data Entry'!K201)","v":""},{"$f":"IF(ISBLANK('Data Entry'!L201),\"\",'Data Entry'!L201)","v":""},{"$f":"IF(ISBLANK('Data Entry'!M201),\"\",'Data Entry'!M201)","v":""},{"$f":"IF(ISBLANK('Data Entry'!N201),\"\",'Data Entry'!N201)","v":""},{"$f":"IF(ISBLANK('Data Entry'!O201),\"\",'Data Entry'!O201)","v":""},{"$f":"IF(ISBLANK('Data Entry'!P201),\"\",'Data Entry'!P201)","v":""},{"$f":"IF(ISBLANK('Data Entry'!Q201),\"\",'Data Entry'!Q201)","v":""},{"$f":"IF(ISBLANK('Data Entry'!R201),\"\",'Data Entry'!R201)","v":""},{"$f":"IF(ISBLANK('Data Entry'!S201),\"\",'Data Entry'!S201)","v":""},{"$f":"IF(ISBLANK('Data Entry'!T201),\"\",'Data Entry'!T201)","v":""},{"$f":"IF(ISBLANK('Data Entry'!U201),\"\",'Data Entry'!U201)","v":""},{"$f":"IF(ISBLANK('Data Entry'!V201),\"\",'Data Entry'!V201)","v":""},{"$f":"IF(ISBLANK('Data Entry'!W201),\"\",'Data Entry'!W201)","v":"2025-26"},{"$f":"IF(ISBLANK('Data Entry'!X201),\"\",'Data Entry'!X201)","v":""},{"$f":"IF(ISBLANK('Data Entry'!Y201),\"\",'Data Entry'!Y201)","v":""}]
[197,"SANCTIONED TOURNAMENTS",{"$f":"IF(ISBLANK('Data Entry'!C202),\"\",'Data Entry'!C202)","v":""},{"$f":"IF('Data Entry'!D202=\"Pick a Zone\",\"\",'Data Entry'!D202)","v":"SANCTIONED EVENT"},{"$f":"IF('Data Entry'!E202=\"pick a tournament\",\"\",'Data Entry'!E202)","v":""},{"$f":"IF('Data Entry'!F202=\"pick a tournament\",\"\",'Data Entry'!F202)","v":""},{"$f":"IF('Data Entry'!G202=\"Enter C5#\",\"\",'Data Entry'!G202)","v":""},{"$f":"IF('Data Entry'!H202=\"Enter C5#\",\"\",'Data Entry'!H202)","v":""},{"$f":"IF(ISBLANK('Data Entry'!I202),\"\",'Data Entry'!I202)","v":""},{"$f":"IF(ISBLANK('Data Entry'!J202),\"\",'Data Entry'!J202)","v":""},{"$f":"IF(ISBLANK('Data Entry'!K202),\"\",'Data Entry'!K202)","v":""},{"$f":"IF(ISBLANK('Data Entry'!L202),\"\",'Data Entry'!L202)","v":""},{"$f":"IF(ISBLANK('Data Entry'!M202),\"\",'Data Entry'!M202)","v":""},{"$f":"IF(ISBLANK('Data Entry'!N202),\"\",'Data Entry'!N202)","v":""},{"$f":"IF(ISBLANK('Data Entry'!O202),\"\",'Data Entry'!O202)","v":""},{"$f":"IF(ISBLANK('Data Entry'!P202),\"\",'Data Entry'!P202)","v":""},{"$f":"IF(ISBLANK('Data Entry'!Q202),\"\",'Data Entry'!Q202)","v":""},{"$f":"IF(ISBLANK('Data Entry'!R202),\"\",'Data Entry'!R202)","v":""},{"$f":"IF(ISBLANK('Data Entry'!S202),\"\",'Data Entry'!S202)","v":""},{"$f":"IF(ISBLANK('Data Entry'!T202),\"\",'Data Entry'!T202)","v":""},{"$f":"IF(ISBLANK('Data Entry'!U202),\"\",'Data Entry'!U202)","v":""},{"$f":"IF(ISBLANK('Data Entry'!V202),\"\",'Data Entry'!V202)","v":""},{"$f":"IF(ISBLANK('Data Entry'!W202),\"\",'Data Entry'!W202)","v":"2025-26"},{"$f":"IF(ISBLANK('Data Entry'!X202),\"\",'Data Entry'!X202)","v":""},{"$f":"IF(ISBLANK('Data Entry'!Y202),\"\",'Data Entry'!Y202)","v":""}]
[198,"SANCTIONED TOURNAMENTS",{"$f":"IF(ISBLANK('Data Entry'!C203),\"\",'Data Entry'!C203)","v":""},{"$f":"IF('Data Entry'!D203=\"Pick a Zone\",\"\",'Data Entry'!D203)","v":"SANCTIONED EVENT"},{"$f":"IF('Data Entry'!E203=\"pick a tournament\",\"\",'Data Entry'!E203)","v":""},{"$f":"IF('Data Entry'!F203=\"pick a tournament\",\"\",'Data Entry'!F203)","v":""},{"$f":"IF('Data Entry'!G203=\"Enter C5#\",\"\",'Data Entry'!G203)","v":""},{"$f":"IF('Data Entry'!H203=\"Enter C5#\",\"\",'Data Entry'!H203)","v":""},{"$f":"IF(ISBLANK('Data Entry'!I203),\"\",'Data Entry'!I203)","v":""},{"$f":"IF(ISBLANK('Data Entry'!J203),\"\",'Data Entry'!J203)","v":""},{"$f":"IF(ISBLANK('Data Entry'!K203),\"\",'Data Entry'!K203)","v":""},{"$f":"IF(ISBLANK('Data Entry'!L203),\"\",'Data Entry'!L203)","v":""},{"$f":"IF(ISBLANK('Data Entry'!M203),\"\",'Data Entry'!M203)","v":""},{"$f":"IF(ISBLANK('Data Entry'!N203),\"\",'Data Entry'!N203)","v":""},{"$f":"IF(ISBLANK('Data Entry'!O203),\"\",'Data Entry'!O203)","v":""},{"$f":"IF(ISBLANK('Data Entry'!P203),\"\",'Data Entry'!P203)","v":""},{"$f":"IF(ISBLANK('Data Entry'!Q203),\"\",'Data Entry'!Q203)","v":""},{"$f":"IF(ISBLANK('Data Entry'!R203),\"\",'Data Entry'!R203)","v":""},{"$f":"IF(ISBLANK('Data Entry'!S203),\"\",'Data Entry'!S203)","v":""},{"$f":"IF(ISBLANK('Data Entry'!T203),\"\",'Data Entry'!T203)","v":""},{"$f":"IF(ISBLANK('Data Entry'!U203),\"\",'Data Entry'!U203)","v":""},{"$f":"IF(ISBLANK('Data Entry'!V203),\"\",'Data Entry'!V203)","v":""},{"$f":"IF(ISBLANK('Data Entry'!W203),\"\",'Data Entry'!W203)","v":"2025-26"},{"$f":"IF(ISBLANK('Data Entry'!X203),\"\",'Data Entry'!X203)","v":""},{"$f":"IF(ISBLANK('Data Entry'!Y203),\"\",'Data Entry'!Y203)","v":""}]
[199,"SANCTIONED TOURNAMENTS",{"$f":"IF(ISBLANK('Data Entry'!C204),\"\",'Data Entry'!C204)","v":""},{"$f":"IF('Data Entry'!D204=\"Pick a Zone\",\"\",'Data Entry'!D204)","v":"SANCTIONED EVENT"},{"$f":"IF('Data Entry'!E204=\"pick a tournament\",\"\",'Data Entry'!E204)","v":""},{"$f":"IF('Data Entry'!F204=\"pick a tournament\",\"\",'Data Entry'!F204)","v":""},{"$f":"IF('Data Entry'!G204=\"Enter C5#\",\"\",'Data Entry'!G204)","v":""},{"$f":"IF('Data Entry'!H204=\"Enter C5#\",\"\",'Data Entry'!H204)","v":""},{"$f":"IF(ISBLANK('Data Entry'!I204),\"\",'Data Entry'!I204)","v":""},{"$f":"IF(ISBLANK('Data Entry'!J204),\"\",'Data Entry'!J204)","v":""},{"$f":"IF(ISBLANK('Data Entry'!K204),\"\",'Data Entry'!K204)","v":""},{"$f":"IF(ISBLANK('Data Entry'!L204),\"\",'Data Entry'!L204)","v":""},{"$f":"IF(ISBLANK('Data Entry'!M204),\"\",'Data Entry'!M204)","v":""},{"$f":"IF(ISBLANK('Data Entry'!N204),\"\",'Data Entry'!N204)","v":""},{"$f":"IF(ISBLANK('Data Entry'!O204),\"\",'Data Entry'!O204)","v":""},{"$f":"IF(ISBLANK('Data Entry'!P204),\"\",'Data Entry'!P204)","v":""},{"$f":"IF(ISBLANK('Data Entry'!Q204),\"\",'Data Entry'!Q204)","v":""},{"$f":"IF(ISBLANK('Data Entry'!R204),\"\",'Data Entry'!R204)","v":""},{"$f":"IF(ISBLANK('Data Entry'!S204),\"\",'Data Entry'!S204)","v":""},{"$f":"IF(ISBLANK('Data Entry'!T204),\"\",'Data Entry'!T204)","v":""},{"$f":"IF(ISBLANK('Data Entry'!U204),\"\",'Data Entry'!U204)","v":""},{"$f":"IF(ISBLANK('Data Entry'!V204),\"\",'Data Entry'!V204)","v":""},{"$f":"IF(ISBLANK('Data Entry'!W204),\"\",'Data Entry'!W204)","v":"2025-26"},{"$f":"IF(ISBLANK('Data Entry'!X204),\"\",'Data Entry'!X204)","v":""},{"$f":"IF(ISBLANK('Data Entry'!Y204),\"\",'Data Entry'!Y204)","v":""}]
[200,"SANCTIONED TOURNAMENTS",{"$f":"IF(ISBLANK('Data Entry'!C205),\"\",'Data Entry'!C205)","v":""},{"$f":"IF('Data Entry'!D205=\"Pick a Zone\",\"\",'Data Entry'!D205)","v":"SANCTIONED EVENT"},{"$f":"IF('Data Entry'!E205=\"pick a tournament\",\"\",'Data Entry'!E205)","v":""},{"$f":"IF('Data Entry'!F205=\"pick a tournament\",\"\",'Data Entry'!F205)","v":""},{"$f":"IF('Data Entry'!G205=\"Enter C5#\",\"\",'Data Entry'!G205)","v":""},{"$f":"IF('Data Entry'!H205=\"Enter C5#\",\"\",'Data Entry'!H205)","v":""},{"$f":"IF(ISBLANK('Data Entry'!I205),\"\",'Data Entry'!I205)","v":""},{"$f":"IF(ISBLANK('Data Entry'!J205),\"\",'Data Entry'!J205)","v":""},{"$f":"IF(ISBLANK('Data Entry'!K205),\"\",'Data Entry'!K205)","v":""},{"$f":"IF(ISBLANK('Data Entry'!L205),\"\",'Data Entry'!L205)","v":""},{"$f":"IF(ISBLANK('Data Entry'!M205),\"\",'Data Entry'!M205)","v":""},{"$f":"IF(ISBLANK('Data Entry'!N205),\"\",'Data Entry'!N205)","v":""},{"$f":"IF(ISBLANK('Data Entry'!O205),\"\",'Data Entry'!O205)","v":""},{"$f":"IF(ISBLANK('Data Entry'!P205),\"\",'Data Entry'!P205)","v":""},{"$f":"IF(ISBLANK('Data Entry'!Q205),\"\",'Data Entry'!Q205)","v":""},{"$f":"IF(ISBLANK('Data Entry'!R205),\"\",'Data Entry'!R205)","v":""},{"$f":"IF(ISBLANK('Data Entry'!S205),\"\",'Data Entry'!S205)","v":""},{"$f":"IF(ISBLANK('Data Entry'!T205),\"\",'Data Entry'!T205)","v":""},{"$f":"IF(ISBLANK('Data Entry'!U205),\"\",'Data Entry'!U205)","v":""},{"$f":"IF(ISBLANK('Data Entry'!V205),\"\",'Data Entry'!V205)","v":""},{"$f":"IF(ISBLANK('Data Entry'!W205),\"\",'Data Entry'!W205)","v":"2025-26"},{"$f":"IF(ISBLANK('Data Entry'!X205),\"\",'Data Entry'!X205)","v":""},{"$f":"IF(ISBLANK('Data Entry'!Y205),\"\",'Data Entry'!Y205)","v":""}]
[201,"SANCTIONED TOURNAMENTS",{"$f":"IF(ISBLANK('New Members'!C6),\"\",'New Members'!C6)","v":""},{"$f":"IF(ISBLANK('New Members'!D6),\"\",'New Members'!D6)","v":"SANCTIONED EVENT"},{"$f":"IF(ISBLANK('New Members'!E6),\"\",'New Members'!E6)","v":""},{"$f":"IF(ISBLANK('New Members'!F6),\"\",'New Members'!F6)","v":""},{"$f":"IF(ISBLANK('New Members'!G6),\"\",'New Members'!G6)","v":""},{"$f":"IF(ISBLANK('New Members'!H6),\"\",'New Members'!H6)","v":""},{"$f":"IF(ISBLANK('New Members'!I6),\"\",'New Members'!I6)","v":""},{"$f":"IF(ISBLANK('New Members'!J6),\"\",'New Members'!J6)","v":""},{"$f":"IF(ISBLANK('New Members'!K6),\"\",'New Members'!K6)","v":""},{"$f":"IF(ISBLANK('New Members'!L6),\"\",'New Members'!L6)","v":""},{"$f":"IF(ISBLANK('New Members'!M6),\"\",'New Members'!M6)","v":""},{"$f":"IF(ISBLANK('New Members'!N6),\"\",'New Members'!N6)","v":""},{"$f":"IF(ISBLANK('New Members'!O6),\"\",'New Members'!O6)","v":""},{"$f":"IF(ISBLANK('New Members'!P6),\"\",'New Members'!P6)","v":""},{"$f":"IF(ISBLANK('New Members'!Q6),\"\",'New Members'!Q6)","v":""},{"$f":"IF(ISBLANK('New Members'!R6),\"\",'New Members'!R6)","v":""},{"$f":"IF(ISBLANK('New Members'!S6),\"\",\"M\")","v":""},{"$f":"IF(ISBLANK('New Members'!T6),\"\",\"F\")","v":""},{"$f":"IF(ISBLANK('New Members'!U6),\"\",'New Members'!U6)","v":""},{"$f":"IF(ISBLANK('New Members'!V6),\"\",'New Members'!V6)","v":""},{"$f":"IF(ISBLANK('New Members'!W6),\"\",'New Members'!W6)","v":"2025-26"},{"$f":"IF(ISBLANK('New Members'!X6),\"\",'New Members'!X6)","v":""},{"$f":"IF(ISBLANK('New Members'!Y6),\"\",'New Members'!Y6)","v":""}]
[202,"SANCTIONED TOURNAMENTS",{"$f":"IF(ISBLANK('New Members'!C7),\"\",'New Members'!C7)","v":""},{"$f":"IF(ISBLANK('New Members'!D7),\"\",'New Members'!D7)","v":"SANCTIONED EVENT"},{"$f":"IF(ISBLANK('New Members'!E7),\"\",'New Members'!E7)","v":""},{"$f":"IF(ISBLANK('New Members'!F7),\"\",'New Members'!F7)","v":""},{"$f":"IF(ISBLANK('New Members'!G7),\"\",'New Members'!G7)","v":""},{"$f":"IF(ISBLANK('New Members'!H7),\"\",'New Members'!H7)","v":""},{"$f":"IF(ISBLANK('New Members'!I7),\"\",'New Members'!I7)","v":""},{"$f":"IF(ISBLANK('New Members'!J7),\"\",'New Members'!J7)","v":""},{"$f":"IF(ISBLANK('New Members'!K7),\"\",'New Members'!K7)","v":""},{"$f":"IF(ISBLANK('New Members'!L7),\"\",'New Members'!L7)","v":""},{"$f":"IF(ISBLANK('New Members'!M7),\"\",'New Members'!M7)","v":""},{"$f":"IF(ISBLANK('New Members'!N7),\"\",'New Members'!N7)","v":""},{"$f":"IF(ISBLANK('New Members'!O7),\"\",'New Members'!O7)","v":""},{"$f":"IF(ISBLANK('New Members'!P7),\"\",'New Members'!P7)","v":""},{"$f":"IF(ISBLANK('New Members'!Q7),\"\",'New Members'!Q7)","v":""},{"$f":"IF(ISBLANK('New Members'!R7),\"\",'New Members'!R7)","v":""},{"$f":"IF(ISBLANK('New Members'!S7),\"\",\"M\")","v":""},{"$f":"IF(ISBLANK('New Members'!T7),\"\",\"F\")","v":""},{"$f":"IF(ISBLANK('New Members'!U7),\"\",'New Members'!U7)","v":""},{"$f":"IF(ISBLANK('New Members'!V7),\"\",'New Members'!V7)","v":""},{"$f":"IF(ISBLANK('New Members'!W7),\"\",'New Members'!W7)","v":"2025-26"},{"$f":"IF(ISBLANK('New Members'!X7),\"\",'New Members'!X7)","v":""},{"$f":"IF(ISBLANK('New Members'!Y7),\"\",'New Members'!Y7)","v":""}]
[203,"SANCTIONED TOURNAMENTS",{"$f":"IF(ISBLANK('New Members'!C8),\"\",'New Members'!C8)","v":""},{"$f":"IF(ISBLANK('New Members'!D8),\"\",'New Members'!D8)","v":"SANCTIONED EVENT"},{"$f":"IF(ISBLANK('New Members'!E8),\"\",'New Members'!E8)","v":""},{"$f":"IF(ISBLANK('New Members'!F8),\"\",'New Members'!F8)","v":""},{"$f":"IF(ISBLANK('New Members'!G8),\"\",'New Members'!G8)","v":""},{"$f":"IF(ISBLANK('New Members'!H8),\"\",'New Members'!H8)","v":""},{"$f":"IF(ISBLANK('New Members'!I8),\"\",'New Members'!I8)","v":""},{"$f":"IF(ISBLANK('New Members'!J8),\"\",'New Members'!J8)","v":""},{"$f":"IF(ISBLANK('New Members'!K8),\"\",'New Members'!K8)","v":""},{"$f":"IF(ISBLANK('New Members'!L8),\"\",'New Members'!L8)","v":""},{"$f":"IF(ISBLANK('New Members'!M8),\"\",'New Members'!M8)","v":""},{"$f":"IF(ISBLANK('New Members'!N8),\"\",'New Members'!N8)","v":""},{"$f":"IF(ISBLANK('New Members'!O8),\"\",'New Members'!O8)","v":""},{"$f":"IF(ISBLANK('New Members'!P8),\"\",'New Members'!P8)","v":""},{"$f":"IF(ISBLANK('New Members'!Q8),\"\",'New Members'!Q8)","v":""},{"$f":"IF(ISBLANK('New Members'!R8),\"\",'New Members'!R8)","v":""},{"$f":"IF(ISBLANK('New Members'!S8),\"\",\"M\")","v":""},{"$f":"IF(ISBLANK('New Members'!T8),\"\",\"F\")","v":""},{"$f":"IF(ISBLANK('New Members'!U8),\"\",'New Members'!U8)","v":""},{"$f":"IF(ISBLANK('New Members'!V8),\"\",'New Members'!V8)","v":""},{"$f":"IF(ISBLANK('New Members'!W8),\"\",'New Members'!W8)","v":"2025-26"},{"$f":"IF(ISBLANK('New Members'!X8),\"\",'New Members'!X8)","v":""},{"$f":"IF(ISBLANK('New Members'!Y8),\"\",'New Members'!Y8)","v":""}]
[204,"SANCTIONED TOURNAMENTS",{"$f":"IF(ISBLANK('New Members'!C9),\"\",'New Members'!C9)","v":""},{"$f":"IF(ISBLANK('New Members'!D9),\"\",'New Members'!D9)","v":"SANCTIONED EVENT"},{"$f":"IF(ISBLANK('New Members'!E9),\"\",'New Members'!E9)","v":""},{"$f":"IF(ISBLANK('New Members'!F9),\"\",'New Members'!F9)","v":""},{"$f":"IF(ISBLANK('New Members'!G9),\"\",'New Members'!G9)","v":""},{"$f":"IF(ISBLANK('New Members'!H9),\"\",'New Members'!H9)","v":""},{"$f":"IF(ISBLANK('New Members'!I9),\"\",'New Members'!I9)","v":""},{"$f":"IF(ISBLANK('New Members'!J9),\"\",'New Members'!J9)","v":""},{"$f":"IF(ISBLANK('New Members'!K9),\"\",'New Members'!K9)","v":""},{"$f":"IF(ISBLANK('New Members'!L9),\"\",'New Members'!L9)","v":""},{"$f":"IF(ISBLANK('New Members'!M9),\"\",'New Members'!M9)","v":""},{"$f":"IF(ISBLANK('New Members'!N9),\"\",'New Members'!N9)","v":""},{"$f":"IF(ISBLANK('New Members'!O9),\"\",'New Members'!O9)","v":""},{"$f":"IF(ISBLANK('New Members'!P9),\"\",'New Members'!P9)","v":""},{"$f":"IF(ISBLANK('New Members'!Q9),\"\",'New Members'!Q9)","v":""},{"$f":"IF(ISBLANK('New Members'!R9),\"\",'New Members'!R9)","v":""},{"$f":"IF(ISBLANK('New Members'!S9),\"\",\"M\")","v":""},{"$f":"IF(ISBLANK('New Members'!T9),\"\",\"F\")","v":""},{"$f":"IF(ISBLANK('New Members'!U9),\"\",'New Members'!U9)","v":""},{"$f":"IF(ISBLANK('New Members'!V9),\"\",'New Members'!V9)","v":""},{"$f":"IF(ISBLANK('New Members'!W9),\"\",'New Members'!W9)","v":"2025-26"},{"$f":"IF(ISBLANK('New Members'!X9),\"\",'New Members'!X9)","v":""},{"$f":"IF(ISBLANK('New Members'!Y9),\"\",'New Members'!Y9)","v":""}]
[205,"SANCTIONED TOURNAMENTS",{"$f":"IF(ISBLANK('New Members'!C10),\"\",'New Members'!C10)","v":""},{"$f":"IF(ISBLANK('New Members'!D10),\"\",'New Members'!D10)","v":"SANCTIONED EVENT"},{"$f":"IF(ISBLANK('New Members'!E10),\"\",'New Members'!E10)","v":""},{"$f":"IF(ISBLANK('New Members'!F10),\"\",'New Members'!F10)","v":""},{"$f":"IF(ISBLANK('New Members'!G10),\"\",'New Members'!G10)","v":""},{"$f":"IF(ISBLANK('New Members'!H10),\"\",'New Members'!H10)","v":""},{"$f":"IF(ISBLANK('New Members'!I10),\"\",'New Members'!I10)","v":""},{"$f":"IF(ISBLANK('New Members'!J10),\"\",'New Members'!J10)","v":""},{"$f":"IF(ISBLANK('New Members'!K10),\"\",'New Members'!K10)","v":""},{"$f":"IF(ISBLANK('New Members'!L10),\"\",'New Members'!L10)","v":""},{"$f":"IF(ISBLANK('New Members'!M10),\"\",'New Members'!M10)","v":""},{"$f":"IF(ISBLANK('New Members'!N10),\"\",'New Members'!N10)","v":""},{"$f":"IF(ISBLANK('New Members'!O10),\"\",'New Members'!O10)","v":""},{"$f":"IF(ISBLANK('New Members'!P10),\"\",'New Members'!P10)","v":""},{"$f":"IF(ISBLANK('New Members'!Q10),\"\",'New Members'!Q10)","v":""},{"$f":"IF(ISBLANK('New Members'!R10),\"\",'New Members'!R10)","v":""},{"$f":"IF(ISBLANK('New Members'!S10),\"\",\"M\")","v":""},{"$f":"IF(ISBLANK('New Members'!T10),\"\",\"F\")","v":""},{"$f":"IF(ISBLANK('New Members'!U10),\"\",'New Members'!U10)","v":""},{"$f":"IF(ISBLANK('New Members'!V10),\"\",'New Members'!V10)","v":""},{"$f":"IF(ISBLANK('New Members'!W10),\"\",'New Members'!W10)","v":"2025-26"},{"$f":"IF(ISBLANK('New Members'!X10),\"\",'New Members'!X10)","v":""},{"$f":"IF(ISBLANK('New Members'!Y10),\"\",'New Members'!Y10)","v":""}]
[206,"SANCTIONED TOURNAMENTS",{"$f":"IF(ISBLANK('New Members'!C11),\"\",'New Members'!C11)","v":""},{"$f":"IF(ISBLANK('New Members'!D11),\"\",'New Members'!D11)","v":"SANCTIONED EVENT"},{"$f":"IF(ISBLANK('New Members'!E11),\"\",'New Members'!E11)","v":""},{"$f":"IF(ISBLANK('New Members'!F11),\"\",'New Members'!F11)","v":""},{"$f":"IF(ISBLANK('New Members'!G11),\"\",'New Members'!G11)","v":""},{"$f":"IF(ISBLANK('New Members'!H11),\"\",'New Members'!H11)","v":""},{"$f":"IF(ISBLANK('New Members'!I11),\"\",'New Members'!I11)","v":""},{"$f":"IF(ISBLANK('New Members'!J11),\"\",'New Members'!J11)","v":""},{"$f":"IF(ISBLANK('New Members'!K11),\"\",'New Members'!K11)","v":""},{"$f":"IF(ISBLANK('New Members'!L11),\"\",'New Members'!L11)","v":""},{"$f":"IF(ISBLANK('New Members'!M11),\"\",'New Members'!M11)","v":""},{"$f":"IF(ISBLANK('New Members'!N11),\"\",'New Members'!N11)","v":""},{"$f":"IF(ISBLANK('New Members'!O11),\"\",'New Members'!O11)","v":""},{"$f":"IF(ISBLANK('New Members'!P11),\"\",'New Members'!P11)","v":""},{"$f":"IF(ISBLANK('New Members'!Q11),\"\",'New Members'!Q11)","v":""},{"$f":"IF(ISBLANK('New Members'!R11),\"\",'New Members'!R11)","v":""},{"$f":"IF(ISBLANK('New Members'!S11),\"\",\"M\")","v":""},{"$f":"IF(ISBLANK('New Members'!T11),\"\",\"F\")","v":""},{"$f":"IF(ISBLANK('New Members'!U11),\"\",'New Members'!U11)","v":""},{"$f":"IF(ISBLANK('New Members'!V11),\"\",'New Members'!V11)","v":""},{"$f":"IF(ISBLANK('New Members'!W11),\"\",'New Members'!W11)","v":"2025-26"},{"$f":"IF(ISBLANK('New Members'!X11),\"\",'New Members'!X11)","v":""},{"$f":"IF(ISBLANK('New Members'!Y11),\"\",'New Members'!Y11)","v":""}]
[207,"SANCTIONED TOURNAMENTS",{"$f":"IF(ISBLANK('New Members'!C12),\"\",'New Members'!C12)","v":""},{"$f":"IF(ISBLANK('New Members'!D12),\"\",'New Members'!D12)","v":"SANCTIONED EVENT"},{"$f":"IF(ISBLANK('New Members'!E12),\"\",'New Members'!E12)","v":""},{"$f":"IF(ISBLANK('New Members'!F12),\"\",'New Members'!F12)","v":""},{"$f":"IF(ISBLANK('New Members'!G12),\"\",'New Members'!G12)","v":""},{"$f":"IF(ISBLANK('New Members'!H12),\"\",'New Members'!H12)","v":""},{"$f":"IF(ISBLANK('New Members'!I12),\"\",'New Members'!I12)","v":""},{"$f":"IF(ISBLANK('New Members'!J12),\"\",'New Members'!J12)","v":""},{"$f":"IF(ISBLANK('New Members'!K12),\"\",'New Members'!K12)","v":""},{"$f":"IF(ISBLANK('New Members'!L12),\"\",'New Members'!L12)","v":""},{"$f":"IF(ISBLANK('New Members'!M12),\"\",'New Members'!M12)","v":""},{"$f":"IF(ISBLANK('New Members'!N12),\"\",'New Members'!N12)","v":""},{"$f":"IF(ISBLANK('New Members'!O12),\"\",'New Members'!O12)","v":""},{"$f":"IF(ISBLANK('New Members'!P12),\"\",'New Members'!P12)","v":""},{"$f":"IF(ISBLANK('New Members'!Q12),\"\",'New Members'!Q12)","v":""},{"$f":"IF(ISBLANK('New Members'!R12),\"\",'New Members'!R12)","v":""},{"$f":"IF(ISBLANK('New Members'!S12),\"\",\"M\")","v":""},{"$f":"IF(ISBLANK('New Members'!T12),\"\",\"F\")","v":""},{"$f":"IF(ISBLANK('New Members'!U12),\"\",'New Members'!U12)","v":""},{"$f":"IF(ISBLANK('New Members'!V12),\"\",'New Members'!V12)","v":""},{"$f":"IF(ISBLANK('New Members'!W12),\"\",'New Members'!W12)","v":"2025-26"},{"$f":"IF(ISBLANK('New Members'!X12),\"\",'New Members'!X12)","v":""},{"$f":"IF(ISBLANK('New Members'!Y12),\"\",'New Members'!Y12)","v":""}]
[208,"SANCTIONED TOURNAMENTS",{"$f":"IF(ISBLANK('New Members'!C13),\"\",'New Members'!C13)","v":""},{"$f":"IF(ISBLANK('New Members'!D13),\"\",'New Members'!D13)","v":"SANCTIONED EVENT"},{"$f":"IF(ISBLANK('New Members'!E13),\"\",'New Members'!E13)","v":""},{"$f":"IF(ISBLANK('New Members'!F13),\"\",'New Members'!F13)","v":""},{"$f":"IF(ISBLANK('New Members'!G13),\"\",'New Members'!G13)","v":""},{"$f":"IF(ISBLANK('New Members'!H13),\"\",'New Members'!H13)","v":""},{"$f":"IF(ISBLANK('New Members'!I13),\"\",'New Members'!I13)","v":""},{"$f":"IF(ISBLANK('New Members'!J13),\"\",'New Members'!J13)","v":""},{"$f":"IF(ISBLANK('New Members'!K13),\"\",'New Members'!K13)","v":""},{"$f":"IF(ISBLANK('New Members'!L13),\"\",'New Members'!L13)","v":""},{"$f":"IF(ISBLANK('New Members'!M13),\"\",'New Members'!M13)","v":""},{"$f":"IF(ISBLANK('New Members'!N13),\"\",'New Members'!N13)","v":""},{"$f":"IF(ISBLANK('New Members'!O13),\"\",'New Members'!O13)","v":""},{"$f":"IF(ISBLANK('New Members'!P13),\"\",'New Members'!P13)","v":""},{"$f":"IF(ISBLANK('New Members'!Q13),\"\",'New Members'!Q13)","v":""},{"$f":"IF(ISBLANK('New Members'!R13),\"\",'New Members'!R13)","v":""},{"$f":"IF(ISBLANK('New Members'!S13),\"\",\"M\")","v":""},{"$f":"IF(ISBLANK('New Members'!T13),\"\",\"F\")","v":""},{"$f":"IF(ISBLANK('New Members'!U13),\"\",'New Members'!U13)","v":""},{"$f":"IF(ISBLANK('New Members'!V13),\"\",'New Members'!V13)","v":""},{"$f":"IF(ISBLANK('New Members'!W13),\"\",'New Members'!W13)","v":"2025-26"},{"$f":"IF(ISBLANK('New Members'!X13),\"\",'New Members'!X13)","v":""},{"$f":"IF(ISBLANK('New Members'!Y13),\"\",'New Members'!Y13)","v":""}]
[209,"SANCTIONED TOURNAMENTS",{"$f":"IF(ISBLANK('New Members'!C14),\"\",'New Members'!C14)","v":""},{"$f":"IF(ISBLANK('New Members'!D14),\"\",'New Members'!D14)","v":"SANCTIONED EVENT"},{"$f":"IF(ISBLANK('New Members'!E14),\"\",'New Members'!E14)","v":""},{"$f":"IF(ISBLANK('New Members'!F14),\"\",'New Members'!F14)","v":""},{"$f":"IF(ISBLANK('New Members'!G14),\"\",'New Members'!G14)","v":""},{"$f":"IF(ISBLANK('New Members'!H14),\"\",'New Members'!H14)","v":""},{"$f":"IF(ISBLANK('New Members'!I14),\"\",'New Members'!I14)","v":""},{"$f":"IF(ISBLANK('New Members'!J14),\"\",'New Members'!J14)","v":""},{"$f":"IF(ISBLANK('New Members'!K14),\"\",'New Members'!K14)","v":""},{"$f":"IF(ISBLANK('New Members'!L14),\"\",'New Members'!L14)","v":""},{"$f":"IF(ISBLANK('New Members'!M14),\"\",'New Members'!M14)","v":""},{"$f":"IF(ISBLANK('New Members'!N14),\"\",'New Members'!N14)","v":""},{"$f":"IF(ISBLANK('New Members'!O14),\"\",'New Members'!O14)","v":""},{"$f":"IF(ISBLANK('New Members'!P14),\"\",'New Members'!P14)","v":""},{"$f":"IF(ISBLANK('New Members'!Q14),\"\",'New Members'!Q14)","v":""},{"$f":"IF(ISBLANK('New Members'!R14),\"\",'New Members'!R14)","v":""},{"$f":"IF(ISBLANK('New Members'!S14),\"\",\"M\")","v":""},{"$f":"IF(ISBLANK('New Members'!T14),\"\",\"F\")","v":""},{"$f":"IF(ISBLANK('New Members'!U14),\"\",'New Members'!U14)","v":""},{"$f":"IF(ISBLANK('New Members'!V14),\"\",'New Members'!V14)","v":""},{"$f":"IF(ISBLANK('New Members'!W14),\"\",'New Members'!W14)","v":"2025-26"},{"$f":"IF(ISBLANK('New Members'!X14),\"\",'New Members'!X14)","v":""},{"$f":"IF(ISBLANK('New Members'!Y14),\"\",'New Members'!Y14)","v":""}]
[210,"SANCTIONED TOURNAMENTS",{"$f":"IF(ISBLANK('New Members'!C15),\"\",'New Members'!C15)","v":""},{"$f":"IF(ISBLANK('New Members'!D15),\"\",'New Members'!D15)","v":"SANCTIONED EVENT"},{"$f":"IF(ISBLANK('New Members'!E15),\"\",'New Members'!E15)","v":""},{"$f":"IF(ISBLANK('New Members'!F15),\"\",'New Members'!F15)","v":""},{"$f":"IF(ISBLANK('New Members'!G15),\"\",'New Members'!G15)","v":""},{"$f":"IF(ISBLANK('New Members'!H15),\"\",'New Members'!H15)","v":""},{"$f":"IF(ISBLANK('New Members'!I15),\"\",'New Members'!I15)","v":""},{"$f":"IF(ISBLANK('New Members'!J15),\"\",'New Members'!J15)","v":""},{"$f":"IF(ISBLANK('New Members'!K15),\"\",'New Members'!K15)","v":""},{"$f":"IF(ISBLANK('New Members'!L15),\"\",'New Members'!L15)","v":""},{"$f":"IF(ISBLANK('New Members'!M15),\"\",'New Members'!M15)","v":""},{"$f":"IF(ISBLANK('New Members'!N15),\"\",'New Members'!N15)","v":""},{"$f":"IF(ISBLANK('New Members'!O15),\"\",'New Members'!O15)","v":""},{"$f":"IF(ISBLANK('New Members'!P15),\"\",'New Members'!P15)","v":""},{"$f":"IF(ISBLANK('New Members'!Q15),\"\",'New Members'!Q15)","v":""},{"$f":"IF(ISBLANK('New Members'!R15),\"\",'New Members'!R15)","v":""},{"$f":"IF(ISBLANK('New Members'!S15),\"\",\"M\")","v":""},{"$f":"IF(ISBLANK('New Members'!T15),\"\",\"F\")","v":""},{"$f":"IF(ISBLANK('New Members'!U15),\"\",'New Members'!U15)","v":""},{"$f":"IF(ISBLANK('New Members'!V15),\"\",'New Members'!V15)","v":""},{"$f":"IF(ISBLANK('New Members'!W15),\"\",'New Members'!W15)","v":"2025-26"},{"$f":"IF(ISBLANK('New Members'!X15),\"\",'New Members'!X15)","v":""},{"$f":"IF(ISBLANK('New Members'!Y15),\"\",'New Members'!Y15)","v":""}]
[211,"SANCTIONED TOURNAMENTS",{"$f":"IF(ISBLANK('New Members'!C16),\"\",'New Members'!C16)","v":""},{"$f":"IF(ISBLANK('New Members'!D16),\"\",'New Members'!D16)","v":"SANCTIONED EVENT"},{"$f":"IF(ISBLANK('New Members'!E16),\"\",'New Members'!E16)","v":""},{"$f":"IF(ISBLANK('New Members'!F16),\"\",'New Members'!F16)","v":""},{"$f":"IF(ISBLANK('New Members'!G16),\"\",'New Members'!G16)","v":""},{"$f":"IF(ISBLANK('New Members'!H16),\"\",'New Members'!H16)","v":""},{"$f":"IF(ISBLANK('New Members'!I16),\"\",'New Members'!I16)","v":""},{"$f":"IF(ISBLANK('New Members'!J16),\"\",'New Members'!J16)","v":""},{"$f":"IF(ISBLANK('New Members'!K16),\"\",'New Members'!K16)","v":""},{"$f":"IF(ISBLANK('New Members'!L16),\"\",'New Members'!L16)","v":""},{"$f":"IF(ISBLANK('New Members'!M16),\"\",'New Members'!M16)","v":""},{"$f":"IF(ISBLANK('New Members'!N16),\"\",'New Members'!N16)","v":""},{"$f":"IF(ISBLANK('New Members'!O16),\"\",'New Members'!O16)","v":""},{"$f":"IF(ISBLANK('New Members'!P16),\"\",'New Members'!P16)","v":""},{"$f":"IF(ISBLANK('New Members'!Q16),\"\",'New Members'!Q16)","v":""},{"$f":"IF(ISBLANK('New Members'!R16),\"\",'New Members'!R16)","v":""},{"$f":"IF(ISBLANK('New Members'!S16),\"\",\"M\")","v":""},{"$f":"IF(ISBLANK('New Members'!T16),\"\",\"F\")","v":""},{"$f":"IF(ISBLANK('New Members'!U16),\"\",'New Members'!U16)","v":""},{"$f":"IF(ISBLANK('New Members'!V16),\"\",'New Members'!V16)","v":""},{"$f":"IF(ISBLANK('New Members'!W16),\"\",'New Members'!W16)","v":"2025-26"},{"$f":"IF(ISBLANK('New Members'!X16),\"\",'New Members'!X16)","v":""},{"$f":"IF(ISBLANK('New Members'!Y16),\"\",'New Members'!Y16)","v":""}]
[212,"SANCTIONED TOURNAMENTS",{"$f":"IF(ISBLANK('New Members'!C17),\"\",'New Members'!C17)","v":""},{"$f":"IF(ISBLANK('New Members'!D17),\"\",'New Members'!D17)","v":"SANCTIONED EVENT"},{"$f":"IF(ISBLANK('New Members'!E17),\"\",'New Members'!E17)","v":""},{"$f":"IF(ISBLANK('New Members'!F17),\"\",'New Members'!F17)","v":""},{"$f":"IF(ISBLANK('New Members'!G17),\"\",'New Members'!G17)","v":""},{"$f":"IF(ISBLANK('New Members'!H17),\"\",'New Members'!H17)","v":""},{"$f":"IF(ISBLANK('New Members'!I17),\"\",'New Members'!I17)","v":""},{"$f":"IF(ISBLANK('New Members'!J17),\"\",'New Members'!J17)","v":""},{"$f":"IF(ISBLANK('New Members'!K17),\"\",'New Members'!K17)","v":""},{"$f":"IF(ISBLANK('New Members'!L17),\"\",'New Members'!L17)","v":""},{"$f":"IF(ISBLANK('New Members'!M17),\"\",'New Members'!M17)","v":""},{"$f":"IF(ISBLANK('New Members'!N17),\"\",'New Members'!N17)","v":""},{"$f":"IF(ISBLANK('New Members'!O17),\"\",'New Members'!O17)","v":""},{"$f":"IF(ISBLANK('New Members'!P17),\"\",'New Members'!P17)","v":""},{"$f":"IF(ISBLANK('New Members'!Q17),\"\",'New Members'!Q17)","v":""},{"$f":"IF(ISBLANK('New Members'!R17),\"\",'New Members'!R17)","v":""},{"$f":"IF(ISBLANK('New Members'!S17),\"\",\"M\")","v":""},{"$f":"IF(ISBLANK('New Members'!T17),\"\",\"F\")","v":""},{"$f":"IF(ISBLANK('New Members'!U17),\"\",'New Members'!U17)","v":""},{"$f":"IF(ISBLANK('New Members'!V17),\"\",'New Members'!V17)","v":""},{"$f":"IF(ISBLANK('New Members'!W17),\"\",'New Members'!W17)","v":"2025-26"},{"$f":"IF(ISBLANK('New Members'!X17),\"\",'New Members'!X17)","v":""},{"$f":"IF(ISBLANK('New Members'!Y17),\"\",'New Members'!Y17)","v":""}]
[213,"SANCTIONED TOURNAMENTS",{"$f":"IF(ISBLANK('New Members'!C18),\"\",'New Members'!C18)","v":""},{"$f":"IF(ISBLANK('New Members'!D18),\"\",'New Members'!D18)","v":"SANCTIONED EVENT"},{"$f":"IF(ISBLANK('New Members'!E18),\"\",'New Members'!E18)","v":""},{"$f":"IF(ISBLANK('New Members'!F18),\"\",'New Members'!F18)","v":""},{"$f":"IF(ISBLANK('New Members'!G18),\"\",'New Members'!G18)","v":""},{"$f":"IF(ISBLANK('New Members'!H18),\"\",'New Members'!H18)","v":""},{"$f":"IF(ISBLANK('New Members'!I18),\"\",'New Members'!I18)","v":""},{"$f":"IF(ISBLANK('New Members'!J18),\"\",'New Members'!J18)","v":""},{"$f":"IF(ISBLANK('New Members'!K18),\"\",'New Members'!K18)","v":""},{"$f":"IF(ISBLANK('New Members'!L18),\"\",'New Members'!L18)","v":""},{"$f":"IF(ISBLANK('New Members'!M18),\"\",'New Members'!M18)","v":""},{"$f":"IF(ISBLANK('New Members'!N18),\"\",'New Members'!N18)","v":""},{"$f":"IF(ISBLANK('New Members'!O18),\"\",'New Members'!O18)","v":""},{"$f":"IF(ISBLANK('New Members'!P18),\"\",'New Members'!P18)","v":""},{"$f":"IF(ISBLANK('New Members'!Q18),\"\",'New Members'!Q18)","v":""},{"$f":"IF(ISBLANK('New Members'!R18),\"\",'New Members'!R18)","v":""},{"$f":"IF(ISBLANK('New Members'!S18),\"\",\"M\")","v":""},{"$f":"IF(ISBLANK('New Members'!T18),\"\",\"F\")","v":""},{"$f":"IF(ISBLANK('New Members'!U18),\"\",'New Members'!U18)","v":""},{"$f":"IF(ISBLANK('New Members'!V18),\"\",'New Members'!V18)","v":""},{"$f":"IF(ISBLANK('New Members'!W18),\"\",'New Members'!W18)","v":"2025-26"},{"$f":"IF(ISBLANK('New Members'!X18),\"\",'New Members'!X18)","v":""},{"$f":"IF(ISBLANK('New Members'!Y18),\"\",'New Members'!Y18)","v":""}]
[214,"SANCTIONED TOURNAMENTS",{"$f":"IF(ISBLANK('New Members'!C19),\"\",'New Members'!C19)","v":""},{"$f":"IF(ISBLANK('New Members'!D19),\"\",'New Members'!D19)","v":"SANCTIONED EVENT"},{"$f":"IF(ISBLANK('New Members'!E19),\"\",'New Members'!E19)","v":""},{"$f":"IF(ISBLANK('New Members'!F19),\"\",'New Members'!F19)","v":""},{"$f":"IF(ISBLANK('New Members'!G19),\"\",'New Members'!G19)","v":""},{"$f":"IF(ISBLANK('New Members'!H19),\"\",'New Members'!H19)","v":""},{"$f":"IF(ISBLANK('New Members'!I19),\"\",'New Members'!I19)","v":""},{"$f":"IF(ISBLANK('New Members'!J19),\"\",'New Members'!J19)","v":""},{"$f":"IF(ISBLANK('New Members'!K19),\"\",'New Members'!K19)","v":""},{"$f":"IF(ISBLANK('New Members'!L19),\"\",'New Members'!L19)","v":""},{"$f":"IF(ISBLANK('New Members'!M19),\"\",'New Members'!M19)","v":""},{"$f":"IF(ISBLANK('New Members'!N19),\"\",'New Members'!N19)","v":""},{"$f":"IF(ISBLANK('New Members'!O19),\"\",'New Members'!O19)","v":""},{"$f":"IF(ISBLANK('New Members'!P19),\"\",'New Members'!P19)","v":""},{"$f":"IF(ISBLANK('New Members'!Q19),\"\",'New Members'!Q19)","v":""},{"$f":"IF(ISBLANK('New Members'!R19),\"\",'New Members'!R19)","v":""},{"$f":"IF(ISBLANK('New Members'!S19),\"\",\"M\")","v":""},{"$f":"IF(ISBLANK('New Members'!T19),\"\",\"F\")","v":""},{"$f":"IF(ISBLANK('New Members'!U19),\"\",'New Members'!U19)","v":""},{"$f":"IF(ISBLANK('New Members'!V19),\"\",'New Members'!V19)","v":""},{"$f":"IF(ISBLANK('New Members'!W19),\"\",'New Members'!W19)","v":"2025-26"},{"$f":"IF(ISBLANK('New Members'!X19),\"\",'New Members'!X19)","v":""},{"$f":"IF(ISBLANK('New Members'!Y19),\"\",'New Members'!Y19)","v":""}]
[215,"SANCTIONED TOURNAMENTS",{"$f":"IF(ISBLANK('New Members'!C20),\"\",'New Members'!C20)","v":""},{"$f":"IF(ISBLANK('New Members'!D20),\"\",'New Members'!D20)","v":"SANCTIONED EVENT"},{"$f":"IF(ISBLANK('New Members'!E20),\"\",'New Members'!E20)","v":""},{"$f":"IF(ISBLANK('New Members'!F20),\"\",'New Members'!F20)","v":""},{"$f":"IF(ISBLANK('New Members'!G20),\"\",'New Members'!G20)","v":""},{"$f":"IF(ISBLANK('New Members'!H20),\"\",'New Members'!H20)","v":""},{"$f":"IF(ISBLANK('New Members'!I20),\"\",'New Members'!I20)","v":""},{"$f":"IF(ISBLANK('New Members'!J20),\"\",'New Members'!J20)","v":""},{"$f":"IF(ISBLANK('New Members'!K20),\"\",'New Members'!K20)","v":""},{"$f":"IF(ISBLANK('New Members'!L20),\"\",'New Members'!L20)","v":""},{"$f":"IF(ISBLANK('New Members'!M20),\"\",'New Members'!M20)","v":""},{"$f":"IF(ISBLANK('New Members'!N20),\"\",'New Members'!N20)","v":""},{"$f":"IF(ISBLANK('New Members'!O20),\"\",'New Members'!O20)","v":""},{"$f":"IF(ISBLANK('New Members'!P20),\"\",'New Members'!P20)","v":""},{"$f":"IF(ISBLANK('New Members'!Q20),\"\",'New Members'!Q20)","v":""},{"$f":"IF(ISBLANK('New Members'!R20),\"\",'New Members'!R20)","v":""},{"$f":"IF(ISBLANK('New Members'!S20),\"\",\"M\")","v":""},{"$f":"IF(ISBLANK('New Members'!T20),\"\",\"F\")","v":""},{"$f":"IF(ISBLANK('New Members'!U20),\"\",'New Members'!U20)","v":""},{"$f":"IF(ISBLANK('New Members'!V20),\"\",'New Members'!V20)","v":""},{"$f":"IF(ISBLANK('New Members'!W20),\"\",'New Members'!W20)","v":"2025-26"},{"$f":"IF(ISBLANK('New Members'!X20),\"\",'New Members'!X20)","v":""},{"$f":"IF(ISBLANK('New Members'!Y20),\"\",'New Members'!Y20)","v":""}]
[216,"SANCTIONED TOURNAMENTS",{"$f":"IF(ISBLANK('New Members'!C21),\"\",'New Members'!C21)","v":""},{"$f":"IF(ISBLANK('New Members'!D21),\"\",'New Members'!D21)","v":"SANCTIONED EVENT"},{"$f":"IF(ISBLANK('New Members'!E21),\"\",'New Members'!E21)","v":""},{"$f":"IF(ISBLANK('New Members'!F21),\"\",'New Members'!F21)","v":""},{"$f":"IF(ISBLANK('New Members'!G21),\"\",'New Members'!G21)","v":""},{"$f":"IF(ISBLANK('New Members'!H21),\"\",'New Members'!H21)","v":""},{"$f":"IF(ISBLANK('New Members'!I21),\"\",'New Members'!I21)","v":""},{"$f":"IF(ISBLANK('New Members'!J21),\"\",'New Members'!J21)","v":""},{"$f":"IF(ISBLANK('New Members'!K21),\"\",'New Members'!K21)","v":""},{"$f":"IF(ISBLANK('New Members'!L21),\"\",'New Members'!L21)","v":""},{"$f":"IF(ISBLANK('New Members'!M21),\"\",'New Members'!M21)","v":""},{"$f":"IF(ISBLANK('New Members'!N21),\"\",'New Members'!N21)","v":""},{"$f":"IF(ISBLANK('New Members'!O21),\"\",'New Members'!O21)","v":""},{"$f":"IF(ISBLANK('New Members'!P21),\"\",'New Members'!P21)","v":""},{"$f":"IF(ISBLANK('New Members'!Q21),\"\",'New Members'!Q21)","v":""},{"$f":"IF(ISBLANK('New Members'!R21),\"\",'New Members'!R21)","v":""},{"$f":"IF(ISBLANK('New Members'!S21),\"\",\"M\")","v":""},{"$f":"IF(ISBLANK('New Members'!T21),\"\",\"F\")","v":""},{"$f":"IF(ISBLANK('New Members'!U21),\"\",'New Members'!U21)","v":""},{"$f":"IF(ISBLANK('New Members'!V21),\"\",'New Members'!V21)","v":""},{"$f":"IF(ISBLANK('New Members'!W21),\"\",'New Members'!W21)","v":"2025-26"},{"$f":"IF(ISBLANK('New Members'!X21),\"\",'New Members'!X21)","v":""},{"$f":"IF(ISBLANK('New Members'!Y21),\"\",'New Members'!Y21)","v":""}]
[217,"SANCTIONED TOURNAMENTS",{"$f":"IF(ISBLANK('New Members'!C22),\"\",'New Members'!C22)","v":""},{"$f":"IF(ISBLANK('New Members'!D22),\"\",'New Members'!D22)","v":"SANCTIONED EVENT"},{"$f":"IF(ISBLANK('New Members'!E22),\"\",'New Members'!E22)","v":""},{"$f":"IF(ISBLANK('New Members'!F22),\"\",'New Members'!F22)","v":""},{"$f":"IF(ISBLANK('New Members'!G22),\"\",'New Members'!G22)","v":""},{"$f":"IF(ISBLANK('New Members'!H22),\"\",'New Members'!H22)","v":""},{"$f":"IF(ISBLANK('New Members'!I22),\"\",'New Members'!I22)","v":""},{"$f":"IF(ISBLANK('New Members'!J22),\"\",'New Members'!J22)","v":""},{"$f":"IF(ISBLANK('New Members'!K22),\"\",'New Members'!K22)","v":""},{"$f":"IF(ISBLANK('New Members'!L22),\"\",'New Members'!L22)","v":""},{"$f":"IF(ISBLANK('New Members'!M22),\"\",'New Members'!M22)","v":""},{"$f":"IF(ISBLANK('New Members'!N22),\"\",'New Members'!N22)","v":""},{"$f":"IF(ISBLANK('New Members'!O22),\"\",'New Members'!O22)","v":""},{"$f":"IF(ISBLANK('New Members'!P22),\"\",'New Members'!P22)","v":""},{"$f":"IF(ISBLANK('New Members'!Q22),\"\",'New Members'!Q22)","v":""},{"$f":"IF(ISBLANK('New Members'!R22),\"\",'New Members'!R22)","v":""},{"$f":"IF(ISBLANK('New Members'!S22),\"\",\"M\")","v":""},{"$f":"IF(ISBLANK('New Members'!T22),\"\",\"F\")","v":""},{"$f":"IF(ISBLANK('New Members'!U22),\"\",'New Members'!U22)","v":""},{"$f":"IF(ISBLANK('New Members'!V22),\"\",'New Members'!V22)","v":""},{"$f":"IF(ISBLANK('New Members'!W22),\"\",'New Members'!W22)","v":"2025-26"},{"$f":"IF(ISBLANK('New Members'!X22),\"\",'New Members'!X22)","v":""},{"$f":"IF(ISBLANK('New Members'!Y22),\"\",'New Members'!Y22)","v":""}]
[218,"SANCTIONED TOURNAMENTS",{"$f":"IF(ISBLANK('New Members'!C23),\"\",'New Members'!C23)","v":""},{"$f":"IF(ISBLANK('New Members'!D23),\"\",'New Members'!D23)","v":"SANCTIONED EVENT"},{"$f":"IF(ISBLANK('New Members'!E23),\"\",'New Members'!E23)","v":""},{"$f":"IF(ISBLANK('New Members'!F23),\"\",'New Members'!F23)","v":""},{"$f":"IF(ISBLANK('New Members'!G23),\"\",'New Members'!G23)","v":""},{"$f":"IF(ISBLANK('New Members'!H23),\"\",'New Members'!H23)","v":""},{"$f":"IF(ISBLANK('New Members'!I23),\"\",'New Members'!I23)","v":""},{"$f":"IF(ISBLANK('New Members'!J23),\"\",'New Members'!J23)","v":""},{"$f":"IF(ISBLANK('New Members'!K23),\"\",'New Members'!K23)","v":""},{"$f":"IF(ISBLANK('New Members'!L23),\"\",'New Members'!L23)","v":""},{"$f":"IF(ISBLANK('New Members'!M23),\"\",'New Members'!M23)","v":""},{"$f":"IF(ISBLANK('New Members'!N23),\"\",'New Members'!N23)","v":""},{"$f":"IF(ISBLANK('New Members'!O23),\"\",'New Members'!O23)","v":""},{"$f":"IF(ISBLANK('New Members'!P23),\"\",'New Members'!P23)","v":""},{"$f":"IF(ISBLANK('New Members'!Q23),\"\",'New Members'!Q23)","v":""},{"$f":"IF(ISBLANK('New Members'!R23),\"\",'New Members'!R23)","v":""},{"$f":"IF(ISBLANK('New Members'!S23),\"\",\"M\")","v":""},{"$f":"IF(ISBLANK('New Members'!T23),\"\",\"F\")","v":""},{"$f":"IF(ISBLANK('New Members'!U23),\"\",'New Members'!U23)","v":""},{"$f":"IF(ISBLANK('New Members'!V23),\"\",'New Members'!V23)","v":""},{"$f":"IF(ISBLANK('New Members'!W23),\"\",'New Members'!W23)","v":"2025-26"},{"$f":"IF(ISBLANK('New Members'!X23),\"\",'New Members'!X23)","v":""},{"$f":"IF(ISBLANK('New Members'!Y23),\"\",'New Members'!Y23)","v":""}]
[219,"SANCTIONED TOURNAMENTS",{"$f":"IF(ISBLANK('New Members'!C24),\"\",'New Members'!C24)","v":""},{"$f":"IF(ISBLANK('New Members'!D24),\"\",'New Members'!D24)","v":"SANCTIONED EVENT"},{"$f":"IF(ISBLANK('New Members'!E24),\"\",'New Members'!E24)","v":""},{"$f":"IF(ISBLANK('New Members'!F24),\"\",'New Members'!F24)","v":""},{"$f":"IF(ISBLANK('New Members'!G24),\"\",'New Members'!G24)","v":""},{"$f":"IF(ISBLANK('New Members'!H24),\"\",'New Members'!H24)","v":""},{"$f":"IF(ISBLANK('New Members'!I24),\"\",'New Members'!I24)","v":""},{"$f":"IF(ISBLANK('New Members'!J24),\"\",'New Members'!J24)","v":""},{"$f":"IF(ISBLANK('New Members'!K24),\"\",'New Members'!K24)","v":""},{"$f":"IF(ISBLANK('New Members'!L24),\"\",'New Members'!L24)","v":""},{"$f":"IF(ISBLANK('New Members'!M24),\"\",'New Members'!M24)","v":""},{"$f":"IF(ISBLANK('New Members'!N24),\"\",'New Members'!N24)","v":""},{"$f":"IF(ISBLANK('New Members'!O24),\"\",'New Members'!O24)","v":""},{"$f":"IF(ISBLANK('New Members'!P24),\"\",'New Members'!P24)","v":""},{"$f":"IF(ISBLANK('New Members'!Q24),\"\",'New Members'!Q24)","v":""},{"$f":"IF(ISBLANK('New Members'!R24),\"\",'New Members'!R24)","v":""},{"$f":"IF(ISBLANK('New Members'!S24),\"\",\"M\")","v":""},{"$f":"IF(ISBLANK('New Members'!T24),\"\",\"F\")","v":""},{"$f":"IF(ISBLANK('New Members'!U24),\"\",'New Members'!U24)","v":""},{"$f":"IF(ISBLANK('New Members'!V24),\"\",'New Members'!V24)","v":""},{"$f":"IF(ISBLANK('New Members'!W24),\"\",'New Members'!W24)","v":"2025-26"},{"$f":"IF(ISBLANK('New Members'!X24),\"\",'New Members'!X24)","v":""},{"$f":"IF(ISBLANK('New Members'!Y24),\"\",'New Members'!Y24)","v":""}]
[220,"SANCTIONED TOURNAMENTS",{"$f":"IF(ISBLANK('New Members'!C25),\"\",'New Members'!C25)","v":""},{"$f":"IF(ISBLANK('New Members'!D25),\"\",'New Members'!D25)","v":"SANCTIONED EVENT"},{"$f":"IF(ISBLANK('New Members'!E25),\"\",'New Members'!E25)","v":""},{"$f":"IF(ISBLANK('New Members'!F25),\"\",'New Members'!F25)","v":""},{"$f":"IF(ISBLANK('New Members'!G25),\"\",'New Members'!G25)","v":""},{"$f":"IF(ISBLANK('New Members'!H25),\"\",'New Members'!H25)","v":""},{"$f":"IF(ISBLANK('New Members'!I25),\"\",'New Members'!I25)","v":""},{"$f":"IF(ISBLANK('New Members'!J25),\"\",'New Members'!J25)","v":""},{"$f":"IF(ISBLANK('New Members'!K25),\"\",'New Members'!K25)","v":""},{"$f":"IF(ISBLANK('New Members'!L25),\"\",'New Members'!L25)","v":""},{"$f":"IF(ISBLANK('New Members'!M25),\"\",'New Members'!M25)","v":""},{"$f":"IF(ISBLANK('New Members'!N25),\"\",'New Members'!N25)","v":""},{"$f":"IF(ISBLANK('New Members'!O25),\"\",'New Members'!O25)","v":""},{"$f":"IF(ISBLANK('New Members'!P25),\"\",'New Members'!P25)","v":""},{"$f":"IF(ISBLANK('New Members'!Q25),\"\",'New Members'!Q25)","v":""},{"$f":"IF(ISBLANK('New Members'!R25),\"\",'New Members'!R25)","v":""},{"$f":"IF(ISBLANK('New Members'!S25),\"\",\"M\")","v":""},{"$f":"IF(ISBLANK('New Members'!T25),\"\",\"F\")","v":""},{"$f":"IF(ISBLANK('New Members'!U25),\"\",'New Members'!U25)","v":""},{"$f":"IF(ISBLANK('New Members'!V25),\"\",'New Members'!V25)","v":""},{"$f":"IF(ISBLANK('New Members'!W25),\"\",'New Members'!W25)","v":"2025-26"},{"$f":"IF(ISBLANK('New Members'!X25),\"\",'New Members'!X25)","v":""},{"$f":"IF(ISBLANK('New Members'!Y25),\"\",'New Members'!Y25)","v":""}]
[221,"SANCTIONED TOURNAMENTS",{"$f":"IF(ISBLANK('New Members'!C26),\"\",'New Members'!C26)","v":""},{"$f":"IF(ISBLANK('New Members'!D26),\"\",'New Members'!D26)","v":"SANCTIONED EVENT"},{"$f":"IF(ISBLANK('New Members'!E26),\"\",'New Members'!E26)","v":""},{"$f":"IF(ISBLANK('New Members'!F26),\"\",'New Members'!F26)","v":""},{"$f":"IF(ISBLANK('New Members'!G26),\"\",'New Members'!G26)","v":""},{"$f":"IF(ISBLANK('New Members'!H26),\"\",'New Members'!H26)","v":""},{"$f":"IF(ISBLANK('New Members'!I26),\"\",'New Members'!I26)","v":""},{"$f":"IF(ISBLANK('New Members'!J26),\"\",'New Members'!J26)","v":""},{"$f":"IF(ISBLANK('New Members'!K26),\"\",'New Members'!K26)","v":""},{"$f":"IF(ISBLANK('New Members'!L26),\"\",'New Members'!L26)","v":""},{"$f":"IF(ISBLANK('New Members'!M26),\"\",'New Members'!M26)","v":""},{"$f":"IF(ISBLANK('New Members'!N26),\"\",'New Members'!N26)","v":""},{"$f":"IF(ISBLANK('New Members'!O26),\"\",'New Members'!O26)","v":""},{"$f":"IF(ISBLANK('New Members'!P26),\"\",'New Members'!P26)","v":""},{"$f":"IF(ISBLANK('New Members'!Q26),\"\",'New Members'!Q26)","v":""},{"$f":"IF(ISBLANK('New Members'!R26),\"\",'New Members'!R26)","v":""},{"$f":"IF(ISBLANK('New Members'!S26),\"\",\"M\")","v":""},{"$f":"IF(ISBLANK('New Members'!T26),\"\",\"F\")","v":""},{"$f":"IF(ISBLANK('New Members'!U26),\"\",'New Members'!U26)","v":""},{"$f":"IF(ISBLANK('New Members'!V26),\"\",'New Members'!V26)","v":""},{"$f":"IF(ISBLANK('New Members'!W26),\"\",'New Members'!W26)","v":"2025-26"},{"$f":"IF(ISBLANK('New Members'!X26),\"\",'New Members'!X26)","v":""},{"$f":"IF(ISBLANK('New Members'!Y26),\"\",'New Members'!Y26)","v":""}]
[222,"SANCTIONED TOURNAMENTS",{"$f":"IF(ISBLANK('New Members'!C27),\"\",'New Members'!C27)","v":""},{"$f":"IF(ISBLANK('New Members'!D27),\"\",'New Members'!D27)","v":"SANCTIONED EVENT"},{"$f":"IF(ISBLANK('New Members'!E27),\"\",'New Members'!E27)","v":""},{"$f":"IF(ISBLANK('New Members'!F27),\"\",'New Members'!F27)","v":""},{"$f":"IF(ISBLANK('New Members'!G27),\"\",'New Members'!G27)","v":""},{"$f":"IF(ISBLANK('New Members'!H27),\"\",'New Members'!H27)","v":""},{"$f":"IF(ISBLANK('New Members'!I27),\"\",'New Members'!I27)","v":""},{"$f":"IF(ISBLANK('New Members'!J27),\"\",'New Members'!J27)","v":""},{"$f":"IF(ISBLANK('New Members'!K27),\"\",'New Members'!K27)","v":""},{"$f":"IF(ISBLANK('New Members'!L27),\"\",'New Members'!L27)","v":""},{"$f":"IF(ISBLANK('New Members'!M27),\"\",'New Members'!M27)","v":""},{"$f":"IF(ISBLANK('New Members'!N27),\"\",'New Members'!N27)","v":""},{"$f":"IF(ISBLANK('New Members'!O27),\"\",'New Members'!O27)","v":""},{"$f":"IF(ISBLANK('New Members'!P27),\"\",'New Members'!P27)","v":""},{"$f":"IF(ISBLANK('New Members'!Q27),\"\",'New Members'!Q27)","v":""},{"$f":"IF(ISBLANK('New Members'!R27),\"\",'New Members'!R27)","v":""},{"$f":"IF(ISBLANK('New Members'!S27),\"\",\"M\")","v":""},{"$f":"IF(ISBLANK('New Members'!T27),\"\",\"F\")","v":""},{"$f":"IF(ISBLANK('New Members'!U27),\"\",'New Members'!U27)","v":""},{"$f":"IF(ISBLANK('New Members'!V27),\"\",'New Members'!V27)","v":""},{"$f":"IF(ISBLANK('New Members'!W27),\"\",'New Members'!W27)","v":"2025-26"},{"$f":"IF(ISBLANK('New Members'!X27),\"\",'New Members'!X27)","v":""},{"$f":"IF(ISBLANK('New Members'!Y27),\"\",'New Members'!Y27)","v":""}]
[223,"SANCTIONED TOURNAMENTS",{"$f":"IF(ISBLANK('New Members'!C28),\"\",'New Members'!C28)","v":""},{"$f":"IF(ISBLANK('New Members'!D28),\"\",'New Members'!D28)","v":"SANCTIONED EVENT"},{"$f":"IF(ISBLANK('New Members'!E28),\"\",'New Members'!E28)","v":""},{"$f":"IF(ISBLANK('New Members'!F28),\"\",'New Members'!F28)","v":""},{"$f":"IF(ISBLANK('New Members'!G28),\"\",'New Members'!G28)","v":""},{"$f":"IF(ISBLANK('New Members'!H28),\"\",'New Members'!H28)","v":""},{"$f":"IF(ISBLANK('New Members'!I28),\"\",'New Members'!I28)","v":""},{"$f":"IF(ISBLANK('New Members'!J28),\"\",'New Members'!J28)","v":""},{"$f":"IF(ISBLANK('New Members'!K28),\"\",'New Members'!K28)","v":""},{"$f":"IF(ISBLANK('New Members'!L28),\"\",'New Members'!L28)","v":""},{"$f":"IF(ISBLANK('New Members'!M28),\"\",'New Members'!M28)","v":""},{"$f":"IF(ISBLANK('New Members'!N28),\"\",'New Members'!N28)","v":""},{"$f":"IF(ISBLANK('New Members'!O28),\"\",'New Members'!O28)","v":""},{"$f":"IF(ISBLANK('New Members'!P28),\"\",'New Members'!P28)","v":""},{"$f":"IF(ISBLANK('New Members'!Q28),\"\",'New Members'!Q28)","v":""},{"$f":"IF(ISBLANK('New Members'!R28),\"\",'New Members'!R28)","v":""},{"$f":"IF(ISBLANK('New Members'!S28),\"\",\"M\")","v":""},{"$f":"IF(ISBLANK('New Members'!T28),\"\",\"F\")","v":""},{"$f":"IF(ISBLANK('New Members'!U28),\"\",'New Members'!U28)","v":""},{"$f":"IF(ISBLANK('New Members'!V28),\"\",'New Members'!V28)","v":""},{"$f":"IF(ISBLANK('New Members'!W28),\"\",'New Members'!W28)","v":"2025-26"},{"$f":"IF(ISBLANK('New Members'!X28),\"\",'New Members'!X28)","v":""},{"$f":"IF(ISBLANK('New Members'!Y28),\"\",'New Members'!Y28)","v":""}]
[224,"SANCTIONED TOURNAMENTS",{"$f":"IF(ISBLANK('New Members'!C29),\"\",'New Members'!C29)","v":""},{"$f":"IF(ISBLANK('New Members'!D29),\"\",'New Members'!D29)","v":"SANCTIONED EVENT"},{"$f":"IF(ISBLANK('New Members'!E29),\"\",'New Members'!E29)","v":""},{"$f":"IF(ISBLANK('New Members'!F29),\"\",'New Members'!F29)","v":""},{"$f":"IF(ISBLANK('New Members'!G29),\"\",'New Members'!G29)","v":""},{"$f":"IF(ISBLANK('New Members'!H29),\"\",'New Members'!H29)","v":""},{"$f":"IF(ISBLANK('New Members'!I29),\"\",'New Members'!I29)","v":""},{"$f":"IF(ISBLANK('New Members'!J29),\"\",'New Members'!J29)","v":""},{"$f":"IF(ISBLANK('New Members'!K29),\"\",'New Members'!K29)","v":""},{"$f":"IF(ISBLANK('New Members'!L29),\"\",'New Members'!L29)","v":""},{"$f":"IF(ISBLANK('New Members'!M29),\"\",'New Members'!M29)","v":""},{"$f":"IF(ISBLANK('New Members'!N29),\"\",'New Members'!N29)","v":""},{"$f":"IF(ISBLANK('New Members'!O29),\"\",'New Members'!O29)","v":""},{"$f":"IF(ISBLANK('New Members'!P29),\"\",'New Members'!P29)","v":""},{"$f":"IF(ISBLANK('New Members'!Q29),\"\",'New Members'!Q29)","v":""},{"$f":"IF(ISBLANK('New Members'!R29),\"\",'New Members'!R29)","v":""},{"$f":"IF(ISBLANK('New Members'!S29),\"\",\"M\")","v":""},{"$f":"IF(ISBLANK('New Members'!T29),\"\",\"F\")","v":""},{"$f":"IF(ISBLANK('New Members'!U29),\"\",'New Members'!U29)","v":""},{"$f":"IF(ISBLANK('New Members'!V29),\"\",'New Members'!V29)","v":""},{"$f":"IF(ISBLANK('New Members'!W29),\"\",'New Members'!W29)","v":"2025-26"},{"$f":"IF(ISBLANK('New Members'!X29),\"\",'New Members'!X29)","v":""},{"$f":"IF(ISBLANK('New Members'!Y29),\"\",'New Members'!Y29)","v":""}]
[225,"SANCTIONED TOURNAMENTS",{"$f":"IF(ISBLANK('New Members'!C30),\"\",'New Members'!C30)","v":""},{"$f":"IF(ISBLANK('New Members'!D30),\"\",'New Members'!D30)","v":"SANCTIONED EVENT"},{"$f":"IF(ISBLANK('New Members'!E30),\"\",'New Members'!E30)","v":""},{"$f":"IF(ISBLANK('New Members'!F30),\"\",'New Members'!F30)","v":""},{"$f":"IF(ISBLANK('New Members'!G30),\"\",'New Members'!G30)","v":""},{"$f":"IF(ISBLANK('New Members'!H30),\"\",'New Members'!H30)","v":""},{"$f":"IF(ISBLANK('New Members'!I30),\"\",'New Members'!I30)","v":""},{"$f":"IF(ISBLANK('New Members'!J30),\"\",'New Members'!J30)","v":""},{"$f":"IF(ISBLANK('New Members'!K30),\"\",'New Members'!K30)","v":""},{"$f":"IF(ISBLANK('New Members'!L30),\"\",'New Members'!L30)","v":""},{"$f":"IF(ISBLANK('New Members'!M30),\"\",'New Members'!M30)","v":""},{"$f":"IF(ISBLANK('New Members'!N30),\"\",'New Members'!N30)","v":""},{"$f":"IF(ISBLANK('New Members'!O30),\"\",'New Members'!O30)","v":""},{"$f":"IF(ISBLANK('New Members'!P30),\"\",'New Members'!P30)","v":""},{"$f":"IF(ISBLANK('New Members'!Q30),\"\",'New Members'!Q30)","v":""},{"$f":"IF(ISBLANK('New Members'!R30),\"\",'New Members'!R30)","v":""},{"$f":"IF(ISBLANK('New Members'!S30),\"\",\"M\")","v":""},{"$f":"IF(ISBLANK('New Members'!T30),\"\",\"F\")","v":""},{"$f":"IF(ISBLANK('New Members'!U30),\"\",'New Members'!U30)","v":""},{"$f":"IF(ISBLANK('New Members'!V30),\"\",'New Members'!V30)","v":""},{"$f":"IF(ISBLANK('New Members'!W30),\"\",'New Members'!W30)","v":"2025-26"},{"$f":"IF(ISBLANK('New Members'!X30),\"\",'New Members'!X30)","v":""},{"$f":"IF(ISBLANK('New Members'!Y30),\"\",'New Members'!Y30)","v":""}]
[226,"SANCTIONED TOURNAMENTS",{"$f":"IF(ISBLANK('New Members'!C31),\"\",'New Members'!C31)","v":""},{"$f":"IF(ISBLANK('New Members'!D31),\"\",'New Members'!D31)","v":"SANCTIONED EVENT"},{"$f":"IF(ISBLANK('New Members'!E31),\"\",'New Members'!E31)","v":""},{"$f":"IF(ISBLANK('New Members'!F31),\"\",'New Members'!F31)","v":""},{"$f":"IF(ISBLANK('New Members'!G31),\"\",'New Members'!G31)","v":""},{"$f":"IF(ISBLANK('New Members'!H31),\"\",'New Members'!H31)","v":""},{"$f":"IF(ISBLANK('New Members'!I31),\"\",'New Members'!I31)","v":""},{"$f":"IF(ISBLANK('New Members'!J31),\"\",'New Members'!J31)","v":""},{"$f":"IF(ISBLANK('New Members'!K31),\"\",'New Members'!K31)","v":""},{"$f":"IF(ISBLANK('New Members'!L31),\"\",'New Members'!L31)","v":""},{"$f":"IF(ISBLANK('New Members'!M31),\"\",'New Members'!M31)","v":""},{"$f":"IF(ISBLANK('New Members'!N31),\"\",'New Members'!N31)","v":""},{"$f":"IF(ISBLANK('New Members'!O31),\"\",'New Members'!O31)","v":""},{"$f":"IF(ISBLANK('New Members'!P31),\"\",'New Members'!P31)","v":""},{"$f":"IF(ISBLANK('New Members'!Q31),\"\",'New Members'!Q31)","v":""},{"$f":"IF(ISBLANK('New Members'!R31),\"\",'New Members'!R31)","v":""},{"$f":"IF(ISBLANK('New Members'!S31),\"\",\"M\")","v":""},{"$f":"IF(ISBLANK('New Members'!T31),\"\",\"F\")","v":""},{"$f":"IF(ISBLANK('New Members'!U31),\"\",'New Members'!U31)","v":""},{"$f":"IF(ISBLANK('New Members'!V31),\"\",'New Members'!V31)","v":""},{"$f":"IF(ISBLANK('New Members'!W31),\"\",'New Members'!W31)","v":"2025-26"},{"$f":"IF(ISBLANK('New Members'!X31),\"\",'New Members'!X31)","v":""},{"$f":"IF(ISBLANK('New Members'!Y31),\"\",'New Members'!Y31)","v":""}]
[227,"SANCTIONED TOURNAMENTS",{"$f":"IF(ISBLANK('New Members'!C32),\"\",'New Members'!C32)","v":""},{"$f":"IF(ISBLANK('New Members'!D32),\"\",'New Members'!D32)","v":"SANCTIONED EVENT"},{"$f":"IF(ISBLANK('New Members'!E32),\"\",'New Members'!E32)","v":""},{"$f":"IF(ISBLANK('New Members'!F32),\"\",'New Members'!F32)","v":""},{"$f":"IF(ISBLANK('New Members'!G32),\"\",'New Members'!G32)","v":""},{"$f":"IF(ISBLANK('New Members'!H32),\"\",'New Members'!H32)","v":""},{"$f":"IF(ISBLANK('New Members'!I32),\"\",'New Members'!I32)","v":""},{"$f":"IF(ISBLANK('New Members'!J32),\"\",'New Members'!J32)","v":""},{"$f":"IF(ISBLANK('New Members'!K32),\"\",'New Members'!K32)","v":""},{"$f":"IF(ISBLANK('New Members'!L32),\"\",'New Members'!L32)","v":""},{"$f":"IF(ISBLANK('New Members'!M32),\"\",'New Members'!M32)","v":""},{"$f":"IF(ISBLANK('New Members'!N32),\"\",'New Members'!N32)","v":""},{"$f":"IF(ISBLANK('New Members'!O32),\"\",'New Members'!O32)","v":""},{"$f":"IF(ISBLANK('New Members'!P32),\"\",'New Members'!P32)","v":""},{"$f":"IF(ISBLANK('New Members'!Q32),\"\",'New Members'!Q32)","v":""},{"$f":"IF(ISBLANK('New Members'!R32),\"\",'New Members'!R32)","v":""},{"$f":"IF(ISBLANK('New Members'!S32),\"\",\"M\")","v":""},{"$f":"IF(ISBLANK('New Members'!T32),\"\",\"F\")","v":""},{"$f":"IF(ISBLANK('New Members'!U32),\"\",'New Members'!U32)","v":""},{"$f":"IF(ISBLANK('New Members'!V32),\"\",'New Members'!V32)","v":""},{"$f":"IF(ISBLANK('New Members'!W32),\"\",'New Members'!W32)","v":"2025-26"},{"$f":"IF(ISBLANK('New Members'!X32),\"\",'New Members'!X32)","v":""},{"$f":"IF(ISBLANK('New Members'!Y32),\"\",'New Members'!Y32)","v":""}]
[228,"SANCTIONED TOURNAMENTS",{"$f":"IF(ISBLANK('New Members'!C33),\"\",'New Members'!C33)","v":""},{"$f":"IF(ISBLANK('New Members'!D33),\"\",'New Members'!D33)","v":"SANCTIONED EVENT"},{"$f":"IF(ISBLANK('New Members'!E33),\"\",'New Members'!E33)","v":""},{"$f":"IF(ISBLANK('New Members'!F33),\"\",'New Members'!F33)","v":""},{"$f":"IF(ISBLANK('New Members'!G33),\"\",'New Members'!G33)","v":""},{"$f":"IF(ISBLANK('New Members'!H33),\"\",'New Members'!H33)","v":""},{"$f":"IF(ISBLANK('New Members'!I33),\"\",'New Members'!I33)","v":""},{"$f":"IF(ISBLANK('New Members'!J33),\"\",'New Members'!J33)","v":""},{"$f":"IF(ISBLANK('New Members'!K33),\"\",'New Members'!K33)","v":""},{"$f":"IF(ISBLANK('New Members'!L33),\"\",'New Members'!L33)","v":""},{"$f":"IF(ISBLANK('New Members'!M33),\"\",'New Members'!M33)","v":""},{"$f":"IF(ISBLANK('New Members'!N33),\"\",'New Members'!N33)","v":""},{"$f":"IF(ISBLANK('New Members'!O33),\"\",'New Members'!O33)","v":""},{"$f":"IF(ISBLANK('New Members'!P33),\"\",'New Members'!P33)","v":""},{"$f":"IF(ISBLANK('New Members'!Q33),\"\",'New Members'!Q33)","v":""},{"$f":"IF(ISBLANK('New Members'!R33),\"\",'New Members'!R33)","v":""},{"$f":"IF(ISBLANK('New Members'!S33),\"\",\"M\")","v":""},{"$f":"IF(ISBLANK('New Members'!T33),\"\",\"F\")","v":""},{"$f":"IF(ISBLANK('New Members'!U33),\"\",'New Members'!U33)","v":""},{"$f":"IF(ISBLANK('New Members'!V33),\"\",'New Members'!V33)","v":""},{"$f":"IF(ISBLANK('New Members'!W33),\"\",'New Members'!W33)","v":"2025-26"},{"$f":"IF(ISBLANK('New Members'!X33),\"\",'New Members'!X33)","v":""},{"$f":"IF(ISBLANK('New Members'!Y33),\"\",'New Members'!Y33)","v":""}]
[229,"SANCTIONED TOURNAMENTS",{"$f":"IF(ISBLANK('New Members'!C34),\"\",'New Members'!C34)","v":""},{"$f":"IF(ISBLANK('New Members'!D34),\"\",'New Members'!D34)","v":"SANCTIONED EVENT"},{"$f":"IF(ISBLANK('New Members'!E34),\"\",'New Members'!E34)","v":""},{"$f":"IF(ISBLANK('New Members'!F34),\"\",'New Members'!F34)","v":""},{"$f":"IF(ISBLANK('New Members'!G34),\"\",'New Members'!G34)","v":""},{"$f":"IF(ISBLANK('New Members'!H34),\"\",'New Members'!H34)","v":""},{"$f":"IF(ISBLANK('New Members'!I34),\"\",'New Members'!I34)","v":""},{"$f":"IF(ISBLANK('New Members'!J34),\"\",'New Members'!J34)","v":""},{"$f":"IF(ISBLANK('New Members'!K34),\"\",'New Members'!K34)","v":""},{"$f":"IF(ISBLANK('New Members'!L34),\"\",'New Members'!L34)","v":""},{"$f":"IF(ISBLANK('New Members'!M34),\"\",'New Members'!M34)","v":""},{"$f":"IF(ISBLANK('New Members'!N34),\"\",'New Members'!N34)","v":""},{"$f":"IF(ISBLANK('New Members'!O34),\"\",'New Members'!O34)","v":""},{"$f":"IF(ISBLANK('New Members'!P34),\"\",'New Members'!P34)","v":""},{"$f":"IF(ISBLANK('New Members'!Q34),\"\",'New Members'!Q34)","v":""},{"$f":"IF(ISBLANK('New Members'!R34),\"\",'New Members'!R34)","v":""},{"$f":"IF(ISBLANK('New Members'!S34),\"\",\"M\")","v":""},{"$f":"IF(ISBLANK('New Members'!T34),\"\",\"F\")","v":""},{"$f":"IF(ISBLANK('New Members'!U34),\"\",'New Members'!U34)","v":""},{"$f":"IF(ISBLANK('New Members'!V34),\"\",'New Members'!V34)","v":""},{"$f":"IF(ISBLANK('New Members'!W34),\"\",'New Members'!W34)","v":"2025-26"},{"$f":"IF(ISBLANK('New Members'!X34),\"\",'New Members'!X34)","v":""},{"$f":"IF(ISBLANK('New Members'!Y34),\"\",'New Members'!Y34)","v":""}]
[230,"SANCTIONED TOURNAMENTS",{"$f":"IF(ISBLANK('New Members'!C35),\"\",'New Members'!C35)","v":""},{"$f":"IF(ISBLANK('New Members'!D35),\"\",'New Members'!D35)","v":"SANCTIONED EVENT"},{"$f":"IF(ISBLANK('New Members'!E35),\"\",'New Members'!E35)","v":""},{"$f":"IF(ISBLANK('New Members'!F35),\"\",'New Members'!F35)","v":""},{"$f":"IF(ISBLANK('New Members'!G35),\"\",'New Members'!G35)","v":""},{"$f":"IF(ISBLANK('New Members'!H35),\"\",'New Members'!H35)","v":""},{"$f":"IF(ISBLANK('New Members'!I35),\"\",'New Members'!I35)","v":""},{"$f":"IF(ISBLANK('New Members'!J35),\"\",'New Members'!J35)","v":""},{"$f":"IF(ISBLANK('New Members'!K35),\"\",'New Members'!K35)","v":""},{"$f":"IF(ISBLANK('New Members'!L35),\"\",'New Members'!L35)","v":""},{"$f":"IF(ISBLANK('New Members'!M35),\"\",'New Members'!M35)","v":""},{"$f":"IF(ISBLANK('New Members'!N35),\"\",'New Members'!N35)","v":""},{"$f":"IF(ISBLANK('New Members'!O35),\"\",'New Members'!O35)","v":""},{"$f":"IF(ISBLANK('New Members'!P35),\"\",'New Members'!P35)","v":""},{"$f":"IF(ISBLANK('New Members'!Q35),\"\",'New Members'!Q35)","v":""},{"$f":"IF(ISBLANK('New Members'!R35),\"\",'New Members'!R35)","v":""},{"$f":"IF(ISBLANK('New Members'!S35),\"\",\"M\")","v":""},{"$f":"IF(ISBLANK('New Members'!T35),\"\",\"F\")","v":""},{"$f":"IF(ISBLANK('New Members'!U35),\"\",'New Members'!U35)","v":""},{"$f":"IF(ISBLANK('New Members'!V35),\"\",'New Members'!V35)","v":""},{"$f":"IF(ISBLANK('New Members'!W35),\"\",'New Members'!W35)","v":"2025-26"},{"$f":"IF(ISBLANK('New Members'!X35),\"\",'New Members'!X35)","v":""},{"$f":"IF(ISBLANK('New Members'!Y35),\"\",'New Members'!Y35)","v":""}]
[231,"SANCTIONED TOURNAMENTS",{"$f":"IF(ISBLANK('New Members'!C36),\"\",'New Members'!C36)","v":""},{"$f":"IF(ISBLANK('New Members'!D36),\"\",'New Members'!D36)","v":"SANCTIONED EVENT"},{"$f":"IF(ISBLANK('New Members'!E36),\"\",'New Members'!E36)","v":""},{"$f":"IF(ISBLANK('New Members'!F36),\"\",'New Members'!F36)","v":""},{"$f":"IF(ISBLANK('New Members'!G36),\"\",'New Members'!G36)","v":""},{"$f":"IF(ISBLANK('New Members'!H36),\"\",'New Members'!H36)","v":""},{"$f":"IF(ISBLANK('New Members'!I36),\"\",'New Members'!I36)","v":""},{"$f":"IF(ISBLANK('New Members'!J36),\"\",'New Members'!J36)","v":""},{"$f":"IF(ISBLANK('New Members'!K36),\"\",'New Members'!K36)","v":""},{"$f":"IF(ISBLANK('New Members'!L36),\"\",'New Members'!L36)","v":""},{"$f":"IF(ISBLANK('New Members'!M36),\"\",'New Members'!M36)","v":""},{"$f":"IF(ISBLANK('New Members'!N36),\"\",'New Members'!N36)","v":""},{"$f":"IF(ISBLANK('New Members'!O36),\"\",'New Members'!O36)","v":""},{"$f":"IF(ISBLANK('New Members'!P36),\"\",'New Members'!P36)","v":""},{"$f":"IF(ISBLANK('New Members'!Q36),\"\",'New Members'!Q36)","v":""},{"$f":"IF(ISBLANK('New Members'!R36),\"\",'New Members'!R36)","v":""},{"$f":"IF(ISBLANK('New Members'!S36),\"\",\"M\")","v":""},{"$f":"IF(ISBLANK('New Members'!T36),\"\",\"F\")","v":""},{"$f":"IF(ISBLANK('New Members'!U36),\"\",'New Members'!U36)","v":""},{"$f":"IF(ISBLANK('New Members'!V36),\"\",'New Members'!V36)","v":""},{"$f":"IF(ISBLANK('New Members'!W36),\"\",'New Members'!W36)","v":"2025-26"},{"$f":"IF(ISBLANK('New Members'!X36),\"\",'New Members'!X36)","v":""},{"$f":"IF(ISBLANK('New Members'!Y36),\"\",'New Members'!Y36)","v":""}]
[232,"SANCTIONED TOURNAMENTS",{"$f":"IF(ISBLANK('New Members'!C37),\"\",'New Members'!C37)","v":""},{"$f":"IF(ISBLANK('New Members'!D37),\"\",'New Members'!D37)","v":"SANCTIONED EVENT"},{"$f":"IF(ISBLANK('New Members'!E37),\"\",'New Members'!E37)","v":""},{"$f":"IF(ISBLANK('New Members'!F37),\"\",'New Members'!F37)","v":""},{"$f":"IF(ISBLANK('New Members'!G37),\"\",'New Members'!G37)","v":""},{"$f":"IF(ISBLANK('New Members'!H37),\"\",'New Members'!H37)","v":""},{"$f":"IF(ISBLANK('New Members'!I37),\"\",'New Members'!I37)","v":""},{"$f":"IF(ISBLANK('New Members'!J37),\"\",'New Members'!J37)","v":""},{"$f":"IF(ISBLANK('New Members'!K37),\"\",'New Members'!K37)","v":""},{"$f":"IF(ISBLANK('New Members'!L37),\"\",'New Members'!L37)","v":""},{"$f":"IF(ISBLANK('New Members'!M37),\"\",'New Members'!M37)","v":""},{"$f":"IF(ISBLANK('New Members'!N37),\"\",'New Members'!N37)","v":""},{"$f":"IF(ISBLANK('New Members'!O37),\"\",'New Members'!O37)","v":""},{"$f":"IF(ISBLANK('New Members'!P37),\"\",'New Members'!P37)","v":""},{"$f":"IF(ISBLANK('New Members'!Q37),\"\",'New Members'!Q37)","v":""},{"$f":"IF(ISBLANK('New Members'!R37),\"\",'New Members'!R37)","v":""},{"$f":"IF(ISBLANK('New Members'!S37),\"\",\"M\")","v":""},{"$f":"IF(ISBLANK('New Members'!T37),\"\",\"F\")","v":""},{"$f":"IF(ISBLANK('New Members'!U37),\"\",'New Members'!U37)","v":""},{"$f":"IF(ISBLANK('New Members'!V37),\"\",'New Members'!V37)","v":""},{"$f":"IF(ISBLANK('New Members'!W37),\"\",'New Members'!W37)","v":"2025-26"},{"$f":"IF(ISBLANK('New Members'!X37),\"\",'New Members'!X37)","v":""},{"$f":"IF(ISBLANK('New Members'!Y37),\"\",'New Members'!Y37)","v":""}]
[233,"SANCTIONED TOURNAMENTS",{"$f":"IF(ISBLANK('New Members'!C38),\"\",'New Members'!C38)","v":""},{"$f":"IF(ISBLANK('New Members'!D38),\"\",'New Members'!D38)","v":"SANCTIONED EVENT"},{"$f":"IF(ISBLANK('New Members'!E38),\"\",'New Members'!E38)","v":""},{"$f":"IF(ISBLANK('New Members'!F38),\"\",'New Members'!F38)","v":""},{"$f":"IF(ISBLANK('New Members'!G38),\"\",'New Members'!G38)","v":""},{"$f":"IF(ISBLANK('New Members'!H38),\"\",'New Members'!H38)","v":""},{"$f":"IF(ISBLANK('New Members'!I38),\"\",'New Members'!I38)","v":""},{"$f":"IF(ISBLANK('New Members'!J38),\"\",'New Members'!J38)","v":""},{"$f":"IF(ISBLANK('New Members'!K38),\"\",'New Members'!K38)","v":""},{"$f":"IF(ISBLANK('New Members'!L38),\"\",'New Members'!L38)","v":""},{"$f":"IF(ISBLANK('New Members'!M38),\"\",'New Members'!M38)","v":""},{"$f":"IF(ISBLANK('New Members'!N38),\"\",'New Members'!N38)","v":""},{"$f":"IF(ISBLANK('New Members'!O38),\"\",'New Members'!O38)","v":""},{"$f":"IF(ISBLANK('New Members'!P38),\"\",'New Members'!P38)","v":""},{"$f":"IF(ISBLANK('New Members'!Q38),\"\",'New Members'!Q38)","v":""},{"$f":"IF(ISBLANK('New Members'!R38),\"\",'New Members'!R38)","v":""},{"$f":"IF(ISBLANK('New Members'!S38),\"\",\"M\")","v":""},{"$f":"IF(ISBLANK('New Members'!T38),\"\",\"F\")","v":""},{"$f":"IF(ISBLANK('New Members'!U38),\"\",'New Members'!U38)","v":""},{"$f":"IF(ISBLANK('New Members'!V38),\"\",'New Members'!V38)","v":""},{"$f":"IF(ISBLANK('New Members'!W38),\"\",'New Members'!W38)","v":"2025-26"},{"$f":"IF(ISBLANK('New Members'!X38),\"\",'New Members'!X38)","v":""},{"$f":"IF(ISBLANK('New Members'!Y38),\"\",'New Members'!Y38)","v":""}]
[234,"SANCTIONED TOURNAMENTS",{"$f":"IF(ISBLANK('New Members'!C39),\"\",'New Members'!C39)","v":""},{"$f":"IF(ISBLANK('New Members'!D39),\"\",'New Members'!D39)","v":"SANCTIONED EVENT"},{"$f":"IF(ISBLANK('New Members'!E39),\"\",'New Members'!E39)","v":""},{"$f":"IF(ISBLANK('New Members'!F39),\"\",'New Members'!F39)","v":""},{"$f":"IF(ISBLANK('New Members'!G39),\"\",'New Members'!G39)","v":""},{"$f":"IF(ISBLANK('New Members'!H39),\"\",'New Members'!H39)","v":""},{"$f":"IF(ISBLANK('New Members'!I39),\"\",'New Members'!I39)","v":""},{"$f":"IF(ISBLANK('New Members'!J39),\"\",'New Members'!J39)","v":""},{"$f":"IF(ISBLANK('New Members'!K39),\"\",'New Members'!K39)","v":""},{"$f":"IF(ISBLANK('New Members'!L39),\"\",'New Members'!L39)","v":""},{"$f":"IF(ISBLANK('New Members'!M39),\"\",'New Members'!M39)","v":""},{"$f":"IF(ISBLANK('New Members'!N39),\"\",'New Members'!N39)","v":""},{"$f":"IF(ISBLANK('New Members'!O39),\"\",'New Members'!O39)","v":""},{"$f":"IF(ISBLANK('New Members'!P39),\"\",'New Members'!P39)","v":""},{"$f":"IF(ISBLANK('New Members'!Q39),\"\",'New Members'!Q39)","v":""},{"$f":"IF(ISBLANK('New Members'!R39),\"\",'New Members'!R39)","v":""},{"$f":"IF(ISBLANK('New Members'!S39),\"\",\"M\")","v":""},{"$f":"IF(ISBLANK('New Members'!T39),\"\",\"F\")","v":""},{"$f":"IF(ISBLANK('New Members'!U39),\"\",'New Members'!U39)","v":""},{"$f":"IF(ISBLANK('New Members'!V39),\"\",'New Members'!V39)","v":""},{"$f":"IF(ISBLANK('New Members'!W39),\"\",'New Members'!W39)","v":"2025-26"},{"$f":"IF(ISBLANK('New Members'!X39),\"\",'New Members'!X39)","v":""},{"$f":"IF(ISBLANK('New Members'!Y39),\"\",'New Members'!Y39)","v":""}]
[235,"SANCTIONED TOURNAMENTS",{"$f":"IF(ISBLANK('New Members'!C40),\"\",'New Members'!C40)","v":""},{"$f":"IF(ISBLANK('New Members'!D40),\"\",'New Members'!D40)","v":"SANCTIONED EVENT"},{"$f":"IF(ISBLANK('New Members'!E40),\"\",'New Members'!E40)","v":""},{"$f":"IF(ISBLANK('New Members'!F40),\"\",'New Members'!F40)","v":""},{"$f":"IF(ISBLANK('New Members'!G40),\"\",'New Members'!G40)","v":""},{"$f":"IF(ISBLANK('New Members'!H40),\"\",'New Members'!H40)","v":""},{"$f":"IF(ISBLANK('New Members'!I40),\"\",'New Members'!I40)","v":""},{"$f":"IF(ISBLANK('New Members'!J40),\"\",'New Members'!J40)","v":""},{"$f":"IF(ISBLANK('New Members'!K40),\"\",'New Members'!K40)","v":""},{"$f":"IF(ISBLANK('New Members'!L40),\"\",'New Members'!L40)","v":""},{"$f":"IF(ISBLANK('New Members'!M40),\"\",'New Members'!M40)","v":""},{"$f":"IF(ISBLANK('New Members'!N40),\"\",'New Members'!N40)","v":""},{"$f":"IF(ISBLANK('New Members'!O40),\"\",'New Members'!O40)","v":""},{"$f":"IF(ISBLANK('New Members'!P40),\"\",'New Members'!P40)","v":""},{"$f":"IF(ISBLANK('New Members'!Q40),\"\",'New Members'!Q40)","v":""},{"$f":"IF(ISBLANK('New Members'!R40),\"\",'New Members'!R40)","v":""},{"$f":"IF(ISBLANK('New Members'!S40),\"\",\"M\")","v":""},{"$f":"IF(ISBLANK('New Members'!T40),\"\",\"F\")","v":""},{"$f":"IF(ISBLANK('New Members'!U40),\"\",'New Members'!U40)","v":""},{"$f":"IF(ISBLANK('New Members'!V40),\"\",'New Members'!V40)","v":""},{"$f":"IF(ISBLANK('New Members'!W40),\"\",'New Members'!W40)","v":"2025-26"},{"$f":"IF(ISBLANK('New Members'!X40),\"\",'New Members'!X40)","v":""},{"$f":"IF(ISBLANK('New Members'!Y40),\"\",'New Members'!Y40)","v":""}]
[236,"SANCTIONED TOURNAMENTS",{"$f":"IF(ISBLANK('New Members'!C41),\"\",'New Members'!C41)","v":""},{"$f":"IF(ISBLANK('New Members'!D41),\"\",'New Members'!D41)","v":"SANCTIONED EVENT"},{"$f":"IF(ISBLANK('New Members'!E41),\"\",'New Members'!E41)","v":""},{"$f":"IF(ISBLANK('New Members'!F41),\"\",'New Members'!F41)","v":""},{"$f":"IF(ISBLANK('New Members'!G41),\"\",'New Members'!G41)","v":""},{"$f":"IF(ISBLANK('New Members'!H41),\"\",'New Members'!H41)","v":""},{"$f":"IF(ISBLANK('New Members'!I41),\"\",'New Members'!I41)","v":""},{"$f":"IF(ISBLANK('New Members'!J41),\"\",'New Members'!J41)","v":""},{"$f":"IF(ISBLANK('New Members'!K41),\"\",'New Members'!K41)","v":""},{"$f":"IF(ISBLANK('New Members'!L41),\"\",'New Members'!L41)","v":""},{"$f":"IF(ISBLANK('New Members'!M41),\"\",'New Members'!M41)","v":""},{"$f":"IF(ISBLANK('New Members'!N41),\"\",'New Members'!N41)","v":""},{"$f":"IF(ISBLANK('New Members'!O41),\"\",'New Members'!O41)","v":""},{"$f":"IF(ISBLANK('New Members'!P41),\"\",'New Members'!P41)","v":""},{"$f":"IF(ISBLANK('New Members'!Q41),\"\",'New Members'!Q41)","v":""},{"$f":"IF(ISBLANK('New Members'!R41),\"\",'New Members'!R41)","v":""},{"$f":"IF(ISBLANK('New Members'!S41),\"\",\"M\")","v":""},{"$f":"IF(ISBLANK('New Members'!T41),\"\",\"F\")","v":""},{"$f":"IF(ISBLANK('New Members'!U41),\"\",'New Members'!U41)","v":""},{"$f":"IF(ISBLANK('New Members'!V41),\"\",'New Members'!V41)","v":""},{"$f":"IF(ISBLANK('New Members'!W41),\"\",'New Members'!W41)","v":"2025-26"},{"$f":"IF(ISBLANK('New Members'!X41),\"\",'New Members'!X41)","v":""},{"$f":"IF(ISBLANK('New Members'!Y41),\"\",'New Members'!Y41)","v":""}]
[237,"SANCTIONED TOURNAMENTS",{"$f":"IF(ISBLANK('New Members'!C42),\"\",'New Members'!C42)","v":""},{"$f":"IF(ISBLANK('New Members'!D42),\"\",'New Members'!D42)","v":"SANCTIONED EVENT"},{"$f":"IF(ISBLANK('New Members'!E42),\"\",'New Members'!E42)","v":""},{"$f":"IF(ISBLANK('New Members'!F42),\"\",'New Members'!F42)","v":""},{"$f":"IF(ISBLANK('New Members'!G42),\"\",'New Members'!G42)","v":""},{"$f":"IF(ISBLANK('New Members'!H42),\"\",'New Members'!H42)","v":""},{"$f":"IF(ISBLANK('New Members'!I42),\"\",'New Members'!I42)","v":""},{"$f":"IF(ISBLANK('New Members'!J42),\"\",'New Members'!J42)","v":""},{"$f":"IF(ISBLANK('New Members'!K42),\"\",'New Members'!K42)","v":""},{"$f":"IF(ISBLANK('New Members'!L42),\"\",'New Members'!L42)","v":""},{"$f":"IF(ISBLANK('New Members'!M42),\"\",'New Members'!M42)","v":""},{"$f":"IF(ISBLANK('New Members'!N42),\"\",'New Members'!N42)","v":""},{"$f":"IF(ISBLANK('New Members'!O42),\"\",'New Members'!O42)","v":""},{"$f":"IF(ISBLANK('New Members'!P42),\"\",'New Members'!P42)","v":""},{"$f":"IF(ISBLANK('New Members'!Q42),\"\",'New Members'!Q42)","v":""},{"$f":"IF(ISBLANK('New Members'!R42),\"\",'New Members'!R42)","v":""},{"$f":"IF(ISBLANK('New Members'!S42),\"\",\"M\")","v":""},{"$f":"IF(ISBLANK('New Members'!T42),\"\",\"F\")","v":""},{"$f":"IF(ISBLANK('New Members'!U42),\"\",'New Members'!U42)","v":""},{"$f":"IF(ISBLANK('New Members'!V42),\"\",'New Members'!V42)","v":""},{"$f":"IF(ISBLANK('New Members'!W42),\"\",'New Members'!W42)","v":"2025-26"},{"$f":"IF(ISBLANK('New Members'!X42),\"\",'New Members'!X42)","v":""},{"$f":"IF(ISBLANK('New Members'!Y42),\"\",'New Members'!Y42)","v":""}]
[238,"SANCTIONED TOURNAMENTS",{"$f":"IF(ISBLANK('New Members'!C43),\"\",'New Members'!C43)","v":""},{"$f":"IF(ISBLANK('New Members'!D43),\"\",'New Members'!D43)","v":"SANCTIONED EVENT"},{"$f":"IF(ISBLANK('New Members'!E43),\"\",'New Members'!E43)","v":""},{"$f":"IF(ISBLANK('New Members'!F43),\"\",'New Members'!F43)","v":""},{"$f":"IF(ISBLANK('New Members'!G43),\"\",'New Members'!G43)","v":""},{"$f":"IF(ISBLANK('New Members'!H43),\"\",'New Members'!H43)","v":""},{"$f":"IF(ISBLANK('New Members'!I43),\"\",'New Members'!I43)","v":""},{"$f":"IF(ISBLANK('New Members'!J43),\"\",'New Members'!J43)","v":""},{"$f":"IF(ISBLANK('New Members'!K43),\"\",'New Members'!K43)","v":""},{"$f":"IF(ISBLANK('New Members'!L43),\"\",'New Members'!L43)","v":""},{"$f":"IF(ISBLANK('New Members'!M43),\"\",'New Members'!M43)","v":""},{"$f":"IF(ISBLANK('New Members'!N43),\"\",'New Members'!N43)","v":""},{"$f":"IF(ISBLANK('New Members'!O43),\"\",'New Members'!O43)","v":""},{"$f":"IF(ISBLANK('New Members'!P43),\"\",'New Members'!P43)","v":""},{"$f":"IF(ISBLANK('New Members'!Q43),\"\",'New Members'!Q43)","v":""},{"$f":"IF(ISBLANK('New Members'!R43),\"\",'New Members'!R43)","v":""},{"$f":"IF(ISBLANK('New Members'!S43),\"\",\"M\")","v":""},{"$f":"IF(ISBLANK('New Members'!T43),\"\",\"F\")","v":""},{"$f":"IF(ISBLANK('New Members'!U43),\"\",'New Members'!U43)","v":""},{"$f":"IF(ISBLANK('New Members'!V43),\"\",'New Members'!V43)","v":""},{"$f":"IF(ISBLANK('New Members'!W43),\"\",'New Members'!W43)","v":"2025-26"},{"$f":"IF(ISBLANK('New Members'!X43),\"\",'New Members'!X43)","v":""},{"$f":"IF(ISBLANK('New Members'!Y43),\"\",'New Members'!Y43)","v":""}]
[239,"SANCTIONED TOURNAMENTS",{"$f":"IF(ISBLANK('New Members'!C44),\"\",'New Members'!C44)","v":""},{"$f":"IF(ISBLANK('New Members'!D44),\"\",'New Members'!D44)","v":"SANCTIONED EVENT"},{"$f":"IF(ISBLANK('New Members'!E44),\"\",'New Members'!E44)","v":""},{"$f":"IF(ISBLANK('New Members'!F44),\"\",'New Members'!F44)","v":""},{"$f":"IF(ISBLANK('New Members'!G44),\"\",'New Members'!G44)","v":""},{"$f":"IF(ISBLANK('New Members'!H44),\"\",'New Members'!H44)","v":""},{"$f":"IF(ISBLANK('New Members'!I44),\"\",'New Members'!I44)","v":""},{"$f":"IF(ISBLANK('New Members'!J44),\"\",'New Members'!J44)","v":""},{"$f":"IF(ISBLANK('New Members'!K44),\"\",'New Members'!K44)","v":""},{"$f":"IF(ISBLANK('New Members'!L44),\"\",'New Members'!L44)","v":""},{"$f":"IF(ISBLANK('New Members'!M44),\"\",'New Members'!M44)","v":""},{"$f":"IF(ISBLANK('New Members'!N44),\"\",'New Members'!N44)","v":""},{"$f":"IF(ISBLANK('New Members'!O44),\"\",'New Members'!O44)","v":""},{"$f":"IF(ISBLANK('New Members'!P44),\"\",'New Members'!P44)","v":""},{"$f":"IF(ISBLANK('New Members'!Q44),\"\",'New Members'!Q44)","v":""},{"$f":"IF(ISBLANK('New Members'!R44),\"\",'New Members'!R44)","v":""},{"$f":"IF(ISBLANK('New Members'!S44),\"\",\"M\")","v":""},{"$f":"IF(ISBLANK('New Members'!T44),\"\",\"F\")","v":""},{"$f":"IF(ISBLANK('New Members'!U44),\"\",'New Members'!U44)","v":""},{"$f":"IF(ISBLANK('New Members'!V44),\"\",'New Members'!V44)","v":""},{"$f":"IF(ISBLANK('New Members'!W44),\"\",'New Members'!W44)","v":"2025-26"},{"$f":"IF(ISBLANK('New Members'!X44),\"\",'New Members'!X44)","v":""},{"$f":"IF(ISBLANK('New Members'!Y44),\"\",'New Members'!Y44)","v":""}]
[240,"SANCTIONED TOURNAMENTS",{"$f":"IF(ISBLANK('New Members'!C45),\"\",'New Members'!C45)","v":""},{"$f":"IF(ISBLANK('New Members'!D45),\"\",'New Members'!D45)","v":"SANCTIONED EVENT"},{"$f":"IF(ISBLANK('New Members'!E45),\"\",'New Members'!E45)","v":""},{"$f":"IF(ISBLANK('New Members'!F45),\"\",'New Members'!F45)","v":""},{"$f":"IF(ISBLANK('New Members'!G45),\"\",'New Members'!G45)","v":""},{"$f":"IF(ISBLANK('New Members'!H45),\"\",'New Members'!H45)","v":""},{"$f":"IF(ISBLANK('New Members'!I45),\"\",'New Members'!I45)","v":""},{"$f":"IF(ISBLANK('New Members'!J45),\"\",'New Members'!J45)","v":""},{"$f":"IF(ISBLANK('New Members'!K45),\"\",'New Members'!K45)","v":""},{"$f":"IF(ISBLANK('New Members'!L45),\"\",'New Members'!L45)","v":""},{"$f":"IF(ISBLANK('New Members'!M45),\"\",'New Members'!M45)","v":""},{"$f":"IF(ISBLANK('New Members'!N45),\"\",'New Members'!N45)","v":""},{"$f":"IF(ISBLANK('New Members'!O45),\"\",'New Members'!O45)","v":""},{"$f":"IF(ISBLANK('New Members'!P45),\"\",'New Members'!P45)","v":""},{"$f":"IF(ISBLANK('New Members'!Q45),\"\",'New Members'!Q45)","v":""},{"$f":"IF(ISBLANK('New Members'!R45),\"\",'New Members'!R45)","v":""},{"$f":"IF(ISBLANK('New Members'!S45),\"\",\"M\")","v":""},{"$f":"IF(ISBLANK('New Members'!T45),\"\",\"F\")","v":""},{"$f":"IF(ISBLANK('New Members'!U45),\"\",'New Members'!U45)","v":""},{"$f":"IF(ISBLANK('New Members'!V45),\"\",'New Members'!V45)","v":""},{"$f":"IF(ISBLANK('New Members'!W45),\"\",'New Members'!W45)","v":"2025-26"},{"$f":"IF(ISBLANK('New Members'!X45),\"\",'New Members'!X45)","v":""},{"$f":"IF(ISBLANK('New Members'!Y45),\"\",'New Members'!Y45)","v":""}]
[241,"SANCTIONED TOURNAMENTS",{"$f":"IF(ISBLANK('New Members'!C46),\"\",'New Members'!C46)","v":""},{"$f":"IF(ISBLANK('New Members'!D46),\"\",'New Members'!D46)","v":"SANCTIONED EVENT"},{"$f":"IF(ISBLANK('New Members'!E46),\"\",'New Members'!E46)","v":""},{"$f":"IF(ISBLANK('New Members'!F46),\"\",'New Members'!F46)","v":""},{"$f":"IF(ISBLANK('New Members'!G46),\"\",'New Members'!G46)","v":""},{"$f":"IF(ISBLANK('New Members'!H46),\"\",'New Members'!H46)","v":""},{"$f":"IF(ISBLANK('New Members'!I46),\"\",'New Members'!I46)","v":""},{"$f":"IF(ISBLANK('New Members'!J46),\"\",'New Members'!J46)","v":""},{"$f":"IF(ISBLANK('New Members'!K46),\"\",'New Members'!K46)","v":""},{"$f":"IF(ISBLANK('New Members'!L46),\"\",'New Members'!L46)","v":""},{"$f":"IF(ISBLANK('New Members'!M46),\"\",'New Members'!M46)","v":""},{"$f":"IF(ISBLANK('New Members'!N46),\"\",'New Members'!N46)","v":""},{"$f":"IF(ISBLANK('New Members'!O46),\"\",'New Members'!O46)","v":""},{"$f":"IF(ISBLANK('New Members'!P46),\"\",'New Members'!P46)","v":""},{"$f":"IF(ISBLANK('New Members'!Q46),\"\",'New Members'!Q46)","v":""},{"$f":"IF(ISBLANK('New Members'!R46),\"\",'New Members'!R46)","v":""},{"$f":"IF(ISBLANK('New Members'!S46),\"\",\"M\")","v":""},{"$f":"IF(ISBLANK('New Members'!T46),\"\",\"F\")","v":""},{"$f":"IF(ISBLANK('New Members'!U46),\"\",'New Members'!U46)","v":""},{"$f":"IF(ISBLANK('New Members'!V46),\"\",'New Members'!V46)","v":""},{"$f":"IF(ISBLANK('New Members'!W46),\"\",'New Members'!W46)","v":"2025-26"},{"$f":"IF(ISBLANK('New Members'!X46),\"\",'New Members'!X46)","v":""},{"$f":"IF(ISBLANK('New Members'!Y46),\"\",'New Members'!Y46)","v":""}]
[242,"SANCTIONED TOURNAMENTS",{"$f":"IF(ISBLANK('New Members'!C47),\"\",'New Members'!C47)","v":""},{"$f":"IF(ISBLANK('New Members'!D47),\"\",'New Members'!D47)","v":"SANCTIONED EVENT"},{"$f":"IF(ISBLANK('New Members'!E47),\"\",'New Members'!E47)","v":""},{"$f":"IF(ISBLANK('New Members'!F47),\"\",'New Members'!F47)","v":""},{"$f":"IF(ISBLANK('New Members'!G47),\"\",'New Members'!G47)","v":""},{"$f":"IF(ISBLANK('New Members'!H47),\"\",'New Members'!H47)","v":""},{"$f":"IF(ISBLANK('New Members'!I47),\"\",'New Members'!I47)","v":""},{"$f":"IF(ISBLANK('New Members'!J47),\"\",'New Members'!J47)","v":""},{"$f":"IF(ISBLANK('New Members'!K47),\"\",'New Members'!K47)","v":""},{"$f":"IF(ISBLANK('New Members'!L47),\"\",'New Members'!L47)","v":""},{"$f":"IF(ISBLANK('New Members'!M47),\"\",'New Members'!M47)","v":""},{"$f":"IF(ISBLANK('New Members'!N47),\"\",'New Members'!N47)","v":""},{"$f":"IF(ISBLANK('New Members'!O47),\"\",'New Members'!O47)","v":""},{"$f":"IF(ISBLANK('New Members'!P47),\"\",'New Members'!P47)","v":""},{"$f":"IF(ISBLANK('New Members'!Q47),\"\",'New Members'!Q47)","v":""},{"$f":"IF(ISBLANK('New Members'!R47),\"\",'New Members'!R47)","v":""},{"$f":"IF(ISBLANK('New Members'!S47),\"\",\"M\")","v":""},{"$f":"IF(ISBLANK('New Members'!T47),\"\",\"F\")","v":""},{"$f":"IF(ISBLANK('New Members'!U47),\"\",'New Members'!U47)","v":""},{"$f":"IF(ISBLANK('New Members'!V47),\"\",'New Members'!V47)","v":""},{"$f":"IF(ISBLANK('New Members'!W47),\"\",'New Members'!W47)","v":"2025-26"},{"$f":"IF(ISBLANK('New Members'!X47),\"\",'New Members'!X47)","v":""},{"$f":"IF(ISBLANK('New Members'!Y47),\"\",'New Members'!Y47)","v":""}]
[243,"SANCTIONED TOURNAMENTS",{"$f":"IF(ISBLANK('New Members'!C48),\"\",'New Members'!C48)","v":""},{"$f":"IF(ISBLANK('New Members'!D48),\"\",'New Members'!D48)","v":"SANCTIONED EVENT"},{"$f":"IF(ISBLANK('New Members'!E48),\"\",'New Members'!E48)","v":""},{"$f":"IF(ISBLANK('New Members'!F48),\"\",'New Members'!F48)","v":""},{"$f":"IF(ISBLANK('New Members'!G48),\"\",'New Members'!G48)","v":""},{"$f":"IF(ISBLANK('New Members'!H48),\"\",'New Members'!H48)","v":""},{"$f":"IF(ISBLANK('New Members'!I48),\"\",'New Members'!I48)","v":""},{"$f":"IF(ISBLANK('New Members'!J48),\"\",'New Members'!J48)","v":""},{"$f":"IF(ISBLANK('New Members'!K48),\"\",'New Members'!K48)","v":""},{"$f":"IF(ISBLANK('New Members'!L48),\"\",'New Members'!L48)","v":""},{"$f":"IF(ISBLANK('New Members'!M48),\"\",'New Members'!M48)","v":""},{"$f":"IF(ISBLANK('New Members'!N48),\"\",'New Members'!N48)","v":""},{"$f":"IF(ISBLANK('New Members'!O48),\"\",'New Members'!O48)","v":""},{"$f":"IF(ISBLANK('New Members'!P48),\"\",'New Members'!P48)","v":""},{"$f":"IF(ISBLANK('New Members'!Q48),\"\",'New Members'!Q48)","v":""},{"$f":"IF(ISBLANK('New Members'!R48),\"\",'New Members'!R48)","v":""},{"$f":"IF(ISBLANK('New Members'!S48),\"\",\"M\")","v":""},{"$f":"IF(ISBLANK('New Members'!T48),\"\",\"F\")","v":""},{"$f":"IF(ISBLANK('New Members'!U48),\"\",'New Members'!U48)","v":""},{"$f":"IF(ISBLANK('New Members'!V48),\"\",'New Members'!V48)","v":""},{"$f":"IF(ISBLANK('New Members'!W48),\"\",'New Members'!W48)","v":"2025-26"},{"$f":"IF(ISBLANK('New Members'!X48),\"\",'New Members'!X48)","v":""},{"$f":"IF(ISBLANK('New Members'!Y48),\"\",'New Members'!Y48)","v":""}]
[244,"SANCTIONED TOURNAMENTS",{"$f":"IF(ISBLANK('New Members'!C49),\"\",'New Members'!C49)","v":""},{"$f":"IF(ISBLANK('New Members'!D49),\"\",'New Members'!D49)","v":"SANCTIONED EVENT"},{"$f":"IF(ISBLANK('New Members'!E49),\"\",'New Members'!E49)","v":""},{"$f":"IF(ISBLANK('New Members'!F49),\"\",'New Members'!F49)","v":""},{"$f":"IF(ISBLANK('New Members'!G49),\"\",'New Members'!G49)","v":""},{"$f":"IF(ISBLANK('New Members'!H49),\"\",'New Members'!H49)","v":""},{"$f":"IF(ISBLANK('New Members'!I49),\"\",'New Members'!I49)","v":""},{"$f":"IF(ISBLANK('New Members'!J49),\"\",'New Members'!J49)","v":""},{"$f":"IF(ISBLANK('New Members'!K49),\"\",'New Members'!K49)","v":""},{"$f":"IF(ISBLANK('New Members'!L49),\"\",'New Members'!L49)","v":""},{"$f":"IF(ISBLANK('New Members'!M49),\"\",'New Members'!M49)","v":""},{"$f":"IF(ISBLANK('New Members'!N49),\"\",'New Members'!N49)","v":""},{"$f":"IF(ISBLANK('New Members'!O49),\"\",'New Members'!O49)","v":""},{"$f":"IF(ISBLANK('New Members'!P49),\"\",'New Members'!P49)","v":""},{"$f":"IF(ISBLANK('New Members'!Q49),\"\",'New Members'!Q49)","v":""},{"$f":"IF(ISBLANK('New Members'!R49),\"\",'New Members'!R49)","v":""},{"$f":"IF(ISBLANK('New Members'!S49),\"\",\"M\")","v":""},{"$f":"IF(ISBLANK('New Members'!T49),\"\",\"F\")","v":""},{"$f":"IF(ISBLANK('New Members'!U49),\"\",'New Members'!U49)","v":""},{"$f":"IF(ISBLANK('New Members'!V49),\"\",'New Members'!V49)","v":""},{"$f":"IF(ISBLANK('New Members'!W49),\"\",'New Members'!W49)","v":"2025-26"},{"$f":"IF(ISBLANK('New Members'!X49),\"\",'New Members'!X49)","v":""},{"$f":"IF(ISBLANK('New Members'!Y49),\"\",'New Members'!Y49)","v":""}]
[245,"SANCTIONED TOURNAMENTS",{"$f":"IF(ISBLANK('New Members'!C50),\"\",'New Members'!C50)","v":""},{"$f":"IF(ISBLANK('New Members'!D50),\"\",'New Members'!D50)","v":"SANCTIONED EVENT"},{"$f":"IF(ISBLANK('New Members'!E50),\"\",'New Members'!E50)","v":""},{"$f":"IF(ISBLANK('New Members'!F50),\"\",'New Members'!F50)","v":""},{"$f":"IF(ISBLANK('New Members'!G50),\"\",'New Members'!G50)","v":""},{"$f":"IF(ISBLANK('New Members'!H50),\"\",'New Members'!H50)","v":""},{"$f":"IF(ISBLANK('New Members'!I50),\"\",'New Members'!I50)","v":""},{"$f":"IF(ISBLANK('New Members'!J50),\"\",'New Members'!J50)","v":""},{"$f":"IF(ISBLANK('New Members'!K50),\"\",'New Members'!K50)","v":""},{"$f":"IF(ISBLANK('New Members'!L50),\"\",'New Members'!L50)","v":""},{"$f":"IF(ISBLANK('New Members'!M50),\"\",'New Members'!M50)","v":""},{"$f":"IF(ISBLANK('New Members'!N50),\"\",'New Members'!N50)","v":""},{"$f":"IF(ISBLANK('New Members'!O50),\"\",'New Members'!O50)","v":""},{"$f":"IF(ISBLANK('New Members'!P50),\"\",'New Members'!P50)","v":""},{"$f":"IF(ISBLANK('New Members'!Q50),\"\",'New Members'!Q50)","v":""},{"$f":"IF(ISBLANK('New Members'!R50),\"\",'New Members'!R50)","v":""},{"$f":"IF(ISBLANK('New Members'!S50),\"\",\"M\")","v":""},{"$f":"IF(ISBLANK('New Members'!T50),\"\",\"F\")","v":""},{"$f":"IF(ISBLANK('New Members'!U50),\"\",'New Members'!U50)","v":""},{"$f":"IF(ISBLANK('New Members'!V50),\"\",'New Members'!V50)","v":""},{"$f":"IF(ISBLANK('New Members'!W50),\"\",'New Members'!W50)","v":"2025-26"},{"$f":"IF(ISBLANK('New Members'!X50),\"\",'New Members'!X50)","v":""},{"$f":"IF(ISBLANK('New Members'!Y50),\"\",'New Members'!Y50)","v":""}]
[246,"SANCTIONED TOURNAMENTS",{"$f":"IF(ISBLANK('New Members'!C51),\"\",'New Members'!C51)","v":""},{"$f":"IF(ISBLANK('New Members'!D51),\"\",'New Members'!D51)","v":"SANCTIONED EVENT"},{"$f":"IF(ISBLANK('New Members'!E51),\"\",'New Members'!E51)","v":""},{"$f":"IF(ISBLANK('New Members'!F51),\"\",'New Members'!F51)","v":""},{"$f":"IF(ISBLANK('New Members'!G51),\"\",'New Members'!G51)","v":""},{"$f":"IF(ISBLANK('New Members'!H51),\"\",'New Members'!H51)","v":""},{"$f":"IF(ISBLANK('New Members'!I51),\"\",'New Members'!I51)","v":""},{"$f":"IF(ISBLANK('New Members'!J51),\"\",'New Members'!J51)","v":""},{"$f":"IF(ISBLANK('New Members'!K51),\"\",'New Members'!K51)","v":""},{"$f":"IF(ISBLANK('New Members'!L51),\"\",'New Members'!L51)","v":""},{"$f":"IF(ISBLANK('New Members'!M51),\"\",'New Members'!M51)","v":""},{"$f":"IF(ISBLANK('New Members'!N51),\"\",'New Members'!N51)","v":""},{"$f":"IF(ISBLANK('New Members'!O51),\"\",'New Members'!O51)","v":""},{"$f":"IF(ISBLANK('New Members'!P51),\"\",'New Members'!P51)","v":""},{"$f":"IF(ISBLANK('New Members'!Q51),\"\",'New Members'!Q51)","v":""},{"$f":"IF(ISBLANK('New Members'!R51),\"\",'New Members'!R51)","v":""},{"$f":"IF(ISBLANK('New Members'!S51),\"\",\"M\")","v":""},{"$f":"IF(ISBLANK('New Members'!T51),\"\",\"F\")","v":""},{"$f":"IF(ISBLANK('New Members'!U51),\"\",'New Members'!U51)","v":""},{"$f":"IF(ISBLANK('New Members'!V51),\"\",'New Members'!V51)","v":""},{"$f":"IF(ISBLANK('New Members'!W51),\"\",'New Members'!W51)","v":"2025-26"},{"$f":"IF(ISBLANK('New Members'!X51),\"\",'New Members'!X51)","v":""},{"$f":"IF(ISBLANK('New Members'!Y51),\"\",'New Members'!Y51)","v":""}]
[247,"SANCTIONED TOURNAMENTS",{"$f":"IF(ISBLANK('New Members'!C52),\"\",'New Members'!C52)","v":""},{"$f":"IF(ISBLANK('New Members'!D52),\"\",'New Members'!D52)","v":"SANCTIONED EVENT"},{"$f":"IF(ISBLANK('New Members'!E52),\"\",'New Members'!E52)","v":""},{"$f":"IF(ISBLANK('New Members'!F52),\"\",'New Members'!F52)","v":""},{"$f":"IF(ISBLANK('New Members'!G52),\"\",'New Members'!G52)","v":""},{"$f":"IF(ISBLANK('New Members'!H52),\"\",'New Members'!H52)","v":""},{"$f":"IF(ISBLANK('New Members'!I52),\"\",'New Members'!I52)","v":""},{"$f":"IF(ISBLANK('New Members'!J52),\"\",'New Members'!J52)","v":""},{"$f":"IF(ISBLANK('New Members'!K52),\"\",'New Members'!K52)","v":""},{"$f":"IF(ISBLANK('New Members'!L52),\"\",'New Members'!L52)","v":""},{"$f":"IF(ISBLANK('New Members'!M52),\"\",'New Members'!M52)","v":""},{"$f":"IF(ISBLANK('New Members'!N52),\"\",'New Members'!N52)","v":""},{"$f":"IF(ISBLANK('New Members'!O52),\"\",'New Members'!O52)","v":""},{"$f":"IF(ISBLANK('New Members'!P52),\"\",'New Members'!P52)","v":""},{"$f":"IF(ISBLANK('New Members'!Q52),\"\",'New Members'!Q52)","v":""},{"$f":"IF(ISBLANK('New Members'!R52),\"\",'New Members'!R52)","v":""},{"$f":"IF(ISBLANK('New Members'!S52),\"\",\"M\")","v":""},{"$f":"IF(ISBLANK('New Members'!T52),\"\",\"F\")","v":""},{"$f":"IF(ISBLANK('New Members'!U52),\"\",'New Members'!U52)","v":""},{"$f":"IF(ISBLANK('New Members'!V52),\"\",'New Members'!V52)","v":""},{"$f":"IF(ISBLANK('New Members'!W52),\"\",'New Members'!W52)","v":"2025-26"},{"$f":"IF(ISBLANK('New Members'!X52),\"\",'New Members'!X52)","v":""},{"$f":"IF(ISBLANK('New Members'!Y52),\"\",'New Members'!Y52)","v":""}]
[248,"SANCTIONED TOURNAMENTS",{"$f":"IF(ISBLANK('New Members'!C53),\"\",'New Members'!C53)","v":""},{"$f":"IF(ISBLANK('New Members'!D53),\"\",'New Members'!D53)","v":"SANCTIONED EVENT"},{"$f":"IF(ISBLANK('New Members'!E53),\"\",'New Members'!E53)","v":""},{"$f":"IF(ISBLANK('New Members'!F53),\"\",'New Members'!F53)","v":""},{"$f":"IF(ISBLANK('New Members'!G53),\"\",'New Members'!G53)","v":""},{"$f":"IF(ISBLANK('New Members'!H53),\"\",'New Members'!H53)","v":""},{"$f":"IF(ISBLANK('New Members'!I53),\"\",'New Members'!I53)","v":""},{"$f":"IF(ISBLANK('New Members'!J53),\"\",'New Members'!J53)","v":""},{"$f":"IF(ISBLANK('New Members'!K53),\"\",'New Members'!K53)","v":""},{"$f":"IF(ISBLANK('New Members'!L53),\"\",'New Members'!L53)","v":""},{"$f":"IF(ISBLANK('New Members'!M53),\"\",'New Members'!M53)","v":""},{"$f":"IF(ISBLANK('New Members'!N53),\"\",'New Members'!N53)","v":""},{"$f":"IF(ISBLANK('New Members'!O53),\"\",'New Members'!O53)","v":""},{"$f":"IF(ISBLANK('New Members'!P53),\"\",'New Members'!P53)","v":""},{"$f":"IF(ISBLANK('New Members'!Q53),\"\",'New Members'!Q53)","v":""},{"$f":"IF(ISBLANK('New Members'!R53),\"\",'New Members'!R53)","v":""},{"$f":"IF(ISBLANK('New Members'!S53),\"\",\"M\")","v":""},{"$f":"IF(ISBLANK('New Members'!T53),\"\",\"F\")","v":""},{"$f":"IF(ISBLANK('New Members'!U53),\"\",'New Members'!U53)","v":""},{"$f":"IF(ISBLANK('New Members'!V53),\"\",'New Members'!V53)","v":""},{"$f":"IF(ISBLANK('New Members'!W53),\"\",'New Members'!W53)","v":"2025-26"},{"$f":"IF(ISBLANK('New Members'!X53),\"\",'New Members'!X53)","v":""},{"$f":"IF(ISBLANK('New Members'!Y53),\"\",'New Members'!Y53)","v":""}]
[249,"SANCTIONED TOURNAMENTS",{"$f":"IF(ISBLANK('New Members'!C54),\"\",'New Members'!C54)","v":""},{"$f":"IF(ISBLANK('New Members'!D54),\"\",'New Members'!D54)","v":"SANCTIONED EVENT"},{"$f":"IF(ISBLANK('New Members'!E54),\"\",'New Members'!E54)","v":""},{"$f":"IF(ISBLANK('New Members'!F54),\"\",'New Members'!F54)","v":""},{"$f":"IF(ISBLANK('New Members'!G54),\"\",'New Members'!G54)","v":""},{"$f":"IF(ISBLANK('New Members'!H54),\"\",'New Members'!H54)","v":""},{"$f":"IF(ISBLANK('New Members'!I54),\"\",'New Members'!I54)","v":""},{"$f":"IF(ISBLANK('New Members'!J54),\"\",'New Members'!J54)","v":""},{"$f":"IF(ISBLANK('New Members'!K54),\"\",'New Members'!K54)","v":""},{"$f":"IF(ISBLANK('New Members'!L54),\"\",'New Members'!L54)","v":""},{"$f":"IF(ISBLANK('New Members'!M54),\"\",'New Members'!M54)","v":""},{"$f":"IF(ISBLANK('New Members'!N54),\"\",'New Members'!N54)","v":""},{"$f":"IF(ISBLANK('New Members'!O54),\"\",'New Members'!O54)","v":""},{"$f":"IF(ISBLANK('New Members'!P54),\"\",'New Members'!P54)","v":""},{"$f":"IF(ISBLANK('New Members'!Q54),\"\",'New Members'!Q54)","v":""},{"$f":"IF(ISBLANK('New Members'!R54),\"\",'New Members'!R54)","v":""},{"$f":"IF(ISBLANK('New Members'!S54),\"\",\"M\")","v":""},{"$f":"IF(ISBLANK('New Members'!T54),\"\",\"F\")","v":""},{"$f":"IF(ISBLANK('New Members'!U54),\"\",'New Members'!U54)","v":""},{"$f":"IF(ISBLANK('New Members'!V54),\"\",'New Members'!V54)","v":""},{"$f":"IF(ISBLANK('New Members'!W54),\"\",'New Members'!W54)","v":"2025-26"},{"$f":"IF(ISBLANK('New Members'!X54),\"\",'New Members'!X54)","v":""},{"$f":"IF(ISBLANK('New Members'!Y54),\"\",'New Members'!Y54)","v":""}]
[250,"SANCTIONED TOURNAMENTS",{"$f":"IF(ISBLANK('New Members'!C55),\"\",'New Members'!C55)","v":""},{"$f":"IF(ISBLANK('New Members'!D55),\"\",'New Members'!D55)","v":"SANCTIONED EVENT"},{"$f":"IF(ISBLANK('New Members'!E55),\"\",'New Members'!E55)","v":""},{"$f":"IF(ISBLANK('New Members'!F55),\"\",'New Members'!F55)","v":""},{"$f":"IF(ISBLANK('New Members'!G55),\"\",'New Members'!G55)","v":""},{"$f":"IF(ISBLANK('New Members'!H55),\"\",'New Members'!H55)","v":""},{"$f":"IF(ISBLANK('New Members'!I55),\"\",'New Members'!I55)","v":""},{"$f":"IF(ISBLANK('New Members'!J55),\"\",'New Members'!J55)","v":""},{"$f":"IF(ISBLANK('New Members'!K55),\"\",'New Members'!K55)","v":""},{"$f":"IF(ISBLANK('New Members'!L55),\"\",'New Members'!L55)","v":""},{"$f":"IF(ISBLANK('New Members'!M55),\"\",'New Members'!M55)","v":""},{"$f":"IF(ISBLANK('New Members'!N55),\"\",'New Members'!N55)","v":""},{"$f":"IF(ISBLANK('New Members'!O55),\"\",'New Members'!O55)","v":""},{"$f":"IF(ISBLANK('New Members'!P55),\"\",'New Members'!P55)","v":""},{"$f":"IF(ISBLANK('New Members'!Q55),\"\",'New Members'!Q55)","v":""},{"$f":"IF(ISBLANK('New Members'!R55),\"\",'New Members'!R55)","v":""},{"$f":"IF(ISBLANK('New Members'!S55),\"\",\"M\")","v":""},{"$f":"IF(ISBLANK('New Members'!T55),\"\",\"F\")","v":""},{"$f":"IF(ISBLANK('New Members'!U55),\"\",'New Members'!U55)","v":""},{"$f":"IF(ISBLANK('New Members'!V55),\"\",'New Members'!V55)","v":""},{"$f":"IF(ISBLANK('New Members'!W55),\"\",'New Members'!W55)","v":"2025-26"},{"$f":"IF(ISBLANK('New Members'!X55),\"\",'New Members'!X55)","v":""},{"$f":"IF(ISBLANK('New Members'!Y55),\"\",'New Members'!Y55)","v":""}]
[251,"SANCTIONED TOURNAMENTS",{"$f":"IF(ISBLANK('New Members'!C56),\"\",'New Members'!C56)","v":""},{"$f":"IF(ISBLANK('New Members'!D56),\"\",'New Members'!D56)","v":"SANCTIONED EVENT"},{"$f":"IF(ISBLANK('New Members'!E56),\"\",'New Members'!E56)","v":""},{"$f":"IF(ISBLANK('New Members'!F56),\"\",'New Members'!F56)","v":""},{"$f":"IF(ISBLANK('New Members'!G56),\"\",'New Members'!G56)","v":""},{"$f":"IF(ISBLANK('New Members'!H56),\"\",'New Members'!H56)","v":""},{"$f":"IF(ISBLANK('New Members'!I56),\"\",'New Members'!I56)","v":""},{"$f":"IF(ISBLANK('New Members'!J56),\"\",'New Members'!J56)","v":""},{"$f":"IF(ISBLANK('New Members'!K56),\"\",'New Members'!K56)","v":""},{"$f":"IF(ISBLANK('New Members'!L56),\"\",'New Members'!L56)","v":""},{"$f":"IF(ISBLANK('New Members'!M56),\"\",'New Members'!M56)","v":""},{"$f":"IF(ISBLANK('New Members'!N56),\"\",'New Members'!N56)","v":""},{"$f":"IF(ISBLANK('New Members'!O56),\"\",'New Members'!O56)","v":""},{"$f":"IF(ISBLANK('New Members'!P56),\"\",'New Members'!P56)","v":""},{"$f":"IF(ISBLANK('New Members'!Q56),\"\",'New Members'!Q56)","v":""},{"$f":"IF(ISBLANK('New Members'!R56),\"\",'New Members'!R56)","v":""},{"$f":"IF(ISBLANK('New Members'!S56),\"\",\"M\")","v":""},{"$f":"IF(ISBLANK('New Members'!T56),\"\",\"F\")","v":""},{"$f":"IF(ISBLANK('New Members'!U56),\"\",'New Members'!U56)","v":""},{"$f":"IF(ISBLANK('New Members'!V56),\"\",'New Members'!V56)","v":""},{"$f":"IF(ISBLANK('New Members'!W56),\"\",'New Members'!W56)","v":"2025-26"},{"$f":"IF(ISBLANK('New Members'!X56),\"\",'New Members'!X56)","v":""},{"$f":"IF(ISBLANK('New Members'!Y56),\"\",'New Members'!Y56)","v":""}]
[252,"SANCTIONED TOURNAMENTS",{"$f":"IF(ISBLANK('New Members'!C57),\"\",'New Members'!C57)","v":""},{"$f":"IF(ISBLANK('New Members'!D57),\"\",'New Members'!D57)","v":"SANCTIONED EVENT"},{"$f":"IF(ISBLANK('New Members'!E57),\"\",'New Members'!E57)","v":""},{"$f":"IF(ISBLANK('New Members'!F57),\"\",'New Members'!F57)","v":""},{"$f":"IF(ISBLANK('New Members'!G57),\"\",'New Members'!G57)","v":""},{"$f":"IF(ISBLANK('New Members'!H57),\"\",'New Members'!H57)","v":""},{"$f":"IF(ISBLANK('New Members'!I57),\"\",'New Members'!I57)","v":""},{"$f":"IF(ISBLANK('New Members'!J57),\"\",'New Members'!J57)","v":""},{"$f":"IF(ISBLANK('New Members'!K57),\"\",'New Members'!K57)","v":""},{"$f":"IF(ISBLANK('New Members'!L57),\"\",'New Members'!L57)","v":""},{"$f":"IF(ISBLANK('New Members'!M57),\"\",'New Members'!M57)","v":""},{"$f":"IF(ISBLANK('New Members'!N57),\"\",'New Members'!N57)","v":""},{"$f":"IF(ISBLANK('New Members'!O57),\"\",'New Members'!O57)","v":""},{"$f":"IF(ISBLANK('New Members'!P57),\"\",'New Members'!P57)","v":""},{"$f":"IF(ISBLANK('New Members'!Q57),\"\",'New Members'!Q57)","v":""},{"$f":"IF(ISBLANK('New Members'!R57),\"\",'New Members'!R57)","v":""},{"$f":"IF(ISBLANK('New Members'!S57),\"\",\"M\")","v":""},{"$f":"IF(ISBLANK('New Members'!T57),\"\",\"F\")","v":""},{"$f":"IF(ISBLANK('New Members'!U57),\"\",'New Members'!U57)","v":""},{"$f":"IF(ISBLANK('New Members'!V57),\"\",'New Members'!V57)","v":""},{"$f":"IF(ISBLANK('New Members'!W57),\"\",'New Members'!W57)","v":"2025-26"},{"$f":"IF(ISBLANK('New Members'!X57),\"\",'New Members'!X57)","v":""},{"$f":"IF(ISBLANK('New Members'!Y57),\"\",'New Members'!Y57)","v":""}]
[253,"SANCTIONED TOURNAMENTS",{"$f":"IF(ISBLANK('New Members'!C58),\"\",'New Members'!C58)","v":""},{"$f":"IF(ISBLANK('New Members'!D58),\"\",'New Members'!D58)","v":"SANCTIONED EVENT"},{"$f":"IF(ISBLANK('New Members'!E58),\"\",'New Members'!E58)","v":""},{"$f":"IF(ISBLANK('New Members'!F58),\"\",'New Members'!F58)","v":""},{"$f":"IF(ISBLANK('New Members'!G58),\"\",'New Members'!G58)","v":""},{"$f":"IF(ISBLANK('New Members'!H58),\"\",'New Members'!H58)","v":""},{"$f":"IF(ISBLANK('New Members'!I58),\"\",'New Members'!I58)","v":""},{"$f":"IF(ISBLANK('New Members'!J58),\"\",'New Members'!J58)","v":""},{"$f":"IF(ISBLANK('New Members'!K58),\"\",'New Members'!K58)","v":""},{"$f":"IF(ISBLANK('New Members'!L58),\"\",'New Members'!L58)","v":""},{"$f":"IF(ISBLANK('New Members'!M58),\"\",'New Members'!M58)","v":""},{"$f":"IF(ISBLANK('New Members'!N58),\"\",'New Members'!N58)","v":""},{"$f":"IF(ISBLANK('New Members'!O58),\"\",'New Members'!O58)","v":""},{"$f":"IF(ISBLANK('New Members'!P58),\"\",'New Members'!P58)","v":""},{"$f":"IF(ISBLANK('New Members'!Q58),\"\",'New Members'!Q58)","v":""},{"$f":"IF(ISBLANK('New Members'!R58),\"\",'New Members'!R58)","v":""},{"$f":"IF(ISBLANK('New Members'!S58),\"\",\"M\")","v":""},{"$f":"IF(ISBLANK('New Members'!T58),\"\",\"F\")","v":""},{"$f":"IF(ISBLANK('New Members'!U58),\"\",'New Members'!U58)","v":""},{"$f":"IF(ISBLANK('New Members'!V58),\"\",'New Members'!V58)","v":""},{"$f":"IF(ISBLANK('New Members'!W58),\"\",'New Members'!W58)","v":"2025-26"},{"$f":"IF(ISBLANK('New Members'!X58),\"\",'New Members'!X58)","v":""},{"$f":"IF(ISBLANK('New Members'!Y58),\"\",'New Members'!Y58)","v":""}]
[254,"SANCTIONED TOURNAMENTS",{"$f":"IF(ISBLANK('New Members'!C59),\"\",'New Members'!C59)","v":""},{"$f":"IF(ISBLANK('New Members'!D59),\"\",'New Members'!D59)","v":"SANCTIONED EVENT"},{"$f":"IF(ISBLANK('New Members'!E59),\"\",'New Members'!E59)","v":""},{"$f":"IF(ISBLANK('New Members'!F59),\"\",'New Members'!F59)","v":""},{"$f":"IF(ISBLANK('New Members'!G59),\"\",'New Members'!G59)","v":""},{"$f":"IF(ISBLANK('New Members'!H59),\"\",'New Members'!H59)","v":""},{"$f":"IF(ISBLANK('New Members'!I59),\"\",'New Members'!I59)","v":""},{"$f":"IF(ISBLANK('New Members'!J59),\"\",'New Members'!J59)","v":""},{"$f":"IF(ISBLANK('New Members'!K59),\"\",'New Members'!K59)","v":""},{"$f":"IF(ISBLANK('New Members'!L59),\"\",'New Members'!L59)","v":""},{"$f":"IF(ISBLANK('New Members'!M59),\"\",'New Members'!M59)","v":""},{"$f":"IF(ISBLANK('New Members'!N59),\"\",'New Members'!N59)","v":""},{"$f":"IF(ISBLANK('New Members'!O59),\"\",'New Members'!O59)","v":""},{"$f":"IF(ISBLANK('New Members'!P59),\"\",'New Members'!P59)","v":""},{"$f":"IF(ISBLANK('New Members'!Q59),\"\",'New Members'!Q59)","v":""},{"$f":"IF(ISBLANK('New Members'!R59),\"\",'New Members'!R59)","v":""},{"$f":"IF(ISBLANK('New Members'!S59),\"\",\"M\")","v":""},{"$f":"IF(ISBLANK('New Members'!T59),\"\",\"F\")","v":""},{"$f":"IF(ISBLANK('New Members'!U59),\"\",'New Members'!U59)","v":""},{"$f":"IF(ISBLANK('New Members'!V59),\"\",'New Members'!V59)","v":""},{"$f":"IF(ISBLANK('New Members'!W59),\"\",'New Members'!W59)","v":"2025-26"},{"$f":"IF(ISBLANK('New Members'!X59),\"\",'New Members'!X59)","v":""},{"$f":"IF(ISBLANK('New Members'!Y59),\"\",'New Members'!Y59)","v":""}]
[255,"SANCTIONED TOURNAMENTS",{"$f":"IF(ISBLANK('New Members'!C60),\"\",'New Members'!C60)","v":""},{"$f":"IF(ISBLANK('New Members'!D60),\"\",'New Members'!D60)","v":"SANCTIONED EVENT"},{"$f":"IF(ISBLANK('New Members'!E60),\"\",'New Members'!E60)","v":""},{"$f":"IF(ISBLANK('New Members'!F60),\"\",'New Members'!F60)","v":""},{"$f":"IF(ISBLANK('New Members'!G60),\"\",'New Members'!G60)","v":""},{"$f":"IF(ISBLANK('New Members'!H60),\"\",'New Members'!H60)","v":""},{"$f":"IF(ISBLANK('New Members'!I60),\"\",'New Members'!I60)","v":""},{"$f":"IF(ISBLANK('New Members'!J60),\"\",'New Members'!J60)","v":""},{"$f":"IF(ISBLANK('New Members'!K60),\"\",'New Members'!K60)","v":""},{"$f":"IF(ISBLANK('New Members'!L60),\"\",'New Members'!L60)","v":""},{"$f":"IF(ISBLANK('New Members'!M60),\"\",'New Members'!M60)","v":""},{"$f":"IF(ISBLANK('New Members'!N60),\"\",'New Members'!N60)","v":""},{"$f":"IF(ISBLANK('New Members'!O60),\"\",'New Members'!O60)","v":""},{"$f":"IF(ISBLANK('New Members'!P60),\"\",'New Members'!P60)","v":""},{"$f":"IF(ISBLANK('New Members'!Q60),\"\",'New Members'!Q60)","v":""},{"$f":"IF(ISBLANK('New Members'!R60),\"\",'New Members'!R60)","v":""},{"$f":"IF(ISBLANK('New Members'!S60),\"\",\"M\")","v":""},{"$f":"IF(ISBLANK('New Members'!T60),\"\",\"F\")","v":""},{"$f":"IF(ISBLANK('New Members'!U60),\"\",'New Members'!U60)","v":""},{"$f":"IF(ISBLANK('New Members'!V60),\"\",'New Members'!V60)","v":""},{"$f":"IF(ISBLANK('New Members'!W60),\"\",'New Members'!W60)","v":"2025-26"},{"$f":"IF(ISBLANK('New Members'!X60),\"\",'New Members'!X60)","v":""},{"$f":"IF(ISBLANK('New Members'!Y60),\"\",'New Members'!Y60)","v":""}]
[256,"SANCTIONED TOURNAMENTS",{"$f":"IF(ISBLANK('New Members'!C61),\"\",'New Members'!C61)","v":""},{"$f":"IF(ISBLANK('New Members'!D61),\"\",'New Members'!D61)","v":"SANCTIONED EVENT"},{"$f":"IF(ISBLANK('New Members'!E61),\"\",'New Members'!E61)","v":""},{"$f":"IF(ISBLANK('New Members'!F61),\"\",'New Members'!F61)","v":""},{"$f":"IF(ISBLANK('New Members'!G61),\"\",'New Members'!G61)","v":""},{"$f":"IF(ISBLANK('New Members'!H61),\"\",'New Members'!H61)","v":""},{"$f":"IF(ISBLANK('New Members'!I61),\"\",'New Members'!I61)","v":""},{"$f":"IF(ISBLANK('New Members'!J61),\"\",'New Members'!J61)","v":""},{"$f":"IF(ISBLANK('New Members'!K61),\"\",'New Members'!K61)","v":""},{"$f":"IF(ISBLANK('New Members'!L61),\"\",'New Members'!L61)","v":""},{"$f":"IF(ISBLANK('New Members'!M61),\"\",'New Members'!M61)","v":""},{"$f":"IF(ISBLANK('New Members'!N61),\"\",'New Members'!N61)","v":""},{"$f":"IF(ISBLANK('New Members'!O61),\"\",'New Members'!O61)","v":""},{"$f":"IF(ISBLANK('New Members'!P61),\"\",'New Members'!P61)","v":""},{"$f":"IF(ISBLANK('New Members'!Q61),\"\",'New Members'!Q61)","v":""},{"$f":"IF(ISBLANK('New Members'!R61),\"\",'New Members'!R61)","v":""},{"$f":"IF(ISBLANK('New Members'!S61),\"\",\"M\")","v":""},{"$f":"IF(ISBLANK('New Members'!T61),\"\",\"F\")","v":""},{"$f":"IF(ISBLANK('New Members'!U61),\"\",'New Members'!U61)","v":""},{"$f":"IF(ISBLANK('New Members'!V61),\"\",'New Members'!V61)","v":""},{"$f":"IF(ISBLANK('New Members'!W61),\"\",'New Members'!W61)","v":"2025-26"},{"$f":"IF(ISBLANK('New Members'!X61),\"\",'New Members'!X61)","v":""},{"$f":"IF(ISBLANK('New Members'!Y61),\"\",'New Members'!Y61)","v":""}]
[257,"SANCTIONED TOURNAMENTS",{"$f":"IF(ISBLANK('New Members'!C62),\"\",'New Members'!C62)","v":""},{"$f":"IF(ISBLANK('New Members'!D62),\"\",'New Members'!D62)","v":"SANCTIONED EVENT"},{"$f":"IF(ISBLANK('New Members'!E62),\"\",'New Members'!E62)","v":""},{"$f":"IF(ISBLANK('New Members'!F62),\"\",'New Members'!F62)","v":""},{"$f":"IF(ISBLANK('New Members'!G62),\"\",'New Members'!G62)","v":""},{"$f":"IF(ISBLANK('New Members'!H62),\"\",'New Members'!H62)","v":""},{"$f":"IF(ISBLANK('New Members'!I62),\"\",'New Members'!I62)","v":""},{"$f":"IF(ISBLANK('New Members'!J62),\"\",'New Members'!J62)","v":""},{"$f":"IF(ISBLANK('New Members'!K62),\"\",'New Members'!K62)","v":""},{"$f":"IF(ISBLANK('New Members'!L62),\"\",'New Members'!L62)","v":""},{"$f":"IF(ISBLANK('New Members'!M62),\"\",'New Members'!M62)","v":""},{"$f":"IF(ISBLANK('New Members'!N62),\"\",'New Members'!N62)","v":""},{"$f":"IF(ISBLANK('New Members'!O62),\"\",'New Members'!O62)","v":""},{"$f":"IF(ISBLANK('New Members'!P62),\"\",'New Members'!P62)","v":""},{"$f":"IF(ISBLANK('New Members'!Q62),\"\",'New Members'!Q62)","v":""},{"$f":"IF(ISBLANK('New Members'!R62),\"\",'New Members'!R62)","v":""},{"$f":"IF(ISBLANK('New Members'!S62),\"\",\"M\")","v":""},{"$f":"IF(ISBLANK('New Members'!T62),\"\",\"F\")","v":""},{"$f":"IF(ISBLANK('New Members'!U62),\"\",'New Members'!U62)","v":""},{"$f":"IF(ISBLANK('New Members'!V62),\"\",'New Members'!V62)","v":""},{"$f":"IF(ISBLANK('New Members'!W62),\"\",'New Members'!W62)","v":"2025-26"},{"$f":"IF(ISBLANK('New Members'!X62),\"\",'New Members'!X62)","v":""},{"$f":"IF(ISBLANK('New Members'!Y62),\"\",'New Members'!Y62)","v":""}]
[258,"SANCTIONED TOURNAMENTS",{"$f":"IF(ISBLANK('New Members'!C63),\"\",'New Members'!C63)","v":""},{"$f":"IF(ISBLANK('New Members'!D63),\"\",'New Members'!D63)","v":"SANCTIONED EVENT"},{"$f":"IF(ISBLANK('New Members'!E63),\"\",'New Members'!E63)","v":""},{"$f":"IF(ISBLANK('New Members'!F63),\"\",'New Members'!F63)","v":""},{"$f":"IF(ISBLANK('New Members'!G63),\"\",'New Members'!G63)","v":""},{"$f":"IF(ISBLANK('New Members'!H63),\"\",'New Members'!H63)","v":""},{"$f":"IF(ISBLANK('New Members'!I63),\"\",'New Members'!I63)","v":""},{"$f":"IF(ISBLANK('New Members'!J63),\"\",'New Members'!J63)","v":""},{"$f":"IF(ISBLANK('New Members'!K63),\"\",'New Members'!K63)","v":""},{"$f":"IF(ISBLANK('New Members'!L63),\"\",'New Members'!L63)","v":""},{"$f":"IF(ISBLANK('New Members'!M63),\"\",'New Members'!M63)","v":""},{"$f":"IF(ISBLANK('New Members'!N63),\"\",'New Members'!N63)","v":""},{"$f":"IF(ISBLANK('New Members'!O63),\"\",'New Members'!O63)","v":""},{"$f":"IF(ISBLANK('New Members'!P63),\"\",'New Members'!P63)","v":""},{"$f":"IF(ISBLANK('New Members'!Q63),\"\",'New Members'!Q63)","v":""},{"$f":"IF(ISBLANK('New Members'!R63),\"\",'New Members'!R63)","v":""},{"$f":"IF(ISBLANK('New Members'!S63),\"\",\"M\")","v":""},{"$f":"IF(ISBLANK('New Members'!T63),\"\",\"F\")","v":""},{"$f":"IF(ISBLANK('New Members'!U63),\"\",'New Members'!U63)","v":""},{"$f":"IF(ISBLANK('New Members'!V63),\"\",'New Members'!V63)","v":""},{"$f":"IF(ISBLANK('New Members'!W63),\"\",'New Members'!W63)","v":"2025-26"},{"$f":"IF(ISBLANK('New Members'!X63),\"\",'New Members'!X63)","v":""},{"$f":"IF(ISBLANK('New Members'!Y63),\"\",'New Members'!Y63)","v":""}]
[259,"SANCTIONED TOURNAMENTS",{"$f":"IF(ISBLANK('New Members'!C64),\"\",'New Members'!C64)","v":""},{"$f":"IF(ISBLANK('New Members'!D64),\"\",'New Members'!D64)","v":"SANCTIONED EVENT"},{"$f":"IF(ISBLANK('New Members'!E64),\"\",'New Members'!E64)","v":""},{"$f":"IF(ISBLANK('New Members'!F64),\"\",'New Members'!F64)","v":""},{"$f":"IF(ISBLANK('New Members'!G64),\"\",'New Members'!G64)","v":""},{"$f":"IF(ISBLANK('New Members'!H64),\"\",'New Members'!H64)","v":""},{"$f":"IF(ISBLANK('New Members'!I64),\"\",'New Members'!I64)","v":""},{"$f":"IF(ISBLANK('New Members'!J64),\"\",'New Members'!J64)","v":""},{"$f":"IF(ISBLANK('New Members'!K64),\"\",'New Members'!K64)","v":""},{"$f":"IF(ISBLANK('New Members'!L64),\"\",'New Members'!L64)","v":""},{"$f":"IF(ISBLANK('New Members'!M64),\"\",'New Members'!M64)","v":""},{"$f":"IF(ISBLANK('New Members'!N64),\"\",'New Members'!N64)","v":""},{"$f":"IF(ISBLANK('New Members'!O64),\"\",'New Members'!O64)","v":""},{"$f":"IF(ISBLANK('New Members'!P64),\"\",'New Members'!P64)","v":""},{"$f":"IF(ISBLANK('New Members'!Q64),\"\",'New Members'!Q64)","v":""},{"$f":"IF(ISBLANK('New Members'!R64),\"\",'New Members'!R64)","v":""},{"$f":"IF(ISBLANK('New Members'!S64),\"\",\"M\")","v":""},{"$f":"IF(ISBLANK('New Members'!T64),\"\",\"F\")","v":""},{"$f":"IF(ISBLANK('New Members'!U64),\"\",'New Members'!U64)","v":""},{"$f":"IF(ISBLANK('New Members'!V64),\"\",'New Members'!V64)","v":""},{"$f":"IF(ISBLANK('New Members'!W64),\"\",'New Members'!W64)","v":"2025-26"},{"$f":"IF(ISBLANK('New Members'!X64),\"\",'New Members'!X64)","v":""},{"$f":"IF(ISBLANK('New Members'!Y64),\"\",'New Members'!Y64)","v":""}]
[260,"SANCTIONED TOURNAMENTS",{"$f":"IF(ISBLANK('New Members'!C65),\"\",'New Members'!C65)","v":""},{"$f":"IF(ISBLANK('New Members'!D65),\"\",'New Members'!D65)","v":"SANCTIONED EVENT"},{"$f":"IF(ISBLANK('New Members'!E65),\"\",'New Members'!E65)","v":""},{"$f":"IF(ISBLANK('New Members'!F65),\"\",'New Members'!F65)","v":""},{"$f":"IF(ISBLANK('New Members'!G65),\"\",'New Members'!G65)","v":""},{"$f":"IF(ISBLANK('New Members'!H65),\"\",'New Members'!H65)","v":""},{"$f":"IF(ISBLANK('New Members'!I65),\"\",'New Members'!I65)","v":""},{"$f":"IF(ISBLANK('New Members'!J65),\"\",'New Members'!J65)","v":""},{"$f":"IF(ISBLANK('New Members'!K65),\"\",'New Members'!K65)","v":""},{"$f":"IF(ISBLANK('New Members'!L65),\"\",'New Members'!L65)","v":""},{"$f":"IF(ISBLANK('New Members'!M65),\"\",'New Members'!M65)","v":""},{"$f":"IF(ISBLANK('New Members'!N65),\"\",'New Members'!N65)","v":""},{"$f":"IF(ISBLANK('New Members'!O65),\"\",'New Members'!O65)","v":""},{"$f":"IF(ISBLANK('New Members'!P65),\"\",'New Members'!P65)","v":""},{"$f":"IF(ISBLANK('New Members'!Q65),\"\",'New Members'!Q65)","v":""},{"$f":"IF(ISBLANK('New Members'!R65),\"\",'New Members'!R65)","v":""},{"$f":"IF(ISBLANK('New Members'!S65),\"\",\"M\")","v":""},{"$f":"IF(ISBLANK('New Members'!T65),\"\",\"F\")","v":""},{"$f":"IF(ISBLANK('New Members'!U65),\"\",'New Members'!U65)","v":""},{"$f":"IF(ISBLANK('New Members'!V65),\"\",'New Members'!V65)","v":""},{"$f":"IF(ISBLANK('New Members'!W65),\"\",'New Members'!W65)","v":"2025-26"},{"$f":"IF(ISBLANK('New Members'!X65),\"\",'New Members'!X65)","v":""},{"$f":"IF(ISBLANK('New Members'!Y65),\"\",'New Members'!Y65)","v":""}]
[261,"SANCTIONED TOURNAMENTS",{"$f":"IF(ISBLANK('New Members'!C66),\"\",'New Members'!C66)","v":""},{"$f":"IF(ISBLANK('New Members'!D66),\"\",'New Members'!D66)","v":"SANCTIONED EVENT"},{"$f":"IF(ISBLANK('New Members'!E66),\"\",'New Members'!E66)","v":""},{"$f":"IF(ISBLANK('New Members'!F66),\"\",'New Members'!F66)","v":""},{"$f":"IF(ISBLANK('New Members'!G66),\"\",'New Members'!G66)","v":""},{"$f":"IF(ISBLANK('New Members'!H66),\"\",'New Members'!H66)","v":""},{"$f":"IF(ISBLANK('New Members'!I66),\"\",'New Members'!I66)","v":""},{"$f":"IF(ISBLANK('New Members'!J66),\"\",'New Members'!J66)","v":""},{"$f":"IF(ISBLANK('New Members'!K66),\"\",'New Members'!K66)","v":""},{"$f":"IF(ISBLANK('New Members'!L66),\"\",'New Members'!L66)","v":""},{"$f":"IF(ISBLANK('New Members'!M66),\"\",'New Members'!M66)","v":""},{"$f":"IF(ISBLANK('New Members'!N66),\"\",'New Members'!N66)","v":""},{"$f":"IF(ISBLANK('New Members'!O66),\"\",'New Members'!O66)","v":""},{"$f":"IF(ISBLANK('New Members'!P66),\"\",'New Members'!P66)","v":""},{"$f":"IF(ISBLANK('New Members'!Q66),\"\",'New Members'!Q66)","v":""},{"$f":"IF(ISBLANK('New Members'!R66),\"\",'New Members'!R66)","v":""},{"$f":"IF(ISBLANK('New Members'!S66),\"\",\"M\")","v":""},{"$f":"IF(ISBLANK('New Members'!T66),\"\",\"F\")","v":""},{"$f":"IF(ISBLANK('New Members'!U66),\"\",'New Members'!U66)","v":""},{"$f":"IF(ISBLANK('New Members'!V66),\"\",'New Members'!V66)","v":""},{"$f":"IF(ISBLANK('New Members'!W66),\"\",'New Members'!W66)","v":"2025-26"},{"$f":"IF(ISBLANK('New Members'!X66),\"\",'New Members'!X66)","v":""},{"$f":"IF(ISBLANK('New Members'!Y66),\"\",'New Members'!Y66)","v":""}]
[262,"SANCTIONED TOURNAMENTS",{"$f":"IF(ISBLANK('New Members'!C67),\"\",'New Members'!C67)","v":""},{"$f":"IF(ISBLANK('New Members'!D67),\"\",'New Members'!D67)","v":"SANCTIONED EVENT"},{"$f":"IF(ISBLANK('New Members'!E67),\"\",'New Members'!E67)","v":""},{"$f":"IF(ISBLANK('New Members'!F67),\"\",'New Members'!F67)","v":""},{"$f":"IF(ISBLANK('New Members'!G67),\"\",'New Members'!G67)","v":""},{"$f":"IF(ISBLANK('New Members'!H67),\"\",'New Members'!H67)","v":""},{"$f":"IF(ISBLANK('New Members'!I67),\"\",'New Members'!I67)","v":""},{"$f":"IF(ISBLANK('New Members'!J67),\"\",'New Members'!J67)","v":""},{"$f":"IF(ISBLANK('New Members'!K67),\"\",'New Members'!K67)","v":""},{"$f":"IF(ISBLANK('New Members'!L67),\"\",'New Members'!L67)","v":""},{"$f":"IF(ISBLANK('New Members'!M67),\"\",'New Members'!M67)","v":""},{"$f":"IF(ISBLANK('New Members'!N67),\"\",'New Members'!N67)","v":""},{"$f":"IF(ISBLANK('New Members'!O67),\"\",'New Members'!O67)","v":""},{"$f":"IF(ISBLANK('New Members'!P67),\"\",'New Members'!P67)","v":""},{"$f":"IF(ISBLANK('New Members'!Q67),\"\",'New Members'!Q67)","v":""},{"$f":"IF(ISBLANK('New Members'!R67),\"\",'New Members'!R67)","v":""},{"$f":"IF(ISBLANK('New Members'!S67),\"\",\"M\")","v":""},{"$f":"IF(ISBLANK('New Members'!T67),\"\",\"F\")","v":""},{"$f":"IF(ISBLANK('New Members'!U67),\"\",'New Members'!U67)","v":""},{"$f":"IF(ISBLANK('New Members'!V67),\"\",'New Members'!V67)","v":""},{"$f":"IF(ISBLANK('New Members'!W67),\"\",'New Members'!W67)","v":"2025-26"},{"$f":"IF(ISBLANK('New Members'!X67),\"\",'New Members'!X67)","v":""},{"$f":"IF(ISBLANK('New Members'!Y67),\"\",'New Members'!Y67)","v":""}]
[263,"SANCTIONED TOURNAMENTS",{"$f":"IF(ISBLANK('New Members'!C68),\"\",'New Members'!C68)","v":""},{"$f":"IF(ISBLANK('New Members'!D68),\"\",'New Members'!D68)","v":"SANCTIONED EVENT"},{"$f":"IF(ISBLANK('New Members'!E68),\"\",'New Members'!E68)","v":""},{"$f":"IF(ISBLANK('New Members'!F68),\"\",'New Members'!F68)","v":""},{"$f":"IF(ISBLANK('New Members'!G68),\"\",'New Members'!G68)","v":""},{"$f":"IF(ISBLANK('New Members'!H68),\"\",'New Members'!H68)","v":""},{"$f":"IF(ISBLANK('New Members'!I68),\"\",'New Members'!I68)","v":""},{"$f":"IF(ISBLANK('New Members'!J68),\"\",'New Members'!J68)","v":""},{"$f":"IF(ISBLANK('New Members'!K68),\"\",'New Members'!K68)","v":""},{"$f":"IF(ISBLANK('New Members'!L68),\"\",'New Members'!L68)","v":""},{"$f":"IF(ISBLANK('New Members'!M68),\"\",'New Members'!M68)","v":""},{"$f":"IF(ISBLANK('New Members'!N68),\"\",'New Members'!N68)","v":""},{"$f":"IF(ISBLANK('New Members'!O68),\"\",'New Members'!O68)","v":""},{"$f":"IF(ISBLANK('New Members'!P68),\"\",'New Members'!P68)","v":""},{"$f":"IF(ISBLANK('New Members'!Q68),\"\",'New Members'!Q68)","v":""},{"$f":"IF(ISBLANK('New Members'!R68),\"\",'New Members'!R68)","v":""},{"$f":"IF(ISBLANK('New Members'!S68),\"\",\"M\")","v":""},{"$f":"IF(ISBLANK('New Members'!T68),\"\",\"F\")","v":""},{"$f":"IF(ISBLANK('New Members'!U68),\"\",'New Members'!U68)","v":""},{"$f":"IF(ISBLANK('New Members'!V68),\"\",'New Members'!V68)","v":""},{"$f":"IF(ISBLANK('New Members'!W68),\"\",'New Members'!W68)","v":"2025-26"},{"$f":"IF(ISBLANK('New Members'!X68),\"\",'New Members'!X68)","v":""},{"$f":"IF(ISBLANK('New Members'!Y68),\"\",'New Members'!Y68)","v":""}]
[264,"SANCTIONED TOURNAMENTS",{"$f":"IF(ISBLANK('New Members'!C69),\"\",'New Members'!C69)","v":""},{"$f":"IF(ISBLANK('New Members'!D69),\"\",'New Members'!D69)","v":"SANCTIONED EVENT"},{"$f":"IF(ISBLANK('New Members'!E69),\"\",'New Members'!E69)","v":""},{"$f":"IF(ISBLANK('New Members'!F69),\"\",'New Members'!F69)","v":""},{"$f":"IF(ISBLANK('New Members'!G69),\"\",'New Members'!G69)","v":""},{"$f":"IF(ISBLANK('New Members'!H69),\"\",'New Members'!H69)","v":""},{"$f":"IF(ISBLANK('New Members'!I69),\"\",'New Members'!I69)","v":""},{"$f":"IF(ISBLANK('New Members'!J69),\"\",'New Members'!J69)","v":""},{"$f":"IF(ISBLANK('New Members'!K69),\"\",'New Members'!K69)","v":""},{"$f":"IF(ISBLANK('New Members'!L69),\"\",'New Members'!L69)","v":""},{"$f":"IF(ISBLANK('New Members'!M69),\"\",'New Members'!M69)","v":""},{"$f":"IF(ISBLANK('New Members'!N69),\"\",'New Members'!N69)","v":""},{"$f":"IF(ISBLANK('New Members'!O69),\"\",'New Members'!O69)","v":""},{"$f":"IF(ISBLANK('New Members'!P69),\"\",'New Members'!P69)","v":""},{"$f":"IF(ISBLANK('New Members'!Q69),\"\",'New Members'!Q69)","v":""},{"$f":"IF(ISBLANK('New Members'!R69),\"\",'New Members'!R69)","v":""},{"$f":"IF(ISBLANK('New Members'!S69),\"\",\"M\")","v":""},{"$f":"IF(ISBLANK('New Members'!T69),\"\",\"F\")","v":""},{"$f":"IF(ISBLANK('New Members'!U69),\"\",'New Members'!U69)","v":""},{"$f":"IF(ISBLANK('New Members'!V69),\"\",'New Members'!V69)","v":""},{"$f":"IF(ISBLANK('New Members'!W69),\"\",'New Members'!W69)","v":"2025-26"},{"$f":"IF(ISBLANK('New Members'!X69),\"\",'New Members'!X69)","v":""},{"$f":"IF(ISBLANK('New Members'!Y69),\"\",'New Members'!Y69)","v":""}]
[265,"SANCTIONED TOURNAMENTS",{"$f":"IF(ISBLANK('New Members'!C70),\"\",'New Members'!C70)","v":""},{"$f":"IF(ISBLANK('New Members'!D70),\"\",'New Members'!D70)","v":"SANCTIONED EVENT"},{"$f":"IF(ISBLANK('New Members'!E70),\"\",'New Members'!E70)","v":""},{"$f":"IF(ISBLANK('New Members'!F70),\"\",'New Members'!F70)","v":""},{"$f":"IF(ISBLANK('New Members'!G70),\"\",'New Members'!G70)","v":""},{"$f":"IF(ISBLANK('New Members'!H70),\"\",'New Members'!H70)","v":""},{"$f":"IF(ISBLANK('New Members'!I70),\"\",'New Members'!I70)","v":""},{"$f":"IF(ISBLANK('New Members'!J70),\"\",'New Members'!J70)","v":""},{"$f":"IF(ISBLANK('New Members'!K70),\"\",'New Members'!K70)","v":""},{"$f":"IF(ISBLANK('New Members'!L70),\"\",'New Members'!L70)","v":""},{"$f":"IF(ISBLANK('New Members'!M70),\"\",'New Members'!M70)","v":""},{"$f":"IF(ISBLANK('New Members'!N70),\"\",'New Members'!N70)","v":""},{"$f":"IF(ISBLANK('New Members'!O70),\"\",'New Members'!O70)","v":""},{"$f":"IF(ISBLANK('New Members'!P70),\"\",'New Members'!P70)","v":""},{"$f":"IF(ISBLANK('New Members'!Q70),\"\",'New Members'!Q70)","v":""},{"$f":"IF(ISBLANK('New Members'!R70),\"\",'New Members'!R70)","v":""},{"$f":"IF(ISBLANK('New Members'!S70),\"\",\"M\")","v":""},{"$f":"IF(ISBLANK('New Members'!T70),\"\",\"F\")","v":""},{"$f":"IF(ISBLANK('New Members'!U70),\"\",'New Members'!U70)","v":""},{"$f":"IF(ISBLANK('New Members'!V70),\"\",'New Members'!V70)","v":""},{"$f":"IF(ISBLANK('New Members'!W70),\"\",'New Members'!W70)","v":"2025-26"},{"$f":"IF(ISBLANK('New Members'!X70),\"\",'New Members'!X70)","v":""},{"$f":"IF(ISBLANK('New Members'!Y70),\"\",'New Members'!Y70)","v":""}]
[266,"SANCTIONED TOURNAMENTS",{"$f":"IF(ISBLANK('New Members'!C71),\"\",'New Members'!C71)","v":""},{"$f":"IF(ISBLANK('New Members'!D71),\"\",'New Members'!D71)","v":"SANCTIONED EVENT"},{"$f":"IF(ISBLANK('New Members'!E71),\"\",'New Members'!E71)","v":""},{"$f":"IF(ISBLANK('New Members'!F71),\"\",'New Members'!F71)","v":""},{"$f":"IF(ISBLANK('New Members'!G71),\"\",'New Members'!G71)","v":""},{"$f":"IF(ISBLANK('New Members'!H71),\"\",'New Members'!H71)","v":""},{"$f":"IF(ISBLANK('New Members'!I71),\"\",'New Members'!I71)","v":""},{"$f":"IF(ISBLANK('New Members'!J71),\"\",'New Members'!J71)","v":""},{"$f":"IF(ISBLANK('New Members'!K71),\"\",'New Members'!K71)","v":""},{"$f":"IF(ISBLANK('New Members'!L71),\"\",'New Members'!L71)","v":""},{"$f":"IF(ISBLANK('New Members'!M71),\"\",'New Members'!M71)","v":""},{"$f":"IF(ISBLANK('New Members'!N71),\"\",'New Members'!N71)","v":""},{"$f":"IF(ISBLANK('New Members'!O71),\"\",'New Members'!O71)","v":""},{"$f":"IF(ISBLANK('New Members'!P71),\"\",'New Members'!P71)","v":""},{"$f":"IF(ISBLANK('New Members'!Q71),\"\",'New Members'!Q71)","v":""},{"$f":"IF(ISBLANK('New Members'!R71),\"\",'New Members'!R71)","v":""},{"$f":"IF(ISBLANK('New Members'!S71),\"\",\"M\")","v":""},{"$f":"IF(ISBLANK('New Members'!T71),\"\",\"F\")","v":""},{"$f":"IF(ISBLANK('New Members'!U71),\"\",'New Members'!U71)","v":""},{"$f":"IF(ISBLANK('New Members'!V71),\"\",'New Members'!V71)","v":""},{"$f":"IF(ISBLANK('New Members'!W71),\"\",'New Members'!W71)","v":"2025-26"},{"$f":"IF(ISBLANK('New Members'!X71),\"\",'New Members'!X71)","v":""},{"$f":"IF(ISBLANK('New Members'!Y71),\"\",'New Members'!Y71)","v":""}]
[267,"SANCTIONED TOURNAMENTS",{"$f":"IF(ISBLANK('New Members'!C72),\"\",'New Members'!C72)","v":""},{"$f":"IF(ISBLANK('New Members'!D72),\"\",'New Members'!D72)","v":"SANCTIONED EVENT"},{"$f":"IF(ISBLANK('New Members'!E72),\"\",'New Members'!E72)","v":""},{"$f":"IF(ISBLANK('New Members'!F72),\"\",'New Members'!F72)","v":""},{"$f":"IF(ISBLANK('New Members'!G72),\"\",'New Members'!G72)","v":""},{"$f":"IF(ISBLANK('New Members'!H72),\"\",'New Members'!H72)","v":""},{"$f":"IF(ISBLANK('New Members'!I72),\"\",'New Members'!I72)","v":""},{"$f":"IF(ISBLANK('New Members'!J72),\"\",'New Members'!J72)","v":""},{"$f":"IF(ISBLANK('New Members'!K72),\"\",'New Members'!K72)","v":""},{"$f":"IF(ISBLANK('New Members'!L72),\"\",'New Members'!L72)","v":""},{"$f":"IF(ISBLANK('New Members'!M72),\"\",'New Members'!M72)","v":""},{"$f":"IF(ISBLANK('New Members'!N72),\"\",'New Members'!N72)","v":""},{"$f":"IF(ISBLANK('New Members'!O72),\"\",'New Members'!O72)","v":""},{"$f":"IF(ISBLANK('New Members'!P72),\"\",'New Members'!P72)","v":""},{"$f":"IF(ISBLANK('New Members'!Q72),\"\",'New Members'!Q72)","v":""},{"$f":"IF(ISBLANK('New Members'!R72),\"\",'New Members'!R72)","v":""},{"$f":"IF(ISBLANK('New Members'!S72),\"\",\"M\")","v":""},{"$f":"IF(ISBLANK('New Members'!T72),\"\",\"F\")","v":""},{"$f":"IF(ISBLANK('New Members'!U72),\"\",'New Members'!U72)","v":""},{"$f":"IF(ISBLANK('New Members'!V72),\"\",'New Members'!V72)","v":""},{"$f":"IF(ISBLANK('New Members'!W72),\"\",'New Members'!W72)","v":"2025-26"},{"$f":"IF(ISBLANK('New Members'!X72),\"\",'New Members'!X72)","v":""},{"$f":"IF(ISBLANK('New Members'!Y72),\"\",'New Members'!Y72)","v":""}]
[268,"SANCTIONED TOURNAMENTS",{"$f":"IF(ISBLANK('New Members'!C73),\"\",'New Members'!C73)","v":""},{"$f":"IF(ISBLANK('New Members'!D73),\"\",'New Members'!D73)","v":"SANCTIONED EVENT"},{"$f":"IF(ISBLANK('New Members'!E73),\"\",'New Members'!E73)","v":""},{"$f":"IF(ISBLANK('New Members'!F73),\"\",'New Members'!F73)","v":""},{"$f":"IF(ISBLANK('New Members'!G73),\"\",'New Members'!G73)","v":""},{"$f":"IF(ISBLANK('New Members'!H73),\"\",'New Members'!H73)","v":""},{"$f":"IF(ISBLANK('New Members'!I73),\"\",'New Members'!I73)","v":""},{"$f":"IF(ISBLANK('New Members'!J73),\"\",'New Members'!J73)","v":""},{"$f":"IF(ISBLANK('New Members'!K73),\"\",'New Members'!K73)","v":""},{"$f":"IF(ISBLANK('New Members'!L73),\"\",'New Members'!L73)","v":""},{"$f":"IF(ISBLANK('New Members'!M73),\"\",'New Members'!M73)","v":""},{"$f":"IF(ISBLANK('New Members'!N73),\"\",'New Members'!N73)","v":""},{"$f":"IF(ISBLANK('New Members'!O73),\"\",'New Members'!O73)","v":""},{"$f":"IF(ISBLANK('New Members'!P73),\"\",'New Members'!P73)","v":""},{"$f":"IF(ISBLANK('New Members'!Q73),\"\",'New Members'!Q73)","v":""},{"$f":"IF(ISBLANK('New Members'!R73),\"\",'New Members'!R73)","v":""},{"$f":"IF(ISBLANK('New Members'!S73),\"\",\"M\")","v":""},{"$f":"IF(ISBLANK('New Members'!T73),\"\",\"F\")","v":""},{"$f":"IF(ISBLANK('New Members'!U73),\"\",'New Members'!U73)","v":""},{"$f":"IF(ISBLANK('New Members'!V73),\"\",'New Members'!V73)","v":""},{"$f":"IF(ISBLANK('New Members'!W73),\"\",'New Members'!W73)","v":"2025-26"},{"$f":"IF(ISBLANK('New Members'!X73),\"\",'New Members'!X73)","v":""},{"$f":"IF(ISBLANK('New Members'!Y73),\"\",'New Members'!Y73)","v":""}]
[269,"SANCTIONED TOURNAMENTS",{"$f":"IF(ISBLANK('New Members'!C74),\"\",'New Members'!C74)","v":""},{"$f":"IF(ISBLANK('New Members'!D74),\"\",'New Members'!D74)","v":"SANCTIONED EVENT"},{"$f":"IF(ISBLANK('New Members'!E74),\"\",'New Members'!E74)","v":""},{"$f":"IF(ISBLANK('New Members'!F74),\"\",'New Members'!F74)","v":""},{"$f":"IF(ISBLANK('New Members'!G74),\"\",'New Members'!G74)","v":""},{"$f":"IF(ISBLANK('New Members'!H74),\"\",'New Members'!H74)","v":""},{"$f":"IF(ISBLANK('New Members'!I74),\"\",'New Members'!I74)","v":""},{"$f":"IF(ISBLANK('New Members'!J74),\"\",'New Members'!J74)","v":""},{"$f":"IF(ISBLANK('New Members'!K74),\"\",'New Members'!K74)","v":""},{"$f":"IF(ISBLANK('New Members'!L74),\"\",'New Members'!L74)","v":""},{"$f":"IF(ISBLANK('New Members'!M74),\"\",'New Members'!M74)","v":""},{"$f":"IF(ISBLANK('New Members'!N74),\"\",'New Members'!N74)","v":""},{"$f":"IF(ISBLANK('New Members'!O74),\"\",'New Members'!O74)","v":""},{"$f":"IF(ISBLANK('New Members'!P74),\"\",'New Members'!P74)","v":""},{"$f":"IF(ISBLANK('New Members'!Q74),\"\",'New Members'!Q74)","v":""},{"$f":"IF(ISBLANK('New Members'!R74),\"\",'New Members'!R74)","v":""},{"$f":"IF(ISBLANK('New Members'!S74),\"\",\"M\")","v":""},{"$f":"IF(ISBLANK('New Members'!T74),\"\",\"F\")","v":""},{"$f":"IF(ISBLANK('New Members'!U74),\"\",'New Members'!U74)","v":""},{"$f":"IF(ISBLANK('New Members'!V74),\"\",'New Members'!V74)","v":""},{"$f":"IF(ISBLANK('New Members'!W74),\"\",'New Members'!W74)","v":"2025-26"},{"$f":"IF(ISBLANK('New Members'!X74),\"\",'New Members'!X74)","v":""},{"$f":"IF(ISBLANK('New Members'!Y74),\"\",'New Members'!Y74)","v":""}]
[270,"SANCTIONED TOURNAMENTS",{"$f":"IF(ISBLANK('New Members'!C75),\"\",'New Members'!C75)","v":""},{"$f":"IF(ISBLANK('New Members'!D75),\"\",'New Members'!D75)","v":"SANCTIONED EVENT"},{"$f":"IF(ISBLANK('New Members'!E75),\"\",'New Members'!E75)","v":""},{"$f":"IF(ISBLANK('New Members'!F75),\"\",'New Members'!F75)","v":""},{"$f":"IF(ISBLANK('New Members'!G75),\"\",'New Members'!G75)","v":""},{"$f":"IF(ISBLANK('New Members'!H75),\"\",'New Members'!H75)","v":""},{"$f":"IF(ISBLANK('New Members'!I75),\"\",'New Members'!I75)","v":""},{"$f":"IF(ISBLANK('New Members'!J75),\"\",'New Members'!J75)","v":""},{"$f":"IF(ISBLANK('New Members'!K75),\"\",'New Members'!K75)","v":""},{"$f":"IF(ISBLANK('New Members'!L75),\"\",'New Members'!L75)","v":""},{"$f":"IF(ISBLANK('New Members'!M75),\"\",'New Members'!M75)","v":""},{"$f":"IF(ISBLANK('New Members'!N75),\"\",'New Members'!N75)","v":""},{"$f":"IF(ISBLANK('New Members'!O75),\"\",'New Members'!O75)","v":""},{"$f":"IF(ISBLANK('New Members'!P75),\"\",'New Members'!P75)","v":""},{"$f":"IF(ISBLANK('New Members'!Q75),\"\",'New Members'!Q75)","v":""},{"$f":"IF(ISBLANK('New Members'!R75),\"\",'New Members'!R75)","v":""},{"$f":"IF(ISBLANK('New Members'!S75),\"\",\"M\")","v":""},{"$f":"IF(ISBLANK('New Members'!T75),\"\",\"F\")","v":""},{"$f":"IF(ISBLANK('New Members'!U75),\"\",'New Members'!U75)","v":""},{"$f":"IF(ISBLANK('New Members'!V75),\"\",'New Members'!V75)","v":""},{"$f":"IF(ISBLANK('New Members'!W75),\"\",'New Members'!W75)","v":"2025-26"},{"$f":"IF(ISBLANK('New Members'!X75),\"\",'New Members'!X75)","v":""},{"$f":"IF(ISBLANK('New Members'!Y75),\"\",'New Members'!Y75)","v":""}]
[271,"SANCTIONED TOURNAMENTS",{"$f":"IF(ISBLANK('New Members'!C76),\"\",'New Members'!C76)","v":""},{"$f":"IF(ISBLANK('New Members'!D76),\"\",'New Members'!D76)","v":"SANCTIONED EVENT"},{"$f":"IF(ISBLANK('New Members'!E76),\"\",'New Members'!E76)","v":""},{"$f":"IF(ISBLANK('New Members'!F76),\"\",'New Members'!F76)","v":""},{"$f":"IF(ISBLANK('New Members'!G76),\"\",'New Members'!G76)","v":""},{"$f":"IF(ISBLANK('New Members'!H76),\"\",'New Members'!H76)","v":""},{"$f":"IF(ISBLANK('New Members'!I76),\"\",'New Members'!I76)","v":""},{"$f":"IF(ISBLANK('New Members'!J76),\"\",'New Members'!J76)","v":""},{"$f":"IF(ISBLANK('New Members'!K76),\"\",'New Members'!K76)","v":""},{"$f":"IF(ISBLANK('New Members'!L76),\"\",'New Members'!L76)","v":""},{"$f":"IF(ISBLANK('New Members'!M76),\"\",'New Members'!M76)","v":""},{"$f":"IF(ISBLANK('New Members'!N76),\"\",'New Members'!N76)","v":""},{"$f":"IF(ISBLANK('New Members'!O76),\"\",'New Members'!O76)","v":""},{"$f":"IF(ISBLANK('New Members'!P76),\"\",'New Members'!P76)","v":""},{"$f":"IF(ISBLANK('New Members'!Q76),\"\",'New Members'!Q76)","v":""},{"$f":"IF(ISBLANK('New Members'!R76),\"\",'New Members'!R76)","v":""},{"$f":"IF(ISBLANK('New Members'!S76),\"\",\"M\")","v":""},{"$f":"IF(ISBLANK('New Members'!T76),\"\",\"F\")","v":""},{"$f":"IF(ISBLANK('New Members'!U76),\"\",'New Members'!U76)","v":""},{"$f":"IF(ISBLANK('New Members'!V76),\"\",'New Members'!V76)","v":""},{"$f":"IF(ISBLANK('New Members'!W76),\"\",'New Members'!W76)","v":"2025-26"},{"$f":"IF(ISBLANK('New Members'!X76),\"\",'New Members'!X76)","v":""},{"$f":"IF(ISBLANK('New Members'!Y76),\"\",'New Members'!Y76)","v":""}]
[272,"SANCTIONED TOURNAMENTS",{"$f":"IF(ISBLANK('New Members'!C77),\"\",'New Members'!C77)","v":""},{"$f":"IF(ISBLANK('New Members'!D77),\"\",'New Members'!D77)","v":"SANCTIONED EVENT"},{"$f":"IF(ISBLANK('New Members'!E77),\"\",'New Members'!E77)","v":""},{"$f":"IF(ISBLANK('New Members'!F77),\"\",'New Members'!F77)","v":""},{"$f":"IF(ISBLANK('New Members'!G77),\"\",'New Members'!G77)","v":""},{"$f":"IF(ISBLANK('New Members'!H77),\"\",'New Members'!H77)","v":""},{"$f":"IF(ISBLANK('New Members'!I77),\"\",'New Members'!I77)","v":""},{"$f":"IF(ISBLANK('New Members'!J77),\"\",'New Members'!J77)","v":""},{"$f":"IF(ISBLANK('New Members'!K77),\"\",'New Members'!K77)","v":""},{"$f":"IF(ISBLANK('New Members'!L77),\"\",'New Members'!L77)","v":""},{"$f":"IF(ISBLANK('New Members'!M77),\"\",'New Members'!M77)","v":""},{"$f":"IF(ISBLANK('New Members'!N77),\"\",'New Members'!N77)","v":""},{"$f":"IF(ISBLANK('New Members'!O77),\"\",'New Members'!O77)","v":""},{"$f":"IF(ISBLANK('New Members'!P77),\"\",'New Members'!P77)","v":""},{"$f":"IF(ISBLANK('New Members'!Q77),\"\",'New Members'!Q77)","v":""},{"$f":"IF(ISBLANK('New Members'!R77),\"\",'New Members'!R77)","v":""},{"$f":"IF(ISBLANK('New Members'!S77),\"\",\"M\")","v":""},{"$f":"IF(ISBLANK('New Members'!T77),\"\",\"F\")","v":""},{"$f":"IF(ISBLANK('New Members'!U77),\"\",'New Members'!U77)","v":""},{"$f":"IF(ISBLANK('New Members'!V77),\"\",'New Members'!V77)","v":""},{"$f":"IF(ISBLANK('New Members'!W77),\"\",'New Members'!W77)","v":"2025-26"},{"$f":"IF(ISBLANK('New Members'!X77),\"\",'New Members'!X77)","v":""},{"$f":"IF(ISBLANK('New Members'!Y77),\"\",'New Members'!Y77)","v":""}]
[273,"SANCTIONED TOURNAMENTS",{"$f":"IF(ISBLANK('New Members'!C78),\"\",'New Members'!C78)","v":""},{"$f":"IF(ISBLANK('New Members'!D78),\"\",'New Members'!D78)","v":"SANCTIONED EVENT"},{"$f":"IF(ISBLANK('New Members'!E78),\"\",'New Members'!E78)","v":""},{"$f":"IF(ISBLANK('New Members'!F78),\"\",'New Members'!F78)","v":""},{"$f":"IF(ISBLANK('New Members'!G78),\"\",'New Members'!G78)","v":""},{"$f":"IF(ISBLANK('New Members'!H78),\"\",'New Members'!H78)","v":""},{"$f":"IF(ISBLANK('New Members'!I78),\"\",'New Members'!I78)","v":""},{"$f":"IF(ISBLANK('New Members'!J78),\"\",'New Members'!J78)","v":""},{"$f":"IF(ISBLANK('New Members'!K78),\"\",'New Members'!K78)","v":""},{"$f":"IF(ISBLANK('New Members'!L78),\"\",'New Members'!L78)","v":""},{"$f":"IF(ISBLANK('New Members'!M78),\"\",'New Members'!M78)","v":""},{"$f":"IF(ISBLANK('New Members'!N78),\"\",'New Members'!N78)","v":""},{"$f":"IF(ISBLANK('New Members'!O78),\"\",'New Members'!O78)","v":""},{"$f":"IF(ISBLANK('New Members'!P78),\"\",'New Members'!P78)","v":""},{"$f":"IF(ISBLANK('New Members'!Q78),\"\",'New Members'!Q78)","v":""},{"$f":"IF(ISBLANK('New Members'!R78),\"\",'New Members'!R78)","v":""},{"$f":"IF(ISBLANK('New Members'!S78),\"\",\"M\")","v":""},{"$f":"IF(ISBLANK('New Members'!T78),\"\",\"F\")","v":""},{"$f":"IF(ISBLANK('New Members'!U78),\"\",'New Members'!U78)","v":""},{"$f":"IF(ISBLANK('New Members'!V78),\"\",'New Members'!V78)","v":""},{"$f":"IF(ISBLANK('New Members'!W78),\"\",'New Members'!W78)","v":"2025-26"},{"$f":"IF(ISBLANK('New Members'!X78),\"\",'New Members'!X78)","v":""},{"$f":"IF(ISBLANK('New Members'!Y78),\"\",'New Members'!Y78)","v":""}]
[274,"SANCTIONED TOURNAMENTS",{"$f":"IF(ISBLANK('New Members'!C79),\"\",'New Members'!C79)","v":""},{"$f":"IF(ISBLANK('New Members'!D79),\"\",'New Members'!D79)","v":"SANCTIONED EVENT"},{"$f":"IF(ISBLANK('New Members'!E79),\"\",'New Members'!E79)","v":""},{"$f":"IF(ISBLANK('New Members'!F79),\"\",'New Members'!F79)","v":""},{"$f":"IF(ISBLANK('New Members'!G79),\"\",'New Members'!G79)","v":""},{"$f":"IF(ISBLANK('New Members'!H79),\"\",'New Members'!H79)","v":""},{"$f":"IF(ISBLANK('New Members'!I79),\"\",'New Members'!I79)","v":""},{"$f":"IF(ISBLANK('New Members'!J79),\"\",'New Members'!J79)","v":""},{"$f":"IF(ISBLANK('New Members'!K79),\"\",'New Members'!K79)","v":""},{"$f":"IF(ISBLANK('New Members'!L79),\"\",'New Members'!L79)","v":""},{"$f":"IF(ISBLANK('New Members'!M79),\"\",'New Members'!M79)","v":""},{"$f":"IF(ISBLANK('New Members'!N79),\"\",'New Members'!N79)","v":""},{"$f":"IF(ISBLANK('New Members'!O79),\"\",'New Members'!O79)","v":""},{"$f":"IF(ISBLANK('New Members'!P79),\"\",'New Members'!P79)","v":""},{"$f":"IF(ISBLANK('New Members'!Q79),\"\",'New Members'!Q79)","v":""},{"$f":"IF(ISBLANK('New Members'!R79),\"\",'New Members'!R79)","v":""},{"$f":"IF(ISBLANK('New Members'!S79),\"\",\"M\")","v":""},{"$f":"IF(ISBLANK('New Members'!T79),\"\",\"F\")","v":""},{"$f":"IF(ISBLANK('New Members'!U79),\"\",'New Members'!U79)","v":""},{"$f":"IF(ISBLANK('New Members'!V79),\"\",'New Members'!V79)","v":""},{"$f":"IF(ISBLANK('New Members'!W79),\"\",'New Members'!W79)","v":"2025-26"},{"$f":"IF(ISBLANK('New Members'!X79),\"\",'New Members'!X79)","v":""},{"$f":"IF(ISBLANK('New Members'!Y79),\"\",'New Members'!Y79)","v":""}]
[275,"SANCTIONED TOURNAMENTS",{"$f":"IF(ISBLANK('New Members'!C80),\"\",'New Members'!C80)","v":""},{"$f":"IF(ISBLANK('New Members'!D80),\"\",'New Members'!D80)","v":"SANCTIONED EVENT"},{"$f":"IF(ISBLANK('New Members'!E80),\"\",'New Members'!E80)","v":""},{"$f":"IF(ISBLANK('New Members'!F80),\"\",'New Members'!F80)","v":""},{"$f":"IF(ISBLANK('New Members'!G80),\"\",'New Members'!G80)","v":""},{"$f":"IF(ISBLANK('New Members'!H80),\"\",'New Members'!H80)","v":""},{"$f":"IF(ISBLANK('New Members'!I80),\"\",'New Members'!I80)","v":""},{"$f":"IF(ISBLANK('New Members'!J80),\"\",'New Members'!J80)","v":""},{"$f":"IF(ISBLANK('New Members'!K80),\"\",'New Members'!K80)","v":""},{"$f":"IF(ISBLANK('New Members'!L80),\"\",'New Members'!L80)","v":""},{"$f":"IF(ISBLANK('New Members'!M80),\"\",'New Members'!M80)","v":""},{"$f":"IF(ISBLANK('New Members'!N80),\"\",'New Members'!N80)","v":""},{"$f":"IF(ISBLANK('New Members'!O80),\"\",'New Members'!O80)","v":""},{"$f":"IF(ISBLANK('New Members'!P80),\"\",'New Members'!P80)","v":""},{"$f":"IF(ISBLANK('New Members'!Q80),\"\",'New Members'!Q80)","v":""},{"$f":"IF(ISBLANK('New Members'!R80),\"\",'New Members'!R80)","v":""},{"$f":"IF(ISBLANK('New Members'!S80),\"\",\"M\")","v":""},{"$f":"IF(ISBLANK('New Members'!T80),\"\",\"F\")","v":""},{"$f":"IF(ISBLANK('New Members'!U80),\"\",'New Members'!U80)","v":""},{"$f":"IF(ISBLANK('New Members'!V80),\"\",'New Members'!V80)","v":""},{"$f":"IF(ISBLANK('New Members'!W80),\"\",'New Members'!W80)","v":"2025-26"},{"$f":"IF(ISBLANK('New Members'!X80),\"\",'New Members'!X80)","v":""},{"$f":"IF(ISBLANK('New Members'!Y80),\"\",'New Members'!Y80)","v":""}]
[276,"SANCTIONED TOURNAMENTS",{"$f":"IF(ISBLANK('New Members'!C81),\"\",'New Members'!C81)","v":""},{"$f":"IF(ISBLANK('New Members'!D81),\"\",'New Members'!D81)","v":"SANCTIONED EVENT"},{"$f":"IF(ISBLANK('New Members'!E81),\"\",'New Members'!E81)","v":""},{"$f":"IF(ISBLANK('New Members'!F81),\"\",'New Members'!F81)","v":""},{"$f":"IF(ISBLANK('New Members'!G81),\"\",'New Members'!G81)","v":""},{"$f":"IF(ISBLANK('New Members'!H81),\"\",'New Members'!H81)","v":""},{"$f":"IF(ISBLANK('New Members'!I81),\"\",'New Members'!I81)","v":""},{"$f":"IF(ISBLANK('New Members'!J81),\"\",'New Members'!J81)","v":""},{"$f":"IF(ISBLANK('New Members'!K81),\"\",'New Members'!K81)","v":""},{"$f":"IF(ISBLANK('New Members'!L81),\"\",'New Members'!L81)","v":""},{"$f":"IF(ISBLANK('New Members'!M81),\"\",'New Members'!M81)","v":""},{"$f":"IF(ISBLANK('New Members'!N81),\"\",'New Members'!N81)","v":""},{"$f":"IF(ISBLANK('New Members'!O81),\"\",'New Members'!O81)","v":""},{"$f":"IF(ISBLANK('New Members'!P81),\"\",'New Members'!P81)","v":""},{"$f":"IF(ISBLANK('New Members'!Q81),\"\",'New Members'!Q81)","v":""},{"$f":"IF(ISBLANK('New Members'!R81),\"\",'New Members'!R81)","v":""},{"$f":"IF(ISBLANK('New Members'!S81),\"\",\"M\")","v":""},{"$f":"IF(ISBLANK('New Members'!T81),\"\",\"F\")","v":""},{"$f":"IF(ISBLANK('New Members'!U81),\"\",'New Members'!U81)","v":""},{"$f":"IF(ISBLANK('New Members'!V81),\"\",'New Members'!V81)","v":""},{"$f":"IF(ISBLANK('New Members'!W81),\"\",'New Members'!W81)","v":"2025-26"},{"$f":"IF(ISBLANK('New Members'!X81),\"\",'New Members'!X81)","v":""},{"$f":"IF(ISBLANK('New Members'!Y81),\"\",'New Members'!Y81)","v":""}]
[277,"SANCTIONED TOURNAMENTS",{"$f":"IF(ISBLANK('New Members'!C82),\"\",'New Members'!C82)","v":""},{"$f":"IF(ISBLANK('New Members'!D82),\"\",'New Members'!D82)","v":"SANCTIONED EVENT"},{"$f":"IF(ISBLANK('New Members'!E82),\"\",'New Members'!E82)","v":""},{"$f":"IF(ISBLANK('New Members'!F82),\"\",'New Members'!F82)","v":""},{"$f":"IF(ISBLANK('New Members'!G82),\"\",'New Members'!G82)","v":""},{"$f":"IF(ISBLANK('New Members'!H82),\"\",'New Members'!H82)","v":""},{"$f":"IF(ISBLANK('New Members'!I82),\"\",'New Members'!I82)","v":""},{"$f":"IF(ISBLANK('New Members'!J82),\"\",'New Members'!J82)","v":""},{"$f":"IF(ISBLANK('New Members'!K82),\"\",'New Members'!K82)","v":""},{"$f":"IF(ISBLANK('New Members'!L82),\"\",'New Members'!L82)","v":""},{"$f":"IF(ISBLANK('New Members'!M82),\"\",'New Members'!M82)","v":""},{"$f":"IF(ISBLANK('New Members'!N82),\"\",'New Members'!N82)","v":""},{"$f":"IF(ISBLANK('New Members'!O82),\"\",'New Members'!O82)","v":""},{"$f":"IF(ISBLANK('New Members'!P82),\"\",'New Members'!P82)","v":""},{"$f":"IF(ISBLANK('New Members'!Q82),\"\",'New Members'!Q82)","v":""},{"$f":"IF(ISBLANK('New Members'!R82),\"\",'New Members'!R82)","v":""},{"$f":"IF(ISBLANK('New Members'!S82),\"\",\"M\")","v":""},{"$f":"IF(ISBLANK('New Members'!T82),\"\",\"F\")","v":""},{"$f":"IF(ISBLANK('New Members'!U82),\"\",'New Members'!U82)","v":""},{"$f":"IF(ISBLANK('New Members'!V82),\"\",'New Members'!V82)","v":""},{"$f":"IF(ISBLANK('New Members'!W82),\"\",'New Members'!W82)","v":"2025-26"},{"$f":"IF(ISBLANK('New Members'!X82),\"\",'New Members'!X82)","v":""},{"$f":"IF(ISBLANK('New Members'!Y82),\"\",'New Members'!Y82)","v":""}]
[278,"SANCTIONED TOURNAMENTS",{"$f":"IF(ISBLANK('New Members'!C83),\"\",'New Members'!C83)","v":""},{"$f":"IF(ISBLANK('New Members'!D83),\"\",'New Members'!D83)","v":"SANCTIONED EVENT"},{"$f":"IF(ISBLANK('New Members'!E83),\"\",'New Members'!E83)","v":""},{"$f":"IF(ISBLANK('New Members'!F83),\"\",'New Members'!F83)","v":""},{"$f":"IF(ISBLANK('New Members'!G83),\"\",'New Members'!G83)","v":""},{"$f":"IF(ISBLANK('New Members'!H83),\"\",'New Members'!H83)","v":""},{"$f":"IF(ISBLANK('New Members'!I83),\"\",'New Members'!I83)","v":""},{"$f":"IF(ISBLANK('New Members'!J83),\"\",'New Members'!J83)","v":""},{"$f":"IF(ISBLANK('New Members'!K83),\"\",'New Members'!K83)","v":""},{"$f":"IF(ISBLANK('New Members'!L83),\"\",'New Members'!L83)","v":""},{"$f":"IF(ISBLANK('New Members'!M83),\"\",'New Members'!M83)","v":""},{"$f":"IF(ISBLANK('New Members'!N83),\"\",'New Members'!N83)","v":""},{"$f":"IF(ISBLANK('New Members'!O83),\"\",'New Members'!O83)","v":""},{"$f":"IF(ISBLANK('New Members'!P83),\"\",'New Members'!P83)","v":""},{"$f":"IF(ISBLANK('New Members'!Q83),\"\",'New Members'!Q83)","v":""},{"$f":"IF(ISBLANK('New Members'!R83),\"\",'New Members'!R83)","v":""},{"$f":"IF(ISBLANK('New Members'!S83),\"\",\"M\")","v":""},{"$f":"IF(ISBLANK('New Members'!T83),\"\",\"F\")","v":""},{"$f":"IF(ISBLANK('New Members'!U83),\"\",'New Members'!U83)","v":""},{"$f":"IF(ISBLANK('New Members'!V83),\"\",'New Members'!V83)","v":""},{"$f":"IF(ISBLANK('New Members'!W83),\"\",'New Members'!W83)","v":"2025-26"},{"$f":"IF(ISBLANK('New Members'!X83),\"\",'New Members'!X83)","v":""},{"$f":"IF(ISBLANK('New Members'!Y83),\"\",'New Members'!Y83)","v":""}]
[279,"SANCTIONED TOURNAMENTS",{"$f":"IF(ISBLANK('New Members'!C84),\"\",'New Members'!C84)","v":""},{"$f":"IF(ISBLANK('New Members'!D84),\"\",'New Members'!D84)","v":"SANCTIONED EVENT"},{"$f":"IF(ISBLANK('New Members'!E84),\"\",'New Members'!E84)","v":""},{"$f":"IF(ISBLANK('New Members'!F84),\"\",'New Members'!F84)","v":""},{"$f":"IF(ISBLANK('New Members'!G84),\"\",'New Members'!G84)","v":""},{"$f":"IF(ISBLANK('New Members'!H84),\"\",'New Members'!H84)","v":""},{"$f":"IF(ISBLANK('New Members'!I84),\"\",'New Members'!I84)","v":""},{"$f":"IF(ISBLANK('New Members'!J84),\"\",'New Members'!J84)","v":""},{"$f":"IF(ISBLANK('New Members'!K84),\"\",'New Members'!K84)","v":""},{"$f":"IF(ISBLANK('New Members'!L84),\"\",'New Members'!L84)","v":""},{"$f":"IF(ISBLANK('New Members'!M84),\"\",'New Members'!M84)","v":""},{"$f":"IF(ISBLANK('New Members'!N84),\"\",'New Members'!N84)","v":""},{"$f":"IF(ISBLANK('New Members'!O84),\"\",'New Members'!O84)","v":""},{"$f":"IF(ISBLANK('New Members'!P84),\"\",'New Members'!P84)","v":""},{"$f":"IF(ISBLANK('New Members'!Q84),\"\",'New Members'!Q84)","v":""},{"$f":"IF(ISBLANK('New Members'!R84),\"\",'New Members'!R84)","v":""},{"$f":"IF(ISBLANK('New Members'!S84),\"\",\"M\")","v":""},{"$f":"IF(ISBLANK('New Members'!T84),\"\",\"F\")","v":""},{"$f":"IF(ISBLANK('New Members'!U84),\"\",'New Members'!U84)","v":""},{"$f":"IF(ISBLANK('New Members'!V84),\"\",'New Members'!V84)","v":""},{"$f":"IF(ISBLANK('New Members'!W84),\"\",'New Members'!W84)","v":"2025-26"},{"$f":"IF(ISBLANK('New Members'!X84),\"\",'New Members'!X84)","v":""},{"$f":"IF(ISBLANK('New Members'!Y84),\"\",'New Members'!Y84)","v":""}]
[280,"SANCTIONED TOURNAMENTS",{"$f":"IF(ISBLANK('New Members'!C85),\"\",'New Members'!C85)","v":""},{"$f":"IF(ISBLANK('New Members'!D85),\"\",'New Members'!D85)","v":"SANCTIONED EVENT"},{"$f":"IF(ISBLANK('New Members'!E85),\"\",'New Members'!E85)","v":""},{"$f":"IF(ISBLANK('New Members'!F85),\"\",'New Members'!F85)","v":""},{"$f":"IF(ISBLANK('New Members'!G85),\"\",'New Members'!G85)","v":""},{"$f":"IF(ISBLANK('New Members'!H85),\"\",'New Members'!H85)","v":""},{"$f":"IF(ISBLANK('New Members'!I85),\"\",'New Members'!I85)","v":""},{"$f":"IF(ISBLANK('New Members'!J85),\"\",'New Members'!J85)","v":""},{"$f":"IF(ISBLANK('New Members'!K85),\"\",'New Members'!K85)","v":""},{"$f":"IF(ISBLANK('New Members'!L85),\"\",'New Members'!L85)","v":""},{"$f":"IF(ISBLANK('New Members'!M85),\"\",'New Members'!M85)","v":""},{"$f":"IF(ISBLANK('New Members'!N85),\"\",'New Members'!N85)","v":""},{"$f":"IF(ISBLANK('New Members'!O85),\"\",'New Members'!O85)","v":""},{"$f":"IF(ISBLANK('New Members'!P85),\"\",'New Members'!P85)","v":""},{"$f":"IF(ISBLANK('New Members'!Q85),\"\",'New Members'!Q85)","v":""},{"$f":"IF(ISBLANK('New Members'!R85),\"\",'New Members'!R85)","v":""},{"$f":"IF(ISBLANK('New Members'!S85),\"\",\"M\")","v":""},{"$f":"IF(ISBLANK('New Members'!T85),\"\",\"F\")","v":""},{"$f":"IF(ISBLANK('New Members'!U85),\"\",'New Members'!U85)","v":""},{"$f":"IF(ISBLANK('New Members'!V85),\"\",'New Members'!V85)","v":""},{"$f":"IF(ISBLANK('New Members'!W85),\"\",'New Members'!W85)","v":"2025-26"},{"$f":"IF(ISBLANK('New Members'!X85),\"\",'New Members'!X85)","v":""},{"$f":"IF(ISBLANK('New Members'!Y85),\"\",'New Members'!Y85)","v":""}]
[281,"SANCTIONED TOURNAMENTS",{"$f":"IF(ISBLANK('New Members'!C86),\"\",'New Members'!C86)","v":""},{"$f":"IF(ISBLANK('New Members'!D86),\"\",'New Members'!D86)","v":"SANCTIONED EVENT"},{"$f":"IF(ISBLANK('New Members'!E86),\"\",'New Members'!E86)","v":""},{"$f":"IF(ISBLANK('New Members'!F86),\"\",'New Members'!F86)","v":""},{"$f":"IF(ISBLANK('New Members'!G86),\"\",'New Members'!G86)","v":""},{"$f":"IF(ISBLANK('New Members'!H86),\"\",'New Members'!H86)","v":""},{"$f":"IF(ISBLANK('New Members'!I86),\"\",'New Members'!I86)","v":""},{"$f":"IF(ISBLANK('New Members'!J86),\"\",'New Members'!J86)","v":""},{"$f":"IF(ISBLANK('New Members'!K86),\"\",'New Members'!K86)","v":""},{"$f":"IF(ISBLANK('New Members'!L86),\"\",'New Members'!L86)","v":""},{"$f":"IF(ISBLANK('New Members'!M86),\"\",'New Members'!M86)","v":""},{"$f":"IF(ISBLANK('New Members'!N86),\"\",'New Members'!N86)","v":""},{"$f":"IF(ISBLANK('New Members'!O86),\"\",'New Members'!O86)","v":""},{"$f":"IF(ISBLANK('New Members'!P86),\"\",'New Members'!P86)","v":""},{"$f":"IF(ISBLANK('New Members'!Q86),\"\",'New Members'!Q86)","v":""},{"$f":"IF(ISBLANK('New Members'!R86),\"\",'New Members'!R86)","v":""},{"$f":"IF(ISBLANK('New Members'!S86),\"\",\"M\")","v":""},{"$f":"IF(ISBLANK('New Members'!T86),\"\",\"F\")","v":""},{"$f":"IF(ISBLANK('New Members'!U86),\"\",'New Members'!U86)","v":""},{"$f":"IF(ISBLANK('New Members'!V86),\"\",'New Members'!V86)","v":""},{"$f":"IF(ISBLANK('New Members'!W86),\"\",'New Members'!W86)","v":"2025-26"},{"$f":"IF(ISBLANK('New Members'!X86),\"\",'New Members'!X86)","v":""},{"$f":"IF(ISBLANK('New Members'!Y86),\"\",'New Members'!Y86)","v":""}]
[282,"SANCTIONED TOURNAMENTS",{"$f":"IF(ISBLANK('New Members'!C87),\"\",'New Members'!C87)","v":""},{"$f":"IF(ISBLANK('New Members'!D87),\"\",'New Members'!D87)","v":"SANCTIONED EVENT"},{"$f":"IF(ISBLANK('New Members'!E87),\"\",'New Members'!E87)","v":""},{"$f":"IF(ISBLANK('New Members'!F87),\"\",'New Members'!F87)","v":""},{"$f":"IF(ISBLANK('New Members'!G87),\"\",'New Members'!G87)","v":""},{"$f":"IF(ISBLANK('New Members'!H87),\"\",'New Members'!H87)","v":""},{"$f":"IF(ISBLANK('New Members'!I87),\"\",'New Members'!I87)","v":""},{"$f":"IF(ISBLANK('New Members'!J87),\"\",'New Members'!J87)","v":""},{"$f":"IF(ISBLANK('New Members'!K87),\"\",'New Members'!K87)","v":""},{"$f":"IF(ISBLANK('New Members'!L87),\"\",'New Members'!L87)","v":""},{"$f":"IF(ISBLANK('New Members'!M87),\"\",'New Members'!M87)","v":""},{"$f":"IF(ISBLANK('New Members'!N87),\"\",'New Members'!N87)","v":""},{"$f":"IF(ISBLANK('New Members'!O87),\"\",'New Members'!O87)","v":""},{"$f":"IF(ISBLANK('New Members'!P87),\"\",'New Members'!P87)","v":""},{"$f":"IF(ISBLANK('New Members'!Q87),\"\",'New Members'!Q87)","v":""},{"$f":"IF(ISBLANK('New Members'!R87),\"\",'New Members'!R87)","v":""},{"$f":"IF(ISBLANK('New Members'!S87),\"\",\"M\")","v":""},{"$f":"IF(ISBLANK('New Members'!T87),\"\",\"F\")","v":""},{"$f":"IF(ISBLANK('New Members'!U87),\"\",'New Members'!U87)","v":""},{"$f":"IF(ISBLANK('New Members'!V87),\"\",'New Members'!V87)","v":""},{"$f":"IF(ISBLANK('New Members'!W87),\"\",'New Members'!W87)","v":"2025-26"},{"$f":"IF(ISBLANK('New Members'!X87),\"\",'New Members'!X87)","v":""},{"$f":"IF(ISBLANK('New Members'!Y87),\"\",'New Members'!Y87)","v":""}]
[283,"SANCTIONED TOURNAMENTS",{"$f":"IF(ISBLANK('New Members'!C88),\"\",'New Members'!C88)","v":""},{"$f":"IF(ISBLANK('New Members'!D88),\"\",'New Members'!D88)","v":"SANCTIONED EVENT"},{"$f":"IF(ISBLANK('New Members'!E88),\"\",'New Members'!E88)","v":""},{"$f":"IF(ISBLANK('New Members'!F88),\"\",'New Members'!F88)","v":""},{"$f":"IF(ISBLANK('New Members'!G88),\"\",'New Members'!G88)","v":""},{"$f":"IF(ISBLANK('New Members'!H88),\"\",'New Members'!H88)","v":""},{"$f":"IF(ISBLANK('New Members'!I88),\"\",'New Members'!I88)","v":""},{"$f":"IF(ISBLANK('New Members'!J88),\"\",'New Members'!J88)","v":""},{"$f":"IF(ISBLANK('New Members'!K88),\"\",'New Members'!K88)","v":""},{"$f":"IF(ISBLANK('New Members'!L88),\"\",'New Members'!L88)","v":""},{"$f":"IF(ISBLANK('New Members'!M88),\"\",'New Members'!M88)","v":""},{"$f":"IF(ISBLANK('New Members'!N88),\"\",'New Members'!N88)","v":""},{"$f":"IF(ISBLANK('New Members'!O88),\"\",'New Members'!O88)","v":""},{"$f":"IF(ISBLANK('New Members'!P88),\"\",'New Members'!P88)","v":""},{"$f":"IF(ISBLANK('New Members'!Q88),\"\",'New Members'!Q88)","v":""},{"$f":"IF(ISBLANK('New Members'!R88),\"\",'New Members'!R88)","v":""},{"$f":"IF(ISBLANK('New Members'!S88),\"\",\"M\")","v":""},{"$f":"IF(ISBLANK('New Members'!T88),\"\",\"F\")","v":""},{"$f":"IF(ISBLANK('New Members'!U88),\"\",'New Members'!U88)","v":""},{"$f":"IF(ISBLANK('New Members'!V88),\"\",'New Members'!V88)","v":""},{"$f":"IF(ISBLANK('New Members'!W88),\"\",'New Members'!W88)","v":"2025-26"},{"$f":"IF(ISBLANK('New Members'!X88),\"\",'New Members'!X88)","v":""},{"$f":"IF(ISBLANK('New Members'!Y88),\"\",'New Members'!Y88)","v":""}]
[284,"SANCTIONED TOURNAMENTS",{"$f":"IF(ISBLANK('New Members'!C89),\"\",'New Members'!C89)","v":""},{"$f":"IF(ISBLANK('New Members'!D89),\"\",'New Members'!D89)","v":"SANCTIONED EVENT"},{"$f":"IF(ISBLANK('New Members'!E89),\"\",'New Members'!E89)","v":""},{"$f":"IF(ISBLANK('New Members'!F89),\"\",'New Members'!F89)","v":""},{"$f":"IF(ISBLANK('New Members'!G89),\"\",'New Members'!G89)","v":""},{"$f":"IF(ISBLANK('New Members'!H89),\"\",'New Members'!H89)","v":""},{"$f":"IF(ISBLANK('New Members'!I89),\"\",'New Members'!I89)","v":""},{"$f":"IF(ISBLANK('New Members'!J89),\"\",'New Members'!J89)","v":""},{"$f":"IF(ISBLANK('New Members'!K89),\"\",'New Members'!K89)","v":""},{"$f":"IF(ISBLANK('New Members'!L89),\"\",'New Members'!L89)","v":""},{"$f":"IF(ISBLANK('New Members'!M89),\"\",'New Members'!M89)","v":""},{"$f":"IF(ISBLANK('New Members'!N89),\"\",'New Members'!N89)","v":""},{"$f":"IF(ISBLANK('New Members'!O89),\"\",'New Members'!O89)","v":""},{"$f":"IF(ISBLANK('New Members'!P89),\"\",'New Members'!P89)","v":""},{"$f":"IF(ISBLANK('New Members'!Q89),\"\",'New Members'!Q89)","v":""},{"$f":"IF(ISBLANK('New Members'!R89),\"\",'New Members'!R89)","v":""},{"$f":"IF(ISBLANK('New Members'!S89),\"\",\"M\")","v":""},{"$f":"IF(ISBLANK('New Members'!T89),\"\",\"F\")","v":""},{"$f":"IF(ISBLANK('New Members'!U89),\"\",'New Members'!U89)","v":""},{"$f":"IF(ISBLANK('New Members'!V89),\"\",'New Members'!V89)","v":""},{"$f":"IF(ISBLANK('New Members'!W89),\"\",'New Members'!W89)","v":"2025-26"},{"$f":"IF(ISBLANK('New Members'!X89),\"\",'New Members'!X89)","v":""},{"$f":"IF(ISBLANK('New Members'!Y89),\"\",'New Members'!Y89)","v":""}]
[285,"SANCTIONED TOURNAMENTS",{"$f":"IF(ISBLANK('New Members'!C90),\"\",'New Members'!C90)","v":""},{"$f":"IF(ISBLANK('New Members'!D90),\"\",'New Members'!D90)","v":"SANCTIONED EVENT"},{"$f":"IF(ISBLANK('New Members'!E90),\"\",'New Members'!E90)","v":""},{"$f":"IF(ISBLANK('New Members'!F90),\"\",'New Members'!F90)","v":""},{"$f":"IF(ISBLANK('New Members'!G90),\"\",'New Members'!G90)","v":""},{"$f":"IF(ISBLANK('New Members'!H90),\"\",'New Members'!H90)","v":""},{"$f":"IF(ISBLANK('New Members'!I90),\"\",'New Members'!I90)","v":""},{"$f":"IF(ISBLANK('New Members'!J90),\"\",'New Members'!J90)","v":""},{"$f":"IF(ISBLANK('New Members'!K90),\"\",'New Members'!K90)","v":""},{"$f":"IF(ISBLANK('New Members'!L90),\"\",'New Members'!L90)","v":""},{"$f":"IF(ISBLANK('New Members'!M90),\"\",'New Members'!M90)","v":""},{"$f":"IF(ISBLANK('New Members'!N90),\"\",'New Members'!N90)","v":""},{"$f":"IF(ISBLANK('New Members'!O90),\"\",'New Members'!O90)","v":""},{"$f":"IF(ISBLANK('New Members'!P90),\"\",'New Members'!P90)","v":""},{"$f":"IF(ISBLANK('New Members'!Q90),\"\",'New Members'!Q90)","v":""},{"$f":"IF(ISBLANK('New Members'!R90),\"\",'New Members'!R90)","v":""},{"$f":"IF(ISBLANK('New Members'!S90),\"\",\"M\")","v":""},{"$f":"IF(ISBLANK('New Members'!T90),\"\",\"F\")","v":""},{"$f":"IF(ISBLANK('New Members'!U90),\"\",'New Members'!U90)","v":""},{"$f":"IF(ISBLANK('New Members'!V90),\"\",'New Members'!V90)","v":""},{"$f":"IF(ISBLANK('New Members'!W90),\"\",'New Members'!W90)","v":"2025-26"},{"$f":"IF(ISBLANK('New Members'!X90),\"\",'New Members'!X90)","v":""},{"$f":"IF(ISBLANK('New Members'!Y90),\"\",'New Members'!Y90)","v":""}]